{"text_format":"1","workbook":"xlsx","n_sheets":8,"sheets":["parameters","output","model","results","Preparation","Explanation Parameters","Explanation Output ","Running a Simulation"],"not_rendered":{"charts":3,"images":3,"macros":1,"external_links":1,"defined_names":255,"comments":2,"pivot_tables":0},"unopened":[],"bounds":{"document_bytes":16777216,"sheet_cells":100000,"rows_first":2000,"rows_last":500,"rows_between":2000,"halvings":0,"cell_chars":16384,"cell_head_chars":4096},"cells_cut":0,"cells_raw":0,"read":"whole","date_system":"1900"}

{"sheet":"parameters","index":0,"n_rows":53,"n_cols":31,"rows_kept":53,"cut":false,"hidden":false,"merged":[]}
["Parameter sheet",null,null,null,null,null,null,null,null,null,null,null,null,null,null,null,"do not remove","NO",null,null,null,null,null,"sutter kocher parameters",null,null,"standard parameters",null,null,"# of goals"]
[null,null,null,null,null,null,null,null,null,null,null,null,null,null,null,null,null,"YES",null,null,null,null,null,0,0.05,null,0,0.05,null,0,0.05]
[null,"NETWORK PARAMETERS",null,null,null,null,null,null,null,null,null,null,null,null,null,null,null,null,null,null,null,null,null,0.05,0.01,null,0.05,0.01,null,0.05,0.01]
[null,null,"min/average","max/stdev",null,null,null,null,null,null,null,null,null,null,null,null,null,null,null,null,null,null,null,0,0.1,null,0,0.02,null,0,0.1]
[null,"initial level",0,0.05,null,null,null,null,null,null,null,null,null,null,null,null,null,1,null,null,null,null,null,0.2,0.03,null,1,0.15,null,0.5,0.15]
[null,"resource consumption rate r",0.05,0.01,null,null,null,null,null,null,null,null,null,null,null,null,null,2,null,null,null,null,null,0.5,0.25,null,0.5,0.25,null,0.5,0.25]
[null,"connection strength",0,0.1,null,null,null,null,null,null,null,null,null,null,null,null,null,3,null,null,null,null,null,1,350,null,1,350,null,1,350]
[null,"genetic factor normal case",0.5,0.15,null,null,null,null,null,null,null,null,null,null,null,null,null,4,null,null,null,null,null,10,25,null,10,25,null,10,25]
[null,"genetic factor emergenic case",0.5,0.25,null,null,null,null,null,null,null,null,null,null,null,null,null,5]
[null,"delay of onset",1,350,null,null,null,null,null,null,null,null,null,null,null,null,null,null,null,null,null,null,null,0.25,null,null,0.25,null,null,0.25]
[null,"maximum range",10,25]
[]
[null,"connection probability ",0.25]
[]
[]
[]
[null,null,null,null,null,null,null,null,null,null,null,null,null,null,null,null,null,null,null,null,null,null,null,4.0000000000000001E-3,null,null,2E-3,null,null,5.0000000000000001E-3]
[null,"PRODUCT PARAMETERS"]
[null,null,null,null,null,null,null,null,null,null,null,null,null,null,null,null,null,null,null,null,null,null,null,1,null,null,1,null,null,1]
[null,"Poisson parameter",5.0000000000000001E-3]
[null,null,null,null,null,null,null,null,null,null,null,null,null,null,null,null,null,null,null,null,null,null,null,0,null,null,0,null,null,0]
[null,"condition_value",1,null,"simple model"]
[]
[null,"threshold_value",0,null,null,null,null,null,null,null,null,null,null,null,null,null,null,null,null,null,null,null,null,0.7,null,null,0.7,null,null,0.7]
[]
[null,"Correlated Frequency-tenacity (product model 3)"]
[null,"correlation_F_and_T",0.7]
[]
[null,null,null,null,null,null,null,null,null,null,null,null,null,null,null,null,null,null,null,null,null,null,null,10,null,null,10,null,null,10]
[null,null,null,null,null,null,null,null,null,null,null,null,null,null,null,null,null,null,null,null,null,null,null,2,null,null,2,null,null,2]
[null,"Simonton Creative Productivity Model",null,null,null,null,null,null,null,null,null,null,null,null,null,null,null,null,null,null,null,null,null,1,null,null,1,null,null,1]
[null,"production_constant",10]
[null,"decay_constant",2]
[null,"power_constant",1,null,"Applies only to Condition Value 5"]
[]
[null,null,null,null,null,null,null,null,null,null,null,null,null,null,null,null,null,null,null,null,null,null,null,0.5,null,null,0.5,null,null,0.5]
[null,"Matthew Models"]
[null,"Model 1",null,null,null,null,null,null,null,null,null,null,null,null,null,null,null,null,null,null,null,null,null,0,null,null,0,null,null,0]
[null,"Simple_Matthew (condition value must be 5!)",0.5,null,"Applies only to Condition Value 5"]
[null,"Model 2",null,null,null,null,null,null,null,null,null,null,null,null,null,null,null,null,null,null,null,null,null,"NO",null,null,"NO",null,null,"NO"]
[null,"Product support parameter",0,null,null,null,null,null,null,null,null,null,null,null,null,null,null,null,null,null,null,null,null,1E-3,null,null,1E-3,null,null,1E-3]
[null,"Model 3"]
[null,"matthew condition","NO"]
[null,"matthew parameter",1E-3]
[]
[null,null,null,null,null,null,null,null,null,null,null,null,null,null,null,null,null,null,null,null,null,null,null,"NO",null,null,"NO",null,null,"NO"]
[]
[null,"SECUNDARY PARAMETERS",null,null,null,null,null,null,null,null,null,null,null,null,null,null,null,null,null,null,null,null,null,0,null,null,0,null,null,0]
[null,"lifespan decline condition","NO"]
[null,null,null,null,null,null,null,null,null,null,null,null,null,null,null,null,null,null,null,null,null,null,null,0,null,null,0,null,null,0]
[null,"random walk multiplier",0]
[]
[null,"random effect on growers",0]

{"sheet":"output","index":1,"n_rows":106,"n_cols":25,"rows_kept":106,"cut":false,"hidden":false,"merged":[[43,6,43,24],[59,6,59,24],[43,0,43,4]]}
[]
[]
[]
[]
[]
[]
[]
[]
[]
[]
[]
[]
[]
[]
[]
[]
[]
[]
[]
[]
[]
[]
[]
[]
[]
[]
[]
[null,null,null,null,null,null,null,null,null,null,null,null,null,null,null,null,null,null,null,"type of model ",{"$f":"model_type(model!E11)","v":"normal genetic model"}]
[null,null,null,null,null,null,null,null,null,null,null,null,null,null,null,null,null,null,null,null,{"$f":"IF(parameters!C43=\"YES\",\"Matthew model\",\"Standard model\")","v":"Standard model"}]
[]
[null,null,null,null,null,null,null,null,null,null,null,null,null,null,null,null,null,null,null,null,{"$f":"model_type2(model!L11)","v":"Product model 3 off."}]
[]
[]
[]
[]
[]
[]
[]
[]
[]
[]
[]
[]
["Specified values",null,null,null,null,null,"Growth and Connection parameters"]
[null,"grower3",{"$f":"H63","v":0.57403561220757604}]
[null,"products1",{"$f":"collected_number_of_products","v":1},null,null,null,{"$f":"model!A8:H18","v":"grower"},"endlevel","initial40","rate40","carcap40","effect_type","delay","MyMax",null,"grower1","grower2","grower3","grower4","grower5","grower6","grower7","grower8","grower9","grower10"]
[null,{"$f":"G65","v":"initial level"},1.8410855531692506E-2,null,null,null,1,0.73923242181785143,1.6697514057159423E-2,5.0926829432900944E-2,0.73888476267271785,1,1,14,"grower1",{"$f":"model!I9:R18","v":0},1.7145535368207718E-2,0,0,0,0,-9.5631978143797425E-2,-8.331500269754237E-2,-2.8446270268278992E-2,0]
[null,"rate",4.2302833654118077E-2,null,null,null,2,1.4646275234213923E-4,1.5346333384513855E-2,5.448371638347025E-2,0.51629827741315071,1,1,14,"grower2",0.15376822933103762,0,0,0,0,0.10054381018176702,0,0,-4.0892100020027272E-2,0]
[null,"carcap",0.37580069410379247,null,null,null,3,0.57403561220757604,1.8410855531692506E-2,4.2302833654118077E-2,0.37580069410379247,1,1,12,"grower3",0,-1.9447194597642443E-2,0,0,0,-5.9740439937205847E-2,0,0,0,0]
[null,"grower 4",{"$f":"H80","v":0.42668626192131703},null,null,null,4,0.42668626192131703,1.927238404750824E-2,5.7485916761479933E-2,0.42668626580363617,1,1,14,"grower4",0,0,5.2297797540001502E-2,0,2.2840223342865465E-2,0,0,-5.8427235359241381E-2,0,0]
[null,"life span slope",{"$f":"collected_product_slope","v":-9.4858660595712388E-5},null,null,null,5,1.2026638950731008,3.4813439846038817E-2,5.7902696900463776E-2,0.8665152779637304,1,147,23,"grower5",0,0,0,0,0,0,0,0,-0.21604465736817,0]
[null,null,null,null,null,null,6,0.29060271906992574,3.4105437994003299E-2,7.2097520047037372E-2,0.55397861941280924,1,1,21,"grower6",0,-0.20261035609019454,0,0,4.3730946715614401E-2,0,0,0,0,0]
[null,null,null,null,null,null,7,9.3987821835694949E-4,2.9225558042526245E-2,5.968569601655975E-2,0.60201085283285871,1,47,18,"grower7",0,0,0,0,7.3491270156761171E-3,0,0,0,-7.6986351498045003E-2,-3.0326505527448977E-2]
[null,null,null,null,null,null,8,5.4984755256738308E-11,1.9168597459793092E-2,4.3219278747558515E-2,0.42460945154375374,1,125,15,"grower8",4.9069294553941566E-2,0,0,-0.18822853171789977,0,0,2.8288699673480488E-3,0,-5.2157570146876275E-2,0.13419251507099314]
[null,null,null,null,null,null,9,2.5473889953783099E-40,4.76382851600647E-2,3.1199421767958115E-2,0.39655407899943468,1,94,23,"grower9",-0.12714685157068348,7.9963541575855959E-2,0,-0.15546920206951786,0,0.15372341203253334,-7.6627602255702781E-2,0,0,0]
[null,null,null,null,null,null,10,0.41839209518070541,4.1402223706245425E-2,3.3973945188536657E-2,0.42268040184925465,1,292,17,"grower10",0,0,0,0,0,0,0,-5.7589161414102058E-2,0,0]
[]
[]
[]
[null,null,null,null,null,null,"Growth Levels and Level parameters"]
[]
[null,null,null,null,null,null,null,"grower 3",null,"best performance",null,null,null,null,"timeseries growers step = 20"]
[null,null,null,null,null,null,"max value",{"$f":"H79","v":0.57403561220757604},null,{"$f":"MAX(H77:H86)","v":1.2061861440719202},null,null,null,"time",{"$f":"growers_in_steps_of_20","v":"grower1"},"grower2","grower3","grower4","grower5","grower6","grower7","grower8","grower9","grower10"]
[null,null,null,null,null,null,"name","grower 3",null,{"$f":"Plookup(J63,H77:H86,G77:G86)","v":"grower5"},null,null,null,1,1.6697514057159423E-2,1.5346333384513855E-2,1.8410855531692506E-2,1.927238404750824E-2,3.4813439846038817E-2,3.4105437994003299E-2,2.9225558042526245E-2,1.9168597459793092E-2,4.76382851600647E-2,4.1402223706245425E-2]
[null,null,null,null,null,null,"initial level",{"$f":"model!C11","v":1.8410855531692506E-2},null,{"$f":"Plookup(J63,H77:H86,model!C9:C18)","v":3.4813439846038817E-2},null,null,null,21,4.227896322016874E-2,3.4324413058445677E-2,4.0842438844411029E-2,4.4217686830480704E-2,3.4813439846038817E-2,0.13345324763564129,2.9225558042526245E-2,1.9168597459793092E-2,4.76382851600647E-2,4.1402223706245425E-2]
[null,null,null,null,null,null,"rate",{"$f":"model!D11","v":4.2302833654118077E-2},null,{"$f":"Plookup(J63,H77:H86,model!D9:D18)","v":5.7902696900463776E-2},null,null,null,41,0.10591960738124205,3.9752348040200822E-2,8.730591378891478E-2,9.2433798232848752E-2,3.4813439846038817E-2,0.34939871607257866,2.9225558042526245E-2,1.9168597459793092E-2,4.76382851600647E-2,4.1402223706245425E-2]
[null,null,null,null,null,null,"carcap",{"$f":"model!E11","v":0.37580069410379247},null,{"$f":"my_lookup(J63,H77:H86,model!E9:E18)","v":0.8665152779637304},null,null,null,61,0.228308045590531,2.0395463807877445E-2,0.17216792184746202,0.16476177993551203,3.4813439846038817E-2,0.50000255391541426,4.7550373586668158E-2,1.9168597459793092E-2,4.76382851600647E-2,4.1402223706245425E-2]
[null,null,null,null,null,null,"delay",{"$f":"model!G11","v":1},null,{"$f":"my_lookup(J63,H77:H86,model!G9:G18)","v":147},null,null,null,81,0.38506618476073601,7.9762211771172743E-3,0.29186338458537897,0.24022194200599947,3.4813439846038817E-2,0.50685109827268671,7.2252533089157855E-2,1.9168597459793092E-2,4.76382851600647E-2,4.1402223706245425E-2]
[null,null,null,null,null,null,"Max",{"$f":"model!H18","v":17},null,{"$f":"my_lookup(J63,H77:H86,model!H9:H18)","v":23},null,null,null,101,0.51846523872871852,3.5097768585733336E-3,0.40567778916667213,0.2940849321592619,3.4813439846038817E-2,0.46504228669401426,8.0005409435541602E-2,1.9168597459793092E-2,4.7150517316849251E-2,4.1402223706245425E-2]
[null,null,null,null,null,null,"connection sum",{"$f":"model!K20","v":5.2297797540001502E-2},null,{"$f":"my_lookup(J63,H77:H86,connectionsum)","v":7.3920297074155983E-2},null,null,null,121,0.60088228227133877,1.8661816025547294E-3,0.47803714481406728,0.32407218772987445,3.4813439846038817E-2,0.4225563194448036,7.2196302989274777E-2,1.9168597459793092E-2,4.4442212997185863E-2,4.1402223706245425E-2]
[null,null,null,null,null,null,"total support",{"$f":"model!Z33","v":1.8443521375614908E-2},null,{"$f":"my_lookup(J63,H77:H86,totalsupport)","v":2.2398127089133552E-2},null,null,null,141,0.642431721311846,1.1556960705280458E-3,0.51370395219355547,0.34297252076571511,3.4813439846038817E-2,0.39204194905967593,5.9396971433104184E-2,1.1284003767472071E-2,4.1497618850691649E-2,4.1402223706245425E-2]
[null,null,null,null,null,null,"number of products",{"$f":"model!T23","v":1},null,null,null,null,null,161,0.66061784116930544,7.902940810417358E-4,0.53151267770733057,0.35961414969611932,0.10056898799402667,0.37219250409113919,4.7618946462320393E-2,5.5534060560596381E-3,3.6490350793493317E-2,4.1402223706245425E-2]
[null,null,null,null,null,null,null,null,null,null,null,null,null,181,0.68023503304307809,5.7368717315084482E-4,0.54281507134589213,0.379225355775061,0.37489372114575609,0.35195760500654616,3.8425249253096434E-2,2.6237506277079332E-3,1.6603149223762589E-2,4.1402223706245425E-2]
[null,null,null,null,null,null,null,null,null,null,null,null,null,201,0.71021428543349374,4.4508998226486127E-4,0.55401995536711079,0.40400244461050355,0.83936304554250685,0.32724863468923238,3.0965145770478458E-2,1.1578644524972556E-3,1.2601487545417526E-3,4.1402223706245425E-2]
[null,null,null,null,null,null,null,null,null,null,null,null,null,221,0.7285563740870945,3.7457784269245029E-4,0.56381852110845498,0.41833065814221282,1.1161422613768237,0.31055059849419164,2.4349039239679428E-2,4.7758432506012939E-4,1.2330347285347143E-5,4.1402223706245425E-2]
[null,null,null,null,null,null,null,"max level","endlevel","sum of levels",null,null,null,241,0.73562795723645935,3.3234167264704185E-4,0.56952715519164787,0.42371468558773656,1.1915712111195531,0.30137144537798438,1.8934228723452393E-2,1.9078660086220323E-4,4.8010399650761605E-8,4.1402223706245425E-2]
[null,null,null,null,null,null,"grower1",{"$f":"TRANSPOSE(maxlevel10)","v":0.73941827914751057},{"$f":"TRANSPOSE(endlevel10)","v":0.73923242181785143},{"$f":"TRANSPOSE(totalsumlist)","v":304.6701299871761},null,null,null,261,0.73816435326892416,3.0343177326547211E-4,0.57219206202154194,0.42562681196401564,1.205142732395337,0.29631701254506171,1.4735302528007414E-2,7.5325444454506566E-5,1.5079066327084548E-10,4.1402223706245425E-2]
[null,null,null,null,null,null,"grower2",4.1848833243570818E-2,1.4646275234213923E-4,2.4695265735539094,null,null,null,281,0.73904473744492838,2.8137072273316029E-4,0.57331257179737782,0.42630544238180434,1.2060696920674292,0.29358497694908359,1.151663809700265E-2,2.9616484971544402E-5,4.6094793561023207E-13,4.1402223706245425E-2]
[null,null,null,null,null,null,"grower3",0.57403561220757604,0.57403561220757604,237.83121937415976,null,null,null,301,0.73933213984720803,2.6308570001888084E-4,0.5737586587259117,0.42654805549348701,1.205136893498943,0.29214526092656623,9.0426198925258917E-3,1.1594356106317107E-5,1.4192125325362541E-15,5.3947670255283374E-2]
[null,null,null,null,null,null,"grower4",0.42668626192131703,0.42668626192131703,175.97905837989472,null,null,null,321,0.73941027245462088,2.4705839768634737E-4,0.57393094739706552,0.42663572385099813,1.2042853297933909,0.29140250068019175,7.1288371478779467E-3,4.388625948854964E-6,4.4128863689545122E-18,9.3504083248480307E-2]
[null,null,null,null,null,null,"grower5",1.2061861440719202,1.2026638950731008,376.77813595496144,null,null,null,341,0.73941609464469649,2.3252662108233559E-4,0.57399638676791154,0.42666776612237672,1.2037182657852186,0.29102437524729335,5.6387783600201384E-3,1.5674306022446327E-6,1.3826203266054918E-20,0.15035413330139016]
[null,null,null,null,null,null,"grower6",0.51498122948542191,0.29060271906992574,161.54550674295353,null,null,null,361,0.73939802327963045,2.1910031957301336E-4,0.57402101514787596,0.42667954714033851,1.2033613427172631,0.29083239089973817,4.4720651670976811E-3,5.1840152107723172E-7,4.3554156889346507E-23,0.21887950147304391]
[null,null,null,null,null,null,"grower7",8.0103450351544883E-2,9.3987821835694949E-4,12.617345256500313,null,null,null,381,0.73937293087072342,2.0657148530440605E-4,0.5740302272924569,0.42668386407581554,1.2031336490143822,0.29073371404632575,3.5542870496524351E-3,1.5761290665733931E-7,1.3772924519266572E-25,0.28587588585068585]
[null,null,null,null,null,null,"grower8",1.9168597459793092E-2,5.4984755256738308E-11,2.9279889865742939,null,null,null,401,0.73934656952741262,1.9482050242285737E-4,0.5740336504373994,0.42668542448612973,1.2029824113748626,0.29068124793263633,2.8296322755243771E-3,4.4461616951820731E-8,4.3675783602973141E-28,0.33919580638626562]
[null,null,null,null,null,null,"grower9",4.76382851600647E-2,2.5473889953783099E-40,8.0610234291778955,null,null,null,421,0.73932082648245556,1.8377071751653933E-4,0.57403491100829895,0.42668597704575773,1.2028769913355142,0.29065153843606123,2.2557549170086769E-3,1.1868332382331349E-8,1.3879314680630668E-30,0.37509684209666122]
[null,null,null,null,null,null,"grower10",0.41839209518070541,0.41839209518070541,70.310378853186535,null,null,null,441,0.73929627069210468,1.7336674142007447E-4,0.5740353698241849,0.42668616844071211,1.2028001066318779,0.29063306241781534,1.8002006677775566E-3,3.0582472944005206E-9,4.4176905554945959E-33,0.39664036531444524]
[null,null,null,null,null,null,null,null,null,null,null,null,null,461,0.73927303142450951,1.6356420041983911E-4,0.57403553461587575,0.42668623343924683,1.2027419145326999,0.29062021191597504,1.437885590763556E-3,7.7206762181084007E-10,1.4078902180526985E-35,0.40869969027087977]
[]
[]
[]
[null,null,null,null,null,null,null,"Example of my_value formula, applies to total_model_output"]
[null,null,null,null,null,null,null,"time","value"]
[null,null,null,null,null,null,null,220,{"$f":"my_value(total_model_output,H93,3)","v":0.56342414710513866},"I93=my_value(total_model_output,H93,3)"]
[null,null,null,null,null,null,null,221,0.56381852110845498]
[null,null,null,null,null,null,null,222,0.56420170597901553]
[null,null,null,null,null,null,null,223,0.56457374492808865]
[null,null,null,null,null,null,null,224,0.56493470749072638]
[null,null,null,null,null,null,null,225,0.56528468706221724]
[null,null,null,null,null,null,null,226,0.56562379852971467]
[null,null,null,null,null,null,null,227,0.56595217601162495]
[null,null,null,null,null,null,null,228,0.56626997071328744]
[null,null,null,null,null,null,null,229,0.56657734890413913]
[null,null,null,null,null,null,null,230,0.56687449001884049]
[null,null,null,null,null,null,null,231,0.56716158488266766]
[null,null,null,null,null,null,null,232,0.56743883405977324]
[null,null,null,null,null,null,null,233,0.56770644632160527]

{"sheet":"model","index":2,"n_rows":1024,"n_cols":114,"rows_kept":1024,"cut":false,"hidden":false,"merged":[]}
["model","initial",{"$f":"parameters!C5","v":0},{"$f":"parameters!D5","v":0.05},null,{"$f":"parameters!C13","v":0.25},null,"RW_multiplier",{"$f":"parameters!C51","v":0},null,"MyMax",20,"myRandom",{"$f":"parameters!C51","v":0},"multiplier",null,"matthew","NO","NO"]
[null,"rate",{"$f":"parameters!C6","v":0.05},{"$f":"parameters!D6","v":0.01},null,null,null,"cc_reduction",{"$f":"parameters!C49","v":"NO"},null,"effect type",1,null,null,null,null,"matthewparameter",1E-4,null,null,null,null,null,null,null,null,null,null,null,null,null,null,null,null,null,null,null,null,null,null,null,null,null,null,null,null,null,null,null,null,null,null,null,null,null,null,null,null,null,null,null,null,null,null,null,null,null,null,null,null,null,null,null,null,null,null,null,null,null,{"$f":"RANDBETWEEN(1,10)","v":7}]
[null,"connection",{"$f":"parameters!C7","v":0},{"$f":"parameters!D7","v":0.1}]
[null,"carcapNorm",{"$f":"parameters!C8","v":0.5},{"$f":"parameters!D8","v":0.15},null,null,null,null,null,null,null,null,null,null,null,null,null,null,null,null,null,null,null,null,null,null,null,null,null,null,null,null,null,null,null,null,null,null,null,null,null,null,null,null,null,null,null,null,null,null,null,null,null,null,null,null,null,null,null,null,null,null,null,null,null,null,null,null,null,null,null,null,null,null,null,null,null,null,null,null,null,null,null,null,null,"PLUS FACTOR",0.01]
[null,"carcapEm",{"$f":"parameters!C9","v":0.5},{"$f":"parameters!D9","v":0.25},null,null,null,null,null,null,null,null,null,null,null,null,null,null,null,null,null,null,null,null,null,null,null,null,null,null,null,null,null,null,null,null,null,null,null,null,null,null,null,null,null,null,null,null,null,null,null,null,null,null,null,null,null,null,null,null,null,null,null,null,null,null,null,null,null,null,null,null,null,null,null,null,null,null,null,null,null,null,null,null,null,"MIN FACTOR",-0.01]
[null,"delay",{"$f":"parameters!C10","v":1},{"$f":"parameters!D10","v":350},null,null,null,null,null,null,null,null,null,null,null,null,null,null,null,null,null,null,null,null,null,null,null,null,null,null,null,null,null,null,null,null,null,null,null,null,null,null,null,null,null,null,null,null,null,null,null,null,null,null,null,null,null,null,null,null,null,null,null,null,null,null,30]
[null,"Max",{"$f":"parameters!C11","v":10},{"$f":"parameters!D11","v":25},null,null,null,null,null,null,null,null,null,null,null,null,null,null,null,null,{"$f":"COUNTIF(I10:R19,\"<>0\")","v":35}]
["grower","endlevel","initial40","rate40","carcap40","effect_type","delay","MyMax","grower1","grower2","grower3","grower4","grower5","grower6","grower7","grower8","grower9","grower10","grower5","grower6","grower7","grower8","grower9","grower10"]
[1,{"$f":"TRANSPOSE(endlevel10)","v":0.73923242181785143},{"$f":"MRandReal($C$1,$D$1)","v":1.6697514057159423E-2},{"$f":"MNormal($C$2,$D$2)","v":5.0926829432900944E-2},{"$f":"MNormal($C$4,$D$4)","v":0.73888476267271785},{"$f":"IF(RAND()<$L$2,1,0)","v":1},1,{"$f":"RANDBETWEEN($C$7,$D$7)","v":14},0,{"$f":"IF(RAND()<$F$1,MNormal($C$3,$D$3),0)","v":1.7145535368207718E-2},0,0,0,0,-9.5631978143797425E-2,-8.331500269754237E-2,-2.8446270268278992E-2,0,0,0,0,0,-3.2338836525547554E-3,-2.3855281477309115E-2,"grower5","grower6","grower7","grower8","grower9","grower10",null,null,null,null,null,null,null,null,null,null,null,null,null,null,null,null,null,null,null,null,null,null,null,null,null,null,null,null,null,null,"grower",null,"initial40","rate40","carcap40","effect_type","delay","MyMax","grower1","grower2","grower3","grower4","grower5","grower6","grower7","grower8","grower9","grower10",null,null,"initial40","rate40","carcap40","effect_type","delay","MyMax","grower1","grower2","grower3","grower4","grower5","grower6","grower7","grower8","grower9","grower10",null,null,"initial","rate","genetic K","effect_type","delay","MyMax","grower1","grower2","grower3","grower4","grower5","grower6","grower7","grower8","grower9","grower10"]
[2,1.4646275234213923E-4,1.5346333384513855E-2,5.448371638347025E-2,0.51629827741315071,1,1,14,{"$f":"IF(RAND()<$F$1,MNormal($C$3,$D$3),0)","v":0.15376822933103762},0,0,0,0,0.10054381018176702,0,0,-4.0892100020027272E-2,0,0,0,9.2657527007297853E-3,0,0,-6.655736523784911E-3,{"$f":"IF(M$21=MAX(maxlevel10),M10,\"\")","v":0},{"$f":"IF(N$21=MAX(maxlevel10),N10,\"\")","v":""},{"$f":"IF(O$21=MAX(maxlevel10),O10,\"\")","v":""},{"$f":"IF(P$21=MAX(maxlevel10),P10,\"\")","v":""},{"$f":"IF(Q$21=MAX(maxlevel10),Q10,\"\")","v":""},{"$f":"IF(R$21=MAX(maxlevel10),R10,\"\")","v":""},{"$f":"TRANSPOSE(totalsumlist)","v":304.6701299871761},{"$f":"SUM(U10:AD10)","v":2.6100161769448743E-3},{"$f":"AE10*AF10","v":0.79519396789842722},null,null,null,null,null,null,null,null,null,null,null,null,null,null,null,null,null,null,null,null,null,null,null,null,null,null,null,1,null,{"$f":"MRandReal($C$1,$D$1)","v":1.9596886634826661E-2},{"$f":"MNormal($C$2,$D$2)","v":4.9177679526989364E-2},{"$f":"MNormal($C$4,$D$4)","v":0.60959702268963856},{"$f":"IF(RAND()<$L$2,1,0)","v":1},1,{"$f":"RANDBETWEEN($C$7,$D$7)","v":14},0,{"$f":"IF(RAND()<$F$1,MNormal($C$3,$D$3),0)","v":8.7650766146337322E-2},0,0,0.13035994851542787,0,0,0,-0.14068596569158401,-4.3437667135148544E-2,null,null,{"$f":"MRandReal($C$1,$D$1)","v":2.5298139452934267E-2},{"$f":"MNormal($C$2,$D$2)","v":3.6251570999462399E-2},{"$f":"MNormal($C$4,$D$4)","v":0.11699929544900162},{"$f":"IF(RAND()<$L$2,1,0)","v":1},1,{"$f":"RANDBETWEEN($C$7,$D$7)","v":15},{"$f":"IF(RAND()<$F$1,MNormal($C$3+PLUS_FACTOR,$D$3),0)","v":0},0,5.575821377377569E-2,0,0,{"$f":"IF(RAND()<$F$1,MNormal($C$3+MIN_FACTOR,$D$3),0)","v":-1.7036672237635806E-2},0,0,0,3.7209795693967946E-3,null,null,{"$f":"MRandReal($C$1,$D$1)","v":1.5374574065208436E-2},{"$f":"MNormal($C$2,$D$2)","v":7.1875911366894335E-2},{"$f":"MNormal($C$4,$D$4)","v":0.54943967342024014},{"$f":"IF(RAND()<$L$2,1,0)","v":1},1,{"$f":"RANDBETWEEN($C$7,$D$7)","v":11},0,{"$f":"IF(RAND()<$F$1,MNormal($C$3,$D$3),0)","v":0},0,0,0,1.3393517347455253E-2,0,0.1462199992268555,0,5.328153727581432E-2]
[3,0.57403561220757604,1.8410855531692506E-2,4.2302833654118077E-2,0.37580069410379247,1,1,12,0,-1.9447194597642443E-2,0,0,0,-5.9740439937205847E-2,0,0,0,0,-7.5161840536796054E-3,-3.8287840609597994E-2,0,0,0,0,0,"","","","","",2.4695265735539094,0,0,null,null,null,null,null,null,null,null,null,null,null,null,null,null,null,null,null,null,null,null,null,null,null,null,null,null,null,2,null,4.2828530073165894E-2,5.8199419380438856E-2,0.3279240001750674,1,1,19,{"$f":"IF(RAND()<$F$1,MNormal($C$3,$D$3),0)","v":0},0,{"$f":"IF(RAND()<$F$1,MNormal($C$3,$D$3),0)","v":0},0,0,0,0,0,0,-0.1500882265574574,null,null,3.5722678899765013E-2,6.350092056926282E-2,0.62620116938510295,1,1,16,8.7441141309394059E-3,0,0,0,0,7.9500324079330151E-2,0,0,0,0,null,null,4.8496246337890625E-2,4.7122051507714813E-2,0.68333302706001431,1,1,25,{"$f":"IF(RAND()<$F$1,MNormal($C$3,$D$3),0)","v":3.8050561742094896E-2},0,{"$f":"IF(RAND()<$F$1,MNormal($C$3,$D$3),0)","v":0},0,0,0,9.0313321543818825E-2,-0.13057936676761386,0,0]
[4,0.42668626192131703,1.927238404750824E-2,5.7485916761479933E-2,0.42668626580363617,1,1,14,0,0,5.2297797540001502E-2,0,2.2840223342865465E-2,0,0,-5.8427235359241381E-2,0,0,-2.429855242869956E-2,0,0,0,-1.514843054415586E-2,0,2.2840223342865465E-2,"","","","","",237.83121937415976,7.6917927987096048E-3,1.8293484604904862,null,null,null,null,null,null,null,null,null,null,null,null,null,null,null,null,null,null,null,null,null,null,null,null,null,null,null,3,null,4.6802178025245667E-2,3.3986300781694213E-2,0.7007913304388308,1,1,24,0,{"$f":"IF(RAND()<$F$1,MNormal($C$3,$D$3),0)","v":0},0,{"$f":"IF(RAND()<$F$1,MNormal($C$3,$D$3),0)","v":-0.13008131488112384},0,0,4.373693089012224E-2,0,0,0,null,null,3.1539484858512878E-2,5.4665354136960588E-2,0.32090861454700742,1,{"$f":"RANDBETWEEN($C$6,CA12*$BO$6)","v":{"$error":"#NUM!"}},15,0,0,0.10862657079071056,5.3485237384955302E-2,-0.10080913070409166,0,0,0,0.30660821341998346,0,null,null,2.7858275175094607E-2,5.4719300489898086E-2,0.5024240347856066,1,1,24,0.14576504391060516,{"$f":"IF(RAND()<$F$1,MNormal($C$3,$D$3),0)","v":0},0,{"$f":"IF(DC13<>0,(correlation_F_and_T*DC13+SQRT(1-correlation_F_and_T^2)*MNormal($C$3,$D$3)),0)","v":0.13449455950989581},{"$f":"IF(RAND()<$F$1,MNormal($C$3,$D$3),0)","v":0},-0.10371083610680672,0,0,0,0]
[5,1.2026638950731008,3.4813439846038817E-2,5.7902696900463776E-2,0.8665152779637304,1,{"$f":"RANDBETWEEN($C$6,A13*$BO$6)","v":147},23,0,0,0,0,0,{"$f":"IF(RAND()<$F$1,MNormal($C$3,$D$3),0)","v":0},{"$f":"IF(RAND()<$F$1,MNormal($C$3,$D$3),0)","v":0},{"$f":"IF(RAND()<$F$1,MNormal($C$3,$D$3),0)","v":0},{"$f":"IF(RAND()<$F$1,MNormal($C$3,$D$3),0)","v":-0.21604465736817},{"$f":"IF(RAND()<$F$1,MNormal($C$3,$D$3),0)","v":0},0,0,0,0,-2.092272245218588E-2,0,0,"","","","","",175.97905837989472,-2.092272245218588E-2,-3.6819609958795532,null,null,null,null,null,null,null,null,null,null,null,null,null,null,null,null,null,null,null,null,null,null,null,null,null,null,null,4,null,1.0809978842735291E-2,4.4039969813776426E-2,0.53002187484688057,1,1,22,0,0,{"$f":"IF(RAND()<$F$1,MNormal($C$3,$D$3),0)","v":0},0,{"$f":"IF(RAND()<$F$1,MNormal($C$3,$D$3),0)","v":-0.10373537224002749},0,-0.23137988475902641,0,0,-1.7731673632193853E-2,null,null,3.7492164969444276E-2,6.1408820612930716E-2,0.59042051951725982,1,{"$error":"#NUM!"},13,0,0.15769693900991416,7.0332637594667055E-2,0,0,0,0,-0.19350540352260204,0.13123658087229992,0,null,null,1.3662740588188171E-2,5.1740892694039531E-2,0.28109690632995887,1,1,22,0,0,{"$f":"IF(RAND()<$F$1,MNormal($C$3,$D$3),0)","v":9.6414693898974585E-2},0,0,0,0,0,0,0]
[6,0.29060271906992574,3.4105437994003299E-2,7.2097520047037372E-2,0.55397861941280924,1,1,21,0,-0.20261035609019454,0,0,{"$f":"IF(RAND()<$F$1,MNormal($C$3,$D$3),0)","v":4.3730946715614401E-2},0,{"$f":"IF(RAND()<$F$1,MNormal($C$3,$D$3),0)","v":0},{"$f":"IF(RAND()<$F$1,MNormal($C$3,$D$3),0)","v":0},{"$f":"IF(RAND()<$F$1,MNormal($C$3,$D$3),0)","v":0},{"$f":"IF(RAND()<$F$1,MNormal($C$3,$D$3),0)","v":0},0,-5.0423442943088856E-2,0,2.1097246753026901E-2,-1.7227318737590716E-2,-4.0109819164461533E-2,4.3730946715614401E-2,"","","","","",376.77813595496144,7.4910555665890569E-3,2.8224659527144622,null,null,null,null,null,null,null,null,null,null,null,null,null,null,null,null,null,null,null,null,null,null,null,null,null,null,null,5,null,4.4410681724548345E-2,4.6158638608201644E-2,0.56003631781529806,1,{"$f":"RANDBETWEEN($C$6,BI14*$BO$6)","v":82},14,0,0,0,{"$f":"IF(RAND()<$F$1,MNormal($C$3,$D$3),0)","v":0},0,{"$f":"IF(RAND()<$F$1,MNormal($C$3,$D$3),0)","v":0},{"$f":"IF(RAND()<$F$1,MNormal($C$3,$D$3),0)","v":0},{"$f":"IF(RAND()<$F$1,MNormal($C$3,$D$3),0)","v":0},{"$f":"IF(RAND()<$F$1,MNormal($C$3,$D$3),0)","v":0},{"$f":"IF(RAND()<$F$1,MNormal($C$3,$D$3),0)","v":-0.1601636556869652},null,null,2.7847826480865479E-3,5.5101583499534271E-2,0.6020920345542865,1,{"$error":"#NUM!"},24,0.25068127256528422,0,0,0,0,0,0,0,0,0,null,null,1.7208606004714966E-3,5.4266006500352071E-2,0.53300604711487498,1,{"$f":"RANDBETWEEN($C$6,CS14*$BO$6)","v":{"$error":"#NUM!"}},19,0,0,-8.2433578183703171E-2,{"$f":"IF(RAND()<$F$1,MNormal($C$3,$D$3),0)","v":0.20018668556919861},0,{"$f":"IF(RAND()<$F$1,MNormal($C$3,$D$3),0)","v":-0.10906262933621061},{"$f":"IF(RAND()<$F$1,MNormal($C$3,$D$3),0)","v":0},{"$f":"IF(RAND()<$F$1,MNormal($C$3,$D$3),0)","v":0},{"$f":"IF(RAND()<$F$1,MNormal($C$3,$D$3),0)","v":0},{"$f":"IF(RAND()<$F$1,MNormal($C$3,$D$3),0)","v":0}]
[7,9.3987821835694949E-4,2.9225558042526245E-2,5.968569601655975E-2,0.60201085283285871,1,47,18,0,0,0,0,{"$f":"IF(RAND()<$F$1,MNormal($C$3,$D$3),0)","v":7.3491270156761171E-3},{"$f":"IF(RAND()<$F$1,MNormal($C$3,$D$3),0)","v":0},0,{"$f":"IF(RAND()<$F$1,MNormal($C$3,$D$3),0)","v":0},{"$f":"IF(RAND()<$F$1,MNormal($C$3,$D$3),0)","v":-7.6986351498045003E-2},{"$f":"IF(RAND()<$F$1,MNormal($C$3,$D$3),0)","v":-3.0326505527448977E-2},0,0,0,-9.1289513207373097E-3,0,0,7.3491270156761171E-3,"","","","","",161.54550674295353,-1.7798243050611926E-3,-0.28752261927453548,null,null,null,null,null,null,null,null,null,null,null,null,null,null,null,null,null,null,null,null,null,null,null,null,null,null,null,6,null,1.2194880843162538E-2,7.4195769373707449E-2,0.35951989788505645,1,174,15,0,0,0,0,{"$f":"IF(RAND()<$F$1,MNormal($C$3,$D$3),0)","v":0},0,{"$f":"IF(RAND()<$F$1,MNormal($C$3,$D$3),0)","v":0},{"$f":"IF(RAND()<$F$1,MNormal($C$3,$D$3),0)","v":0},{"$f":"IF(RAND()<$F$1,MNormal($C$3,$D$3),0)","v":0.1041085589748211},{"$f":"IF(RAND()<$F$1,MNormal($C$3,$D$3),0)","v":0},null,null,6.6115200519561773E-3,4.8187463795897216E-2,0.61379956481743991,1,{"$error":"#NUM!"},10,{"$f":"IF(RAND()<$F$1,MNormal($C$3+MIN_FACTOR,$D$3),0)","v":0},-2.4104797123628327E-2,0,0,0,{"$f":"IF(RAND()<$F$1,MNormal($C$3+PLUS_FACTOR,$D$3),0)","v":0},0,2.2080537708671535E-2,0,0,null,null,1.803647577762604E-2,6.0010034272793271E-2,0.17636472176350632,1,{"$error":"#NUM!"},21,0,3.8543674987707048E-2,-0.10568461188182635,0,{"$f":"IF(RAND()<$F$1,MNormal($C$3,$D$3),0)","v":0},0,{"$f":"IF(RAND()<$F$1,MNormal($C$3,$D$3),0)","v":4.0217373848270115E-3},{"$f":"IF(RAND()<$F$1,MNormal($C$3,$D$3),0)","v":0},{"$f":"IF(RAND()<$F$1,MNormal($C$3,$D$3),0)","v":0},{"$f":"IF(RAND()<$F$1,MNormal($C$3,$D$3),0)","v":0}]
[8,5.4984755256738308E-11,1.9168597459793092E-2,4.3219278747558515E-2,0.42460945154375374,1,125,15,4.9069294553941566E-2,0,0,-0.18822853171789977,{"$f":"IF(RAND()<$F$1,MNormal($C$3,$D$3),0)","v":0},{"$f":"IF(RAND()<$F$1,MNormal($C$3,$D$3),0)","v":0},{"$f":"IF(RAND()<$F$1,MNormal($C$3,$D$3),0)","v":2.8288699673480488E-3},0,{"$f":"IF(RAND()<$F$1,MNormal($C$3,$D$3),0)","v":-5.2157570146876275E-2},{"$f":"IF(RAND()<$F$1,MNormal($C$3,$D$3),0)","v":0.13419251507099314},0,-3.1007379215418296E-2,0,0,-1.070039383700731E-2,-3.8342836138665591E-2,0,"","","","","",12.617345256500313,-4.9043229975672897E-2,-0.61879536509701039,null,null,null,null,null,null,null,null,null,null,null,null,null,null,null,null,null,null,null,null,null,null,null,null,null,null,null,7,null,3.8362598419189459E-2,3.974109253160104E-2,0.52188627418966005,1,61,14,-7.749615840736418E-2,-1.3746894095419088E-3,0,3.744608793599713E-2,{"$f":"IF(RAND()<$F$1,MNormal($C$3,$D$3),0)","v":-7.0471472270659183E-2},{"$f":"IF(RAND()<$F$1,MNormal($C$3,$D$3),0)","v":0},0,{"$f":"IF(RAND()<$F$1,MNormal($C$3,$D$3),0)","v":0},{"$f":"IF(RAND()<$F$1,MNormal($C$3,$D$3),0)","v":0},{"$f":"IF(RAND()<$F$1,MNormal($C$3,$D$3),0)","v":-4.1450038429165496E-2},null,null,1.6655108332633974E-2,4.6853434429531111E-2,0.22526391935745987,1,{"$error":"#NUM!"},17,0,0,0,0,0,-1.3698037001128963E-2,0,0.11316894895090747,0,0,null,null,7.6632171869277961E-3,5.7428522314926192E-2,0.56595661697952404,1,{"$error":"#NUM!"},16,0,0,0,0,{"$f":"IF(RAND()<$F$1,MNormal($C$3,$D$3),0)","v":0},{"$f":"IF(RAND()<$F$1,MNormal($C$3,$D$3),0)","v":0},0,{"$f":"IF(RAND()<$F$1,MNormal($C$3,$D$3),0)","v":0},{"$f":"IF(RAND()<$F$1,MNormal($C$3,$D$3),0)","v":0},{"$f":"IF(RAND()<$F$1,MNormal($C$3,$D$3),0)","v":0}]
[9,2.5473889953783099E-40,4.76382851600647E-2,3.1199421767958115E-2,0.39655407899943468,1,94,23,-0.12714685157068348,7.9963541575855959E-2,0,-0.15546920206951786,{"$f":"IF(RAND()<$F$1,MNormal($C$3,$D$3),0)","v":0},{"$f":"IF(RAND()<$F$1,MNormal($C$3,$D$3),0)","v":0.15372341203253334},{"$f":"IF(RAND()<$F$1,MNormal($C$3,$D$3),0)","v":-7.6627602255702781E-2},{"$f":"IF(RAND()<$F$1,MNormal($C$3,$D$3),0)","v":0},0,{"$f":"IF(RAND()<$F$1,MNormal($C$3,$D$3),0)","v":0},0,0,0,-3.0446706117288848E-4,0,-8.4821019487519057E-3,0,"","","","","",2.9279889865742939,-8.7865690099247946E-3,-2.5726977290834795E-2,null,null,null,null,null,null,null,null,null,null,null,null,null,null,null,null,null,null,null,null,null,null,null,null,null,null,null,8,null,2.5278598070144653E-2,3.9609977440902569E-2,0.27077053305396931,1,166,21,0,0,0.11354641788659901,-0.13019853313762139,{"$f":"IF(RAND()<$F$1,MNormal($C$3,$D$3),0)","v":0},{"$f":"IF(RAND()<$F$1,MNormal($C$3,$D$3),0)","v":0},{"$f":"IF(RAND()<$F$1,MNormal($C$3,$D$3),0)","v":0},0,{"$f":"IF(RAND()<$F$1,MNormal($C$3,$D$3),0)","v":0},{"$f":"IF(RAND()<$F$1,MNormal($C$3,$D$3),0)","v":0},null,null,3.8663938641548157E-2,4.4327008927312742E-2,0.32690442666598474,1,{"$error":"#NUM!"},18,0,-9.159831495304474E-2,0,-4.1296027075587056E-2,0.14500097796105954,0,0.10326930124777726,-1.1132462071347727E-2,0,0,null,null,2.0768699049949647E-2,6.3804131035483297E-2,0.37213234718809518,1,{"$error":"#NUM!"},19,0,0,0,0,{"$f":"IF(RAND()<$F$1,MNormal($C$3,$D$3),0)","v":0},{"$f":"IF(RAND()<$F$1,MNormal($C$3,$D$3),0)","v":0},{"$f":"IF(RAND()<$F$1,MNormal($C$3,$D$3),0)","v":0},0,{"$f":"IF(RAND()<$F$1,MNormal($C$3,$D$3),0)","v":0},{"$f":"IF(RAND()<$F$1,MNormal($C$3,$D$3),0)","v":0}]
[10,0.41839209518070541,4.1402223706245425E-2,3.3973945188536657E-2,0.42268040184925465,1,292,17,0,0,0,0,{"$f":"IF(RAND()<$F$1,MNormal($C$3,$D$3),0)","v":0},{"$f":"IF(RAND()<$F$1,MNormal($C$3,$D$3),0)","v":0},{"$f":"IF(RAND()<$F$1,MNormal($C$3,$D$3),0)","v":0},{"$f":"IF(RAND()<$F$1,MNormal($C$3,$D$3),0)","v":-5.7589161414102058E-2},{"$f":"IF(RAND()<$F$1,MNormal($C$3,$D$3),0)","v":0},0,0,0,0,0,0,-2.3978156258791163E-2,0,"","","","","",8.0610234291778955,-2.3978156258791163E-2,-0.19328847939060415,null,null,null,null,null,null,null,null,null,null,null,null,null,null,null,null,null,null,null,null,null,null,null,null,null,null,null,9,null,1.4395153522491455E-2,6.8592043701416305E-2,0.70714038299560478,1,62,14,0,0,7.7662212461039395E-2,0,{"$f":"IF(RAND()<$F$1,MNormal($C$3,$D$3),0)","v":0},{"$f":"IF(RAND()<$F$1,MNormal($C$3,$D$3),0)","v":0},{"$f":"IF(RAND()<$F$1,MNormal($C$3,$D$3),0)","v":0},{"$f":"IF(RAND()<$F$1,MNormal($C$3,$D$3),0)","v":0},0,{"$f":"IF(RAND()<$F$1,MNormal($C$3,$D$3),0)","v":0},null,null,3.6729967594146727E-2,5.4433963883705777E-2,0.41273469068558361,1,{"$error":"#NUM!"},10,0,-5.4127194727510215E-2,0,0,0,0,0,0.20832805428586898,0,0,null,null,5.2756786346435554E-3,5.1936345906597729E-2,0.14758935557157388,1,{"$error":"#NUM!"},22,0,0,0,0,{"$f":"IF(RAND()<$F$1,MNormal($C$3,$D$3),0)","v":0},{"$f":"IF(RAND()<$F$1,MNormal($C$3,$D$3),0)","v":0},{"$f":"IF(RAND()<$F$1,MNormal($C$3,$D$3),0)","v":0},{"$f":"IF(RAND()<$F$1,MNormal($C$3,$D$3),0)","v":0},0,{"$f":"IF(RAND()<$F$1,MNormal($C$3,$D$3),0)","v":0}]
[null,null,null,null,null,null,null,null,null,null,null,null,null,null,null,null,null,null,"quadratic_condition",1,{"$f":"IF(I$21=MAX(maxlevel10),I19,\"\")","v":""},{"$f":"IF(J$21=MAX(maxlevel10),J19,\"\")","v":""},{"$f":"IF(K$21=MAX(maxlevel10),K19,\"\")","v":""},{"$f":"IF(L$21=MAX(maxlevel10),L19,\"\")","v":""},0,"","","","","",70.310378853186535,0,0,null,null,null,null,null,null,null,null,null,null,null,null,null,null,null,null,null,null,null,null,null,null,null,null,null,null,null,10,null,2.3907169699668884E-2,4.6321318741556761E-2,0.45942573842756806,1,72,10,0,0,0,0,{"$f":"IF(RAND()<$F$1,MNormal($C$3,$D$3),0)","v":0},{"$f":"IF(RAND()<$F$1,MNormal($C$3,$D$3),0)","v":4.7080906559988388E-2},{"$f":"IF(RAND()<$F$1,MNormal($C$3,$D$3),0)","v":0},{"$f":"IF(RAND()<$F$1,MNormal($C$3,$D$3),0)","v":3.3928090429036807E-2},{"$f":"IF(RAND()<$F$1,MNormal($C$3,$D$3),0)","v":0},0,null,null,7.5685083866119385E-3,4.6055619950320204E-2,0.53037569385359318,1,{"$error":"#NUM!"},23,0,0,0,0,0,3.8083980718248298E-2,0,0,0,6.0605573199994787E-2,null,null,1.459152400493622E-2,5.9362857160550106E-2,0.53146907841945179,1,{"$error":"#NUM!"},18,0,0.17946300642354135,-0.11362157292774328,0,{"$f":"IF(RAND()<$F$1,MNormal($C$3,$D$3),0)","v":0},{"$f":"IF(RAND()<$F$1,MNormal($C$3,$D$3),0)","v":0},{"$f":"IF(RAND()<$F$1,MNormal($C$3,$D$3),0)","v":0},{"$f":"IF(RAND()<$F$1,MNormal($C$3,$D$3),0)","v":2.5748649935708218E-2},{"$f":"IF(RAND()<$F$1,MNormal($C$3,$D$3),0)","v":0},0]
[null,null,null,null,null,null,null,"Sum",{"$f":"SUM(I9:I18)","v":7.5690672314295715E-2},{"$f":"SUM(J9:J18)","v":-0.12494847374377331},5.2297797540001502E-2,-0.34369773378741764,7.3920297074155983E-2,0.19452678227709452,-0.16943071043215216,-0.19933139947088582,-0.41452694930139755,0.10386600954354416,"pref_attach_on",0,null,null,null,null,null,null,null,null,null,null,null,null,{"$f":"SUM(AG10:AG19)","v":0.63971394417083782}]
[null,"Max",null,null,null,null,null,"Max",{"$f":"MAX(I24:I522)","v":0.73941827914751057},4.1848833243570818E-2,0.57403561220757604,0.42668626192131703,1.2061861440719202,0.51498122948542191,8.0103450351544883E-2,1.9168597459793092E-2,4.76382851600647E-2,0.41839209518070541,"threshold",0,null,null,null,null,null,null,null,null,null,null,null,null,null,null,null,null,null,null,null,null,null,null,null,null,null,null,null,null,null,null,null,null,null,null,null,null,null,null,null,null,null,null,null,null,null,null,null,null,25]
["grower1",{"$f":"TRANSPOSE(maxlevel10)","v":0.73941827914751057},{"$f":"TRANSPOSE(early_levels)","v":0.15384550196740476},null,null,{"$f":"B22","v":0.73941827914751057},null,null,{"$f":"I21*I20","v":5.5967066670154657E-2},-5.2289478417418562E-3,3.0020798227982627E-2,-0.14665110126058117,8.9161638096527052E-2,0.10017764150490112,-1.3571984501128878E-2,-3.820903357554624E-3,-1.9747353017351661E-2,4.3456717350982589E-2,"poisson prob",2E-3,null,null,null,null,null,null,null,null,null,null,null,null,null,null,null,{"$f":"COUNTIF(AJ24:AJ33,\"<>0\")","v":1},{"$f":"COUNTIF(AK24:AK33,\"<>0\")","v":4},2,0,1,3,4,3,2,5,null,null,null,null,null,null,null,null,null,null,null,null,null,null,null,"grower",null,"initial40","rate40","carcap40","effect_type","delay","MyMax","grower1","grower2","grower3","grower4","grower5","grower6","grower7","grower8","grower9","grower10",null,null,"initial40","rate40","carcap40","effect_type","delay","MyMax","grower1","grower2","grower3","grower4","grower5","grower6","grower7","grower8","grower9","grower10"]
["grower2",4.1848833243570818E-2,3.1757323663308405E-2,null,null,{"$f":"E10","v":0.51629827741315071},"step","time","grower1","grower2","grower3","grower4","grower5","grower6","grower7","grower8","grower9","grower10","products 3",{"$f":"S522","v":1},null,null,null,"grower1","grower2","grower3","grower4","grower5","grower6","grower7","grower8","grower9","grower10",null,null,"grower1","grower2","grower3","grower4","grower5","grower6","grower7","grower8","grower9","grower10",null,null,null,null,null,null,null,null,null,null,null,null,null,null,null,1,null,{"$f":"MRandReal($C$1,$D$1)","v":2.2887223958969118E-2},{"$f":"MNormal($C$2,$D$2)","v":5.4917655286272911E-2},{"$f":"MNormal($C$4,$D$4)","v":0.53982800427194544},{"$f":"IF(RAND()<$L$2,1,0)","v":1},1,{"$f":"RANDBETWEEN($C$7,$D$7)","v":16},{"$f":"IF(RAND()<$F$1,MNormal($C$3-((1-(501-$BO23)/500)/$BQ$21),$D$3),0)","v":0},-2.1293703404533969E-2,0,0,0,0,-0.11134761111695431,0,-8.7892801509751151E-2,0,null,null,{"$f":"MRandReal($C$1,$D$1)","v":3.7596800923347475E-2},{"$f":"MNormal($C$2,$D$2)","v":5.0994355466732158E-2},{"$f":"MNormal($C$4,$D$4)","v":0.62154814631847222},{"$f":"IF(RAND()<$L$2,1,0)","v":1},1,{"$f":"RANDBETWEEN($C$7,$D$7)","v":20},0,{"$f":"IF(RAND()<$F$1,MNormal($C$3,$D$3),0)","v":0},0,0,9.9093634000274933E-2,0,0,0,0,0]
["grower3",0.57403561220757604,0.12015490303754303,{"$f":"B35","v":1.2061861440719202},null,{"$f":"D10","v":5.448371638347025E-2},1,0.1,{"$f":"FGrowthMatrix8(C9:C18,D9:D18,E9:E18,F9:F18,G9:G18,H9:H18,I9:R18,500)","v":1.6697514057159423E-2},1.5346333384513855E-2,1.8410855531692506E-2,1.927238404750824E-2,3.4813439846038817E-2,3.4105437994003299E-2,2.9225558042526245E-2,1.9168597459793092E-2,4.76382851600647E-2,4.1402223706245425E-2,0,0,{"$f":"calculate_product_slope(T24:T522)","v":-9.4858660595712388E-5},null,null,{"$f":"I9*AVERAGE($I24:$I522)","v":0},1.0468401782227596E-2,0,0,0,0,-5.8389192809622334E-2,-5.0868923249984287E-2,-1.7368194108791389E-2,0,null,null,0,{"$f":"IF(RAND()<$F$1,MNormal($C$3,$D$3),0)","v":0},0.10530025970977111,0,0,4.3716776025730687E-2,0,0,0,0,null,null,null,null,null,null,null,null,null,null,null,null,null,null,null,2,null,1.5461769700050355E-2,4.4391429981884861E-2,0.42741366269301567,1,1,21,0,0,1.8923871033313382E-2,0,0,1.3106071642154354E-2,0,2.3358028351520985E-2,0,0,null,null,2.9005903005599978E-2,6.6445444002460441E-2,{"$f":"MNormal($C$4,$D$4)","v":0.71184290215563295},1,1,13,{"$f":"IF(RAND()<$F$1,MNormal($C$3,$D$3),0)","v":0},0,{"$f":"IF(RAND()<$F$1,MNormal($C$3,$D$3),0)","v":0},0,0,0,-0.10560757487695743,0,0,0]
["grower4",0.42668626192131703,0.12274338896546731,null,null,{"$f":"I20","v":7.5690672314295715E-2},2,0.2,1.7481682792346933E-2,1.610808307446665E-2,1.9168922674238812E-2,2.0116796920998777E-2,3.4813439846038817E-2,3.6673666147207525E-2,2.9225558042526245E-2,1.9168597459793092E-2,4.76382851600647E-2,4.1402223706245425E-2,0,{"$f":"S25-S24","v":0},null,null,null,{"$f":"I10*AVERAGE($J24:$J522)","v":7.6099143988242295E-4},0,0,0,0,4.9758639489024805E-4,0,0,-2.0237300129836012E-4,0,null,null,{"$f":"IF(RAND()<$F$1,MNormal($C$3,$D$3),0)","v":0},0,{"$f":"IF(RAND()<$F$1,MNormal($C$3,$D$3),0)","v":0},0,0,0,0,0,0,0,null,null,null,null,null,null,null,null,null,null,null,null,null,null,null,3,null,2.528454065322876E-2,4.8545593046899427E-2,0.58311493892365229,1,{"$f":"RANDBETWEEN($C$6,BI25*$BO$6)","v":1},23,0,0,0,0,0,0,0,0,0,0,null,null,2.4659991264343265E-3,5.5019655118330894E-2,{"$f":"MLOgnormal($C$5,$D$5)","v":0.61773793184885684},1,1,17,0,{"$f":"IF(RAND()<$F$1,MNormal($C$3,$D$3),0)","v":0},0,{"$f":"IF(RAND()<$F$1,MNormal($C$3,$D$3),0)","v":0},-9.2671096304000611E-2,0,0,0,0,0]
["grower5",1.2061861440719202,3.4813439846038817E-2,null,null,null,3,0.3,1.8303734015644189E-2,1.6897913934973838E-2,1.9957365327963363E-2,2.0995868924662802E-2,3.4813439846038817E-2,3.9423859753716296E-2,2.9225558042526245E-2,1.9168597459793092E-2,4.76382851600647E-2,4.1402223706245425E-2,0,{"$f":"S26-S25","v":0},null,null,null,{"$f":"I11*AVERAGE($K24:$K522)","v":0},-9.2688376844967425E-3,0,0,0,-2.8473229812052945E-2,0,0,0,0,null,null,0,{"$f":"IF(RAND()<$F$1,MNormal($C$3,$D$3),0)","v":0},0,{"$f":"IF(RAND()<$F$1,MNormal($C$3,$D$3),0)","v":0},0,0,3.8268361488215004E-2,0,-6.8854827177343064E-2,0,null,null,null,null,null,null,null,null,null,null,null,null,null,null,null,4,null,8.0355703830718998E-4,4.3924218305252102E-2,0.50696948263637009,1,107,10,0,-9.8078756582056559E-2,0,5.8639783575700849E-2,0.13729987228579663,0,0,0,0,0,null,null,2.7512657642364505E-2,5.7773513311119594E-2,{"$f":"MLOgnormal($C$5,$D$5)","v":0.42541324010072862},1,1,10,-0.13158449053478077,9.7398173547822264E-2,{"$f":"IF(RAND()<$F$1,MNormal($C$3,$D$3),0)","v":0},0,{"$f":"IF(RAND()<$F$1,MNormal($C$3,$D$3),0)","v":0},0,3.2459410944552104E-2,-7.8455672924284847E-2,0,0]
["grower6",0.51498122948542191,0.43867044630284202,null,null,null,4,0.4,1.9165574807530047E-2,1.7715593853780524E-2,2.0777331288870687E-2,2.1910814382558354E-2,3.4813439846038817E-2,4.2367092348753993E-2,2.9225558042526245E-2,1.9168597459793092E-2,4.76382851600647E-2,4.1402223706245425E-2,0,0,null,null,null,{"$f":"I12*AVERAGE($L24:$L522)","v":0},0,1.8443521375614908E-2,0,8.0549118177634382E-3,0,0,-2.0605150024568714E-2,0,0,null,null,0,-0.19943006056831888,{"$f":"IF(RAND()<$F$1,MNormal($C$3,$D$3),0)","v":0},0,{"$f":"IF(RAND()<$F$1,MNormal($C$3,$D$3),0)","v":0},0,7.0899107375396897E-2,0.10676226010450146,0,6.7405728197342099E-2,null,null,null,null,null,null,null,null,null,null,null,null,null,null,null,5,null,4.5733612775802616E-2,4.9966528357211389E-2,0.53620358619077202,1,36,10,0,0,0,0,0,0,0,0,0,0,null,null,1.7170915007591249E-2,3.2897916084695597E-2,{"$f":"MNormal($C$4,$D$4)","v":0.56607290653933762},1,{"$f":"RANDBETWEEN($C$6,CA27*$BO$6)","v":{"$error":"#NUM!"}},24,0,0,0,{"$f":"IF(RAND()<$F$1,MNormal($C$3,$D$3),0)","v":0},0,{"$f":"IF(RAND()<$F$1,MNormal($C$3,$D$3),0)","v":0},{"$f":"IF(RAND()<$F$1,MNormal($C$3,$D$3),0)","v":0},{"$f":"IF(RAND()<$F$1,MNormal($C$3,$D$3),0)","v":1.9080228779335056E-2},{"$f":"IF(RAND()<$F$1,MNormal($C$3,$D$3),0)","v":0},{"$f":"IF(RAND()<$F$1,MNormal($C$3,$D$3),0)","v":0}]
["grower7",8.0103450351544883E-2,3.281925195066121E-2,null,null,null,5,0.5,2.0069209739283111E-2,1.8560692329176932E-2,2.1630005859423544E-2,2.2862871633408506E-2,3.4813439846038817E-2,4.5514820221058801E-2,2.9225558042526245E-2,1.9168597459793092E-2,4.76382851600647E-2,4.1402223706245425E-2,0,0,null,null,null,{"$f":"I14*AVERAGE($N24:$N522)","v":0},-6.5592770833588665E-2,0,0,1.4157390676398854E-2,0,0,0,0,0,null,null,0,0,2.0932377301006253E-2,{"$f":"IF(RAND()<$F$1,MNormal($C$3,$D$3),0)","v":0},0,{"$f":"IF(RAND()<$F$1,MNormal($C$3,$D$3),0)","v":0},{"$f":"IF(RAND()<$F$1,MNormal($C$3,$D$3),0)","v":0},{"$f":"IF(RAND()<$F$1,MNormal($C$3,$D$3),0)","v":0},{"$f":"IF(RAND()<$F$1,MNormal($C$3,$D$3),0)","v":0},{"$f":"IF(RAND()<$F$1,MNormal($C$3,$D$3),0)","v":0.1488992319181352},null,null,null,null,null,null,null,null,null,null,null,null,null,null,null,6,null,2.7690961956977844E-2,4.2639918070861267E-2,0.66658053367623971,1,174,17,0,0,0,-3.1769424432189983E-2,0.16158751407631922,-7.1996559561192788E-2,-1.5027601915327229E-2,0,0,0,null,null,2.4758708477020264E-2,4.7946178915553007E-2,0.6671381898656622,1,{"$error":"#NUM!"},20,-2.1863215506455255E-2,0,-5.1953534037269426E-2,0,{"$f":"IF(RAND()<$F$1,MNormal($C$3,$D$3),0)","v":0},0,{"$f":"IF(RAND()<$F$1,MNormal($C$3,$D$3),0)","v":0},{"$f":"IF(RAND()<$F$1,MNormal($C$3,$D$3),0)","v":0},{"$f":"IF(RAND()<$F$1,MNormal($C$3,$D$3),0)","v":5.7487734135077399E-2},{"$f":"IF(RAND()<$F$1,MNormal($C$3,$D$3),0)","v":0}]
["grower8",1.9168597459793092E-2,1.9168597459793092E-2,null,null,null,6,0.6,2.1016744946693373E-2,1.9432556702129282E-2,2.2516612550994051E-2,2.385330174610522E-2,3.4813439846038817E-2,4.8878845743124177E-2,2.9225558042526245E-2,1.9168597459793092E-2,4.76382851600647E-2,4.1402223706245425E-2,0,0,null,null,null,{"$f":"I15*AVERAGE($O24:$O522)","v":0},0,0,0,1.8582459497126121E-4,0,0,0,-1.9466199937657792E-3,-7.6681360854306379E-4,null,null,0,9.8436218767203862E-2,0,0,{"$f":"IF(RAND()<$F$1,MNormal($C$3,$D$3),0)","v":0},0,{"$f":"IF(RAND()<$F$1,MNormal($C$3,$D$3),0)","v":0},{"$f":"IF(RAND()<$F$1,MNormal($C$3,$D$3),0)","v":-0.11091398262222625},{"$f":"IF(RAND()<$F$1,MNormal($C$3,$D$3),0)","v":0},{"$f":"IF(RAND()<$F$1,MNormal($C$3,$D$3),0)","v":4.2945004028582645E-2},null,null,null,null,null,null,null,null,null,null,null,null,null,null,null,7,null,4.1233554482460022E-2,7.162233401695775E-2,0.63602500567670062,1,158,21,0,0,0,0,0,0,0,-0.18535503267044129,0,2.1543255243947717E-2,null,null,2.238866984844208E-2,5.0015648862876953E-2,0.52791771611362126,1,{"$error":"#NUM!"},25,0,0,0,0,{"$f":"IF(RAND()<$F$1,MNormal($C$3,$D$3),0)","v":0},{"$f":"IF(RAND()<$F$1,MNormal($C$3,$D$3),0)","v":0},0,{"$f":"IF(RAND()<$F$1,MNormal($C$3,$D$3),0)","v":0},{"$f":"IF(RAND()<$F$1,MNormal($C$3,$D$3),0)","v":0},{"$f":"IF(RAND()<$F$1,MNormal($C$3,$D$3),0)","v":0}]
["grower9",4.76382851600647E-2,4.76382851600647E-2,null,null,null,7,0.7,2.2010392121982608E-2,2.0330287511868335E-2,2.34384137460323E-2,2.4883387031173407E-2,3.4813439846038817E-2,5.2471270261358248E-2,2.9225558042526245E-2,1.9168597459793092E-2,4.76382851600647E-2,4.1402223706245425E-2,0,0,null,null,{"$f":"SLOPE(V28:V33,U28:U33)","v":{"$error":"#DIV/0!"}},{"$f":"I16*AVERAGE($P24:$P522)","v":2.8792455718018215E-4},0,0,-1.1044710778137488E-3,0,0,1.6598998214119981E-5,0,-3.0604567325957902E-4,7.8740321885485546E-4,null,null,0,0,0,0,{"$f":"IF(RAND()<$F$1,MNormal($C$3,$D$3),0)","v":0},{"$f":"IF(RAND()<$F$1,MNormal($C$3,$D$3),0)","v":0.18455800325550395},0,{"$f":"IF(RAND()<$F$1,MNormal($C$3,$D$3),0)","v":0},{"$f":"IF(RAND()<$F$1,MNormal($C$3,$D$3),0)","v":9.6399617996520262E-2},{"$f":"IF(RAND()<$F$1,MNormal($C$3,$D$3),0)","v":-0.14951541183436814},null,null,null,null,null,null,null,null,null,null,null,null,null,null,null,8,null,5.9965848922729494E-4,4.1730940773151204E-2,0.42286979569298522,1,90,24,0,0,-0.1430886679161657,0.1755631011569386,-0.16780227247855059,0,-2.3636175943447541E-4,0,0,0,null,null,4.8248767852783203E-3,4.6362952819514747E-2,0.45727218051549368,1,{"$error":"#NUM!"},14,0,-2.0062890429542471E-2,0,0,{"$f":"IF(RAND()<$F$1,MNormal($C$3,$D$3),0)","v":0},{"$f":"IF(RAND()<$F$1,MNormal($C$3,$D$3),0)","v":-0.10088348459749258},{"$f":"IF(RAND()<$F$1,MNormal($C$3,$D$3),0)","v":-2.0614649821426672E-2},0,{"$f":"IF(RAND()<$F$1,MNormal($C$3,$D$3),0)","v":0},{"$f":"IF(RAND()<$F$1,MNormal($C$3,$D$3),0)","v":0}]
["grower10",0.41839209518070541,4.1402223706245425E-2,"emerg",null,null,8,0.8,2.3052472364184763E-2,2.1252713285060166E-2,2.4396711312867518E-2,2.5954429334533072E-2,3.4813439846038817E-2,5.6304435258687738E-2,2.9225558042526245E-2,1.9168597459793092E-2,4.76382851600647E-2,4.1402223706245425E-2,0,0,null,null,null,{"$f":"I17*AVERAGE($Q24:$Q522)","v":-2.0539754498145966E-3},1.2917594832124561E-3,0,-2.5115047703366251E-3,0,2.4833026573294957E-3,-1.2378695332764429E-3,0,0,0,null,null,0,6.7148888676547475E-2,0,0,{"$f":"IF(RAND()<$F$1,MNormal($C$3,$D$3),0)","v":0},{"$f":"IF(RAND()<$F$1,MNormal($C$3,$D$3),0)","v":0},{"$f":"IF(RAND()<$F$1,MNormal($C$3,$D$3),0)","v":-4.0100235729025734E-2},0,{"$f":"IF(RAND()<$F$1,MNormal($C$3,$D$3),0)","v":0},{"$f":"IF(RAND()<$F$1,MNormal($C$3,$D$3),0)","v":0.13983041367317009},null,null,null,null,null,null,null,null,null,null,null,null,null,null,null,9,null,2.3765608668327332E-2,5.8225660707034443E-2,0.6438973571904355,1,166,15,0,0,0,0,-2.4173042930056347E-2,6.4548088981960849E-2,-4.9195629290169907E-2,0,0,0,null,null,4.77740228176117E-2,5.2006311909575498E-2,0.46072985867349558,1,{"$error":"#NUM!"},15,0,0,0,0,{"$f":"IF(RAND()<$F$1,MNormal($C$3,$D$3),0)","v":0.12585156186655583},{"$f":"IF(RAND()<$F$1,MNormal($C$3,$D$3),0)","v":0},{"$f":"IF(RAND()<$F$1,MNormal($C$3,$D$3),0)","v":0},{"$f":"IF(RAND()<$F$1,MNormal($C$3,$D$3),0)","v":-4.9579627715167121E-2},0,{"$f":"IF(RAND()<$F$1,MNormal($C$3,$D$3),0)","v":0}]
["avg",{"$f":"AVERAGE(I24:R522)","v":0.27118042355473648},null,{"$f":"K24","v":1.8410855531692506E-2},null,null,9,0.9,2.4145419818085663E-2,2.2198365154649291E-2,2.5392847165380941E-2,2.7067748099812789E-2,3.4813439846038817E-2,6.0390850477474362E-2,2.9225558042526245E-2,1.9168597459793092E-2,4.76382851600647E-2,4.1402223706245425E-2,0,0,null,null,null,{"$f":"I18*AVERAGE($R24:$R522)","v":0},0,0,0,0,0,0,-8.1144604345948449E-3,0,0,null,null,-0.26401004773513825,0,0,0,{"$f":"IF(RAND()<$F$1,MNormal($C$3,$D$3),0)","v":-5.8371062843707213E-3},{"$f":"IF(RAND()<$F$1,MNormal($C$3,$D$3),0)","v":0},{"$f":"IF(RAND()<$F$1,MNormal($C$3,$D$3),0)","v":0},{"$f":"IF(RAND()<$F$1,MNormal($C$3,$D$3),0)","v":0},0,{"$f":"IF(RAND()<$F$1,MNormal($C$3,$D$3),0)","v":0},null,null,null,null,null,null,null,null,null,null,null,null,null,null,null,10,null,3.7419578433036803E-2,4.4753511045803232E-2,0.59772923944623324,1,162,11,0,0,0,0,0,-2.6520295469917278E-2,0,0,0,0,null,null,2.2668382525444033E-2,4.7995797873191685E-2,0.64628496498042265,1,{"$error":"#NUM!"},12,0,0,0,0,{"$f":"IF(RAND()<$F$1,MNormal($C$3,$D$3),0)","v":0},{"$f":"IF(RAND()<$F$1,MNormal($C$3,$D$3),0)","v":0},{"$f":"IF(RAND()<$F$1,MNormal($C$3,$D$3),0)","v":0},{"$f":"IF(RAND()<$F$1,MNormal($C$3,$D$3),0)","v":0},{"$f":"IF(RAND()<$F$1,MNormal($C$3,$D$3),0)","v":-5.3402197545470292E-2},0]
["stdev",{"$f":"STDEV(I24:R522)","v":0.33166550131738648},null,{"$f":"K44","v":4.0842438844411029E-2},null,null,10,1,2.529178502090023E-2,2.3165451799373113E-2,2.6428203759066779E-2,2.822467818550118E-2,3.4813439846038817E-2,6.4743107699893887E-2,2.9225558042526245E-2,1.9168597459793092E-2,4.76382851600647E-2,4.1402223706245425E-2,0,0,null,null,null,{"$f":"SUM(X24:X32)","v":-1.0050594527519915E-3},-6.3101447252645354E-2,1.8443521375614908E-2,-3.6159758481503742E-3,2.2398127089133552E-2,-2.5492340759833202E-2,-5.9610463344684658E-2,-7.9588533709147855E-2,-1.9823232777115105E-2,2.0589610311791667E-5,null,null,0,4.0618532901703086E-2,0,0,{"$f":"IF(RAND()<$F$1,MNormal($C$3,$D$3),0)","v":0},{"$f":"IF(RAND()<$F$1,MNormal($C$3,$D$3),0)","v":0.1447233420680136},{"$f":"IF(RAND()<$F$1,MNormal($C$3,$D$3),0)","v":-9.7825742635046009E-2},{"$f":"IF(RAND()<$F$1,MNormal($C$3,$D$3),0)","v":3.6122641414500604E-2},{"$f":"IF(RAND()<$F$1,MNormal($C$3,$D$3),0)","v":0},0]
[null,null,null,{"$f":"K64","v":8.730591378891478E-2},null,null,11,1.1000000000000001,2.6494237864313583E-2,2.4151835297346484E-2,2.7504204514227065E-2,2.9426567423392322E-2,3.4813439846038817E-2,6.9373778935911984E-2,2.9225558042526245E-2,1.9168597459793092E-2,4.76382851600647E-2,4.1402223706245425E-2,0,0]
["maxlevel",{"$f":"MAX(B22:B31)","v":1.2061861440719202},null,{"$f":"K84","v":0.17216792184746202},null,null,12,1.2,2.7755570067535439E-2,2.5155008594687053E-2,2.8622314156227045E-2,3.0674773905104962E-2,3.4813439846038817E-2,7.4295297876510596E-2,2.9225558042526245E-2,1.9168597459793092E-2,4.76382851600647E-2,4.1402223706245425E-2,0,0,null,null,{"$f":"IF(RAND()<poisson_parameter*model!K35,1,0)","v":0},{"$f":"IF(RAND()<K24*$T$22,1,0)","v":0},1]
["average endlevel",{"$f":"AVERAGE(endlevel10)","v":0.36526993462961599},null,{"$f":"K104","v":0.29186338458537897},null,null,13,1.3,2.9078697044899345E-2,2.6172075399550045E-2,2.9784038961869815E-2,3.1970662983953589E-2,3.4813439846038817E-2,7.9519823643513204E-2,2.9225558042526245E-2,1.9168597459793092E-2,4.76382851600647E-2,4.1402223706245425E-2,0,0,null,null,{"$f":"IF(RAND()<poisson_parameter*model!K36,1,0)","v":0},{"$f":"IF(RAND()<K25*$T$22,1,0)","v":0},2,null,null,null,null,null,null,null,null,null,null,null,null,null,null,null,null,null,null,null,null,null,null,null,null,null,null,null,null,null,null,null,null,null,null,null,null,null,null,null,null,null,{"$f":"$C$3-BP36/50","v":0},{"$f":"1-(501-BO23)/500","v":0}]
["totsupport maxlevel",{"$f":"AG20","v":0.63971394417083782},null,{"$f":"K124","v":0.40567778916667213},null,null,14,1.4,3.0466659039653354E-2,2.7199733418649157E-2,3.0990926900032734E-2,3.3315603980142182E-2,3.4813439846038817E-2,8.5059086119234073E-2,2.9225558042526245E-2,1.9168597459793092E-2,4.76382851600647E-2,4.1402223706245425E-2,0,0,null,null,{"$f":"IF(RAND()<poisson_parameter*model!K37,1,0)","v":0},{"$f":"IF(RAND()<(K26-$T$21)*$T$22*(1+SUM($X$35:X36)),1,0)","v":0},3,null,null,null,null,null,null,null,null,null,null,null,null,null,null,null,null,null,null,null,null,null,null,null,null,null,null,null,null,null,null,null,null,null,null,null,null,null,null,null,null,null,{"$f":"$C$3-BP37/50","v":0},{"$f":"1-(501-BO24)/500","v":0}]
["support maxlevel",{"$f":"my_lookup(B35,B22:B31,connectionsum)","v":7.3920297074155983E-2},null,{"$f":"K144","v":0.47803714481406728},null,null,15,1.5,3.1922621384408982E-2,2.8234261951566905E-2,3.2244567653744789E-2,3.4710966578159572E-2,3.4813439846038817E-2,9.0924212480968408E-2,2.9225558042526245E-2,1.9168597459793092E-2,4.76382851600647E-2,4.1402223706245425E-2,0,0,null,null,{"$f":"IF(RAND()<poisson_parameter*model!K38,1,0)","v":0},{"$f":"IF(RAND()<(K27-$T$21)*$T$22*(1+pref_attach_on*SUM($X$35:X37)),1,0)","v":0},4,{"$f":"IF(AND(SUM($X$35:X37)=0,X38=1),Y38,\"\")","v":""},null,null,null,null,null,null,null,null,null,"Average","Median","Minimum","Maximum","Perc 0.025","Perc 0.975","StDev","Skewness","P value","# of simulations",null,null,null,null,null,null,null,null,null,null,null,null,null,null,null,null,null,null,null,null,null,{"$f":"$C$3-BP38/50","v":0},{"$f":"1-(501-BO25)/500","v":0}]
["correl sum and max",{"$f":"CORREL(connectionsum,maxlevel10)","v":0.61750664470423244},null,{"$f":"K164","v":0.51370395219355547},null,null,16,1.6,3.3449873738816992E-2,2.9271514940793532E-2,3.3546592509875892E-2,3.6158116906399508E-2,3.4813439846038817E-2,9.7125535007635669E-2,2.9225558042526245E-2,1.9168597459793092E-2,4.76382851600647E-2,4.1402223706245425E-2,0,0,null,null,{"$f":"IF(RAND()<poisson_parameter*model!K39,1,0)","v":0},{"$f":"IF(RAND()<(K28^quadratic_condition*L28-$T$21)*$T$22*(1+pref_attach_on*SUM($X$35:X38)),1,0)","v":0},5,{"$f":"IF(AND(SUM($X$35:X38)=0,X39=1),Y39,\"\")","v":""},null,null,null,null,null,null,null,null,null,2.238,2,0,6,0,5,1.2619592236535728,0.31922963359951867,0.57399999999999995,500,null,null,null,null,null,null,null,null,null,null,null,null,null,null,null,null,null,null,null,null,null,-4.239999999999999E-3,0.21199999999999997]
["correl carcap",{"$f":"CORREL(B22:B31,E10:E19)","v":0.38586457793454282},null,{"$f":"K184","v":0.53151267770733057},null,null,17,1.7,3.5051828147102268E-2,3.0306920634101488E-2,3.4898674101559043E-2,3.7658413290429453E-2,3.4813439846038817E-2,0.1036723807770009,2.9225558042526245E-2,1.9168597459793092E-2,4.76382851600647E-2,4.1402223706245425E-2,0,0,null,null,{"$f":"IF(RAND()<poisson_parameter*model!K40,1,0)","v":0},{"$f":"IF(RAND()<(K29^quadratic_condition*L29-$T$21)*$T$22*(1+pref_attach_on*SUM($X$35:X39)),1,0)","v":0},6,{"$f":"IF(AND(SUM($X$35:X39)=0,X40=1),Y40,\"\")","v":""},null,null,null,null,null,null,null,null,null,2.3079999999999998,2,0,6,0,5,1.2807875833514841,0.24231922045059553,0.628,500,null,null,null,null,null,null,null,null,null,null,null,null,null,null,null,null,null,null,null,null,null,-1.3999999999999991E-3,6.9999999999999951E-2]
["correl rate",{"$f":"CORREL(B22:B31,D10:D19)","v":0.91546486546119443},null,{"$f":"K204","v":0.54281507134589213},null,null,18,1.8,3.6732015752893789E-2,3.133548904109517E-2,3.6302525987379347E-2,3.9213201673009478E-2,3.4813439846038817E-2,0.11057284453649553,2.9225558042526245E-2,1.9168597459793092E-2,4.76382851600647E-2,4.1402223706245425E-2,0,0,null,null,{"$f":"IF(RAND()<poisson_parameter*model!K41,1,0)","v":0},{"$f":"IF(RAND()<(K30^quadratic_condition*L30-$T$21)*$T$22*(1+pref_attach_on*SUM($X$35:X40)),1,0)","v":0},7,{"$f":"IF(AND(SUM($X$35:X40)=0,X41=1),Y41,\"\")","v":""},null,null,null,null,null,null,null,null,null,2.27,2,0,7,0,5,1.2394241988477468,0.53499264596935403,0.60599999999999998,500,null,null,null,null,null,null,null,null,null,null,null,null,null,null,null,null,null,null,null,null,null,-6.9199999999999991E-3,0.34599999999999997]
[null,null,null,{"$f":"K224","v":0.55401995536711079},null,null,19,1.9,3.849408200718793E-2,3.2351828347353319E-2,3.7759902050245445E-2,4.0823810695935041E-2,3.4813439846038817E-2,0.11783354680815175,2.9225558042526245E-2,1.9168597459793092E-2,4.76382851600647E-2,4.1402223706245425E-2,0,0,null,null,{"$f":"IF(RAND()<poisson_parameter*model!K42,1,0)","v":0},{"$f":"IF(RAND()<(K31^quadratic_condition*L31-$T$21)*$T$22*(1+pref_attach_on*SUM($X$35:X41)),1,0)","v":0},8,{"$f":"IF(AND(SUM($X$35:X41)=0,X42=1),Y42,\"\")","v":""},null,null,null,null,null,null,null,null,null,2.3199999999999998,2,0,8,0,5,1.2872116483528693,0.47347499093391321,0.59799999999999998,500,null,null,null,null,null,null,null,null,null,null,null,null,null,null,null,null,null,null,null,null,null,-6.2799999999999991E-3,0.31399999999999995]
[null,null,null,{"$f":"E11","v":0.37580069410379247},null,null,20,2,4.0341780208195697E-2,3.335017137705816E-2,3.9272595697717537E-2,4.2491546441061789E-2,3.4813439846038817E-2,0.12545938017095887,2.9225558042526245E-2,1.9168597459793092E-2,4.76382851600647E-2,4.1402223706245425E-2,0,0,null,null,{"$f":"IF(RAND()<poisson_parameter*model!K43,1,0)","v":0},{"$f":"IF(RAND()<(K32^quadratic_condition*L32-$T$21)*$T$22*(1+pref_attach_on*SUM($X$35:X42)),1,0)","v":0},9,{"$f":"IF(AND(SUM($X$35:X42)=0,X43=1),Y43,\"\")","v":""},null,null,null,null,null,null,null,null,null,2.2639999999999998,2,0,7,0,5,1.2543727124756849,0.37817002792818716,0.628,500,null,null,null,null,null,null,null,null,null,null,null,null,null,null,null,null,null,null,null,null,null,-3.5600000000000011E-3,0.17800000000000005]
[null,null,null,null,null,null,21,2.1,4.227896322016874E-2,3.4324413058445677E-2,4.0842438844411029E-2,4.4217686830480704E-2,3.4813439846038817E-2,0.13345324763564129,2.9225558042526245E-2,1.9168597459793092E-2,4.76382851600647E-2,4.1402223706245425E-2,0,0,null,null,{"$f":"IF(RAND()<poisson_parameter*model!K44,1,0)","v":0},{"$f":"IF(RAND()<(K33^quadratic_condition*L33-$T$21)*$T$22*(1+pref_attach_on*SUM($X$35:X43)),1,0)","v":0},10,{"$f":"IF(AND(SUM($X$35:X43)=0,X44=1),Y44,\"\")","v":""},null,null,null,null,null,null,null,null,null,2.274,2,0,6,0,5,1.3647891040732976,0.3646352869207703,0.62,500,null,null,null,null,null,null,null,null,null,null,null,null,null,null,null,null,null,null,null,null,null,-6.5999999999999991E-3,0.32999999999999996]
[null,null,null,null,null,null,22,2.2000000000000002,4.430957323295185E-2,3.5268159637335754E-2,4.2471300655938127E-2,4.6003475688759392E-2,3.4813439846038817E-2,0.14181579806056838,2.9225558042526245E-2,1.9168597459793092E-2,4.76382851600647E-2,4.1402223706245425E-2,0,0,null,null,{"$f":"IF(RAND()<poisson_parameter*model!K45,1,0)","v":0},{"$f":"IF(RAND()<(K34^quadratic_condition*L34-$T$21)*$T$22*(1+pref_attach_on*SUM($X$35:X44)),1,0)","v":0},11,{"$f":"IF(AND(SUM($X$35:X44)=0,X45=1),Y45,\"\")","v":""},null,null,null,null,null,null,null,null,null,2.286,2,0,7,0,5,1.2788568918764129,0.39931358867455802,0.59399999999999997,500,null,null,null,null,null,null,null,null,null,null,null,null,null,null,null,null,null,null,null,null,null,-6.4399999999999987E-3,0.32199999999999995]
[null,null,null,null,null,null,23,2.2999999999999998,4.6437629445729899E-2,3.617479009651877E-2,4.4161086032706062E-2,4.7850116473456689E-2,3.4813439846038817E-2,0.1505451646145779,2.9225558042526245E-2,1.9168597459793092E-2,4.76382851600647E-2,4.1402223706245425E-2,0,0,null,null,{"$f":"IF(RAND()<poisson_parameter*model!K46,1,0)","v":0},{"$f":"IF(RAND()<(K35^quadratic_condition*L35-$T$21)*$T$22*(1+pref_attach_on*SUM($X$35:X45)),1,0)","v":0},12,{"$f":"IF(AND(SUM($X$35:X45)=0,X46=1),Y46,\"\")","v":""},null,null,null,null,null,null,null,null,null,2.29,2,0,7,0,5,1.2445874802487704,0.24457294011863931,0.60799999999999998,500,null,null,null,null,null,null,null,null,null,null,null,null,null,null,null,null,null,null,null,null,null,{"$f":"$C$3-BP46/50","v":-1.9799999999999998E-2},0.99]
[null,null,null,null,null,null,24,2.4,4.8667213587782525E-2,3.7037529870845916E-2,4.5913733810777402E-2,4.9758765683755347E-2,3.4813439846038817E-2,0.15963671332182849,2.9225558042526245E-2,1.9168597459793092E-2,4.76382851600647E-2,4.1402223706245425E-2,0,0,null,null,{"$f":"IF(RAND()<poisson_parameter*model!K47,1,0)","v":0},{"$f":"IF(RAND()<(K36^quadratic_condition*L36-$T$21)*$T$22*(1+pref_attach_on*SUM($X$35:X46)),1,0)","v":0},13,{"$f":"IF(AND(SUM($X$35:X46)=0,X47=1),Y47,\"\")","v":""},null,null,null,null,null,null,null,null,null,2.2200000000000002,2,0,7,0,5,1.2879898430000691,0.39769733159603049,0.62,500]
[null,null,null,null,null,null,25,2.5,5.1002453226291981E-2,3.7849536502594809E-2,4.7731214655935134E-2,5.1730525961037638E-2,3.4813439846038817E-2,0.16908280966215319,2.9225558042526245E-2,1.9168597459793092E-2,4.76382851600647E-2,4.1402223706245425E-2,0,0,null,null,{"$f":"IF(RAND()<poisson_parameter*model!K48,1,0)","v":0},{"$f":"IF(RAND()<(K37^quadratic_condition*L37-$T$21)*$T$22*(1+pref_attach_on*SUM($X$35:X47)),1,0)","v":0},14,{"$f":"IF(AND(SUM($X$35:X47)=0,X48=1),Y48,\"\")","v":""},null,null,null,null,null,null,null,null,null,2.2200000000000002,2,0,6,0,5,1.2484860571387011,0.32188979469606976,1,500]
[null,null,null,null,null,null,26,2.6,5.3447502856237485E-2,3.8603996368487437E-2,4.9615528626107429E-2,5.376643889954083E-2,3.4813439846038817E-2,0.17887261197396245,2.9225558042526245E-2,1.9168597459793092E-2,4.76382851600647E-2,4.1402223706245425E-2,0,0,null,null,{"$f":"IF(RAND()<poisson_parameter*model!K49,1,0)","v":0},{"$f":"IF(RAND()<(K38^quadratic_condition*L38-$T$21)*$T$22*(1+pref_attach_on*SUM($X$35:X48)),1,0)","v":0},15,{"$f":"IF(AND(SUM($X$35:X48)=0,X49=1),Y49,\"\")","v":""},null,null,null,null,null,null,null,null,null,{"$f":"AVERAGE(AJ39:AJ48)","v":2.2689999999999997},null,null,null,null,null,{"$f":"AVERAGE(AP39:AP48)","v":1.2748464743018608}]
[null,null,null,null,null,null,27,2.7,5.600652281953817E-2,3.9294231045277746E-2,5.1568702376420805E-2,5.5867477589855968E-2,3.4813439846038817E-2,0.18899190093430707,2.9225558042526245E-2,1.9168597459793092E-2,4.76382851600647E-2,4.1402223706245425E-2,0,0,null,null,{"$f":"IF(RAND()<poisson_parameter*model!K50,1,0)","v":0},{"$f":"IF(RAND()<(K39^quadratic_condition*L39-$T$21)*$T$22*(1+pref_attach_on*SUM($X$35:X49)),1,0)","v":0},16,{"$f":"IF(AND(SUM($X$35:X49)=0,X50=1),Y50,\"\")","v":""}]
[null,null,null,null,null,null,28,2.8,5.868365615870362E-2,3.9913811289398207E-2,5.3592785980397781E-2,5.8034538922947465E-2,3.4813439846038817E-2,0.19942295458843595,2.9225558042526245E-2,1.9168597459793092E-2,4.76382851600647E-2,4.1402223706245425E-2,0,0,null,null,{"$f":"IF(RAND()<poisson_parameter*model!K51,1,0)","v":0},{"$f":"IF(RAND()<(K40^quadratic_condition*L40-$T$21)*$T$22*(1+pref_attach_on*SUM($X$35:X50)),1,0)","v":0},17,{"$f":"IF(AND(SUM($X$35:X50)=0,X51=1),Y51,\"\")","v":""},null,null,null,null,null,null,null,null,null,"Average","Median","Minimum","Maximum","Perc 0.025","Perc 0.975","StDev","Skewness","P value","# of simulations"]
[null,null,null,null,null,null,29,2.9,6.1483003572541897E-2,4.0456676019428019E-2,5.5689849340230975E-2,6.02684356875373E-2,3.4813439846038817E-2,0.21014447818921608,2.9225558042526245E-2,1.9168597459793092E-2,4.76382851600647E-2,4.1402223706245425E-2,0,0,null,null,{"$f":"IF(RAND()<poisson_parameter*model!K52,1,0)","v":0},{"$f":"IF(RAND()<(K41^quadratic_condition*L41-$T$21)*$T$22*(1+pref_attach_on*SUM($X$35:X51)),1,0)","v":0},18,{"$f":"IF(AND(SUM($X$35:X51)=0,X52=1),Y52,\"\")","v":""},null,null,null,null,null,null,null,null,null,2.222,2,0,6,0,5,1.3336020750188171,0.28408170381883546,1,1000]
[null,null,null,null,null,null,30,3,6.4408596705585658E-2,4.0917253146035226E-2,5.7861978158689598E-2,6.2569888499070317E-2,3.4813439846038817E-2,0.22113159741723953,2.9225558042526245E-2,1.9168597459793092E-2,4.76382851600647E-2,4.1402223706245425E-2,0,0,null,null,{"$f":"IF(RAND()<poisson_parameter*model!K53,1,0)","v":0},{"$f":"IF(RAND()<(K42^quadratic_condition*L42-$T$21)*$T$22*(1+pref_attach_on*SUM($X$35:X52)),1,0)","v":0},19,{"$f":"IF(AND(SUM($X$35:X52)=0,X53=1),Y53,\"\")","v":""},null,null,null,null,null,null,null,null,null,2.3029999999999999,2,0,7,0,5,1.3729807267678873,0.41518971227189233,1,1000]
[null,null,null,null,null,null,31,3.1,6.7464370065909648E-2,4.1290578634622023E-2,6.0111269445090265E-2,6.4939517603999714E-2,3.4813439846038817E-2,0.23235592233834079,2.9225558042526245E-2,1.9168597459793092E-2,4.76382851600647E-2,4.1402223706245425E-2,0,0,null,null,{"$f":"IF(RAND()<poisson_parameter*model!K54,1,0)","v":0},{"$f":"IF(RAND()<(K43^quadratic_condition*L43-$T$21)*$T$22*(1+pref_attach_on*SUM($X$35:X53)),1,0)","v":0},20,{"$f":"IF(AND(SUM($X$35:X53)=0,X54=1),Y54,\"\")","v":""},null,null,null,null,null,null,null,null,null,2.2440000000000002,2,0,7,0,5,1.2830082268286942,0.51182775557225313,1,1000]
[null,null,null,null,null,null,32,3.2,7.0654131924590177E-2,4.1572409854351663E-2,6.2439826527939897E-2,6.7377834608737738E-2,3.4813439846038817E-2,0.2437856876994812,2.9225558042526245E-2,1.9168597459793092E-2,4.76382851600647E-2,4.1402223706245425E-2,0,0,null,null,{"$f":"IF(RAND()<poisson_parameter*model!K55,1,0)","v":0},{"$f":"IF(RAND()<(K44^quadratic_condition*L44-$T$21)*$T$22*(1+pref_attach_on*SUM($X$35:X54)),1,0)","v":0},21,{"$f":"IF(AND(SUM($X$35:X54)=0,X55=1),Y55,\"\")","v":""},null,null,null,null,null,null,null,null,null,2.25,2,0,6,0,5,1.2677172820101126,0.29944623403144754,1,1000]
[null,null,null,null,{"$f":"B22","v":0.73941827914751057},{"$f":"B24","v":0.57403561220757604},33,3.3,7.3981534600630325E-2,4.1759329104005094E-2,6.4849753547386035E-2,6.9885234188226217E-2,3.4813439846038817E-2,0.25538597288725495,2.9225558042526245E-2,1.9168597459793092E-2,4.76382851600647E-2,4.1402223706245425E-2,0,0,null,null,{"$f":"IF(RAND()<poisson_parameter*model!K56,1,0)","v":0},{"$f":"IF(RAND()<(K45^quadratic_condition*L45-$T$21)*$T$22*(1+pref_attach_on*SUM($X$35:X55)),1,0)","v":0},22,{"$f":"IF(AND(SUM($X$35:X55)=0,X56=1),Y56,\"\")","v":""},null,null,null,null,null,null,null,null,null,2.2250000000000001,2,0,6,0,5,1.2790664607482329,0.33284210353767085,1,1000]
[null,null,null,null,null,null,34,3.4,7.7450044574198809E-2,4.1848833243570818E-2,6.7343149401545274E-2,7.2461985834607154E-2,3.4813439846038817E-2,0.26711900213982404,2.9225558042526245E-2,1.9168597459793092E-2,4.76382851600647E-2,4.1402223706245425E-2,0,0,null,null,{"$f":"IF(RAND()<poisson_parameter*model!K57,1,0)","v":0},{"$f":"IF(RAND()<(K46^quadratic_condition*L46-$T$21)*$T$22*(1+pref_attach_on*SUM($X$35:X56)),1,0)","v":0},23,{"$f":"IF(AND(SUM($X$35:X56)=0,X57=1),Y57,\"\")","v":""},null,null,null,null,null,null,null,null,null,2.2109999999999999,2,0,7,0,5,1.279889494103736,0.3959745747814587,1,1000]
[null,1,{"$f":"TRANSPOSE(maxlevel10)","v":0.73941827914751057},{"$f":"C58","v":0.73941827914751057},"within person corrleation endlevel","within person corrleation gen factor",35,3.5,8.1062912895279685E-2,4.1839405622505606E-2,6.9922101122181987E-2,7.5108225711813692E-2,3.4813439846038817E-2,0.27894452252260338,2.9225558042526245E-2,1.9168597459793092E-2,4.76382851600647E-2,4.1402223706245425E-2,0,0,null,null,{"$f":"IF(RAND()<poisson_parameter*model!K58,1,0)","v":0},{"$f":"IF(RAND()<(K47^quadratic_condition*L47-$T$21)*$T$22*(1+pref_attach_on*SUM($X$35:X57)),1,0)","v":0},24,{"$f":"IF(AND(SUM($X$35:X57)=0,X58=1),Y58,\"\")","v":""},null,null,null,null,null,null,null,null,null,2.2429999999999999,2,0,7,0,5,1.2874814983558438,0.43119076512566951,1,1000]
[null,2,4.1848833243570818E-2,{"$f":"C68","v":5.0926829432900944E-2},{"$f":"CORREL(I60:R60,endlevel10)","v":4.1694525003799908E-2},{"$f":"CORREL(I60:R60,$E$9:$E$18)","v":3.6690188808875188E-2},36,3.6,8.4823146361720614E-2,4.1730566987781346E-2,7.2588676657139042E-2,7.7823948686947336E-2,3.4813439846038817E-2,0.29082025390314503,2.9225558042526245E-2,1.9168597459793092E-2,4.76382851600647E-2,4.1402223706245425E-2,0,0,null,null,{"$f":"IF(RAND()<poisson_parameter*model!K59,1,0)","v":0},{"$f":"IF(RAND()<(K48^quadratic_condition*L48-$T$21)*$T$22*(1+pref_attach_on*SUM($X$35:X58)),1,0)","v":0},25,{"$f":"IF(AND(SUM($X$35:X58)=0,X59=1),Y59,\"\")","v":""},null,null,null,null,null,null,null,null,null,2.2040000000000002,2,0,8,0,5,1.2892036480114559,0.39945632081579058,1,1000]
[null,3,0.57403561220757604,{"$f":"C59","v":4.1848833243570818E-2},{"$f":"CORREL(I80:R80,endlevel10)","v":0.12078026346973152},{"$f":"CORREL(I80:R80,$E$9:$E$18)","v":6.295325536441114E-2},37,3.7,8.8733479928559386E-2,4.1522902765670243E-2,7.5344917039442336E-2,8.0609000613940759E-2,3.4813439846038817E-2,0.30270240187920855,2.9225558042526245E-2,1.9168597459793092E-2,4.76382851600647E-2,4.1402223706245425E-2,0,0,null,null,{"$f":"IF(RAND()<poisson_parameter*model!K60,1,0)","v":0},{"$f":"IF(RAND()<(K49^quadratic_condition*L49-$T$21)*$T$22*(1+pref_attach_on*SUM($X$35:X59)),1,0)","v":0},26,{"$f":"IF(AND(SUM($X$35:X59)=0,X60=1),Y60,\"\")","v":""},null,null,null,null,null,null,null,null,null,2.27,2,0,6,0,5,1.2556578660911886,0.31334291477064996,1,1000]
[null,4,0.42668626192131703,{"$f":"C69","v":5.448371638347025E-2},{"$f":"CORREL(I100:R100,endlevel10)","v":0.22871276092843215},{"$f":"CORREL(I100:R100,$E$9:$E$18)","v":8.5027505750684282E-2},38,3.8,9.2796350778963463E-2,4.1218065010150379E-2,7.8192827926175379E-2,8.3463070949100618E-2,3.4813439846038817E-2,0.31454622153596795,2.9225558042526245E-2,1.9168597459793092E-2,4.76382851600647E-2,4.1402223706245425E-2,0,0,null,null,{"$f":"IF(RAND()<poisson_parameter*model!K61,1,0)","v":0},{"$f":"IF(RAND()<(K50^quadratic_condition*L50-$T$21)*$T$22*(1+pref_attach_on*SUM($X$35:X60)),1,0)","v":0},27,{"$f":"IF(AND(SUM($X$35:X60)=0,X61=1),Y61,\"\")","v":""},null,null,null,null,null,null,null,null,null,2.2970000000000002,2,0,6,0,5,1.284695077223168,0.2534247723899713,1,1000]
[null,5,1.2061861440719202,{"$f":"C60","v":0.57403561220757604},{"$f":"CORREL(I120:R120,endlevel10)","v":0.31110282529523448},{"$f":"CORREL(I120:R120,$E$9:$E$18)","v":8.8742956110553953E-2},39,3.9,9.70138744370585E-2,4.0818748349225949E-2,8.1134370494110333E-2,8.6385685781553187E-2,3.4813439846038817E-2,0.32630661724869087,2.9225558042526245E-2,1.9168597459793092E-2,4.76382851600647E-2,4.1402223706245425E-2,0,0,null,null,{"$f":"IF(RAND()<poisson_parameter*model!K62,1,0)","v":0},{"$f":"IF(RAND()<(K51^quadratic_condition*L51-$T$21)*$T$22*(1+pref_attach_on*SUM($X$35:X61)),1,0)","v":0},28,{"$f":"IF(AND(SUM($X$35:X61)=0,X62=1),Y62,\"\")","v":""},null,null,null,null,null,null,null,null,null,{"$f":"AVERAGE(AJ52:AJ61)","v":2.2469000000000001},null,null,null,null,null,{"$f":"AVERAGE(AP52:AP61)","v":1.2933302355159138}]
[null,6,0.51498122948542191,{"$f":"C70","v":4.2302833654118077E-2},{"$f":"CORREL(I140:R140,endlevel10)","v":0.35396518995496484},{"$f":"CORREL(I140:R140,$E$9:$E$18)","v":8.4866108068832019E-2},40,4,0.1013878232366756,4.0328640374921898E-2,8.4171451683747997E-2,8.9376201364244776E-2,3.4813439846038817E-2,0.33793876170615744,2.9225558042526245E-2,1.9168597459793092E-2,4.76382851600647E-2,4.1402223706245425E-2,0,0,null,null,{"$f":"IF(RAND()<poisson_parameter*model!K63,1,0)","v":0},{"$f":"IF(RAND()<(K52^quadratic_condition*L52-$T$21)*$T$22*(1+pref_attach_on*SUM($X$35:X62)),1,0)","v":0},29,{"$f":"IF(AND(SUM($X$35:X62)=0,X63=1),Y63,\"\")","v":""}]
[null,7,8.0103450351544883E-2,{"$f":"C61","v":0.42668626192131703},{"$f":"CORREL(I160:R160,endlevel10)","v":0.37739133128121577},{"$f":"CORREL(I160:R160,$E$9:$E$18)","v":8.2382230977438381E-2},41,4.0999999999999996,0.10591960738124205,3.9752348040200822E-2,8.730591378891478E-2,9.2433798232848752E-2,3.4813439846038817E-2,0.34939871607257866,2.9225558042526245E-2,1.9168597459793092E-2,4.76382851600647E-2,4.1402223706245425E-2,0,0,null,null,{"$f":"IF(RAND()<poisson_parameter*model!K64,1,0)","v":0},{"$f":"IF(RAND()<(K53^quadratic_condition*L53-$T$21)*$T$22*(1+pref_attach_on*SUM($X$35:X63)),1,0)","v":0},30,{"$f":"IF(AND(SUM($X$35:X63)=0,X64=1),Y64,\"\")","v":""}]
[{"$f":"rate10","v":5.448371638347025E-2},8,1.9168597459793092E-2,{"$f":"C71","v":5.7485916761479933E-2},{"$f":"CORREL(I180:R180,endlevel10)","v":0.43353045673330287},{"$f":"CORREL(I180:R180,$E$9:$E$18)","v":0.11584706038606567},42,4.2,0.11061025874336215,3.9095302670604855E-2,9.0539523395436444E-2,9.5557476000574557E-2,3.4813439846038817E-2,0.36064403284376706,2.9225558042526245E-2,1.9168597459793092E-2,4.76382851600647E-2,4.1402223706245425E-2,0,0,null,null,{"$f":"IF(RAND()<poisson_parameter*model!K65,1,0)","v":0},{"$f":"IF(RAND()<(K54^quadratic_condition*L54-$T$21)*$T$22*(1+pref_attach_on*SUM($X$35:X64)),1,0)","v":0},31,{"$f":"IF(AND(SUM($X$35:X64)=0,X65=1),Y65,\"\")","v":""}]
[4.2302833654118077E-2,9,4.76382851600647E-2,{"$f":"C62","v":1.2061861440719202},{"$f":"CORREL(I200:R200,endlevel10)","v":0.66123668696203797},{"$f":"CORREL(I200:R200,$E$9:$E$18)","v":0.32249602704650016},43,4.3,0.11546041746345641,3.8363647098508202E-2,9.3873959679693572E-2,9.8746048916344129E-2,3.4813439846038817E-2,0.37163432353244452,2.9225558042526245E-2,1.9168597459793092E-2,4.76382851600647E-2,4.1402223706245425E-2,0,0,null,null,{"$f":"IF(RAND()<poisson_parameter*model!K66,1,0)","v":0},{"$f":"IF(RAND()<(K55^quadratic_condition*L55-$T$21)*$T$22*(1+pref_attach_on*SUM($X$35:X65)),1,0)","v":0},32,{"$f":"IF(AND(SUM($X$35:X65)=0,X66=1),Y66,\"\")","v":""}]
[5.7485916761479933E-2,10,0.41839209518070541,{"$f":"C72","v":5.7902696900463776E-2},{"$f":"CORREL(I220:R220,endlevel10)","v":0.9067772377931409},{"$f":"CORREL(I220:R220,$E$9:$E$18)","v":0.60755346345762629},44,4.4000000000000004,0.12047032132075586,3.7564109123411127E-2,9.731080208608453E-2,0.10199814227199119,3.4813439846038817E-2,0.38233177481074804,2.9225558042526245E-2,1.9168597459793092E-2,4.76382851600647E-2,4.1402223706245425E-2,0,0,null,null,{"$f":"IF(RAND()<poisson_parameter*model!K67,1,0)","v":0},{"$f":"IF(RAND()<(K56^quadratic_condition*L56-$T$21)*$T$22*(1+pref_attach_on*SUM($X$35:X66)),1,0)","v":0},33,{"$f":"IF(AND(SUM($X$35:X66)=0,X67=1),Y67,\"\")","v":""}]
[5.7902696900463776E-2,1,{"$f":"D9:D18","v":5.0926829432900944E-2},{"$f":"C63","v":0.51498122948542191},{"$f":"CORREL(I240:R240,endlevel10)","v":0.95176629393671308},{"$f":"CORREL(I240:R240,$E$9:$E$18)","v":0.69391787134633098},45,4.5,0.12563979777232492,3.6703865949954999E-2,0.10085151741158647,0.10531218974096,3.4813439846038817E-2,0.3927015990468144,2.9225558042526245E-2,1.9168597459793092E-2,4.76382851600647E-2,4.1402223706245425E-2,0,0,null,null,{"$f":"IF(RAND()<poisson_parameter*model!K68,1,0)","v":0},{"$f":"IF(RAND()<(K57^quadratic_condition*L57-$T$21)*$T$22*(1+pref_attach_on*SUM($X$35:X67)),1,0)","v":0},34,{"$f":"IF(AND(SUM($X$35:X67)=0,X68=1),Y68,\"\")","v":""}]
[7.2097520047037372E-2,2,5.448371638347025E-2,{"$f":"C73","v":7.2097520047037372E-2},{"$f":"CORREL(I260:R260,endlevel10)","v":0.9555928319261231},{"$f":"CORREL(I260:R260,$E$9:$E$18)","v":0.70651060675311561},46,4.5999999999999996,0.1309682584912249,3.5790404434667224E-2,0.10449744633569934,0.10868643172636355,3.4813439846038817E-2,0.40271240813635817,2.9225558042526245E-2,1.9168597459793092E-2,4.76382851600647E-2,4.1402223706245425E-2,0,0,null,null,{"$f":"IF(RAND()<poisson_parameter*model!K69,1,0)","v":0},{"$f":"IF(RAND()<(K58^quadratic_condition*L58-$T$21)*$T$22*(1+pref_attach_on*SUM($X$35:X68)),1,0)","v":0},35,{"$f":"IF(AND(SUM($X$35:X68)=0,X69=1),Y69,\"\")","v":""}]
[5.968569601655975E-2,3,4.2302833654118077E-2,{"$f":"C64","v":8.0103450351544883E-2},{"$f":"CORREL(I280:R280,endlevel10)","v":0.95625560636047946},{"$f":"CORREL(I280:R280,$E$9:$E$18)","v":0.7067944604719133},47,4.7,0.13645469618691572,3.4831381883726462E-2,0.10824978944504643,0.1121189147901638,3.4813439846038817E-2,0.41233650294288032,2.9225558042526245E-2,1.9168597459793092E-2,4.76382851600647E-2,4.1402223706245425E-2,0,0,null,null,{"$f":"IF(RAND()<poisson_parameter*model!K70,1,0)","v":0},{"$f":"IF(RAND()<(K59^quadratic_condition*L59-$T$21)*$T$22*(1+pref_attach_on*SUM($X$35:X69)),1,0)","v":0},36,{"$f":"IF(AND(SUM($X$35:X69)=0,X70=1),Y70,\"\")","v":""}]
[4.3219278747558515E-2,4,5.7485916761479933E-2,{"$f":"C74","v":5.968569601655975E-2},{"$f":"CORREL(I300:R300,endlevel10)","v":0.95650812632010607},{"$f":"CORREL(I300:R300,$E$9:$E$18)","v":0.70551979356920069},48,4.8,0.14209768346161991,3.3834491809427263E-2,0.11210959281372458,0.11560749222764205,3.4813439846038817E-2,0.42155007428941238,3.0396841511773753E-2,1.9168597459793092E-2,4.76382851600647E-2,4.1402223706245425E-2,0,0,null,null,{"$f":"IF(RAND()<poisson_parameter*model!K71,1,0)","v":0},{"$f":"IF(RAND()<(K60^quadratic_condition*L60-$T$21)*$T$22*(1+pref_attach_on*SUM($X$35:X70)),1,0)","v":0},37,{"$f":"IF(AND(SUM($X$35:X70)=0,X71=1),Y71,\"\")","v":""}]
[3.1199421767958115E-2,5,5.7902696900463776E-2,{"$f":"C65","v":1.9168597459793092E-2},{"$f":"CORREL(I320:R320,endlevel10)","v":0.95807733688997965},{"$f":"CORREL(I320:R320,$E$9:$E$18)","v":0.70407356097501284},49,4.9000000000000004,0.14789537344621725,3.280733851247155E-2,0.11607773321305366,0.11914982584225461,3.4813439846038817E-2,0.43033331505500194,3.1595087694237536E-2,1.9168597459793092E-2,4.76382851600647E-2,4.1402223706245425E-2,0,0,null,null,{"$f":"IF(RAND()<poisson_parameter*model!K72,1,0)","v":0},{"$f":"IF(RAND()<(K61^quadratic_condition*L61-$T$21)*$T$22*(1+pref_attach_on*SUM($X$35:X71)),1,0)","v":0},38,{"$f":"IF(AND(SUM($X$35:X71)=0,X72=1),Y72,\"\")","v":""}]
[3.3973945188536657E-2,6,7.2097520047037372E-2,{"$f":"C75","v":4.3219278747558515E-2},{"$f":"CORREL(I340:R340,endlevel10)","v":0.96561633952684967},{"$f":"CORREL(I340:R340,$E$9:$E$18)","v":0.70110523572934058},50,5,0.15384550196740476,3.1757323663308405E-2,0.12015490303754303,0.12274338896546731,3.4813439846038817E-2,0.43867044630284202,3.281925195066121E-2,1.9168597459793092E-2,4.76382851600647E-2,4.1402223706245425E-2,0,0,null,null,{"$f":"IF(RAND()<poisson_parameter*model!K73,1,0)","v":0},{"$f":"IF(RAND()<(K62^quadratic_condition*L62-$T$21)*$T$22*(1+pref_attach_on*SUM($X$35:X72)),1,0)","v":0},39,{"$f":"IF(AND(SUM($X$35:X72)=0,X73=1),Y73,\"\")","v":""}]
[0,7,5.968569601655975E-2,{"$f":"C66","v":4.76382851600647E-2},{"$f":"CORREL(I360:R360,endlevel10)","v":0.97550000208066268},{"$f":"CORREL(I360:R360,$E$9:$E$18)","v":0.69628602982442889},51,5.0999999999999996,0.15994539102214916,3.0691547267663016E-2,0.12434159504750956,0.12638547075432274,3.4813439846038817E-2,0.44654966332193274,3.4068143504013118E-2,1.9168597459793092E-2,4.76382851600647E-2,4.1402223706245425E-2,0,0,null,null,{"$f":"IF(RAND()<poisson_parameter*model!K74,1,0)","v":0},{"$f":"IF(RAND()<(K63^quadratic_condition*L63-$T$21)*$T$22*(1+pref_attach_on*SUM($X$35:X73)),1,0)","v":0},40,{"$f":"IF(AND(SUM($X$35:X73)=0,X74=1),Y74,\"\")","v":""}]
[{"$f":"carcap10","v":0.51629827741315071},8,4.3219278747558515E-2,{"$f":"C76","v":3.1199421767958115E-2},{"$f":"CORREL(I380:R380,endlevel10)","v":0.98566815940830654},{"$f":"CORREL(I380:R380,$E$9:$E$18)","v":0.68876017647573873},52,5.2,0.16619195337267262,2.9616724578828912E-2,0.12863808704264879,0.13007318178643945,3.4813439846038817E-2,0.45396300986622373,3.5340423615558773E-2,1.9168597459793092E-2,4.76382851600647E-2,4.1402223706245425E-2,0,0,null,null,{"$f":"IF(RAND()<poisson_parameter*model!K75,1,0)","v":0},{"$f":"IF(RAND()<(K64^quadratic_condition*L64-$T$21)*$T$22*(1+pref_attach_on*SUM($X$35:X74)),1,0)","v":0},41,{"$f":"IF(AND(SUM($X$35:X74)=0,X75=1),Y75,\"\")","v":""}]
[0.37580069410379247,9,3.1199421767958115E-2,{"$f":"C67","v":0.41839209518070541},{"$f":"CORREL(I400:R400,endlevel10)","v":0.99333951570790813},{"$f":"CORREL(I400:R400,$E$9:$E$18)","v":0.67912215275721133},53,5.3,0.17258169812148699,2.8539119717067782E-2,0.13304442659473981,0.13380346095803847,3.4813439846038817E-2,0.4609061906441258,3.6634604817320948E-2,1.9168597459793092E-2,4.76382851600647E-2,4.1402223706245425E-2,0,0,null,null,{"$f":"IF(RAND()<poisson_parameter*model!K76,1,0)","v":0},{"$f":"IF(RAND()<(K65^quadratic_condition*L65-$T$21)*$T$22*(1+pref_attach_on*SUM($X$35:X75)),1,0)","v":0},42,{"$f":"IF(AND(SUM($X$35:X75)=0,X76=1),Y76,\"\")","v":""}]
[0.42668626580363617,10,3.3973945188536657E-2,{"$f":"C77","v":3.3973945188536657E-2},{"$f":"CORREL(I420:R420,endlevel10)","v":0.99751769806043011},{"$f":"CORREL(I420:R420,$E$9:$E$18)","v":0.66959800125925328},54,5.4,0.17911073717718826,2.746449602039485E-2,0.13756041598128221,0.13757308367563564,3.4813439846038817E-2,0.46737833322092392,3.7949051283259073E-2,1.9168597459793092E-2,4.76382851600647E-2,4.1402223706245425E-2,0,0,null,null,{"$f":"IF(RAND()<poisson_parameter*model!K77,1,0)","v":0},{"$f":"IF(RAND()<(K66^quadratic_condition*L66-$T$21)*$T$22*(1+pref_attach_on*SUM($X$35:X76)),1,0)","v":0},43,{"$f":"IF(AND(SUM($X$35:X76)=0,X77=1),Y77,\"\")","v":""}]
[0.8665152779637304,null,null,null,{"$f":"CORREL(I440:R440,endlevel10)","v":0.99923180074424023},{"$f":"CORREL(I440:R440,$E$9:$E$18)","v":0.66215959555533721},55,5.5,0.18577479257377294,2.6398082515376911E-2,0.1421855974749065,0.14137867131646217,3.4813439846038817E-2,0.47338171096954768,3.9281980412647563E-2,1.9168597459793092E-2,4.76382851600647E-2,4.1402223706245425E-2,0,0,null,null,{"$f":"IF(RAND()<poisson_parameter*model!K78,1,0)","v":0},{"$f":"IF(RAND()<(K67^quadratic_condition*L67-$T$21)*$T$22*(1+pref_attach_on*SUM($X$35:X77)),1,0)","v":0},44,{"$f":"IF(AND(SUM($X$35:X77)=0,X78=1),Y78,\"\")","v":""}]
[0.55397861941280924,null,"max",{"$f":"B24","v":0.57403561220757604},{"$f":"CORREL(I460:R460,endlevel10)","v":0.99979868950133521},{"$f":"CORREL(I460:R460,$E$9:$E$18)","v":0.65725671966195787},56,5.6,0.19256920465544994,2.5344555383008567E-2,0.1469192391555274,0.14521670191673983,3.4813439846038817E-2,0.47892143860355108,4.0631465688200454E-2,1.9168597459793092E-2,4.76382851600647E-2,4.1402223706245425E-2,0,0,null,null,{"$f":"IF(RAND()<poisson_parameter*model!K79,1,0)","v":0},{"$f":"IF(RAND()<(K68^quadratic_condition*L68-$T$21)*$T$22*(1+pref_attach_on*SUM($X$35:X78)),1,0)","v":0},45,{"$f":"IF(AND(SUM($X$35:X78)=0,X79=1),Y79,\"\")","v":""}]
[0.60201085283285871,null,"totsup",{"$f":"Z33","v":1.8443521375614908E-2},{"$f":"CORREL(I480:R480,endlevel10)","v":0.99995737192387624},{"$f":"CORREL(I480:R480,$E$9:$E$18)","v":0.65434134781802122},57,5.7,0.19948894118219226,2.4308032912766016E-2,0.15176032142304885,0.1490835220309259,3.4813439846038817E-2,0.48400515124049226,4.1995440858484195E-2,1.9168597459793092E-2,4.76382851600647E-2,4.1402223706245425E-2,0,0,null,null,{"$f":"IF(RAND()<poisson_parameter*model!K80,1,0)","v":0},{"$f":"IF(RAND()<(K69^quadratic_condition*L69-$T$21)*$T$22*(1+pref_attach_on*SUM($X$35:X79)),1,0)","v":0},46,{"$f":"IF(AND(SUM($X$35:X79)=0,X80=1),Y80,\"\")","v":""}]
[0.42460945154375374,null,"sup",{"$f":"K20","v":5.2297797540001502E-2},null,null,58,5.8,0.20652860744623774,2.3292082186396338E-2,0.1567075243975912,0.1529753596892576,3.4813439846038817E-2,0.48864267698103209,4.3371705479151014E-2,1.9168597459793092E-2,4.76382851600647E-2,4.1402223706245425E-2,0,0,null,null,{"$f":"IF(RAND()<poisson_parameter*model!K81,1,0)","v":0},{"$f":"IF(RAND()<(K70^quadratic_condition*L70-$T$21)*$T$22*(1+pref_attach_on*SUM($X$35:X80)),1,0)","v":0},47,{"$f":"IF(AND(SUM($X$35:X80)=0,X81=1),Y81,\"\")","v":""}]
[0.39655407899943468,null,"carcap",{"$f":"E11","v":0.37580069410379247},null,null,59,5.9,0.21368245751482398,2.2299735602230211E-2,0.16175921640129068,0.15688833836567767,3.4813439846038817E-2,0.49284571176107067,4.4757931830650646E-2,1.9168597459793092E-2,4.76382851600647E-2,4.1402223706245425E-2,0,0,null,null,{"$f":"IF(RAND()<poisson_parameter*model!K82,1,0)","v":0},{"$f":"IF(RAND()<(K71^quadratic_condition*L71-$T$21)*$T$22*(1+pref_attach_on*SUM($X$35:X81)),1,0)","v":0},48,{"$f":"IF(AND(SUM($X$35:X81)=0,X82=1),Y82,\"\")","v":""}]
[0.42268040184925465,null,"rate",{"$f":"D11","v":4.2302833654118077E-2},null,null,60,6,0.22094440672882415,2.1333515325171224E-2,0.16691344372031569,0.1608184918538228,3.4813439846038817E-2,0.49662750384909138,4.6151673211547728E-2,1.9168597459793092E-2,4.76382851600647E-2,4.1402223706245425E-2,0,0,null,null,{"$f":"IF(RAND()<poisson_parameter*model!K83,1,0)","v":0},{"$f":"IF(RAND()<(K72^quadratic_condition*L72-$T$21)*$T$22*(1+pref_attach_on*SUM($X$35:X82)),1,0)","v":0},49,{"$f":"IF(AND(SUM($X$35:X82)=0,X83=1),Y83,\"\")","v":""}]
[0,null,null,{"$f":"B25","v":0.42668626192131703},null,null,61,6.1,0.228308045590531,2.0395463807877445E-2,0.17216792184746202,0.16476177993551203,3.4813439846038817E-2,0.50000255391541426,4.7550373586668158E-2,1.9168597459793092E-2,4.76382851600647E-2,4.1402223706245425E-2,0,0,null,null,{"$f":"IF(RAND()<poisson_parameter*model!K84,1,0)","v":0},{"$f":"IF(RAND()<(K73^quadratic_condition*L73-$T$21)*$T$22*(1+pref_attach_on*SUM($X$35:X83)),1,0)","v":0},50,{"$f":"IF(AND(SUM($X$35:X83)=0,X84=1),Y84,\"\")","v":""}]
[{"$f":"TRANSPOSE(connectionsum)","v":7.5690672314295715E-2},null,null,{"$f":"AA33","v":-3.6159758481503742E-3},null,null,62,6.2,0.2357666551671089,1.9487178654579478E-2,0.17752002840416167,0.16871410471436921,3.4813439846038817E-2,0.50298633517543001,4.895137854837095E-2,1.9168597459793092E-2,4.76382851600647E-2,4.1402223706245425E-2,0,0,null,null,{"$f":"IF(RAND()<poisson_parameter*model!K85,1,0)","v":0},{"$f":"IF(RAND()<(K74^quadratic_condition*L74-$T$21)*$T$22*(1+pref_attach_on*SUM($X$35:X84)),1,0)","v":0},51,{"$f":"IF(AND(SUM($X$35:X84)=0,X85=1),Y85,\"\")","v":""}]
[-0.12494847374377331,null,null,{"$f":"L20","v":-0.34369773378741764},null,null,63,6.3,0.24331322412016232,1.8609850270537479E-2,0.1829667979356438,0.17267132747711839,3.4813439846038817E-2,0.50559503676833994,5.035194752770554E-2,1.9168597459793092E-2,4.76382851600647E-2,4.1402223706245425E-2,0,0,null,null,{"$f":"IF(RAND()<poisson_parameter*model!K86,1,0)","v":0},{"$f":"IF(RAND()<(K75^quadratic_condition*L75-$T$21)*$T$22*(1+pref_attach_on*SUM($X$35:X85)),1,0)","v":0},52,{"$f":"IF(AND(SUM($X$35:X85)=0,X86=1),Y86,\"\")","v":""}]
[5.2297797540001502E-2,null,null,{"$f":"E12","v":0.42668626580363617},null,null,64,6.4,0.25094046744776055,1.7764300939185306E-2,0.18850491876404959,0.17662928593693242,3.4813439846038817E-2,0.50784533232157669,5.1749267170534893E-2,1.9168597459793092E-2,4.76382851600647E-2,4.1402223706245425E-2,0,0,null,null,{"$f":"IF(RAND()<poisson_parameter*model!K87,1,0)","v":0},{"$f":"IF(RAND()<(K76^quadratic_condition*L76-$T$21)*$T$22*(1+pref_attach_on*SUM($X$35:X86)),1,0)","v":0},53,{"$f":"IF(AND(SUM($X$35:X86)=0,X87=1),Y87,\"\")","v":""}]
[-0.34369773378741764,null,null,{"$f":"D12","v":5.7485916761479933E-2},null,null,65,6.5,0.25864084699464202,1.6951024180015001E-2,0.1941307320713298,0.18058381170718465,3.4813439846038817E-2,0.50975417459709305,5.3140465772387707E-2,1.9168597459793092E-2,4.76382851600647E-2,4.1402223706245425E-2,0,0,null,null,{"$f":"IF(RAND()<poisson_parameter*model!K88,1,0)","v":0},{"$f":"IF(RAND()<(K77^quadratic_condition*L77-$T$21)*$T$22*(1+pref_attach_on*SUM($X$35:X87)),1,0)","v":0},54,{"$f":"IF(AND(SUM($X$35:X87)=0,X88=1),Y88,\"\")","v":""}]
[7.3920297074155983E-2,null,null,{"$f":"B26","v":1.2061861440719202},null,null,66,6.6,0.26640659375083547,1.6170223450700506E-2,0.19984023336663242,0.18453074785019416,3.4813439846038817E-2,0.5113386162325646,5.4522628645380697E-2,1.9168597459793092E-2,4.76382851600647E-2,4.1402223706245425E-2,0,0,null,null,{"$f":"IF(RAND()<poisson_parameter*model!K89,1,0)","v":0},{"$f":"IF(RAND()<(K78^quadratic_condition*L78-$T$21)*$T$22*(1+pref_attach_on*SUM($X$35:X88)),1,0)","v":0},55,{"$f":"IF(AND(SUM($X$35:X88)=0,X89=1),Y89,\"\")","v":""}]
[0.19452678227709452,null,null,{"$f":"AB33","v":2.2398127089133552E-2},null,null,67,6.7,0.27422973192024808,1.5421849457391886E-2,0.20562907647161116,0.18846596634415849,3.4813439846038817E-2,0.51261565587974101,5.5892814271562473E-2,1.9168597459793092E-2,4.76382851600647E-2,4.1402223706245425E-2,0,{"$f":"S90-S89","v":0},null,null,{"$f":"IF(RAND()<poisson_parameter*model!K90,1,0)","v":0},{"$f":"IF(RAND()<(K79^quadratic_condition*L79-$T$21)*$T$22*(1+pref_attach_on*SUM($X$35:X89)),1,0)","v":0},56,{"$f":"IF(AND(SUM($X$35:X89)=0,X90=1),Y90,\"\")","v":""}]
[-0.16943071043215216,null,null,{"$f":"M20","v":7.3920297074155983E-2},null,null,68,6.8,0.28210210470049107,1.4705635520947672E-2,0.21149258013175354,0.1923853853124724,3.4813439846038817E-2,0.51360210849611576,5.7248071080002648E-2,1.9168597459793092E-2,4.76382851600647E-2,4.1402223706245425E-2,0,0,null,null,{"$f":"IF(RAND()<poisson_parameter*model!K91,1,0)","v":0},{"$f":"IF(RAND()<(K80^quadratic_condition*L80-$T$21)*$T$22*(1+pref_attach_on*SUM($X$35:X90)),1,0)","v":0},57,{"$f":"IF(AND(SUM($X$35:X90)=0,X91=1),Y91,\"\")","v":""}]
[-0.19933139947088582,null,null,{"$f":"E13","v":0.8665152779637304},null,null,69,6.9,0.29001540167485951,1.4021130610052517E-2,0.21742573733266651,0.19628498586301704,3.4813439846038817E-2,0.51431449815083363,5.8585454670380691E-2,1.9168597459793092E-2,4.76382851600647E-2,4.1402223706245425E-2,0,0,null,null,{"$f":"IF(RAND()<poisson_parameter*model!K92,1,0)","v":0},{"$f":"IF(RAND()<(K81^quadratic_condition*L81-$T$21)*$T$22*(1+pref_attach_on*SUM($X$35:X91)),1,0)","v":0},58,{"$f":"IF(AND(SUM($X$35:X91)=0,X92=1),Y92,\"\")","v":""}]
[-0.41452694930139755,null,null,{"$f":"D13","v":5.7902696900463776E-2},null,null,70,7,0.29796118767832613,1.3367729792717897E-2,0.22342322736761602,0.20016082839069727,3.4813439846038817E-2,0.51476897144348222,5.9902045294167344E-2,1.9168597459793092E-2,4.76382851600647E-2,4.1402223706245425E-2,0,0,null,null,{"$f":"IF(RAND()<poisson_parameter*model!K93,1,0)","v":0},{"$f":"IF(RAND()<(K82^quadratic_condition*L82-$T$21)*$T$22*(1+pref_attach_on*SUM($X$35:X92)),1,0)","v":0},59,{"$f":"IF(AND(SUM($X$35:X92)=0,X93=1),Y93,\"\")","v":""}]
[0.10386600954354416,null,null,{"$f":"B27","v":0.51498122948542191},null,null,71,7.1,0.30593093296285667,1.2744701975248456E-2,0.22947943066696999,0.20400906820437906,3.4813439846038817E-2,0.51498122948542191,6.119496539611833E-2,1.9168597459793092E-2,4.76382851600647E-2,4.1402223706245425E-2,0,0,null,null,{"$f":"IF(RAND()<poisson_parameter*model!K94,1,0)","v":0},{"$f":"IF(RAND()<(K83^quadratic_condition*L83-$T$21)*$T$22*(1+pref_attach_on*SUM($X$35:X93)),1,0)","v":0},60,{"$f":"IF(AND(SUM($X$35:X93)=0,X94=1),Y94,\"\")","v":""}]
[null,null,null,{"$f":"AC33","v":-2.5492340759833202E-2},null,null,72,7.2,0.31391604445433663,1.2151214893241278E-2,0.23558844636213971,0.20782597034925601,3.4813439846038817E-2,0.51496647633756731,6.2461397014013889E-2,1.9168597459793092E-2,4.76382851600647E-2,4.1402223706245425E-2,0,0,null,null,{"$f":"IF(RAND()<poisson_parameter*model!K95,1,0)","v":0},{"$f":"IF(RAND()<(K84^quadratic_condition*L84-$T$21)*$T$22*(1+pref_attach_on*SUM($X$35:X94)),1,0)","v":0},61,{"$f":"IF(AND(SUM($X$35:X94)=0,X95=1),Y95,\"\")","v":""}]
[null,null,null,{"$f":"N20","v":0.19452678227709452},null,null,73,7.3,0.32190789786476293,1.1586357394253427E-2,0.24174411251685862,0.21160792350733434,3.4813439846038817E-2,0.51473938181687984,6.3698598833580963E-2,1.9168597459793092E-2,4.76382851600647E-2,4.1402223706245425E-2,0,0,null,null,{"$f":"IF(RAND()<poisson_parameter*model!K96,1,0)","v":0},{"$f":"IF(RAND()<(K85^quadratic_condition*L85-$T$21)*$T$22*(1+pref_attach_on*SUM($X$35:X95)),1,0)","v":0},62,{"$f":"IF(AND(SUM($X$35:X95)=0,X96=1),Y96,\"\")","v":""}]
[null,null,null,{"$f":"E14","v":0.55397861941280924},null,null,74,7.4,0.32989787039974827,1.1049159108602503E-2,0.24794002891798564,0.21535145287191343,3.4813439846038817E-2,0.51431405665869978,6.4903922698424155E-2,1.9168597459793092E-2,4.76382851600647E-2,4.1402223706245425E-2,0,0,null,null,{"$f":"IF(RAND()<poisson_parameter*model!K97,1,0)","v":0},{"$f":"IF(RAND()<(K86^quadratic_condition*L86-$T$21)*$T$22*(1+pref_attach_on*SUM($X$35:X96)),1,0)","v":0},63,{"$f":"IF(AND(SUM($X$35:X96)=0,X97=1),Y97,\"\")","v":""}]
[null,null,null,{"$f":"D14","v":7.2097520047037372E-2},null,null,75,7.5,0.33787737378329064,1.0538607645771825E-2,0.25416958227735359,0.21905323190636689,3.4813439846038817E-2,0.51370403813791443,6.6074829381553124E-2,1.9168597459793092E-2,4.76382851600647E-2,4.1402223706245425E-2,0,0,null,null,{"$f":"IF(RAND()<poisson_parameter*model!K98,1,0)","v":0},{"$f":"IF(RAND()<(K87^quadratic_condition*L87-$T$21)*$T$22*(1+pref_attach_on*SUM($X$35:X97)),1,0)","v":0},64,{"$f":"IF(AND(SUM($X$35:X97)=0,X98=1),Y98,\"\")","v":""}]
[null,"early_levels",null,null,null,null,76,7.6,0.3458378873094648,1.0053663481536223E-2,0.26042597365643194,0.22271009291289348,3.4813439846038817E-2,0.51292228439557352,6.7208903435601847E-2,1.9168597459793092E-2,4.76382851600647E-2,4.1402223706245425E-2,0,0,null,null,{"$f":"IF(RAND()<poisson_parameter*model!K99,1,0)","v":0},{"$f":"IF(RAND()<(K88^quadratic_condition*L88-$T$21)*$T$22*(1+pref_attach_on*SUM($X$35:X98)),1,0)","v":0},65,{"$f":"IF(AND(SUM($X$35:X98)=0,X99=1),Y99,\"\")","v":""}]
[null,{"$f":"TRANSPOSE(early_levels)","v":0.15384550196740476},{"$f":"TRANSPOSE(maxlevel10)","v":0.73941827914751057},null,{"$f":"B100","v":0.15384550196740476},null,77,7.7,0.35377099062432182,9.5932727175730165E-3,0.26670224788769487,0.2263190363528903,3.4813439846038817E-2,0.5119811758779077,6.8303866952854161E-2,1.9168597459793092E-2,4.76382851600647E-2,4.1402223706245425E-2,0,0,null,null,{"$f":"IF(RAND()<poisson_parameter*model!K100,1,0)","v":0},{"$f":"IF(RAND()<(K89^quadratic_condition*L89-$T$21)*$T$22*(1+pref_attach_on*SUM($X$35:X99)),1,0)","v":0},66,{"$f":"IF(AND(SUM($X$35:X99)=0,X100=1),Y100,\"\")","v":""}]
[null,3.1757323663308405E-2,4.1848833243570818E-2,null,{"$f":"C100","v":0.73941827914751057},null,78,7.8,0.36166839594080552,9.156377903159171E-3,0.27299132473152649,0.22987723887688502,3.4813439846038817E-2,0.5108925224629185,6.9357592083385128E-2,1.9168597459793092E-2,4.76382851600647E-2,4.1402223706245425E-2,0,0,null,null,{"$f":"IF(RAND()<poisson_parameter*model!K101,1,0)","v":0},{"$f":"IF(RAND()<(K90^quadratic_condition*L90-$T$21)*$T$22*(1+pref_attach_on*SUM($X$35:X100)),1,0)","v":0},67,{"$f":"IF(AND(SUM($X$35:X100)=0,X101=1),Y101,\"\")","v":""}]
[null,0.12015490303754303,0.57403561220757604,null,{"$f":"B101","v":3.1757323663308405E-2},null,79,7.9,0.36952197939472708,8.7419271095280551E-3,0.27928603147616426,0.23338206003823736,3.4813439846038817E-2,0.50966757501886728,7.0368112179573561E-2,1.9168597459793092E-2,4.76382851600647E-2,4.1402223706245425E-2,0,0,null,null,{"$f":"IF(RAND()<poisson_parameter*model!K102,1,0)","v":0},{"$f":"IF(RAND()<(K91^quadratic_condition*L91-$T$21)*$T$22*(1+pref_attach_on*SUM($X$35:X101)),1,0)","v":0},68,{"$f":"IF(AND(SUM($X$35:X101)=0,X102=1),Y102,\"\")","v":""}]
[null,0.12274338896546731,0.42668626192131703,null,{"$f":"C101","v":4.1848833243570818E-2},null,80,8,0.37732381126047398,8.3488814432577559E-3,0.28557913666141183,0.23683104768078594,3.4813439846038817E-2,0.50831704030387503,7.1333631457439706E-2,1.9168597459793092E-2,4.76382851600647E-2,4.1402223706245425E-2,0,0,null,null,{"$f":"IF(RAND()<poisson_parameter*model!K103,1,0)","v":0},{"$f":"IF(RAND()<(K92^quadratic_condition*L92-$T$21)*$T$22*(1+pref_attach_on*SUM($X$35:X102)),1,0)","v":0},69,{"$f":"IF(AND(SUM($X$35:X102)=0,X103=1),Y103,\"\")","v":""}]
[null,3.4813439846038817E-2,1.2061861440719202,null,{"$f":"B102","v":0.12015490303754303},null,81,8.1,0.38506618476073601,7.9762211771172743E-3,0.29186338458537897,0.24022194200599947,3.4813439846038817E-2,0.50685109827268671,7.2252533089157855E-2,1.9168597459793092E-2,4.76382851600647E-2,4.1402223706245425E-2,0,0,null,null,{"$f":"IF(RAND()<poisson_parameter*model!K104,1,0)","v":0},{"$f":"IF(RAND()<(K93^quadratic_condition*L93-$T$21)*$T$22*(1+pref_attach_on*SUM($X$35:X103)),1,0)","v":0},70,{"$f":"IF(AND(SUM($X$35:X103)=0,X104=1),Y104,\"\")","v":""}]
[null,0.43867044630284202,0.51498122948542191,null,{"$f":"C102","v":0.57403561220757604},null,82,8.1999999999999993,0.39274164322458865,7.622950666288558E-3,0.29813153023792793,0.24355267833974464,3.4813439846038817E-2,0.50527942100288592,7.3123385666096039E-2,1.9168597459793092E-2,4.76382851600647E-2,4.1402223706245425E-2,0,0,null,null,{"$f":"IF(RAND()<poisson_parameter*model!K105,1,0)","v":0},{"$f":"IF(RAND()<(K94^quadratic_condition*L94-$T$21)*$T$22*(1+pref_attach_on*SUM($X$35:X104)),1,0)","v":0},71,{"$f":"IF(AND(SUM($X$35:X104)=0,X105=1),Y105,\"\")","v":""}]
[null,3.281925195066121E-2,8.0103450351544883E-2,null,{"$f":"B103","v":0.12274338896546731},null,83,8.3000000000000007,0.40034300537217904,7.2881022057657511E-3,0.30437637429526926,0.24682138863229194,3.4813439846038817E-2,0.50361119258686982,7.3944947997237206E-2,1.9168597459793092E-2,4.76382851600647E-2,4.1402223706245425E-2,0,0,null,null,{"$f":"IF(RAND()<poisson_parameter*model!K106,1,0)","v":0},{"$f":"IF(RAND()<(K95^quadratic_condition*L95-$T$21)*$T$22*(1+pref_attach_on*SUM($X$35:X105)),1,0)","v":0},72,{"$f":"IF(AND(SUM($X$35:X105)=0,X106=1),Y106,\"\")","v":""}]
[null,1.9168597459793092E-2,1.9168597459793092E-2,null,{"$f":"C103","v":0.42668626192131703},null,84,8.4,0.40786338853134846,6.970738971761023E-3,0.31059079780753196,0.25002640173746687,3.4813439846038817E-2,0.50185512945687671,7.4716172233235859E-2,1.9168597459793092E-2,4.76382851600647E-2,4.1402223706245425E-2,0,0,null,null,{"$f":"IF(RAND()<poisson_parameter*model!K107,1,0)","v":0},{"$f":"IF(RAND()<(K96^quadratic_condition*L96-$T$21)*$T$22*(1+pref_attach_on*SUM($X$35:X106)),1,0)","v":0},73,{"$f":"IF(AND(SUM($X$35:X106)=0,X107=1),Y107,\"\")","v":""}]
[null,4.76382851600647E-2,4.76382851600647E-2,null,null,null,85,8.5,0.41529622962110097,6.669957176698044E-3,0.31676779621522505,0.25316624252777753,3.4813439846038817E-2,0.50001950071805379,7.5436205331085068E-2,1.9168597459793092E-2,4.76382851600647E-2,4.1402223706245425E-2,0,0,null,null,{"$f":"IF(RAND()<poisson_parameter*model!K108,1,0)","v":0},{"$f":"IF(RAND()<(K97^quadratic_condition*L97-$T$21)*$T$22*(1+pref_attach_on*SUM($X$35:X107)),1,0)","v":0},74,{"$f":"IF(AND(SUM($X$35:X107)=0,X108=1),Y108,\"\")","v":""}]
[null,4.1402223706245425E-2,0.41839209518070541,null,null,null,86,8.6,0.42263530376817021,6.3848875542818692E-3,0.32290051234121359,0.25623962991180904,3.4813439846038817E-2,0.49811214815915172,7.6104388897875463E-2,1.9168597459793092E-2,4.76382851600647E-2,4.1402223706245425E-2,0,0,null,null,{"$f":"IF(RAND()<poisson_parameter*model!K109,1,0)","v":0},{"$f":"IF(RAND()<(K98^quadratic_condition*L98-$T$21)*$T$22*(1+pref_attach_on*SUM($X$35:X108)),1,0)","v":0},75,{"$f":"IF(AND(SUM($X$35:X108)=0,X109=1),Y109,\"\")","v":""}]
[null,null,null,null,null,null,87,8.6999999999999993,0.42987474045532587,6.1146962785088377E-3,0.32898226802187441,0.25924547382810881,3.4813439846038817E-2,0.49614050569243862,7.672025747394387E-2,1.9168597459793092E-2,4.76382851600647E-2,4.1402223706245425E-2,0,0,null,null,{"$f":"IF(RAND()<poisson_parameter*model!K110,1,0)","v":0},{"$f":"IF(RAND()<(K99^quadratic_condition*L99-$T$21)*$T$22*(1+pref_attach_on*SUM($X$35:X109)),1,0)","v":0},76,{"$f":"IF(AND(SUM($X$35:X109)=0,X110=1),Y110,\"\")","v":""}]
[null,{"$f":"CORREL(B100:B109,C100:C109)","v":0.23587134137789231},null,null,null,null,88,8.8000000000000007,0.43700903713280465,5.8585854085351002E-3,0.33500659406402594,0.26218287129616641,3.4813439846038817E-2,0.49411161804456655,7.7283535335428297E-2,1.9168597459793092E-2,4.76382851600647E-2,4.1402223706245425E-2,0,0,null,null,{"$f":"IF(RAND()<poisson_parameter*model!K111,1,0)","v":0},{"$f":"IF(RAND()<(K100^quadratic_condition*L100-$T$21)*$T$22*(1+pref_attach_on*SUM($X$35:X110)),1,0)","v":0},77,{"$f":"IF(AND(SUM($X$35:X110)=0,X111=1),Y111,\"\")","v":""}]
[null,null,null,null,null,null,89,8.9,0.44403307025667826,5.6157929401928477E-3,0.34096725824242935,0.26505110160993051,3.4813439846038817E-2,0.49203215857925431,7.7794131913540704E-2,1.9168597459793092E-2,4.76382851600647E-2,4.1402223706245425E-2,0,0,null,null,{"$f":"IF(RAND()<poisson_parameter*model!K112,1,0)","v":0},{"$f":"IF(RAND()<(K101^quadratic_condition*L101-$T$21)*$T$22*(1+pref_attach_on*SUM($X$35:X111)),1,0)","v":0},78,{"$f":"IF(AND(SUM($X$35:X111)=0,X112=1),Y112,\"\")","v":""}]
[null,null,null,null,null,null,90,9,0.45094210374947752,5.3855925347039641E-3,0.3468582910854035,0.26784962076263752,3.4813439846038817E-2,0.48990844618171936,7.8252135942496054E-2,1.9168597459793092E-2,4.76382851600647E-2,4.1402223706245425E-2,0,0,null,null,{"$f":"IF(RAND()<poisson_parameter*model!K113,1,0)","v":0},{"$f":"IF(RAND()<(K102^quadratic_condition*L102-$T$21)*$T$22*(1+pref_attach_on*SUM($X$35:X112)),1,0)","v":0},79,{"$f":"IF(AND(SUM($X$35:X112)=0,X113=1),Y113,\"\")","v":""}]
[null,null,null,null,null,null,91,9.1,0.45773179490842142,5.1672929858206417E-3,0.35267400923252962,0.27057805519362405,3.4813439846038817E-2,0.48774646117477055,7.8657808459840495E-2,1.9168597459793092E-2,4.76382851600647E-2,4.1402223706245425E-2,0,0,null,null,{"$f":"IF(RAND()<poisson_parameter*model!K114,1,0)","v":0},{"$f":"IF(RAND()<(K103^quadratic_condition*L103-$T$21)*$T$22*(1+pref_attach_on*SUM($X$35:X113)),1,0)","v":0},80,{"$f":"IF(AND(SUM($X$35:X113)=0,X114=1),Y114,\"\")","v":""}]
[null,null,null,null,null,null,92,9.1999999999999993,0.46439819781468028,4.9602374782165854E-3,0.35840903618763076,0.27323619494834472,3.4813439846038817E-2,0.48555186026834629,7.9011574791830644E-2,1.9168597459793092E-2,4.76382851600647E-2,4.1402223706245425E-2,0,0,null,null,{"$f":"IF(RAND()<poisson_parameter*model!K115,1,0)","v":0},{"$f":"IF(RAND()<(K104^quadratic_condition*L104-$T$21)*$T$22*(1+pref_attach_on*SUM($X$35:X114)),1,0)","v":0},81,{"$f":"IF(AND(SUM($X$35:X114)=0,X115=1),Y115,\"\")","v":""}]
[null,null,null,null,null,null,93,9.3000000000000007,0.47093776432282924,4.7638026824317276E-3,0.36405832033123103,0.27582398634212929,3.4813439846038817E-2,0.48332999056900211,7.9314015662540358E-2,1.9168597459793092E-2,4.76382851600647E-2,4.1402223706245425E-2,0,0,null,null,{"$f":"IF(RAND()<poisson_parameter*model!K116,1,0)","v":0},{"$f":"IF(RAND()<(K105^quadratic_condition*L105-$T$21)*$T$22*(1+pref_attach_on*SUM($X$35:X115)),1,0)","v":0},82,{"$f":"IF(AND(SUM($X$35:X115)=0,X116=1),Y116,\"\")","v":""}]
[null,null,null,null,null,null,94,9.4,0.47734734273270807,4.5773977249924727E-3,0.36961715009856017,0.27834152421640779,3.4813439846038817E-2,0.48108590269433721,7.9565857568593981E-2,1.9168597459793092E-2,4.76382851600647E-2,4.1402223706245425E-2,0,0,null,null,{"$f":"IF(RAND()<poisson_parameter*model!K117,1,0)","v":0},{"$f":"IF(RAND()<(K106^quadratic_condition*L106-$T$21)*$T$22*(1+pref_attach_on*SUM($X$35:X116)),1,0)","v":0},83,{"$f":"IF(AND(SUM($X$35:X116)=0,X117=1),Y117,\"\")","v":""}]
[null,null,null,null,null,null,95,9.5,0.48362417426606114,4.4004630664325325E-3,0.37508116627092258,0.2807890438733458,3.4813439846038817E-2,0.47882436305046849,7.9767962561993311E-2,1.9168597459793092E-2,4.7592597445923639E-2,4.1402223706245425E-2,0,0,null,null,{"$f":"IF(RAND()<poisson_parameter*model!K118,1,0)","v":0},{"$f":"IF(RAND()<(K107^quadratic_condition*L107-$T$21)*$T$22*(1+pref_attach_on*SUM($X$35:X117)),1,0)","v":0},84,{"$f":"IF(AND(SUM($X$35:X117)=0,X118=1),Y118,\"\")","v":""}]
[null,null,null,null,null,null,96,9.6,0.48976859983453241,4.2324532433798455E-3,0.380446371369001,0.28316886722340995,3.4813439846038817E-2,0.47654657910413795,7.9921595606904566E-2,1.9168597459793092E-2,4.7538248641196122E-2,4.1402223706245425E-2,0,0,null,null,{"$f":"IF(RAND()<poisson_parameter*model!K119,1,0)","v":0},{"$f":"IF(RAND()<(K108^quadratic_condition*L108-$T$21)*$T$22*(1+pref_attach_on*SUM($X$35:X118)),1,0)","v":0},85,{"$f":"IF(AND(SUM($X$35:X118)=0,X119=1),Y119,\"\")","v":""}]
[null,null,null,null,null,null,97,9.6999999999999993,0.49577915729034877,4.0728697065685925E-3,0.38570917382950037,0.28548183399615484,3.4813439846038817E-2,0.47425640693302273,8.0027888952971082E-2,1.9168597459793092E-2,4.7475637599917062E-2,4.1402223706245425E-2,0,0,null,null,{"$f":"IF(RAND()<poisson_parameter*model!K120,1,0)","v":0},{"$f":"IF(RAND()<(K109^quadratic_condition*L109-$T$21)*$T$22*(1+pref_attach_on*SUM($X$35:X119)),1,0)","v":0},86,{"$f":"IF(AND(SUM($X$35:X119)=0,X120=1),Y120,\"\")","v":""},null,10,20,30,50,12.5,22.5,32.5,23.5,33.5,14.5,24.5,34.5,54.5]
[null,null,null,null,null,null,98,9.8000000000000007,0.50165472921995691,3.9212418515296608E-3,0.39086636128791491,0.28772887532189184,3.4813439846038817E-2,0.47195750932950759,8.0088070034845887E-2,1.9168597459793092E-2,4.7405163176975657E-2,4.1402223706245425E-2,0,0,null,null,{"$f":"IF(RAND()<poisson_parameter*model!K121,1,0)","v":0},{"$f":"IF(RAND()<(K110^quadratic_condition*L110-$T$21)*$T$22*(1+pref_attach_on*SUM($X$35:X120)),1,0)","v":0},87,{"$f":"IF(AND(SUM($X$35:X120)=0,X121=1),Y121,\"\")","v":""},10,125,2,"","",1,"","","","",1,"","","",129]
[null,null,null,null,null,null,99,9.9,0.50739452944786123,3.7771256436943579E-3,0.39591510103788485,0.28991100425472577,3.4813439846038817E-2,0.4696533603514933,8.0103450351544883E-2,1.9168597459793092E-2,4.7327222721061206E-2,4.1402223706245425E-2,0,0,null,null,{"$f":"IF(RAND()<poisson_parameter*model!K122,1,0)","v":0},{"$f":"IF(RAND()<(K111^quadratic_condition*L111-$T$21)*$T$22*(1+pref_attach_on*SUM($X$35:X121)),1,0)","v":0},88,{"$f":"IF(AND(SUM($X$35:X121)=0,X122=1),Y122,\"\")","v":""},20,"",116,2,"","",1,"","","","",1,"","",120]
[null,null,null,null,null,null,100,10,0.51299808857517581,3.640102275097072E-3,0.40085293782857073,0.29202930661053544,3.4813439846038817E-2,0.4673472496571548,8.0075414497209965E-2,1.9168597459793092E-2,4.7242210679464262E-2,4.1402223706245425E-2,0,0,null,null,{"$f":"IF(RAND()<poisson_parameter*model!K123,1,0)","v":0},{"$f":"IF(RAND()<(K112^quadratic_condition*L112-$T$21)*$T$22*(1+pref_attach_on*SUM($X$35:X122)),1,0)","v":0},89,{"$f":"IF(AND(SUM($X$35:X122)=0,X123=1),Y123,\"\")","v":""},30,1,2,88,"","","","","","","","",3,"",94]
[null,null,null,null,null,null,101,10.1,0.51846523872871852,3.5097768585733336E-3,0.40567778916667213,0.2940849321592619,3.4813439846038817E-2,0.46504228669401426,8.0005409435541602E-2,1.9168597459793092E-2,4.7150517316849251E-2,4.1402223706245425E-2,0,0,null,null,{"$f":"IF(RAND()<poisson_parameter*model!K124,1,0)","v":0},{"$f":"IF(RAND()<(K113^quadratic_condition*L113-$T$21)*$T$22*(1+pref_attach_on*SUM($X$35:X123)),1,0)","v":0},90,{"$f":"IF(AND(SUM($X$35:X123)=0,X124=1),Y124,\"\")","v":""},50,"","","",22,"","","","","","","","",1,23]
[null,null,null,null,null,null,102,10.199999999999999,0.52379609769015367,3.3857771638909602E-3,0.4103879383113489,0.29607908620326928,3.4813439846038817E-2,0.46274140480373138,7.9894934098869261E-2,1.9168597459793092E-2,4.7052527548728053E-2,4.1402223706245425E-2,0,0,null,null,{"$f":"IF(RAND()<poisson_parameter*model!K125,1,0)","v":0},{"$f":"IF(RAND()<(K114^quadratic_condition*L114-$T$21)*$T$22*(1+pref_attach_on*SUM($X$35:X124)),1,0)","v":0},91,{"$f":"IF(AND(SUM($X$35:X124)=0,X125=1),Y125,\"\")","v":""},12.5,2,"","","",171,1,"","","","",1,"","",175]
[null,null,null,null,null,null,103,10.3,0.52899105256679102,3.2677523990273789E-3,0.41498202516723565,0.29801302156643494,3.4813439846038817E-2,0.46044736529488967,7.9745529381434366E-2,1.9168597459793092E-2,4.6948619889109186E-2,4.1402223706245425E-2,0,0,null,null,{"$f":"IF(RAND()<poisson_parameter*model!K126,1,0)","v":0},{"$f":"IF(RAND()<(K115^quadratic_condition*L115-$T$21)*$T$22*(1+pref_attach_on*SUM($X$35:X125)),1,0)","v":0},92,{"$f":"IF(AND(SUM($X$35:X125)=0,X126=1),Y126,\"\")","v":""},22.5,"","","","","",209,1,1,"","",2,"","",213]
[null,null,null,null,null,null,104,10.4,0.53405074315645573,3.1553720387839969E-3,0.41945903529302603,0.29988803101205269,3.4813439846038817E-2,0.45816276152702629,7.9558768585191078E-2,1.9168597459793092E-2,4.6839165510680451E-2,4.1402223706245425E-2,0,0,null,null,{"$f":"IF(RAND()<poisson_parameter*model!K127,1,0)","v":0},{"$f":"IF(RAND()<(K116^quadratic_condition*L116-$T$21)*$T$22*(1+pref_attach_on*SUM($X$35:X126)),1,0)","v":0},93,{"$f":"IF(AND(SUM($X$35:X126)=0,X127=1),Y127,\"\")","v":""},32.5,"","",1,"","","",63,"",1,"","",1,"",66]
[null,null,null,null,null,null,105,10.5,0.53897604514864494,3.0483247020804891E-3,0.42381828725089532,0.30170544010162775,3.4813439846038817E-2,0.45589002304041903,7.933624836547909E-2,1.9168597459793092E-2,4.672452741490575E-2,4.1402223706245425E-2,0,0,null,null,{"$f":"IF(RAND()<poisson_parameter*model!K128,1,0)","v":0},{"$f":"IF(RAND()<(K117^quadratic_condition*L117-$T$21)*$T$22*(1+pref_attach_on*SUM($X$35:X127)),1,0)","v":0},94,{"$f":"IF(AND(SUM($X$35:X127)=0,X128=1),Y128,\"\")","v":""},23.5,"","","","","",1,"",10,"","","","","",11]
[null,null,null,null,null,null,106,10.6,0.5437680532932393,2.94631707857335E-3,0.42805941852557811,0.30346660050121849,3.4813439846038817E-2,0.45363141975787419,7.9079580213454612E-2,1.9168597459793092E-2,4.6605059708579477E-2,4.1402223706245425E-2,0,0,null,null,{"$f":"IF(RAND()<poisson_parameter*model!K129,1,0)","v":0},{"$f":"IF(RAND()<(K118^quadratic_condition*L118-$T$21)*$T$22*(1+pref_attach_on*SUM($X$35:X128)),1,0)","v":0},95,{"$f":"IF(AND(SUM($X$35:X128)=0,X129=1),Y129,\"\")","v":""},33.5,"","","","","","",1,"",11,"","","","",12]
[null,null,null,null,null,null,107,10.7,0.54842806465659677,2.8490729046723364E-3,0.43218237024155093,0.30517288373714185,3.4813439846038817E-2,0.45138906627707831,7.8790382502310241E-2,1.9168597459793092E-2,4.6481106982679987E-2,4.1402223706245425E-2,0,0,null,null,{"$f":"IF(RAND()<poisson_parameter*model!K130,1,0)","v":0},{"$f":"IF(RAND()<(K119^quadratic_condition*L119-$T$21)*$T$22*(1+pref_attach_on*SUM($X$35:X129)),1,0)","v":0},96,{"$f":"IF(AND(SUM($X$35:X129)=0,X130=1),Y130,\"\")","v":""},14.5,1,"","","",3,"","","","",47,"","","",51]
[null,null,null,null,null,null,108,10.8,0.55295756207314484,2.7563319885665644E-3,0.43618737090287546,0.30682567539859651,3.4813439846038817E-2,0.44916492626508003,7.8470273115174044E-2,1.9168597459793092E-2,4.6353003788792625E-2,4.1402223706245425E-2,0,0,null,null,{"$f":"IF(RAND()<poisson_parameter*model!K131,1,0)","v":0},{"$f":"IF(RAND()<(K120^quadratic_condition*L120-$T$21)*$T$22*(1+pref_attach_on*SUM($X$35:X130)),1,0)","v":0},97,{"$f":"IF(AND(SUM($X$35:X130)=0,X131=1),Y131,\"\")","v":""},24.5,"","","","","",1,"","","",1,102,"",1,105]
[null,null,null,null,null,null,109,10.9,0.55735819788880914,2.6678492835026163E-3,0.44007491937326176,0.30842636978105537,3.4813439846038817E-2,0.4469608169602135,7.8120862664223523E-2,1.9168597459793092E-2,4.6221074207924547E-2,4.1402223706245425E-2,0,0,null,null,{"$f":"IF(RAND()<poisson_parameter*model!K132,1,0)","v":0},{"$f":"IF(RAND()<(K121^quadratic_condition*L121-$T$21)*$T$22*(1+pref_attach_on*SUM($X$35:X131)),1,0)","v":0},98,{"$f":"IF(AND(SUM($X$35:X131)=0,X132=1),Y132,\"\")","v":""},34.5,"","",2,"","","",1,"","",1,"",164,"",168]
[null,null,null,null,null,null,110,11,0.56163177808095444,2.5833940082657728E-3,0.44384576730426883,0.30997636496111008,3.4813439846038817E-2,0.44477841378129751,7.7743748303027937E-2,1.9168597459793092E-2,4.6085631506200125E-2,4.1402223706245425E-2,0,0,null,null,{"$f":"IF(RAND()<poisson_parameter*model!K133,1,0)","v":0},{"$f":"IF(RAND()<(K122^quadratic_condition*L122-$T$21)*$T$22*(1+pref_attach_on*SUM($X$35:X132)),1,0)","v":0},99,{"$f":"IF(AND(SUM($X$35:X132)=0,X133=1),Y133,\"\")","v":""},54.5,"","","",1,"","","","","",1,"","",95,97]
[null,null,null,null,null,null,111,11.1,0.56578024682811634,2.5027488135901305E-3,0.447500901207732,0.31147705829078659,3.4813439846038817E-2,0.44261925503925015,7.7340508127463542E-2,1.9168597459793092E-2,4.5946977871697138E-2,4.1402223706245425E-2,0,0,null,null,{"$f":"IF(RAND()<poisson_parameter*model!K134,1,0)","v":0},{"$f":"IF(RAND()<(K123^quadratic_condition*L123-$T$21)*$T$22*(1+pref_attach_on*SUM($X$35:X133)),1,0)","v":0},100,{"$f":"IF(AND(SUM($X$35:X133)=0,X134=1),Y134,\"\")","v":""},null,129,120,93,23,175,213,66,11,12,51,106,168,97,1264]
[null,null,null,null,null,null,112,11.2,0.56980567159180262,2.4257089930532988E-3,0.4510415243549496,0.31292984229715887,3.4813439846038817E-2,0.44048474674233928,7.6912696154733645E-2,1.9168597459793092E-2,4.5805404226550363E-2,4.1402223706245425E-2,0,0,null,null,{"$f":"IF(RAND()<poisson_parameter*model!K135,1,0)","v":0},{"$f":"IF(RAND()<(K124^quadratic_condition*L124-$T$21)*$T$22*(1+pref_attach_on*SUM($X$35:X134)),1,0)","v":0},101,{"$f":"IF(AND(SUM($X$35:X134)=0,X135=1),Y135,\"\")","v":""}]
[null,null,null,null,null,null,113,11.3,0.57371022876214917,2.3520817368874827E-3,0.45446903867031813,0.31433610097132869,3.4813439846038817E-2,0.4383761674831132,7.6461837865051688E-2,1.9168597459793092E-2,4.5661190108400015E-2,4.1402223706245425E-2,0,0,null,null,{"$f":"IF(RAND()<poisson_parameter*model!K136,1,0)","v":0},{"$f":"IF(RAND()<(K125^quadratic_condition*L125-$T$21)*$T$22*(1+pref_attach_on*SUM($X$35:X135)),1,0)","v":0},102,{"$f":"IF(AND(SUM($X$35:X135)=0,X136=1),Y136,\"\")","v":""}]
[null,null,null,null,null,null,114,11.4,0.57749618990930363,2.2816854270532772E-3,0.45778502677138772,0.31569720642947902,3.4813439846038817E-2,0.43629467339258415,7.598942628638132E-2,1.9168597459793092E-2,4.5514603615287474E-2,4.1402223706245425E-2,0,0,null,null,{"$f":"IF(RAND()<poisson_parameter*model!K137,1,0)","v":0},{"$f":"IF(RAND()<(K126^quadratic_condition*L126-$T$21)*$T$22*(1+pref_attach_on*SUM($X$35:X136)),1,0)","v":0},103,{"$f":"IF(AND(SUM($X$35:X136)=0,X137=1),Y137,\"\")","v":""}]
[null,null,null,null,null,null,115,11.5,0.58116590867315066,2.2143489718687583E-3,0.46099123429110228,0.31701451592770274,3.4813439846038817E-2,0.43424130314541859,7.5496918599230953E-2,1.9168597459793092E-2,4.5365901408189607E-2,4.1402223706245425E-2,0,0,null,null,{"$f":"IF(RAND()<poisson_parameter*model!K138,1,0)","v":0},{"$f":"IF(RAND()<(K127^quadratic_condition*L127-$T$21)*$T$22*(1+pref_attach_on*SUM($X$35:X137)),1,0)","v":0},104,{"$f":"IF(AND(SUM($X$35:X137)=0,X138=1),Y138,\"\")","v":""}]
[null,null,null,null,null,null,116,11.6,0.58472180831542497,2.1499111784587955E-3,0.46408955260163232,0.31828936921162676,3.4813439846038817E-2,0.43221698299866124,7.4985733235820612E-2,1.9168597459793092E-2,4.5215328765525892E-2,4.1402223706245425E-2,0,0,null,null,{"$f":"IF(RAND()<poisson_parameter*model!K139,1,0)","v":0},{"$f":"IF(RAND()<(K128^quadratic_condition*L128-$T$21)*$T$22*(1+pref_attach_on*SUM($X$35:X138)),1,0)","v":0},105,{"$f":"IF(AND(SUM($X$35:X138)=0,X139=1),Y139,\"\")","v":""}]
[null,null,null,null,null,null,117,11.7,0.58816636995040927,2.0882201612831192E-3,0.4670820020430056,0.31952308618144698,3.4813439846038817E-2,0.43022253184582793,7.4457247445920499E-2,1.9168597459793092E-2,4.5063119684160213E-2,4.1402223706245425E-2,0,0,null,null,{"$f":"IF(RAND()<poisson_parameter*model!K140,1,0)","v":0},{"$f":"IF(RAND()<(K129^quadratic_condition*L129-$T$21)*$T$22*(1+pref_attach_on*SUM($X$35:X139)),1,0)","v":0},106,{"$f":"IF(AND(SUM($X$35:X139)=0,X140=1),Y140,\"\")","v":""}]
[null,null,null,null,null,null,118,11.8,0.59150212146329395,2.029132785012469E-3,0.46997071574394933,0.32071696485283713,3.4813439846038817E-2,0.42825866626797399,7.3912795300242196E-2,1.9168597459793092E-2,4.4909497021643055E-2,4.1402223706245425E-2,0,0,null,null,{"$f":"IF(RAND()<poisson_parameter*model!K141,1,0)","v":0},{"$f":"IF(RAND()<(K130^quadratic_condition*L130-$T$21)*$T$22*(1+pref_attach_on*SUM($X$35:X140)),1,0)","v":0},107,{"$f":"IF(AND(SUM($X$35:X140)=0,X141=1),Y141,\"\")","v":""}]
[null,null,null,null,null,null,119,11.9,0.59473162711888672,1.9725141400466929E-3,0.47275792410719042,0.32187227959425024,3.4813439846038817E-2,0.4263260055635219,7.3353666101383525E-2,1.9168597459793092E-2,4.4754672674691631E-2,4.1402223706245425E-2,0,0,null,null,{"$f":"IF(RAND()<poisson_parameter*model!K142,1,0)","v":0},{"$f":"IF(RAND()<(K131^quadratic_condition*L131-$T$21)*$T$22*(1+pref_attach_on*SUM($X$35:X141)),1,0)","v":0},108,{"$f":"IF(AND(SUM($X$35:X141)=0,X142=1),Y142,\"\")","v":""}]
[null,null,null,null,null,null,120,12,0.59785747785768439,1.918237049004046E-3,0.47544594001709228,0.32299027962137195,3.4813439846038817E-2,0.42442507673914553,7.278110317192367E-2,1.9168597459793092E-2,4.4598847789178435E-2,4.1402223706245425E-2,0,0,null,null,{"$f":"IF(RAND()<poisson_parameter*model!K143,1,0)","v":0},{"$f":"IF(RAND()<(K132^quadratic_condition*L132-$T$21)*$T$22*(1+pref_attach_on*SUM($X$35:X142)),1,0)","v":0},109,{"$f":"IF(AND(SUM($X$35:X142)=0,X143=1),Y143,\"\")","v":""}]
[null,null,null,null,null,null,121,12.1,0.60088228227133877,1.8661816025547294E-3,0.47803714481406728,0.32407218772987445,3.4813439846038817E-2,0.4225563194448036,7.2196302989274777E-2,1.9168597459793092E-2,4.4442212997185863E-2,4.1402223706245425E-2,0,0,null,null,{"$f":"IF(RAND()<poisson_parameter*model!K144,1,0)","v":0},{"$f":"IF(RAND()<(K133^quadratic_condition*L133-$T$21)*$T$22*(1+pref_attach_on*SUM($X$35:X143)),1,0)","v":0},110,{"$f":"IF(AND(SUM($X$35:X143)=0,X144=1),Y144,\"\")","v":""}]
[null,null,null,null,null,null,122,12.2,0.60380865824523144,1.8162347230218587E-3,0.48053397506779005,0.32511919924813731,3.4813439846038817E-2,0.4207200908370296,7.1600414637261411E-2,1.9168597459793092E-2,4.4284948676980573E-2,4.1402223706245425E-2,0,0,null,null,{"$f":"IF(RAND()<poisson_parameter*model!K145,1,0)","v":0},{"$f":"IF(RAND()<(K134^quadratic_condition*L134-$T$21)*$T$22*(1+pref_attach_on*SUM($X$35:X144)),1,0)","v":0},111,{"$f":"IF(AND(SUM($X$35:X144)=0,X145=1),Y145,\"\")","v":""}]
[null,null,null,null,null,null,123,12.3,0.60663922525218716,1.768289754227881E-3,0.48293891016991058,0.32613248119221672,3.4813439846038817E-2,0.41891667035577224,7.0994539545062796E-2,1.9168597459793092E-2,4.4127225232061015E-2,4.1402223706245425E-2,0,0,null,null,{"$f":"IF(RAND()<poisson_parameter*model!K146,1,0)","v":0},{"$f":"IF(RAND()<(K135^quadratic_condition*L135-$T$21)*$T$22*(1+pref_attach_on*SUM($X$35:X145)),1,0)","v":0},112,{"$f":"IF(AND(SUM($X$35:X145)=0,X146=1),Y146,\"\")","v":""}]
[null,null,null,null,null,null,124,12.4,0.60937659727825966,1.7222460761225353E-3,0.48525446075675588,0.3271131716060412,3.4813439846038817E-2,0.4171462644013893,7.0379731485063143E-2,1.9168597459793092E-2,4.3969203385730772E-2,4.1402223706245425E-2,0,0,null,null,{"$f":"IF(RAND()<poisson_parameter*model!K147,1,0)","v":0},{"$f":"IF(RAND()<(K136^quadratic_condition*L136-$T$21)*$T$22*(1+pref_attach_on*SUM($X$35:X146)),1,0)","v":0},113,{"$f":"IF(AND(SUM($X$35:X146)=0,X147=1),Y147,\"\")","v":""}]
[null,null,null,null,null,null,125,12.5,0.61202337635897863,1.6780087427886194E-3,0.48748315796342684,0.32806237907056723,3.4813439846038817E-2,0.41540901089978632,6.9756996802263813E-2,1.9168597459793092E-2,4.3811034487945516E-2,4.1402223706245425E-2,0,0,null,null,{"$f":"IF(RAND()<poisson_parameter*model!K148,1,0)","v":0},{"$f":"IF(RAND()<(K137^quadratic_condition*L137-$T$21)*$T$22*(1+pref_attach_on*SUM($X$35:X147)),1,0)","v":0},114,{"$f":"IF(AND(SUM($X$35:X147)=0,X148=1),Y148,\"\")","v":""}]
[null,null,null,null,null,null,126,12.6,0.61458214670240541,1.635488142483133E-3,0.4896275435027212,0.32898118236642482,3.4813439846038817E-2,0.41370498374512543,6.9127294849173654E-2,1.8569872535974898E-2,4.3652860831469478E-2,4.1402223706245425E-2,0,0,null,null,{"$f":"IF(RAND()<poisson_parameter*model!K149,1,0)","v":0},{"$f":"IF(RAND()<(K138^quadratic_condition*L138-$T$21)*$T$22*(1+pref_attach_on*SUM($X$35:X148)),1,0)","v":0},115,{"$f":"IF(AND(SUM($X$35:X148)=0,X149=1),Y149,\"\")","v":""}]
[null,null,null,null,null,null,127,12.7,0.61703820618619631,1.5945996784330226E-3,0.4916901605554157,0.32990683428693479,3.4813439846038817E-2,0.41203419711097328,6.8491421969180163E-2,1.798600613706678E-2,4.3496176580545214E-2,4.1402223706245425E-2,0,0,null,null,{"$f":"IF(RAND()<poisson_parameter*model!K150,1,0)","v":0},{"$f":"IF(RAND()<(K139^quadratic_condition*L139-$T$21)*$T$22*(1+pref_attach_on*SUM($X$35:X149)),1,0)","v":0},116,{"$f":"IF(AND(SUM($X$35:X149)=0,X150=1),Y150,\"\")","v":""}]
[null,null,null,null,null,null,128,12.8,0.61939492237686211,1.5552631707106369E-3,0.49367443826845903,0.33083810425928289,3.4813439846038817E-2,0.41039669411110852,6.7850357945379747E-2,1.7416895426952326E-2,4.3341075627397044E-2,4.1402223706245425E-2,0,0,null,null,{"$f":"IF(RAND()<poisson_parameter*model!K151,1,0)","v":0},{"$f":"IF(RAND()<(K140^quadratic_condition*L140-$T$21)*$T$22*(1+pref_attach_on*SUM($X$35:X150)),1,0)","v":0},117,{"$f":"IF(AND(SUM($X$35:X150)=0,X151=1),Y151,\"\")","v":""}]
[null,null,null,null,null,null,129,12.9,0.62165562540339692,1.5174028675348087E-3,0.49558370177787553,0.33177380312590354,3.4813439846038817E-2,0.40879243719427277,6.7205027821627794E-2,1.6862416837007899E-2,4.3187643142542413E-2,4.1402223706245425E-2,0,0,null,null,{"$f":"IF(RAND()<poisson_parameter*model!K152,1,0)","v":0},{"$f":"IF(RAND()<(K141^quadratic_condition*L141-$T$21)*$T$22*(1+pref_attach_on*SUM($X$35:X151)),1,0)","v":0},118,{"$f":"IF(AND(SUM($X$35:X151)=0,X152=1),Y152,\"\")","v":""}]
[null,null,null,null,null,null,130,13,0.62382360102869128,1.4809471941755665E-3,0.49742116876657083,0.33271278360512352,3.4813439846038817E-2,0.40722131624382468,6.6556303233033229E-2,1.632242788179647E-2,4.3035956037532117E-2,4.1402223706245425E-2,0,0,null,null,{"$f":"IF(RAND()<poisson_parameter*model!K153,1,0)","v":0},{"$f":"IF(RAND()<(K142^quadratic_condition*L142-$T$21)*$T$22*(1+pref_attach_on*SUM($X$35:X152)),1,0)","v":0},119,{"$f":"IF(AND(SUM($X$35:X152)=0,X153=1),Y153,\"\")","v":""}]
[null,null,null,null,null,null,131,13.1,0.62590208452084839,1.445828514816664E-3,0.49918994701401953,0.33365394064813758,3.4813439846038817E-2,0.40568315611697842,6.5905003876293333E-2,1.5796768898415425E-2,4.2886083417763281E-2,4.1402223706245425E-2,0,{"$f":"S154-S153","v":0},null,null,{"$f":"IF(RAND()<poisson_parameter*model!K154,1,0)","v":0},{"$f":"IF(RAND()<(K143^quadratic_condition*L143-$T$21)*$T$22*(1+pref_attach_on*SUM($X$35:X153)),1,0)","v":0},120,{"$f":"IF(AND(SUM($X$35:X153)=0,X154=1),Y154,\"\")","v":""}]
[null,null,null,null,null,null,132,13.2,0.62789425527911003,1.4119829069839521E-3,0.50089303283692577,0.33459621169320142,3.4813439846038817E-2,0.40417772364831067,6.5251899094001642E-2,1.5285264707214937E-2,4.2738087023894901E-2,4.1402223706245425E-2,0,0,null,null,{"$f":"IF(RAND()<poisson_parameter*model!K155,1,0)","v":0},{"$f":"IF(RAND()<(K144^quadratic_condition*L144-$T$21)*$T$22*(1+pref_attach_on*SUM($X$35:X154)),1,0)","v":0},121,{"$f":"IF(AND(SUM($X$35:X154)=0,X155=1),Y155,\"\")","v":""}]
[null,null,null,null,null,null,133,13.3,0.62980323216855361,1.3793499481088104E-3,0.50253331032501636,0.33553857681851301,3.4813439846038817E-2,0.40270473414266106,6.4597709549338356E-2,1.4787726192469467E-2,4.2592021660660145E-2,4.1402223706245425E-2,0,0,null,null,{"$f":"IF(RAND()<poisson_parameter*model!K156,1,0)","v":0},{"$f":"IF(RAND()<(K145^quadratic_condition*L145-$T$21)*$T$22*(1+pref_attach_on*SUM($X$35:X155)),1,0)","v":0},122,{"$f":"IF(AND(SUM($X$35:X155)=0,X156=1),Y156,\"\")","v":""}]
[null,null,null,null,null,null,134,13.4,0.63163206951768347,1.3478725137684793E-3,0.50411355128157209,0.33648005879579096,3.4813439846038817E-2,0.40126385738273146,6.3943108969770263E-2,1.430395180235005E-2,4.2447935612109321E-2,4.1402223706245425E-2,0,0,null,null,{"$f":"IF(RAND()<poisson_parameter*model!K157,1,0)","v":0},{"$f":"IF(RAND()<(K146^quadratic_condition*L146-$T$21)*$T$22*(1+pref_attach_on*SUM($X$35:X156)),1,0)","v":0},123,{"$f":"IF(AND(SUM($X$35:X156)=0,X157=1),Y157,\"\")","v":""}]
[null,null,null,null,null,null,135,13.5,0.63338375373343925,1.3174965871272642E-3,0.50563641578398288,0.33741972304704498,3.4813439846038817E-2,0.39985472317664295,6.3288725940523233E-2,1.3833728968215138E-2,4.2305871042533201E-2,4.1402223706245425E-2,0,0,null,null,{"$f":"IF(RAND()<poisson_parameter*model!K158,1,0)","v":0},{"$f":"IF(RAND()<(K147^quadratic_condition*L147-$T$21)*$T$22*(1+pref_attach_on*SUM($X$35:X157)),1,0)","v":0},124,{"$f":"IF(AND(SUM($X$35:X157)=0,X158=1),Y158,\"\")","v":""}]
[null,null,null,null,null,null,136,13.6,0.63506120048891934,1.2881710790925884E-3,0.50710445328540421,0.33835667750747295,3.4813439846038817E-2,0.39847692647046862,6.2635145730631059E-2,1.337683544381856E-2,4.2165864382509764E-2,4.1402223706245425E-2,0,0,null,null,{"$f":"IF(RAND()<poisson_parameter*model!K159,1,0)","v":0},{"$f":"IF(RAND()<(K148^quadratic_condition*L148-$T$21)*$T$22*(1+pref_attach_on*SUM($X$35:X158)),1,0)","v":0},125,{"$f":"IF(AND(SUM($X$35:X158)=0,X159=1),Y159,\"\")","v":""}]
[null,null,null,null,null,null,137,13.7,0.6366672524401995,1.2598476586963363E-3,0.50852010418440274,0.33929007239780962,3.4813439846038817E-2,0.39713003205035713,6.198291213629608E-2,1.2933040565531221E-2,4.202794669968906E-2,4.1402223706245425E-2,0,0,null,null,{"$f":"IF(RAND()<poisson_parameter*model!K160,1,0)","v":0},{"$f":"IF(RAND()<(K149^quadratic_condition*L149-$T$21)*$T$22*(1+pref_attach_on*SUM($X$35:X159)),1,0)","v":0},126,{"$f":"IF(AND(SUM($X$35:X159)=0,X160=1),Y160,\"\")","v":""}]
[null,null,null,null,null,null,138,13.8,0.63820467742996467,1.2324805932136412E-3,0.50988570179521542,0.34021909990979787,3.4813439846038817E-2,0.39581357885832219,6.1332529328113249E-2,1.2502106435094914E-2,4.1892144054082647E-2,4.1402223706245425E-2,0,0,null,null,{"$f":"IF(RAND()<poisson_parameter*model!K161,1,0)","v":0},{"$f":"IF(RAND()<(K150^quadratic_condition*L150-$T$21)*$T$22*(1+pref_attach_on*SUM($X$35:X160)),1,0)","v":0},127,{"$f":"IF(AND(SUM($X$35:X160)=0,X161=1),Y161,\"\")","v":""}]
[null,null,null,null,null,null,139,13.9,0.63967616713721087,1.2060265975372244E-3,0.51120347465685645,0.34114299380875207,3.4813439846038817E-2,0.39452708394512498,6.0684463690404387E-2,1.2083789026778508E-2,4.1758477837756866E-2,4.1402223706245425E-2,0,0,null,null,{"$f":"IF(RAND()<poisson_parameter*model!K162,1,0)","v":0},{"$f":"IF(RAND()<(K151^quadratic_condition*L151-$T$21)*$T$22*(1+pref_attach_on*SUM($X$35:X161)),1,0)","v":0},128,{"$f":"IF(AND(SUM($X$35:X161)=0,X162=1),Y162,\"\")","v":""}]
[null,null,null,null,null,null,140,14,0.64108433613397298,1.1804446923346832E-3,0.5124755491247236,0.34206102895743906,3.4813439846038817E-2,0.39327004608293842,6.0039145642481168E-2,1.1677839221095339E-2,4.162696509894484E-2,4.1402223706245425E-2,0,0,null,null,{"$f":"IF(RAND()<poisson_parameter*model!K163,1,0)","v":0},{"$f":"IF(RAND()<(K152^quadratic_condition*L152-$T$21)*$T$22*(1+pref_attach_on*SUM($X$35:X162)),1,0)","v":0},129,{"$f":"IF(AND(SUM($X$35:X162)=0,X163=1),Y163,\"\")","v":""}]
[null,null,null,null,null,null,141,14.1,0.642431721311846,1.1556960705280458E-3,0.51370395219355547,0.34297252076571511,3.4813439846038817E-2,0.39204194905967593,5.9396971433104184E-2,1.1284003767472071E-2,4.1497618850691649E-2,4.1402223706245425E-2,0,0,null,null,{"$f":"IF(RAND()<poisson_parameter*model!K164,1,0)","v":0},{"$f":"IF(RAND()<(K153^quadratic_condition*L153-$T$21)*$T$22*(1+pref_attach_on*SUM($X$35:X163)),1,0)","v":0},130,{"$f":"IF(AND(SUM($X$35:X163)=0,X164=1),Y164,\"\")","v":""}]
[null,null,null,null,null,null,142,14.2,0.64372078164296154,1.1317439716488189E-3,0.51489061450553264,0.34387682457052871,3.4813439846038817E-2,0.39084226467601196,5.875830490073275E-2,1.0902026178439477E-2,4.1370448364232176E-2,4.1402223706245425E-2,0,0,null,null,{"$f":"IF(RAND()<poisson_parameter*model!K165,1,0)","v":0},{"$f":"IF(RAND()<(K154^quadratic_condition*L154-$T$21)*$T$22*(1+pref_attach_on*SUM($X$35:X164)),1,0)","v":0},131,{"$f":"IF(AND(SUM($X$35:X164)=0,X165=1),Y165,\"\")","v":""}]
[null,null,null,null,null,null,143,14.3,0.64495389824202431,1.1085535636371404E-3,0.51603737350198864,0.34477333495103202,3.4813439846038817E-2,0.38967045546522877,5.8123479193369208E-2,1.0531647558050451E-2,4.1245459447372776E-2,4.1402223706245425E-2,0,0,null,null,{"$f":"IF(RAND()<poisson_parameter*model!K166,1,0)","v":0},{"$f":"IF(RAND()<(K155^quadratic_condition*L155-$T$21)*$T$22*(1+pref_attach_on*SUM($X$35:X165)),1,0)","v":0},132,{"$f":"IF(AND(SUM($X$35:X165)=0,X166=1),Y166,\"\")","v":""}]
[null,null,null,null,null,null,144,14.4,0.64613337469797716,1.0860918316700707E-3,0.51714597668158158,0.34566148498363786,3.4813439846038817E-2,0.38852597715510973,5.7492798442896904E-2,1.0172607367325134E-2,4.1122654708207897E-2,4.1402223706245425E-2,0,0,null,null,{"$f":"IF(RAND()<poisson_parameter*model!K167,1,0)","v":0},{"$f":"IF(RAND()<(K156^quadratic_condition*L156-$T$21)*$T$22*(1+pref_attach_on*SUM($X$35:X166)),1,0)","v":0},133,{"$f":"IF(AND(SUM($X$35:X166)=0,X167=1),Y167,\"\")","v":""}]
[null,null,null,null,null,null,145,14.5,0.64726143764582833,1.0643274736211602E-3,0.51821808493187738,0.34654074544191887,3.4813439846038817E-2,0.38740828089017409,5.6866539389797702E-2,9.8246441295826402E-3,4.1002033804551551E-2,4.1402223706245425E-2,0,0,null,null,{"$f":"IF(RAND()<poisson_parameter*model!K168,1,0)","v":0},{"$f":"IF(RAND()<(K157^quadratic_condition*L157-$T$21)*$T$22*(1+pref_attach_on*SUM($X$35:X167)),1,0)","v":0},134,{"$f":"IF(AND(SUM($X$35:X167)=0,X168=1),Y168,\"\")","v":""}]
[null,null,null,null,null,null,146,14.6,0.64834023755111636,1.0432308017709134E-3,0.51925527590510001,0.34741062394627031,3.4813439846038817E-2,0.38631681523162209,5.6244952955018794E-2,9.4874960785478052E-3,4.0883593679503095E-2,4.1402223706245425E-2,0,0,null,null,{"$f":"IF(RAND()<poisson_parameter*model!K169,1,0)","v":0},{"$f":"IF(RAND()<(K158^quadratic_condition*L158-$T$21)*$T$22*(1+pref_attach_on*SUM($X$35:X168)),1,0)","v":0},135,{"$f":"IF(AND(SUM($X$35:X168)=0,X169=1),Y169,\"\")","v":""}]
[null,null,null,null,null,null,147,14.7,0.6493718496813955,1.0227736504053949E-3,0.52025904741232465,0.3482706640682523,3.4813439846038817E-2,0.38525102795143817,5.5628265756545892E-2,9.1609017521241485E-3,4.0767328783597491E-2,4.1402223706245425E-2,0,0,null,null,{"$f":"IF(RAND()<poisson_parameter*model!K170,1,0)","v":0},{"$f":"IF(RAND()<(K159^quadratic_condition*L159-$T$21)*$T$22*(1+pref_attach_on*SUM($X$35:X169)),1,0)","v":0},136,{"$f":"IF(AND(SUM($X$35:X169)=0,X170=1),Y170,\"\")","v":""}]
[null,null,null,null,null,null,148,14.8,0.65035827524098133,1.0029292889577851E-3,0.52123082081363326,0.3491204443944918,3.7621662003987748E-2,0.38421036763619526,5.5016681568937027E-2,8.8446005347045196E-3,4.0653231284013491E-2,4.1402223706245425E-2,0,0,null,null,{"$f":"IF(RAND()<poisson_parameter*model!K171,1,0)","v":0},{"$f":"IF(RAND()<(K160^quadratic_condition*L160-$T$21)*$T$22*(1+pref_attach_on*SUM($X$35:X170)),1,0)","v":0},137,{"$f":"IF(AND(SUM($X$35:X170)=0,X171=1),Y171,\"\")","v":""}]
[null,null,null,null,null,null,149,14.9,0.65130144264699219,9.8367234036504333E-4,0.52217194438472025,0.34995957755496188,4.0647840609353142E-2,0.38319428511521436,5.4410382724684667E-2,8.5383331508523379E-3,4.0516670484304011E-2,4.1402223706245425E-2,0,0,null,null,{"$f":"IF(RAND()<poisson_parameter*model!K172,1,0)","v":0},{"$f":"IF(RAND()<(K161^quadratic_condition*L161-$T$21)*$T$22*(1+pref_attach_on*SUM($X$35:X171)),1,0)","v":0},138,{"$f":"IF(AND(SUM($X$35:X171)=0,X172=1),Y172,\"\")","v":""}]
[null,null,null,null,null,null,150,15,0.6522051529445142,9.6497676784570963E-4,0.5230836966431508,0.35078901530076262,4.3907594218495209E-2,0.38220081088133601,5.3809633798833537E-2,8.2418421131319614E-3,4.0356040086472637E-2,4.1402223706245425E-2,0,0,null,null,{"$f":"IF(RAND()<poisson_parameter*model!K173,1,0)","v":0},{"$f":"IF(RAND()<(K162^quadratic_condition*L162-$T$21)*$T$22*(1+pref_attach_on*SUM($X$35:X172)),1,0)","v":0},139,{"$f":"IF(AND(SUM($X$35:X172)=0,X173=1),Y173,\"\")","v":""}]
[null,null,null,null,null,null,151,15.1,0.65307318999016639,9.4681807378257606E-4,0.52396732379178801,0.35160977800534776,4.7417450723943794E-2,0.38122797195086811,5.3214672078818047E-2,7.9548701640409294E-3,4.0169664874751279E-2,4.1402223706245425E-2,0,0,null,null,{"$f":"IF(RAND()<poisson_parameter*model!K174,1,0)","v":0},{"$f":"IF(RAND()<(K163^quadratic_condition*L163-$T$21)*$T$22*(1+pref_attach_on*SUM($X$35:X173)),1,0)","v":0},140,{"$f":"IF(AND(SUM($X$35:X173)=0,X174=1),Y174,\"\")","v":""}]
[null,null,null,null,null,null,152,15.2,0.65390932429281123,9.2917320043932067E-4,0.52482404222917889,0.35242295554847269,5.1194865113196458E-2,0.38027378811670792,5.2625709165766706E-2,7.6771609315682754E-3,3.9955806532023248E-2,4.1402223706245425E-2,0,0,null,null,{"$f":"IF(RAND()<poisson_parameter*model!K175,1,0)","v":0},{"$f":"IF(RAND()<(K164^quadratic_condition*L164-$T$21)*$T$22*(1+pref_attach_on*SUM($X$35:X174)),1,0)","v":0},141,{"$f":"IF(AND(SUM($X$35:X174)=0,X175=1),Y175,\"\")","v":""}]
[null,null,null,null,null,null,153,15.3,0.65471731653047183,9.1202043884801732E-4,0.52565504103912242,0.35322970782065555,5.5258230832234308E-2,0.37933626878043392,5.2042932478076565E-2,7.4084595216939737E-3,3.9712671338224294E-2,4.1402223706245425E-2,0,0,null,null,{"$f":"IF(RAND()<poisson_parameter*model!K176,1,0)","v":0},{"$f":"IF(RAND()<(K165^quadratic_condition*L165-$T$21)*$T$22*(1+pref_attach_on*SUM($X$35:X175)),1,0)","v":0},142,{"$f":"IF(AND(SUM($X$35:X175)=0,X176=1),Y176,\"\")","v":""}]
[null,null,null,null,null,null,154,15.4,0.65550092059050813,8.9533934518318487E-4,0.52646148444283414,0.35403126476944741,5.9626883341240722E-2,0.37841341043614557,5.1466506654028209E-2,7.1485130522381249E-3,3.9438420016424738E-2,4.1402223706245425E-2,0,0,null,null,{"$f":"IF(RAND()<poisson_parameter*model!K177,1,0)","v":0},{"$f":"IF(RAND()<(K166^quadratic_condition*L166-$T$21)*$T$22*(1+pref_attach_on*SUM($X$35:X176)),1,0)","v":0},143,{"$f":"IF(AND(SUM($X$35:X176)=0,X177=1),Y177,\"\")","v":""}]
[null,null,null,null,null,null,155,15.5,0.65626388596667051,8.7911066400438523E-4,0.52724451419648621,0.3548289258972035,6.4321094283562669E-2,0.37750319489072015,5.0896574850699948E-2,6.8970711323330233E-3,3.9131180003348781E-2,4.1402223706245425E-2,0,0,null,null,{"$f":"IF(RAND()<poisson_parameter*model!K178,1,0)","v":0},{"$f":"IF(RAND()<(K167^quadratic_condition*L167-$T$21)*$T$22*(1+pref_attach_on*SUM($X$35:X177)),1,0)","v":0},144,{"$f":"IF(AND(SUM($X$35:X177)=0,X178=1),Y178,\"\")","v":""}]
[null,null,null,null,null,null,156,15.6,0.65700995933265627,8.6331625780726657E-4,0.52800525191596714,0.35562405910810418,6.9362054520165625E-2,0.37660358831675705,5.0333259936892423E-2,6.6538862916401464E-3,3.8789060425975547E-2,4.1402223706245425E-2,0,0,null,null,{"$f":"IF(RAND()<poisson_parameter*model!K179,1,0)","v":0},{"$f":"IF(RAND()<(K168^quadratic_condition*L168-$T$21)*$T$22*(1+pref_attach_on*SUM($X$35:X178)),1,0)","v":0},145,{"$f":"IF(AND(SUM($X$35:X178)=0,X179=1),Y179,\"\")","v":""}]
[null,null,null,null,null,null,157,15.7,0.65774288509768963,8.4793904237307036E-4,0.52874480130946599,0.35641809879019887,7.4771844115546562E-2,0.37571254124542747,4.9776665578219526E-2,6.4187143632699938E-3,3.8410170062391696E-2,4.1402223706245425E-2,0,0,null,null,{"$f":"IF(RAND()<poisson_parameter*model!K180,1,0)","v":0},{"$f":"IF(RAND()<(K169^quadratic_condition*L169-$T$21)*$T$22*(1+pref_attach_on*SUM($X$35:X179)),1,0)","v":0},146,{"$f":"IF(AND(SUM($X$35:X179)=0,X180=1),Y180,\"\")","v":""}]
[null,null,null,null,null,null,158,15.8,0.65846640473600715,8.3296292744952411E-4,0.52946425029696353,0.35721254300663396,8.0573387203584521E-2,0.37482798961625158,4.9226877212990086E-2,6.1913148241876815E-3,3.7992638550675611E-2,4.1402223706245425E-2,0,0,null,null,{"$f":"IF(RAND()<poisson_parameter*model!K181,1,0)","v":0},{"$f":"IF(RAND()<(K170^quadratic_condition*L170-$T$21)*$T$22*(1+pref_attach_on*SUM($X$35:X180)),1,0)","v":0},147,{"$f":"IF(AND(SUM($X$35:X180)=0,X181=1),Y181,\"\")","v":""}]
[null,null,null,null,null,null,159,15.9,0.6591842546697263,8.1837276233217063E-4,0.53016467299392822,0.35800894965949931,8.6790389521081354E-2,0.37394785700888583,4.8683962918031759E-2,5.9714510967027856E-3,3.7534641081403725E-2,4.1402223706245425E-2,0,0,null,null,{"$f":"IF(RAND()<poisson_parameter*model!K182,1,0)","v":0},{"$f":"IF(RAND()<(K171^quadratic_condition*L171-$T$21)*$T$22*(1+pref_attach_on*SUM($X$35:X181)),1,0)","v":0},148,{"$f":"IF(AND(SUM($X$35:X181)=0,X182=1),Y182,\"\")","v":""}]
[null,null,null,null,null,null,160,16,0.65990016247435235,8.041542859448706E-4,0.53084713153450802,0.35880893148053872,9.3447256282563243E-2,0.37307005818757571,4.8147974164230875E-2,5.758890814449134E-3,3.7034426764222445E-2,4.1402223706245425E-2,0,0,null,null,{"$f":"IF(RAND()<poisson_parameter*model!K183,1,0)","v":0},{"$f":"IF(RAND()<(K172^quadratic_condition*L172-$T$21)*$T$22*(1+pref_attach_on*SUM($X$35:X182)),1,0)","v":0},149,{"$f":"IF(AND(SUM($X$35:X182)=0,X183=1),Y183,\"\")","v":""}]
[null,null,null,null,null,null,161,16.100000000000001,0.66061784116930544,7.902940810417358E-4,0.53151267770733057,0.35961414969611932,0.10056898799402667,0.37219250409113919,4.7618946462320393E-2,5.5534060560596381E-3,3.6490350793493317E-2,4.1402223706245425E-2,0,0,null,null,{"$f":"IF(RAND()<poisson_parameter*model!K184,1,0)","v":0},{"$f":"IF(RAND()<(K173^quadratic_condition*L173-$T$21)*$T$22*(1+pref_attach_on*SUM($X$35:X183)),1,0)","v":0},150,{"$f":"IF(AND(SUM($X$35:X183)=0,X184=1),Y184,\"\")","v":""}]
[null,null,null,null,null,null,162,16.2,0.66134098135371533,7.7677953217032637E-4,0.53216235437474813,0.36042630621030353,0.10818105177948852,0.37131310839918741,4.709689990038364E-2,5.3547735495329844E-3,3.5900910448954361E-2,4.1402223706245425E-2,0,0,null,null,{"$f":"IF(RAND()<poisson_parameter*model!K185,1,0)","v":0},{"$f":"IF(RAND()<(K174^quadratic_condition*L174-$T$21)*$T$22*(1+pref_attach_on*SUM($X$35:X184)),1,0)","v":0},151,{"$f":"IF(AND(SUM($X$35:X184)=0,X185=1),Y185,\"\")","v":""}]
[null,null,null,null,null,null,163,16.3,0.66207324095194076,7.6359878704778718E-4,0.53279719664407943,0.36124713415072829,0.11630922583816815,0.37042979579762825,4.6581839575696553E-2,5.1627748500729254E-3,3.5264784851529382E-2,4.1402223706245425E-2,0,0,null,null,{"$f":"IF(RAND()<poisson_parameter*model!K186,1,0)","v":0},{"$f":"IF(RAND()<(K175^quadratic_condition*L175-$T$21)*$T$22*(1+pref_attach_on*SUM($X$35:X185)),1,0)","v":0},152,{"$f":"IF(AND(SUM($X$35:X185)=0,X186=1),Y186,\"\")","v":""}]
[null,null,null,null,null,null,164,16.399999999999999,0.66281823234565163,7.507407210079445E-4,0.53341823275722877,0.36207838662854708,0.12497941477937195,0.36954051205212535,4.6073755924946252E-2,4.9771964939566548E-3,3.4580878249279176E-2,4.1402223706245425E-2,0,0,null,null,{"$f":"IF(RAND()<poisson_parameter*model!K187,1,0)","v":0},{"$f":"IF(RAND()<(K176^quadratic_condition*L176-$T$21)*$T$22*(1+pref_attach_on*SUM($X$35:X186)),1,0)","v":0},153,{"$f":"IF(AND(SUM($X$35:X186)=0,X187=1),Y187,\"\")","v":""}]
[null,null,null,null,null,null,165,16.5,0.66357950669184596,7.3819490417851978E-4,0.5340264846631475,0.36292182357731956,0.13421743381549189,0.36864323597583692,4.5572624958575093E-2,4.7978301307557685E-3,3.3848366432384494E-2,4.1402223706245425E-2,0,0,null,null,{"$f":"IF(RAND()<poisson_parameter*model!K188,1,0)","v":0},{"$f":"IF(RAND()<(K177^quadratic_condition*L177-$T$21)*$T$22*(1+pref_attach_on*SUM($X$35:X187)),1,0)","v":0},154,{"$f":"IF(AND(SUM($X$35:X187)=0,X188=1),Y188,\"\")","v":""}]
[null,null,null,null,null,null,166,16.600000000000001,0.66436053526096273,7.2595157104395926E-4,0.53462296823611943,0.36377919655793578,0.14404876015047172,0.36773599334620921,4.5078408407035385E-2,4.624472635991167E-3,3.3066745668774294E-2,4.1402223706245425E-2,0,0,null,null,{"$f":"IF(RAND()<poisson_parameter*model!K189,1,0)","v":0},{"$f":"IF(RAND()<(K178^quadratic_condition*L178-$T$21)*$T$22*(1+pref_attach_on*SUM($X$35:X188)),1,0)","v":0},155,{"$f":"IF(AND(SUM($X$35:X188)=0,X189=1),Y189,\"\")","v":""}]
[null,null,null,null,null,null,167,16.7,0.66516468767839509,7.1400159204148867E-4,0.53520869310200658,0.36465223144893516,0.15449825040086185,0.36681687278373815,4.4591053789117235E-2,4.4569262060515915E-3,3.2235883315361598E-2,4.1402223706245425E-2,0,0,null,null,{"$f":"IF(RAND()<poisson_parameter*model!K190,1,0)","v":0},{"$f":"IF(RAND()<(K179^quadratic_condition*L179-$T$21)*$T$22*(1+pref_attach_on*SUM($X$35:X189)),1,0)","v":0},156,{"$f":"IF(AND(SUM($X$35:X189)=0,X190=1),Y190,\"\")","v":""}]
[null,null,null,null,null,null,168,16.8,0.66599520701818404,7.0233644682666542E-4,0.53578466203461661,0.36554260898536123,0.16558982354681695,0.36588404355257637,4.4110494415228525E-2,4.2949984369443179E-3,3.1356068998249213E-2,4.1402223706245425E-2,0,0,null,null,{"$f":"IF(RAND()<poisson_parameter*model!K191,1,0)","v":0},{"$f":"IF(RAND()<(K180^quadratic_condition*L180-$T$21)*$T$22*(1+pref_attach_on*SUM($X$35:X190)),1,0)","v":0},157,{"$f":"IF(AND(SUM($X$35:X190)=0,X191=1),Y191,\"\")","v":""}]
[null,null,null,null,null,null,169,16.899999999999999,0.66685518178113357,6.9094819883098633E-4,0.53635186988551498,0.3664519431658137,0.17734610974549284,0.36493577517817999,4.3636649341537416E-2,4.1385023881764498E-3,3.0428064976404084E-2,4.1402223706245425E-2,0,0,null,null,{"$f":"IF(RAND()<poisson_parameter*model!K192,1,0)","v":0},{"$f":"IF(RAND()<(K181^quadratic_condition*L181-$T$21)*$T$22*(1+pref_attach_on*SUM($X$35:X191)),1,0)","v":0},158,{"$f":"IF(AND(SUM($X$35:X191)=0,X192=1),Y192,\"\")","v":""}]
[null,null,null,null,null,null,170,17,0.66774751489214534,6.7982947071938595E-4,0.53691130201317916,0.36738175761749164,0.18978806635841391,0.36397045870094441,4.316942329417825E-2,3.9872566327875834E-3,2.9453154018691325E-2,4.1402223706245425E-2,0,0,null,null,{"$f":"IF(RAND()<poisson_parameter*model!K193,1,0)","v":0},{"$f":"IF(RAND()<(K182^quadratic_condition*L182-$T$21)*$T$22*(1+pref_attach_on*SUM($X$35:X192)),1,0)","v":0},159,{"$f":"IF(AND(SUM($X$35:X192)=0,X193=1),Y193,\"\")","v":""}]
[null,null,null,null,null,null,171,17.100000000000001,0.66867488997351843,6.6897342034149339E-4,0.53746393218167576,0.36833346009308671,0.20293456374907254,0.36298662929781156,4.2708706586178952E-2,3.8410852942716931E-3,2.8433182849578721E-2,4.1402223706245425E-2,0,0,null,null,{"$f":"IF(RAND()<poisson_parameter*model!K194,1,0)","v":0},{"$f":"IF(RAND()<(K183^quadratic_condition*L183-$T$21)*$T$22*(1+pref_attach_on*SUM($X$35:X193)),1,0)","v":0},160,{"$f":"IF(AND(SUM($X$35:X193)=0,X194=1),Y194,\"\")","v":""}]
[null,null,null,null,null,null,172,17.2,0.66963973529145604,6.5837371675942272E-4,0.53801071990531457,0.36930831537093106,0.21680194478872356,0.36198298990790495,4.2254375053256826E-2,3.6998180708414721E-3,2.7370598974443647E-2,4.1402223706245425E-2,0,0,null,null,{"$f":"IF(RAND()<poisson_parameter*model!K195,1,0)","v":0},{"$f":"IF(RAND()<(K184^quadratic_condition*L184-$T$21)*$T$22*(1+pref_attach_on*SUM($X$35:X194)),1,0)","v":0},161,{"$f":"IF(AND(SUM($X$35:X194)=0,X195=1),Y195,\"\")","v":""}]
[null,null,null,null,null,null,173,17.3,0.67064418592977082,6.4802451592916492E-4,0.53855260722426079,0.37030741693937036,0.23140356354578195,0.3609584353962409,4.1806290037967223E-2,3.5632902472070445E-3,2.626847850555656E-2,4.1402223706245425E-2,0,0,null,null,{"$f":"IF(RAND()<poisson_parameter*model!K196,1,0)","v":0},{"$f":"IF(RAND()<(K185^quadratic_condition*L185-$T$21)*$T$22*(1+pref_attach_on*SUM($X$35:X195)),1,0)","v":0},162,{"$f":"IF(AND(SUM($X$35:X195)=0,X196=1),Y196,\"\")","v":""}]
[null,null,null,null,null,null,174,17.399999999999999,0.67169004491372286,6.3792043561515445E-4,0.53909051490707782,0.37133165796521855,0.24674931029103295,0.3599120766855699,4.1364298454644233E-2,3.4313426937694733E-3,2.513054250213706E-2,4.1402223706245425E-2,0,0,null,null,{"$f":"IF(RAND()<poisson_parameter*model!K197,1,0)","v":0},{"$f":"IF(RAND()<(K186^quadratic_condition*L186-$T$21)*$T$22*(1+pref_attach_on*SUM($X$35:X196)),1,0)","v":0},163,{"$f":"IF(AND(SUM($X$35:X196)=0,X197=1),Y197,\"\")","v":""}]
[null,null,null,null,null,null,175,17.5,0.67277874418196026,6.2805652913134203E-4,0.53962533808975499,0.37238170217021715,0.26284513167362183,0.35884326418580892,4.0928232969865787E-2,3.3038218528760408E-3,2.3961159341895161E-2,4.1402223706245425E-2,0,0,null,null,{"$f":"IF(RAND()<poisson_parameter*model!K198,1,0)","v":0},{"$f":"IF(RAND()<(K187^quadratic_condition*L187-$T$21)*$T$22*(1+pref_attach_on*SUM($X$35:X197)),1,0)","v":0},164,{"$f":"IF(AND(SUM($X$35:X197)=0,X198=1),Y198,\"\")","v":""}]
[null,null,null,null,null,null,176,17.600000000000001,0.67391130647736708,6.1842825753021598E-4,0.54015794137696405,0.37345795536294996,0.27969255664004011,0.3577516097599393,4.0497912334490668E-2,3.180579711558587E-3,2.2765330786308428E-2,4.1402223706245425E-2,0,0,null,null,{"$f":"IF(RAND()<poisson_parameter*model!K199,1,0)","v":0},{"$f":"IF(RAND()<(K188^quadratic_condition*L188-$T$21)*$T$22*(1+pref_attach_on*SUM($X$35:X198)),1,0)","v":0},165,{"$f":"IF(AND(SUM($X$35:X198)=0,X199=1),Y199,\"\")","v":""}]
[null,null,null,null,null,null,177,17.7,0.67508830938776077,6.0903145990659415E-4,0.54068915344995183,0.37456053848933318,0.29728824029077866,0.35663700639231233,4.0073141903310357E-2,3.0614737599894085E-3,2.1548659713265455E-2,4.1402223706245425E-2,0,0,null,null,{"$f":"IF(RAND()<poisson_parameter*model!K200,1,0)","v":0},{"$f":"IF(RAND()<(K189^quadratic_condition*L189-$T$21)*$T$22*(1+pref_attach_on*SUM($X$35:X199)),1,0)","v":0},166,{"$f":"IF(AND(SUM($X$35:X199)=0,X200=1),Y200,\"\")","v":""}]
[null,null,null,null,null,null,178,17.8,0.67630985290234547,5.9986232154809116E-4,0.54121976124628257,0.37568926316380952,0.315623539291777,0.35549964467833611,3.9653714376692288E-2,2.9463669347534094E-3,2.031729798726329E-2,4.1402223706245425E-2,0,0,null,null,{"$f":"IF(RAND()<poisson_parameter*model!K201,1,0)","v":0},{"$f":"IF(RAND()<(K190^quadratic_condition*L190-$T$21)*$T$22*(1+pref_attach_on*SUM($X$35:X200)),1,0)","v":0},167,{"$f":"IF(AND(SUM($X$35:X200)=0,X201=1),Y201,\"\")","v":""}]
[null,null,null,null,null,null,179,17.899999999999999,0.67757553194564302,5.9091733975057104E-4,0.54175050379906209,0.37684361071576716,0.33468413356309556,0.3543400252419483,3.9239410794949199E-2,2.8351275459627375E-3,1.9077873626540797E-2,4.1402223706245425E-2,0,0,null,null,{"$f":"IF(RAND()<poisson_parameter*model!K202,1,0)","v":0},{"$f":"IF(RAND()<(K191^quadratic_condition*L191-$T$21)*$T$22*(1+pref_attach_on*SUM($X$35:X201)),1,0)","v":0},168,{"$f":"IF(AND(SUM($X$35:X201)=0,X202=1),Y202,\"\")","v":""}]
[null,null,null,null,null,null,180,18,0.67888441539265432,5.8219328722501065E-4,0.54228206584652183,0.37802271582092062,0.35444970963242078,0.35315896621694898,3.8830001810304327E-2,2.7276291872429343E-3,1.7837397300575285E-2,4.1402223706245425E-2,0,0,null,null,{"$f":"IF(RAND()<poisson_parameter*model!K203,1,0)","v":0},{"$f":"IF(RAND()<(K192^quadratic_condition*L192-$T$21)*$T$22*(1+pref_attach_on*SUM($X$35:X202)),1,0)","v":0},169,{"$f":"IF(AND(SUM($X$35:X202)=0,X203=1),Y203,\"\")","v":""}]
[null,null,null,null,null,null,181,18.100000000000001,0.68023503304307809,5.7368717315084482E-4,0.54281507134589213,0.379225355775061,0.37489372114575609,0.35195760500654616,3.8425249253096434E-2,2.6237506277079332E-3,1.6603149223762589E-2,4.1402223706245425E-2,0,0,null,null,{"$f":"IF(RAND()<poisson_parameter*model!K204,1,0)","v":0},{"$f":"IF(RAND()<(K193^quadratic_condition*L193-$T$21)*$T$22*(1+pref_attach_on*SUM($X$35:X203)),1,0)","v":0},170,{"$f":"IF(AND(SUM($X$35:X203)=0,X204=1),Y204,\"\")","v":""}]
[null,null,null,null,null,null,182,18.2,0.68162537192628558,5.6539620207693127E-4,0.54335007704710381,0.38044994639856128,0.39598324146460434,0.35073739366631068,3.802490799829613E-2,2.5233756852225801E-3,1.5382548654463923E-2,4.1402223706245425E-2,0,0,null,null,{"$f":"IF(RAND()<poisson_parameter*model!K205,1,0)","v":0},{"$f":"IF(RAND()<(K194^quadratic_condition*L194-$T$21)*$T$22*(1+pref_attach_on*SUM($X$35:X204)),1,0)","v":0},171,{"$f":"IF(AND(SUM($X$35:X204)=0,X205=1),Y205,\"\")","v":""}]
[null,null,null,null,null,null,183,18.3,0.68305288311373846,5.5731773102954039E-4,0.54388756630058399,0.38169454542755937,0.41767892196540601,0.34950008743976219,3.7628728125692235E-2,2.4263930805290528E-3,1.4183009394580327E-2,4.1402223706245425E-2,0,0,null,null,{"$f":"IF(RAND()<poisson_parameter*model!K206,1,0)","v":0},{"$f":"IF(RAND()<(K195^quadratic_condition*L195-$T$21)*$T$22*(1+pref_attach_on*SUM($X$35:X205)),1,0)","v":0},172,{"$f":"IF(AND(SUM($X$35:X205)=0,X206=1),Y206,\"\")","v":""}]
[null,null,null,null,null,null,184,18.399999999999999,0.68451449992826441,5.4944922534985892E-4,0.54442794328770472,0.38295686404876333,0.43993506754685963,0.3482477262094959,3.7236457352682328E-2,2.3326962721856958E-3,1.3011785826669729E-2,4.1402223706245425E-2,0,0,null,null,{"$f":"IF(RAND()<poisson_parameter*model!K207,1,0)","v":0},{"$f":"IF(RAND()<(K196^quadratic_condition*L196-$T$21)*$T$22*(1+pref_attach_on*SUM($X$35:X206)),1,0)","v":0},173,{"$f":"IF(AND(SUM($X$35:X206)=0,X207=1),Y207,\"\")","v":""}]
[null,null,null,null,null,null,185,18.5,0.68600666806352684,5.4178821394204851E-4,0.54497152787073766,0.38423428697108319,0.46269983794552827,0.34698260890195481,3.6847843703124709E-2,2.2421832727249603E-3,1.1875815023922926E-2,4.1402223706245425E-2,0,0,null,null,{"$f":"IF(RAND()<poisson_parameter*model!K208,1,0)","v":0},{"$f":"IF(RAND()<(K197^quadratic_condition*L197-$T$21)*$T$22*(1+pref_attach_on*SUM($X$35:X207)),1,0)","v":0},174,{"$f":"IF(AND(SUM($X$35:X207)=0,X208=1),Y208,\"\")","v":""}]
[null,null,null,null,null,null,186,18.600000000000001,0.68752538767361149,5.3433224475607629E-4,0.54551855126001547,0.38552390110628898,0.48591557981741057,0.34570726118777562,3.6462638360059176E-2,2.1547564469659624E-3,1.0781561219695814E-2,4.1402223706245425E-2,0,0,null,null,{"$f":"IF(RAND()<poisson_parameter*model!K209,1,0)","v":0},{"$f":"IF(RAND()<(K198^quadratic_condition*L198-$T$21)*$T$22*(1+pref_attach_on*SUM($X$35:X208)),1,0)","v":0},175,{"$f":"IF(AND(SUM($X$35:X208)=0,X209=1),Y209,\"\")","v":""}]
[null,null,null,null,null,null,187,18.7,0.6890662669818387,5.2707884144573844E-4,0.54606915268820866,0.38682253256629251,0.50951929028108989,0.34442439713492745,3.6080598635336775E-2,2.0703222939940781E-3,9.7348693316966269E-3,4.1402223706245425E-2,0,0,null,null,{"$f":"IF(RAND()<poisson_parameter*model!K210,1,0)","v":0},{"$f":"IF(RAND()<(K199^quadratic_condition*L199-$T$21)*$T$22*(1+pref_attach_on*SUM($X$35:X209)),1,0)","v":0},176,{"$f":"IF(AND(SUM($X$35:X209)=0,X210=1),Y210,\"\")","v":""}]
[null,null,null,null,null,null,188,18.8,0.69062458641768631,5.200254622201605E-4,0.54662337726443633,0.38812679129608452,0.53344320791451771,0.34313687577819618,3.5701490976472169E-2,1.9887912149158865E-3,8.7408342251587227E-3,4.1402223706245425E-2,0,0,null,null,{"$f":"IF(RAND()<poisson_parameter*model!K211,1,0)","v":0},{"$f":"IF(RAND()<(K200^quadratic_condition*L200-$T$21)*$T$22*(1+pref_attach_on*SUM($X$35:X210)),1,0)","v":0},177,{"$f":"IF(AND(SUM($X$35:X210)=0,X211=1),Y211,\"\")","v":""}]
[null,null,null,null,null,null,189,18.899999999999999,0.69219537175561718,5.1316946193663191E-4,0.54718117515411713,0.38943312227344029,0.5576155222829311,0.34184765384383331,3.5325093921507462E-2,1.9100772690784315E-3,7.8036919252541543E-3,4.1402223706245425E-2,0,0,null,null,{"$f":"IF(RAND()<poisson_parameter*model!K212,1,0)","v":0},{"$f":"IF(RAND()<(K201^quadratic_condition*L201-$T$21)*$T$22*(1+pref_attach_on*SUM($X$35:X211)),1,0)","v":0},178,{"$f":"IF(AND(SUM($X$35:X211)=0,X212=1),Y212,\"\")","v":""}]
[null,null,null,null,null,null,190,19,0.69377347423818081,5.0650805845655993E-4,0.5477424021944941,0.39073786184705833,0.58196118821957654,0.34055973609059753,3.4951200907395813E-2,1.8340979219699661E-3,6.9267380493303358E-3,4.1402223706245425E-2,0,0,null,null,{"$f":"IF(RAND()<poisson_parameter*model!K213,1,0)","v":0},{"$f":"IF(RAND()<(K202^quadratic_condition*L202-$T$21)*$T$22*(1+pref_attach_on*SUM($X$35:X212)),1,0)","v":0},179,{"$f":"IF(AND(SUM($X$35:X212)=0,X213=1),Y213,\"\")","v":""}]
[null,null,null,null,null,null,191,19.100000000000001,0.69535365525707105,5.0003830420098738E-4,0.54830682201181735,0.39203729748237715,0.60640282657368272,0.3392761248787502,3.4579622837176645E-2,1.7607737884577247E-3,6.1122773692610863E-3,4.1402223706245425E-2,0,0,null,null,{"$f":"IF(RAND()<poisson_parameter*model!K214,1,0)","v":0},{"$f":"IF(RAND()<(K203^quadratic_condition*L203-$T$21)*$T$22*(1+pref_attach_on*SUM($X$35:X213)),1,0)","v":0},180,{"$f":"IF(AND(SUM($X$35:X213)=0,X214=1),Y214,\"\")","v":""}]
[null,null,null,null,null,null,192,19.2,0.69693067287543486,4.9375706369842202E-4,0.54887410965613204,0.39332772896529555,0.63086168926834074,0.33799977064235182,3.4210190316462212E-2,1.6900283753325221E-3,5.3616067250556948E-3,4.1402223706245425E-2,0,0,null,null,{"$f":"IF(RAND()<poisson_parameter*model!K215,1,0)","v":0},{"$f":"IF(RAND()<(K204^quadratic_condition*L204-$T$21)*$T$22*(1+pref_attach_on*SUM($X$35:X214)),1,0)","v":0},181,{"$f":"IF(AND(SUM($X$35:X214)=0,X215=1),Y215,\"\")","v":""}]
[null,null,null,null,null,null,193,19.3,0.69849936733058859,4.8766099772153484E-4,0.54944385671602614,0.39460552899954637,0.6552586635334291,0.33673352490958319,3.384275548048632E-2,1.6217878272922269E-3,4.675031624306881E-3,4.1402223706245425E-2,0,0,null,null,{"$f":"IF(RAND()<poisson_parameter*model!K216,1,0)","v":0},{"$f":"IF(RAND()<(K205^quadratic_condition*L205-$T$21)*$T$22*(1+pref_attach_on*SUM($X$35:X215)),1,0)","v":0},182,{"$f":"IF(AND(SUM($X$35:X215)=0,X216=1),Y216,\"\")","v":""}]
[null,null,null,null,null,null,194,19.399999999999999,0.70005474267516821,4.8174655437124977E-4,0.55001557782152433,0.39586720113676455,0.67951528830233154,0.33548009739069157,3.3477193348694798E-2,1.5559806804878314E-3,4.0519149359032353E-3,4.1402223706245425E-2,0,0,null,null,{"$f":"IF(RAND()<poisson_parameter*model!K217,1,0)","v":0},{"$f":"IF(RAND()<(K206^quadratic_condition*L206-$T$21)*$T$22*(1+pref_attach_on*SUM($X$35:X216)),1,0)","v":0},183,{"$f":"IF(AND(SUM($X$35:X216)=0,X217=1),Y217,\"\")","v":""}]
[null,null,null,null,null,null,195,19.5,0.70159204189968305,4.7600996720160191E-4,0.55058871839178614,0.39710943310268271,0.7035547551208059,0.33424201844158707,3.3113402663633461E-2,1.4925376275700423E-3,3.4907542869911691E-3,4.1402223706245425E-2,0,{"$f":"S218-S217","v":0},null,null,{"$f":"IF(RAND()<poisson_parameter*model!K218,1,0)","v":0},{"$f":"IF(RAND()<(K207^quadratic_condition*L207-$T$21)*$T$22*(1+pref_attach_on*SUM($X$35:X217)),1,0)","v":0},184,{"$f":"IF(AND(SUM($X$35:X217)=0,X218=1),Y218,\"\")","v":""}]
[null,null,null,null,null,null,196,19.600000000000001,0.70310681321886315,4.7044726020402464E-4,0.55116266343854081,0.39832914382100104,0.72730286656132426,0.33302160792861779,3.2751306193372347E-2,1.4313912978168675E-3,2.9892832543225601E-3,4.1402223706245425E-2,0,0,null,null,{"$f":"IF(RAND()<poisson_parameter*model!K219,1,0)","v":0},{"$f":"IF(RAND()<(K208^quadratic_condition*L208-$T$21)*$T$22*(1+pref_attach_on*SUM($X$35:X218)),1,0)","v":0},185,{"$f":"IF(AND(SUM($X$35:X218)=0,X219=1),Y219,\"\")","v":""}]
[null,null,null,null,null,null,197,19.7,0.70459496567270041,4.6505425920414422E-4,0.55173674719910193,0.39952352277067205,0.75068892702510837,0.33182095118814359,3.2390850500292043E-2,1.3724760554121075E-3,2.5445903294934501E-3,4.1402223706245425E-2,0,0,null,null,{"$f":"IF(RAND()<poisson_parameter*model!K220,1,0)","v":0},{"$f":"IF(RAND()<(K209^quadratic_condition*L209-$T$21)*$T$22*(1+pref_attach_on*SUM($X$35:X219)),1,0)","v":0},186,{"$f":"IF(AND(SUM($X$35:X219)=0,X220=1),Y220,\"\")","v":""}]
[null,null,null,null,null,null,198,19.8,0.70605281275401799,4.598266089857417E-4,0.55231026334657018,0.400690060716485,0.7736465438185427,0.33064188241842901,3.2032005202048401E-2,1.3157278183106467E-3,2.1532490118542319E-3,4.1402223706245425E-2,0,0,null,null,{"$f":"IF(RAND()<poisson_parameter*model!K221,1,0)","v":0},{"$f":"IF(RAND()<(K210^quadratic_condition*L210-$T$21)*$T$22*(1+pref_attach_on*SUM($X$35:X220)),1,0)","v":0},187,{"$f":"IF(AND(SUM($X$35:X220)=0,X221=1),Y221,\"\")","v":""}]
[null,null,null,null,null,null,199,19.899999999999999,0.70747710338384562,4.5475979526084627E-4,0.55288247551088232,0.40182657129514537,0.79611432030763918,0.32948597548738312,3.1674761771304225E-2,1.2610838994072642E-3,1.8114522695884963E-3,4.1402223706245425E-2,0,0,null,null,{"$f":"IF(RAND()<poisson_parameter*model!K222,1,0)","v":0},{"$f":"IF(RAND()<(K211^quadratic_condition*L211-$T$21)*$T$22*(1+pref_attach_on*SUM($X$35:X221)),1,0)","v":0},188,{"$f":"IF(AND(SUM($X$35:X221)=0,X222=1),Y222,\"\")","v":""}]
[null,null,null,null,null,null,200,20,0.7088650401674339,4.4984917046356183E-4,0.55345262784318083,0.40293120338557775,0.81803642752540673,0.32835454181245499,3.1319131937994772E-2,1.2084828709645939E-3,1.5151449814224348E-3,4.1402223706245425E-2,0,0,null,null,{"$f":"IF(RAND()<poisson_parameter*model!K223,1,0)","v":0},{"$f":"IF(RAND()<(K212^quadratic_condition*L212-$T$21)*$T$22*(1+pref_attach_on*SUM($X$35:X222)),1,0)","v":0},189,{"$f":"IF(AND(SUM($X$35:X222)=0,X223=1),Y223,\"\")","v":""}]
[null,null,null,null,null,null,201,20.100000000000001,0.71021428543349374,4.4508998226486127E-4,0.55401995536711079,0.40400244461050355,0.83936304554250685,0.32724863468923238,3.0965145770478458E-2,1.1578644524972556E-3,1.2601487545417526E-3,4.1402223706245425E-2,0,0,null,null,{"$f":"IF(RAND()<poisson_parameter*model!K224,1,0)","v":0},{"$f":"IF(RAND()<(K213^quadratic_condition*L213-$T$21)*$T$22*(1+pref_attach_on*SUM($X$35:X223)),1,0)","v":0},190,{"$f":"IF(AND(SUM($X$35:X223)=0,X224=1),Y224,\"\")","v":""}]
[null,null,null,null,null,null,202,20.2,0.71152295605013594,4.4047740368754053E-4,0.55458369388275974,0.40503911667879544,0.86005067091557019,0.32616905922793288,3.061284951937171E-2,1.1091694215946324E-3,1.0422746002523256E-3,4.1402223706245425E-2,0,0,null,null,{"$f":"IF(RAND()<poisson_parameter*model!K225,1,0)","v":0},{"$f":"IF(RAND()<(K214^quadratic_condition*L214-$T$21)*$T$22*(1+pref_attach_on*SUM($X$35:X224)),1,0)","v":0},191,{"$f":"IF(AND(SUM($X$35:X224)=0,X225=1),Y225,\"\")","v":""}]
[null,null,null,null,null,null,203,20.3,0.71278960839603722,4.3600656374104127E-4,0.5551430892200222,0.40604036356428258,0.88006229132218194,0.32511638691030553,3.0262303310110504E-2,1.0623395465297627E-3,8.5742021132638089E-4,4.1402223706245425E-2,0,0,null,null,{"$f":"IF(RAND()<poisson_parameter*model!K226,1,0)","v":0},{"$f":"IF(RAND()<(K215^quadratic_condition*L215-$T$21)*$T$22*(1+pref_attach_on*SUM($X$35:X225)),1,0)","v":0},192,{"$f":"IF(AND(SUM($X$35:X225)=0,X226=1),Y226,\"\")","v":""}]
[null,null,null,null,null,null,204,20.399999999999999,0.71401321512941129,4.316725775868686E-4,0.5556974056756766,0.40700563371478887,0.89936743283738574,0.32409097370500761,2.9913578767692451E-2,1.0173175389732211E-3,7.0164989606216082E-4,4.1402223706245425E-2,0,0,null,null,{"$f":"IF(RAND()<poisson_parameter*model!K227,1,0)","v":0},{"$f":"IF(RAND()<(K216^quadratic_condition*L216-$T$21)*$T$22*(1+pref_attach_on*SUM($X$35:X226)),1,0)","v":0},193,{"$f":"IF(AND(SUM($X$35:X226)=0,X227=1),Y227,\"\")","v":""}]
[null,null,null,null,null,null,205,20.5,0.71519313553724406,4.2747057537567782E-4,0.55624593350968898,0.4079346575922807,0.91794208901721031,0.32309298067275932,2.9566756650357906E-2,9.7404702472565709E-4,5.7125646945398157E-4,4.1402223706245425E-2,0,0,null,null,{"$f":"IF(RAND()<poisson_parameter*model!K228,1,0)","v":0},{"$f":"IF(RAND()<(K217^quadratic_condition*L217-$T$21)*$T$22*(1+pref_attach_on*SUM($X$35:X227)),1,0)","v":0},194,{"$f":"IF(AND(SUM($X$35:X227)=0,X228=1),Y228,\"\")","v":""}]
[null,null,null,null,null,null,206,20.6,0.71632908127050676,4.2339572905390857E-4,0.55678799541851742,0.4088274218661116,0.93576854390506159,0.3221223960441883,2.9221924559132015E-2,9.3247253010759839E-4,4.6280549132423217E-4,4.1402223706245425E-2,0,0,null,null,{"$f":"IF(RAND()<poisson_parameter*model!K229,1,0)","v":0},{"$f":"IF(RAND()<(K218^quadratic_condition*L218-$T$21)*$T$22*(1+pref_attach_on*SUM($X$35:X228)),1,0)","v":0},195,{"$f":"IF(AND(SUM($X$35:X228)=0,X229=1),Y229,\"\")","v":""}]
[null,null,null,null,null,null,207,20.7,0.71742107919364773,4.1944327660792225E-4,0.55732295194404369,0.40968414152783783,0.95283510320461795,0.32117905785075368,2.8879174778250714E-2,8.9253948149763129E-4,3.7316311477196925E-4,4.1402223706245425E-2,0,0,null,null,{"$f":"IF(RAND()<poisson_parameter*model!K230,1,0)","v":0},{"$f":"IF(RAND()<(K219^quadratic_condition*L219-$T$21)*$T$22*(1+pref_attach_on*SUM($X$35:X229)),1,0)","v":0},196,{"$f":"IF(AND(SUM($X$35:X229)=0,X230=1),Y230,\"\")","v":""}]
[null,null,null,null,null,null,208,20.8,0.71846943292007981,4.1560854338469291E-4,0.55785020581420119,0.41050523108352022,0.9691357491647753,0.32026267631848782,2.8538602288605736E-2,8.5419421547970804E-4,2.9950943704572784E-4,4.1402223706245425E-2,0,0,null,null,{"$f":"IF(RAND()<poisson_parameter*model!K231,1,0)","v":0},{"$f":"IF(RAND()<(K220^quadratic_condition*L220-$T$21)*$T$22*(1+pref_attach_on*SUM($X$35:X230)),1,0)","v":0},197,{"$f":"IF(AND(SUM($X$35:X230)=0,X231=1),Y231,\"\")","v":""}]
[null,null,null,null,null,null,209,20.9,0.71947468439363238,4.1188696028982518E-4,0.55836920524389877,0.41129127582540326,0.98466973524523382,0.31937285538156324,2.8200302983436558E-2,8.1738399713093314E-4,2.3933962837202055E-4,4.1402223706245425E-2,0,0,null,null,{"$f":"IF(RAND()<poisson_parameter*model!K232,1,0)","v":0},{"$f":"IF(RAND()<(K221^quadratic_condition*L221-$T$21)*$T$22*(1+pref_attach_on*SUM($X$35:X231)),1,0)","v":0},198,{"$f":"IF(AND(SUM($X$35:X231)=0,X232=1),Y232,\"\")","v":""}]
[null,null,null,null,null,null,210,21,0.72043757663286023,4.0827407880807831E-4,0.5588794462515283,0.41204300400693578,0.99944113646159449,0.31850911282523853,2.7864372103367389E-2,7.820570441330019E-4,1.9045527416168071E-4,4.1402223706245425E-2,0,0,null,null,{"$f":"IF(RAND()<poisson_parameter*model!K233,1,0)","v":0},{"$f":"IF(RAND()<(K222^quadratic_condition*L222-$T$21)*$T$22*(1+pref_attach_on*SUM($X$35:X232)),1,0)","v":0},199,{"$f":"IF(AND(SUM($X$35:X232)=0,X233=1),Y233,\"\")","v":""}]
[null,null,null,null,null,null,211,21.1,0.72135901850218087,4.0476558291340729E-4,0.5593804740667836,0.41276126055919199,1.0134583705589018,0.31767089871506099,2.7530902897121314E-2,7.4816255460237544E-4,1.5094833930598476E-4,4.1402223706245425E-2,0,0,null,null,{"$f":"IF(RAND()<poisson_parameter*model!K234,1,0)","v":0},{"$f":"IF(RAND()<(K223^quadratic_condition*L223-$T$21)*$T$22*(1+pref_attach_on*SUM($X$35:X233)),1,0)","v":0},200,{"$f":"IF(AND(SUM($X$35:X233)=0,X234=1),Y234,\"\")","v":""}]
[null,null,null,null,null,null,212,21.2,0.72224005212877318,4.0135729803211187E-4,0.55987188371976571,0.41344698280607756,1.0267337039591193,0.31685761190342471,2.7199985505209721E-2,7.1565073678552557E-4,1.1917999470647102E-4,4.1402223706245425E-2,0,0,null,null,{"$f":"IF(RAND()<poisson_parameter*model!K235,1,0)","v":0},{"$f":"IF(RAND()<(K224^quadratic_condition*L224-$T$21)*$T$22*(1+pref_attach_on*SUM($X$35:X234)),1,0)","v":0},201,{"$f":"IF(AND(SUM($X$35:X234)=0,X235=1),Y235,\"\")","v":""}]
[null,null,null,null,null,null,213,21.3,0.72308182336024929,3.9804519729362439E-4,0.56035331990983828,0.41410117847017319,1.0392827549007317,0.31606861452050755,2.6871706056759741E-2,6.8447283903727031E-4,9.3756281891566975E-5,4.1402223706245425E-2,0,0,null,null,{"$f":"IF(RAND()<poisson_parameter*model!K236,1,0)","v":0},{"$f":"IF(RAND()<(K225^quadratic_condition*L225-$T$21)*$T$22*(1+pref_attach_on*SUM($X$35:X235)),1,0)","v":0},202,{"$f":"IF(AND(SUM($X$35:X235)=0,X236=1),Y236,\"\")","v":""}]
[null,null,null,null,null,null,214,21.4,0.72388555546395206,3.9482540535017429E-4,0.5608244762561081,0.41472490611722274,1.0511240044611594,0.31530324445154845,2.6546145964402079E-2,6.5458117877617388E-4,7.350227417194093E-5,4.1402223706245425E-2,0,0,null,null,{"$f":"IF(RAND()<poisson_parameter*model!K237,1,0)","v":0},{"$f":"IF(RAND()<(K226^quadratic_condition*L226-$T$21)*$T$22*(1+pref_attach_on*SUM($X$35:X236)),1,0)","v":0},203,{"$f":"IF(AND(SUM($X$35:X236)=0,X237=1),Y237,\"\")","v":""}]
[null,null,null,null,null,null,215,21.5,0.7246525261087986,3.9169420007174465E-4,0.56128509403058968,0.4153192580685362,1.0622783243358087,0.31456082587579365,2.6223381398664248E-2,6.2592916937829731E-4,5.7436058170279293E-5,4.1402223706245425E-2,0,0,null,null,{"$f":"IF(RAND()<poisson_parameter*model!K238,1,0)","v":0},{"$f":"IF(RAND()<(K227^quadratic_condition*L227-$T$21)*$T$22*(1+pref_attach_on*SUM($X$35:X237)),1,0)","v":0},204,{"$f":"IF(AND(SUM($X$35:X237)=0,X238=1),Y238,\"\")","v":""}]
[null,null,null,null,null,null,216,21.6,0.72538404754583807,3.8864801242984373E-4,0.56173496047096538,0.41588534571777835,1.0727685284351762,0.31384067799527376,2.5903482921381584E-2,5.9847134421969447E-4,4.4743535344323079E-5,4.1402223706245425E-2,0,0,null,null,{"$f":"IF(RAND()<poisson_parameter*model!K239,1,0)","v":0},{"$f":"IF(RAND()<(K228^quadratic_condition*L228-$T$21)*$T$22*(1+pref_attach_on*SUM($X$35:X238)),1,0)","v":0},205,{"$f":"IF(AND(SUM($X$35:X238)=0,X239=1),Y239,\"\")","v":""}]
[null,null,null,null,null,null,217,21.7,0.72608144981243039,3.8568342487643693E-4,0.56217390676326873,0.41642428712057794,1.0826189536281461,0.3131421221160231,2.5586515256985333E-2,5.7216337730255898E-4,3.4754748415540709E-5,4.1402223706245425E-2,0,0,null,null,{"$f":"IF(RAND()<poisson_parameter*model!K240,1,0)","v":0},{"$f":"IF(RAND()<(K229^quadratic_condition*L229-$T$21)*$T$22*(1+pref_attach_on*SUM($X$35:X239)),1,0)","v":0},206,{"$f":"IF(AND(SUM($X$35:X239)=0,X240=1),Y240,\"\")","v":""}]
[null,null,null,null,null,null,218,21.8,0.72674606672368225,3.8279716850665241E-4,0.56260180577660435,0.41693719667960133,1.091855073360773,0.31246448726321319,2.527253718087458E-2,5.4696210009623567E-4,2.6922183765663779E-5,4.1402223706245425E-2,0,0,null,null,{"$f":"IF(RAND()<poisson_parameter*model!K241,1,0)","v":0},{"$f":"IF(RAND()<(K230^quadratic_condition*L230-$T$21)*$T$22*(1+pref_attach_on*SUM($X$35:X240)),1,0)","v":0},207,{"$f":"IF(AND(SUM($X$35:X240)=0,X241=1),Y241,\"\")","v":""}]
[null,null,null,null,null,null,219,21.9,0.72737922437898284,3.7998611926901601E-4,0.56301856962288988,0.41742517672087898,1.1005031464524713,0.31180711451798926,2.4961601505158807E-2,5.2282551439109058E-4,2.0801292761551719E-5,4.1402223706245425E-2,0,0,null,null,{"$f":"IF(RAND()<poisson_parameter*model!K242,1,0)","v":0},{"$f":"IF(RAND()<(K231^quadratic_condition*L231-$T$21)*$T$22*(1+pref_attach_on*SUM($X$35:X241)),1,0)","v":0},208,{"$f":"IF(AND(SUM($X$35:X241)=0,X242=1),Y242,\"\")","v":""}]
[null,null,null,null,null,null,220,22,0.72798223189625766,3.7724729345794478E-4,0.56342414710513866,0.41788931074564717,1.1085899021365464,0.3111693602605754,2.4653755143629545E-2,4.9971280110094472E-4,1.6033312603690804E-5,4.1402223706245425E-2,0,0,null,null,{"$f":"IF(RAND()<poisson_parameter*model!K243,1,0)","v":0},{"$f":"IF(RAND()<(K232^quadratic_condition*L232-$T$21)*$T$22*(1+pref_attach_on*SUM($X$35:X242)),1,0)","v":0},209,{"$f":"IF(AND(SUM($X$35:X242)=0,X243=1),Y243,\"\")","v":""}]
[null,null,null,null,null,null,221,22.1,0.7285563740870945,3.7457784269245029E-4,0.56381852110845498,0.41833065814221282,1.1161422613768237,0.31055059849419164,2.4349039239679428E-2,4.7758432506012939E-4,1.2330347285347143E-5,4.1402223706245425E-2,0,0,null,null,{"$f":"IF(RAND()<poisson_parameter*model!K244,1,0)","v":0},{"$f":"IF(RAND()<(K233^quadratic_condition*L233-$T$21)*$T$22*(1+pref_attach_on*SUM($X$35:X243)),1,0)","v":0},210,{"$f":"IF(AND(SUM($X$35:X243)=0,X244=1),Y244,\"\")","v":""}]
[null,null,null,null,null,null,222,22.2,0.72910290579780246,3.7197504855433175E-4,0.56420170597901553,0.41875025015110934,1.1231870936534596,0.30995022240988285,2.4047489342871597E-2,4.5640163594674762E-4,9.462586208198662E-6,4.1402223706245425E-2,0,0,null,null,{"$f":"IF(RAND()<poisson_parameter*model!K245,1,0)","v":0},{"$f":"IF(RAND()<(K234^quadratic_condition*L234-$T$21)*$T$22*(1+pref_attach_on*SUM($X$35:X244)),1,0)","v":0},211,{"$f":"IF(AND(SUM($X$35:X244)=0,X245=1),Y245,\"\")","v":""}]
[null,null,null,null,null,null,223,22.3,0.72962304766094865,3.6943631702991475E-4,0.56457374492808865,0.41914908689127423,1.1297510077576887,0.30936764533543226,2.3749135621847991E-2,4.3612746552740804E-4,7.2474856211527123E-6,4.1402223706245425E-2,0,0,null,null,{"$f":"IF(RAND()<poisson_parameter*model!K246,1,0)","v":0},{"$f":"IF(RAND()<(K235^quadratic_condition*L235-$T$21)*$T$22*(1+pref_attach_on*SUM($X$35:X245)),1,0)","v":0},212,{"$f":"IF(AND(SUM($X$35:X245)=0,X246=1),Y246,\"\")","v":""}]
[null,null,null,null,null,null,224,22.4,0.7301179830258816,3.6695917287250422E-4,0.56493470749072638,0.41952813527282518,1.1358601746506922,0.30880230119364011,2.3454003103163694E-2,4.1672572146367012E-4,5.5407099200719086E-6,4.1402223706245425E-2,0,0,null,null,{"$f":"IF(RAND()<poisson_parameter*model!K247,1,0)","v":0},{"$f":"IF(RAND()<(K236^quadratic_condition*L236-$T$21)*$T$22*(1+pref_attach_on*SUM($X$35:X246)),1,0)","v":0},213,{"$f":"IF(AND(SUM($X$35:X246)=0,X247=1),Y247,\"\")","v":""}]
[null,null,null,null,null,null,225,22.5,0.73058885586276434,3.6454125397867925E-4,0.56528468706221724,0.41988832764143591,1.1415401801061882,0.30825364457749987,2.3162111927388655E-2,3.9816147794978691E-4,4.2286199884364936E-6,4.1402223706245425E-2,0,0,null,null,{"$f":"IF(RAND()<poisson_parameter*model!K248,1,0)","v":0},{"$f":"IF(RAND()<(K237^quadratic_condition*L237-$T$21)*$T$22*(1+pref_attach_on*SUM($X$35:X247)),1,0)","v":0},214,{"$f":"IF(AND(SUM($X$35:X247)=0,X248=1),Y248,\"\")","v":""}]
[null,null,null,null,null,null,226,22.6,0.73103676946091178,3.621803058505848E-4,0.56562379852971467,0.42023056101896444,1.1468159046485338,0.30772115053297577,2.2873477615395047E-2,3.8040096346793941E-4,3.2220989404725656E-6,4.1402223706245425E-2,0,0,null,null,{"$f":"IF(RAND()<poisson_parameter*model!K249,1,0)","v":0},{"$f":"IF(RAND()<(K238^quadratic_condition*L238-$T$21)*$T$22*(1+pref_attach_on*SUM($X$35:X248)),1,0)","v":0},215,{"$f":"IF(AND(SUM($X$35:X248)=0,X249=1),Y249,\"\")","v":""}]
[null,null,null,null,null,null,227,22.7,0.73146278576749613,3.5987417619847079E-4,0.56595217601162495,0.42055569682392413,1.1517114281968333,0.30720431412465449,2.2588111339134277E-2,3.6341154595362964E-4,2.4515175022475779E-6,4.1402223706245425E-2,0,0,null,null,{"$f":"IF(RAND()<poisson_parameter*model!K250,1,0)","v":0},{"$f":"IF(RAND()<(K239^quadratic_condition*L239-$T$21)*$T$22*(1+pref_attach_on*SUM($X$35:X249)),1,0)","v":0},216,{"$f":"IF(AND(SUM($X$35:X249)=0,X250=1),Y250,\"\")","v":""}]
[null,null,null,null,null,null,228,22.8,0.73186792523614441,3.5762080972274654E-4,0.56626997071328744,0.4208645609729979,1.1562499568104423,0.30670264984577694,2.2306020192402135E-2,3.4716171566251619E-4,1.862658385809806E-6,4.1402223706245425E-2,0,0,null,null,{"$f":"IF(RAND()<poisson_parameter*model!K251,1,0)","v":0},{"$f":"IF(RAND()<(K240^quadratic_condition*L240-$T$21)*$T$22*(1+pref_attach_on*SUM($X$35:X250)),1,0)","v":0},217,{"$f":"IF(AND(SUM($X$35:X250)=0,X251=1),Y251,\"\")","v":""}]
[null,null,null,null,null,null,229,22.9,0.73225316707614341,3.5541824310251466E-4,0.56657734890413913,0.42115794428073128,1.1604537689836774,0.3062156909221419,2.2027207458102722E-2,3.3162106602268286E-4,1.4134387645895687E-6,4.1402223706245425E-2,0,0,null,null,{"$f":"IF(RAND()<poisson_parameter*model!K252,1,0)","v":0},{"$f":"IF(RAND()<(K241^quadratic_condition*L241-$T$21)*$T$22*(1+pref_attach_on*SUM($X$35:X251)),1,0)","v":0},218,{"$f":"IF(AND(SUM($X$35:X251)=0,X252=1),Y252,\"\")","v":""}]
[null,null,null,null,null,null,230,23,0.73261944981169036,3.5326460020762779E-4,0.56687449001884049,0.42143660308864134,1.1643441790408069,0.3057429885490906,2.1751672869366859E-2,3.167602727447469E-4,1.0712904589092599E-6,4.1402223706245425E-2,0,0,null,null,{"$f":"IF(RAND()<poisson_parameter*model!K253,1,0)","v":0},{"$f":"IF(RAND()<(K242^quadratic_condition*L242-$T$21)*$T$22*(1+pref_attach_on*SUM($X$35:X252)),1,0)","v":0},219,{"$f":"IF(AND(SUM($X$35:X252)=0,X253=1),Y253,\"\")","v":""}]
[null,null,null,null,null,null,231,23.1,0.73296767207687363,3.5115808754346457E-4,0.56716158488266766,0.4217012600672394,1.1679415153221018,0.30528411109212839,2.1479412862576118E-2,3.0255107144766866E-4,8.1107740199496643E-7,4.1402223706245425E-2,0,0,null,null,{"$f":"IF(RAND()<poisson_parameter*model!K254,1,0)","v":0},{"$f":"IF(RAND()<(K243^quadratic_condition*L243-$T$21)*$T$22*(1+pref_attach_on*SUM($X$35:X253)),1,0)","v":0},220,{"$f":"IF(AND(SUM($X$35:X253)=0,X254=1),Y254,\"\")","v":""}]
[null,null,null,null,null,null,232,23.2,0.73329869358594757,3.4909698993153385E-4,0.56743883405977324,0.42195260514495814,1.1712651110156471,0.30483864327456678,2.1210420820908956E-2,2.8896623404167508E-4,6.1344856598290308E-7,4.1402223706245425E-2,0,0,null,null,{"$f":"IF(RAND()<poisson_parameter*model!K255,1,0)","v":0},{"$f":"IF(RAND()<(K244^quadratic_condition*L244-$T$21)*$T$22*(1+pref_attach_on*SUM($X$35:X254)),1,0)","v":0},221,{"$f":"IF(AND(SUM($X$35:X254)=0,X255=1),Y255,\"\")","v":""}]
[null,null,null,null,null,null,233,23.3,0.73361333623017344,3.4707966642440186E-4,0.56770644632160527,0.42219129652684273,1.1743333056677474,0.30440618536970732,2.0944687307478883E-2,2.7597954409219641E-4,4.6354132853258349E-7,4.1402223706245425E-2,0,0,null,null,{"$f":"IF(RAND()<poisson_parameter*model!K256,1,0)","v":0},{"$f":"IF(RAND()<(K245^quadratic_condition*L245-$T$21)*$T$22*(1+pref_attach_on*SUM($X$35:X255)),1,0)","v":0},222,{"$f":"IF(AND(SUM($X$35:X255)=0,X256=1),Y256,\"\")","v":""}]
[null,null,null,null,null,null,234,23.4,0.73391238526225688,3.4510454645002899E-4,0.56796463723178847,0.42241796177327479,1.1771634555890178,0.30398635241036209,2.0682200287494193E-2,2.6356577137077585E-4,3.4996505708989287E-7,4.1402223706245425E-2,0,0,null,null,{"$f":"IF(RAND()<poisson_parameter*model!K257,1,0)","v":0},{"$f":"IF(RAND()<(K246^quadratic_condition*L246-$T$21)*$T$22*(1+pref_attach_on*SUM($X$35:X256)),1,0)","v":0},223,{"$f":"IF(AND(SUM($X$35:X256)=0,X257=1),Y257,\"\")","v":""}]
[null,null,null,null,null,null,235,23.5,0.73419659053746944,3.4317012617817133E-4,0.56821362784305662,0.42263319891512913,1.1797719515573983,0.30357877342474338,2.042294533914988E-2,2.5170064578103042E-4,2.6400746090339477E-7,4.1402223706245425E-2,0,0,null,null,{"$f":"IF(RAND()<poisson_parameter*model!K258,1,0)","v":0},{"$f":"IF(RAND()<(K247^quadratic_condition*L247-$T$21)*$T$22*(1+pref_attach_on*SUM($X$35:X257)),1,0)","v":0},224,{"$f":"IF(AND(SUM($X$35:X257)=0,X258=1),Y258,\"\")","v":""}]
[null,null,null,null,null,null,236,23.6,0.73446666778713565,3.4127496509984523E-4,0.56845364350132843,0.42283757758679263,1.1821742423985941,0.30318309070479921,2.0166905853179481E-2,2.4036083083027405E-4,1.9901710674600513E-7,4.1402223706245425E-2,0,0,null,null,{"$f":"IF(RAND()<poisson_parameter*model!K259,1,0)","v":0},{"$f":"IF(RAND()<(K248^quadratic_condition*L248-$T$21)*$T$22*(1+pref_attach_on*SUM($X$35:X258)),1,0)","v":0},225,{"$f":"IF(AND(SUM($X$35:X258)=0,X259=1),Y259,\"\")","v":""}]
[null,null,null,null,null,null,237,23.7,0.73472329990551932,3.3941768280980583E-4,0.56868491275169664,0.42303164016256917,1.1843848631954397,0.30279895911078181,1.9914063221159309E-2,2.2952389680060804E-4,1.4992457650182275E-7,4.1402223706245425E-2,0,0,null,null,{"$f":"IF(RAND()<poisson_parameter*model!K260,1,0)","v":0},{"$f":"IF(RAND()<(K249^quadratic_condition*L249-$T$21)*$T$22*(1+pref_attach_on*SUM($X$35:X259)),1,0)","v":0},226,{"$f":"IF(AND(SUM($X$35:X259)=0,X260=1),Y260,\"\")","v":""}]
[null,null,null,null,null,null,238,23.8,0.73496713823546123,3.3759695598140814E-4,0.56890766634092083,0.42321590288530531,1.1864174670380572,0.30242604541408691,1.9664397012780461E-2,2.191682937573122E-4,1.1287226015518027E-7,4.1402223706245425E-2,0,0,null,null,{"$f":"IF(RAND()<poisson_parameter*model!K261,1,0)","v":0},{"$f":"IF(RAND()<(K250^quadratic_condition*L250-$T$21)*$T$22*(1+pref_attach_on*SUM($X$35:X260)),1,0)","v":0},227,{"$f":"IF(AND(SUM($X$35:X260)=0,X261=1),Y261,\"\")","v":""}]
[null,null,null,null,null,null,239,23.9,0.73519880384157577,3.3581151552299326E-4,0.56912213631094211,0.42339085697873208,1.18828485937499,0.30206402767909019,1.9417885142393346E-2,2.0927332451733561E-4,8.4928932808930967E-8,4.1402223706245425E-2,0,0,null,null,{"$f":"IF(RAND()<poisson_parameter*model!K262,1,0)","v":0},{"$f":"IF(RAND()<(K251^quadratic_condition*L251-$T$21)*$T$22*(1+pref_attach_on*SUM($X$35:X261)),1,0)","v":0},228,{"$f":"IF(AND(SUM($X$35:X261)=0,X262=1),Y262,\"\")","v":""}]
[null,null,null,null,null,null,240,24,0.73541888876257377,3.3406014390497703E-4,0.56932855517795478,0.42355696973714518,1.189999034160983,0.3017125946837414,1.9174504025192576E-2,1.9981911768664911E-4,6.3870260158925171E-8,4.1402223706245425E-2,0,0,null,null,{"$f":"IF(RAND()<poisson_parameter*model!K263,1,0)","v":0},{"$f":"IF(RAND()<(K252^quadratic_condition*L252-$T$21)*$T$22*(1+pref_attach_on*SUM($X$35:X262)),1,0)","v":0},229,{"$f":"IF(AND(SUM($X$35:X262)=0,X263=1),Y263,\"\")","v":""}]
[null,null,null,null,null,null,241,24.1,0.73562795723645935,3.3234167264704185E-4,0.56952715519164787,0.42371468558773656,1.1915712111195531,0.30137144537798438,1.8934228723452393E-2,1.9078660086220323E-4,4.8010399650761605E-8,4.1402223706245425E-2,0,0,null,null,{"$f":"IF(RAND()<poisson_parameter*model!K264,1,0)","v":0},{"$f":"IF(RAND()<(K253^quadratic_condition*L253-$T$21)*$T$22*(1+pref_attach_on*SUM($X$35:X263)),1,0)","v":0},230,{"$f":"IF(AND(SUM($X$35:X263)=0,X264=1),Y264,\"\")","v":""}]
[null,null,null,null,null,null,242,24.2,0.7358265468940719,3.3065497995518942E-4,0.56971816766936201,0.4238644271222281,1.1930118735481252,0.30104028837859159,1.8697033083249225E-2,1.8215747408223008E-4,3.6073081134012031E-8,4.1402223706245425E-2,0,0,null,null,{"$f":"IF(RAND()<poisson_parameter*model!K265,1,0)","v":0},{"$f":"IF(RAND()<(K254^quadratic_condition*L254-$T$21)*$T$22*(1+pref_attach_on*SUM($X$35:X264)),1,0)","v":0},231,{"$f":"IF(AND(SUM($X$35:X264)=0,X265=1),Y265,\"\")","v":""}]
[null,null,null,null,null,null,243,24.3,0.73601516991779714,3.2899898849885444E-4,0.56990182240006915,0.42400659609551244,1.1943308061908062,0.30071884149868594,1.8462889862121964E-2,1.7391418359761392E-4,2.7093106704805849E-8,4.1402223706245425E-2,0,0,null,null,{"$f":"IF(RAND()<poisson_parameter*model!K266,1,0)","v":0},{"$f":"IF(RAND()<(K255^quadratic_condition*L255-$T$21)*$T$22*(1+pref_attach_on*SUM($X$35:X265)),1,0)","v":0},232,{"$f":"IF(AND(SUM($X$35:X265)=0,X266=1),Y266,\"\")","v":""}]
[null,null,null,null,null,null,244,24.4,0.73619431416332515,3.2737266331877809E-4,0.57007834711327765,0.42414157438983136,1.1955371327895052,0.30040683131003132,1.8231770848125342E-2,1.6603989602699258E-4,2.0341228943146623E-8,4.1402223706245425E-2,0,0,null,null,{"$f":"IF(RAND()<poisson_parameter*model!K267,1,0)","v":0},{"$f":"IF(RAND()<(K256^quadratic_condition*L256-$T$21)*$T$22*(1+pref_attach_on*SUM($X$35:X266)),1,0)","v":0},233,{"$f":"IF(AND(SUM($X$35:X266)=0,X267=1),Y267,\"\")","v":""}]
[null,null,null,null,null,null,245,24.5,0.73636444424315595,3.2577500985686493E-4,0.57024796700817038,0.42426972494366627,1.1966393529989079,0.30010399273607508,1.800364697072945E-2,1.5851847294909803E-4,1.5266954444563987E-8,4.1402223706245425E-2,0,0,null,null,{"$f":"IF(RAND()<poisson_parameter*model!K268,1,0)","v":0},{"$f":"IF(RAND()<(K257^quadratic_condition*L257-$T$21)*$T$22*(1+pref_attach_on*SUM($X$35:X267)),1,0)","v":0},234,{"$f":"IF(AND(SUM($X$35:X267)=0,X268=1),Y268,\"\")","v":""}]
[null,null,null,null,null,null,246,24.6,0.73652600257118706,3.2420507209978371E-4,0.57041090433850505,0.42439139264501519,1.1976453784156649,0.2998100686736962,1.7778488404010952E-2,1.5133444597754546E-4,1.1455062100132128E-8,4.1402223706245425E-2,0,0,null,null,{"$f":"IF(RAND()<poisson_parameter*model!K269,1,0)","v":0},{"$f":"IF(RAND()<(K258^quadratic_condition*L258-$T$21)*$T$22*(1+pref_attach_on*SUM($X$35:X268)),1,0)","v":0},235,{"$f":"IF(AND(SUM($X$35:X268)=0,X269=1),Y269,\"\")","v":""}]
[null,null,null,null,null,null,247,24.7,0.73667941036820517,3.2266193082860383E-4,0.5705673780490309,0.42450690518911505,1.1985625675279616,0.29952480964163442,1.7556264662570376E-2,1.4447299235578309E-4,8.5925940466078879E-9,4.1402223706245425E-2,0,0,null,null,{"$f":"IF(RAND()<poisson_parameter*model!K270,1,0)","v":0},{"$f":"IF(RAND()<(K259^quadratic_condition*L259-$T$21)*$T$22*(1+pref_attach_on*SUM($X$35:X269)),1,0)","v":0},236,{"$f":"IF(AND(SUM($X$35:X269)=0,X270=1),Y270,\"\")","v":""}]
[null,null,null,null,null,null,248,24.8,0.73682506862847807,3.2114470196727867E-4,0.57071760345940126,0.42461657390096247,1.1993977594393208,0.29924797345363063,1.7336944690595907E-2,1.3791991110316532E-4,6.4438292560196967E-9,4.1402223706245425E-2,0,0,null,null,{"$f":"IF(RAND()<poisson_parameter*model!K271,1,0)","v":0},{"$f":"IF(RAND()<(K260^quadratic_condition*L260-$T$21)*$T$22*(1+pref_attach_on*SUM($X$35:X270)),1,0)","v":0},237,{"$f":"IF(AND(SUM($X$35:X270)=0,X271=1),Y271,\"\")","v":""}]
[null,null,null,null,null,null,249,24.9,0.73696335904792387,3.1965253502328568E-4,0.57086179199178788,0.42472069452320899,1.200157306260915,0.29897932491438878,1.7120496944478522E-2,1.3166159973705278E-4,4.8313317658842379E-9,4.1402223706245425E-2,1,1,null,null,{"$f":"IF(RAND()<poisson_parameter*model!K272,1,0)","v":0},{"$f":"IF(RAND()<(K261^quadratic_condition*L261-$T$21)*$T$22*(1+pref_attach_on*SUM($X$35:X271)),1,0)","v":0},238,{"$f":"IF(AND(SUM($X$35:X271)=0,X272=1),Y272,\"\")","v":""}]
[null,null,null,null,null,null,250,25,0.73709464491454635,3.1818461161420839E-4,0.57100015093862599,0.42481954797017307,1.2008471041006807,0.29871863553656491,1.6906889469366443E-2,1.2568503159042331E-4,3.6216146317125435E-9,4.1402223706245425E-2,1,0,null,null,{"$f":"IF(RAND()<poisson_parameter*model!K273,1,0)","v":0},{"$f":"IF(RAND()<(K262^quadratic_condition*L262-$T$21)*$T$22*(1+pref_attach_on*SUM($X$35:X272)),1,0)","v":0},239,{"$f":"IF(AND(SUM($X$35:X272)=0,X273=1),Y273,\"\")","v":""}]
[null,null,null,null,null,null,251,25.1,0.73721927196197989,3.1674014407449423E-4,0.57113288326713252,0.42491340104883207,1.2014726226058905,0.29846568327709239,1.6696089970029502E-2,1.1997773373964564E-4,2.7143062235403943E-9,4.1402223706245425E-2,1,0,null,null,{"$f":"IF(RAND()<poisson_parameter*model!K274,1,0)","v":0},{"$f":"IF(RAND()<(K263^quadratic_condition*L263-$T$21)*$T$22*(1+pref_attach_on*SUM($X$35:X273)),1,0)","v":0},240,{"$f":"IF(AND(SUM($X$35:X273)=0,X274=1),Y274,\"\")","v":""}]
[null,null,null,null,null,null,252,25.2,0.73733756918710158,3.153183741370444E-4,0.57126018745745299,0.42500250714774618,1.2020389330392838,0.29822025229126081,1.64880658763863E-2,1.1452776555277224E-4,2.0339706910139585E-9,4.1402223706245425E-2,1,0,null,null,{"$f":"IF(RAND()<poisson_parameter*model!K275,1,0)","v":0},{"$f":"IF(RAND()<(K264^quadratic_condition*L264-$T$21)*$T$22*(1+pref_attach_on*SUM($X$35:X274)),1,0)","v":0},241,{"$f":"IF(AND(SUM($X$35:X274)=0,X275=1),Y275,\"\")","v":""}]
[null,null,null,null,null,null,253,25.3,0.73744984963274529,3.1391857168468429E-4,0.57138225737149329,0.42508710689492407,1.2025507348880247,0.29798213270307522,1.628278440402936E-2,1.0932369786490592E-4,1.5239374987662444E-9,4.1402223706245425E-2,1,0,null,null,{"$f":"IF(RAND()<poisson_parameter*model!K276,1,0)","v":0},{"$f":"IF(RAND()<(K265^quadratic_condition*L265-$T$21)*$T$22*(1+pref_attach_on*SUM($X$35:X275)),1,0)","v":0},242,{"$f":"IF(AND(SUM($X$35:X275)=0,X276=1),Y276,\"\")","v":""}]
[null,null,null,null,null,null,254,25.4,0.73755641113660564,3.1254003356693156E-4,0.57149928214968615,0.42516742878568003,1.2030123810202356,0.29775112039052931,1.6080212610066095E-2,1.0435459278383992E-4,1.141650113981103E-9,4.1402223706245425E-2,1,0,null,null,{"$f":"IF(RAND()<poisson_parameter*model!K277,1,0)","v":0},{"$f":"IF(RAND()<(K266^quadratic_condition*L266-$T$21)*$T$22*(1+pref_attach_on*SUM($X$35:X276)),1,0)","v":0},243,{"$f":"IF(AND(SUM($X$35:X276)=0,X277=1),Y277,\"\")","v":""}]
[null,null,null,null,null,null,255,25.5,0.73765753704745252,3.1118208247781794E-4,0.57161144613313053,0.42524368978155203,1.2034279014161773,0.29752701678453081,1.5880317444576294E-2,9.960998412622508E-5,8.5516228215547168E-10,4.1402223706245425E-2,1,0,null,null,{"$f":"IF(RAND()<poisson_parameter*model!K278,1,0)","v":0},{"$f":"IF(RAND()<(K267^quadratic_condition*L267-$T$21)*$T$22*(1+pref_attach_on*SUM($X$35:X277)),1,0)","v":0},244,{"$f":"IF(AND(SUM($X$35:X277)=0,X278=1),Y278,\"\")","v":""}]
[null,null,null,null,null,null,256,25.6,0.73775349690979075,3.0984406589083672E-4,0.57171892880871544,0.42531609588136005,1.2038010255107714,0.29730962868031585,1.5683065797970363E-2,9.5079858481941041E-5,6.4050043757482184E-10,4.1402223706245425E-2,1,0,null,null,{"$f":"IF(RAND()<poisson_parameter*model!K279,1,0)","v":0},{"$f":"IF(RAND()<(K268^quadratic_condition*L268-$T$21)*$T$22*(1+pref_attach_on*SUM($X$35:X278)),1,0)","v":0},245,{"$f":"IF(AND(SUM($X$35:X278)=0,X279=1),Y279,\"\")","v":""}]
[null,null,null,null,null,null,257,25.7,0.73784454711810754,3.0852535504737933E-4,0.57182190477501138,0.42538484266548104,1.2041352031915076,0.29709876806028485,1.54884245445165E-2,9.0754636902107136E-5,4.7967929311413181E-10,4.1402223706245425E-2,1,0,null,null,{"$f":"IF(RAND()<poisson_parameter*model!K280,1,0)","v":0},{"$f":"IF(RAND()<(K269^quadratic_condition*L269-$T$21)*$T$22*(1+pref_attach_on*SUM($X$35:X279)),1,0)","v":0},246,{"$f":"IF(AND(SUM($X$35:X279)=0,X280=1),Y280,\"\")","v":""}]
[null,null,null,null,null,null,258,25.8,0.7379309315418402,3.0722534399529373E-4,0.57192054372686996,0.42545011581440773,1.2044336245012015,0.29689425192727953,1.5296360582289659E-2,8.6625157204229917E-5,3.5920964792520214E-10,4.1402223706245425E-2,1,0,null,null,{"$f":"IF(RAND()<poisson_parameter*model!K281,1,0)","v":0},{"$f":"IF(RAND()<(K270^quadratic_condition*L270-$T$21)*$T$22*(1+pref_attach_on*SUM($X$35:X280)),1,0)","v":0},247,{"$f":"IF(AND(SUM($X$35:X280)=0,X281=1),Y281,\"\")","v":""}]
[null,null,null,null,null,null,259,25.9,0.73801288212218819,3.0594344867444485E-4,0.57201501045682268,0.42551209160264208,1.2046992380988879,0.29669590214740549,1.5106840869780438E-2,8.2682656886318674E-5,2.6897686580791147E-10,4.1402223706245425E-2,1,{"$f":"S282-S281","v":0},null,null,{"$f":"IF(RAND()<poisson_parameter*model!K282,1,0)","v":0},{"$f":"IF(RAND()<(K271^quadratic_condition*L271-$T$21)*$T$22*(1+pref_attach_on*SUM($X$35:X281)),1,0)","v":0},248,{"$f":"IF(AND(SUM($X$35:X281)=0,X282=1),Y282,\"\")","v":""}]
[null,null,null,null,null,null,260,26,0.73809061944187238,3.0467910604638763E-4,0.57210546487151503,0.42557093736895468,1.2049347685346206,0.29650354530158052,1.4919832459387956E-2,7.8918756640380429E-5,2.0139831916996904E-10,4.1402223706245425E-2,1,0,null,null,{"$f":"IF(RAND()<poisson_parameter*model!K283,1,0)","v":0},{"$f":"IF(RAND()<(K272^quadratic_condition*L272-$T$21)*$T$22*(1+pref_attach_on*SUM($X$35:X282)),1,0)","v":0},249,{"$f":"IF(AND(SUM($X$35:X282)=0,X283=1),Y283,\"\")","v":""}]
[null,null,null,null,null,null,261,26.1,0.73816435326892416,3.0343177326547211E-4,0.57219206202154194,0.42562681196401564,1.205142732395337,0.29631701254506171,1.4735302528007414E-2,7.5325444454506566E-5,1.5079066327084548E-10,4.1402223706245425E-2,1,0,null,null,{"$f":"IF(RAND()<poisson_parameter*model!K284,1,0)","v":0},{"$f":"IF(RAND()<(K273^quadratic_condition*L273-$T$21)*$T$22*(1+pref_attach_on*SUM($X$35:X283)),1,0)","v":0},250,{"$f":"IF(AND(SUM($X$35:X283)=0,X284=1),Y284,\"\")","v":""}]
[null,null,null,null,null,null,262,26.2,0.73823428307556027,3.0220092688889645E-4,0.57227495214318058,0.42567986617637771,1.2053254533794424,0.29613613947426976,1.4553218404910291E-2,7.1895060291761779E-5,1.1289485798293101E-10,4.1402223706245425E-2,1,0,null,null,{"$f":"IF(RAND()<poisson_parameter*model!K285,1,0)","v":0},{"$f":"IF(RAND()<(K274^quadratic_condition*L274-$T$21)*$T$22*(1+pref_attach_on*SUM($X$35:X284)),1,0)","v":0},251,{"$f":"IF(AND(SUM($X$35:X284)=0,X285=1),Y285,\"\")","v":""}]
[null,null,null,null,null,null,263,26.3,0.73830059853317132,3.0098606212340049E-4,0.5723542807106321,0.4257302431377627,1.2054850763575395,0.2959607660002907,1.4373547597103046E-2,6.862028133326127E-5,8.451972648099421E-11,4.1402223706245425E-2,1,0,null,null,{"$f":"IF(RAND()<poisson_parameter*model!K286,1,0)","v":0},{"$f":"IF(RAND()<(K275^quadratic_condition*L275-$T$21)*$T$22*(1+pref_attach_on*SUM($X$35:X285)),1,0)","v":0},252,{"$f":"IF(AND(SUM($X$35:X285)=0,X286=1),Y286,\"\")","v":""}]
[null,null,null,null,null,null,264,26.4,0.73836347998442442,2.9978669210645919E-4,0.57243018849749638,0.42577807870857265,1.205623580475925,0.29579073622849089,1.4196257812338771E-2,6.5494107772155288E-5,6.3274548757350949E-11,4.1402223706245425E-2,1,0,null,null,{"$f":"IF(RAND()<poisson_parameter*model!K287,1,0)","v":0},{"$f":"IF(RAND()<(K276^quadratic_condition*L276-$T$21)*$T$22*(1+pref_attach_on*SUM($X$35:X286)),1,0)","v":0},253,{"$f":"IF(AND(SUM($X$35:X286)=0,X287=1),Y287,\"\")","v":""}]
[null,null,null,null,null,null,265,26.5,0.73842309889344748,2.9860234721998505E-4,0.57250281164630767,0.42582350184451689,1.205742791358223,0.2956258983437331,1.4021316979945377E-2,6.2509849144713631E-5,4.736850463040492E-11,4.1402223706245425E-2,1,0,null,null,{"$f":"IF(RAND()<poisson_parameter*model!K288,1,0)","v":0},{"$f":"IF(RAND()<(K277^quadratic_condition*L277-$T$21)*$T$22*(1+pref_attach_on*SUM($X$35:X287)),1,0)","v":0},254,{"$f":"IF(AND(SUM($X$35:X287)=0,X288=1),Y288,\"\")","v":""}]
[null,null,null,null,null,null,266,26.6,0.7384796182750335,2.9743257443469012E-4,0.57257228174505514,0.42586663494521476,1.2058443924589273,0.29546610450072841,1.3848693269623687E-2,5.9661111184300607E-5,3.5460291337809272E-11,4.1402223706245425E-2,1,0,null,null,{"$f":"IF(RAND()<poisson_parameter*model!K289,1,0)","v":0},{"$f":"IF(RAND()<(K278^quadratic_condition*L278-$T$21)*$T$22*(1+pref_attach_on*SUM($X$35:X288)),1,0)","v":0},255,{"$f":"IF(AND(SUM($X$35:X288)=0,X289=1),Y289,\"\")","v":""}]
[null,null,null,null,null,null,267,26.7,0.73853319310377108,2.9627693668338607E-4,0.57263872590970433,0.42590759418560242,1.205929935620762,0.29531121071910221,1.367835510835912E-2,5.6941783183739652E-5,2.654538819701133E-11,4.1402223706245425E-2,1,0,null,null,{"$f":"IF(RAND()<poisson_parameter*model!K290,1,0)","v":0},{"$f":"IF(RAND()<(K279^quadratic_condition*L279-$T$21)*$T$22*(1+pref_attach_on*SUM($X$35:X289)),1,0)","v":0},256,{"$f":"IF(AND(SUM($X$35:X289)=0,X290=1),Y290,\"\")","v":""}]
[null,null,null,null,null,null,268,26.8,0.7385839707039753,2.9513501226161964E-4,0.57270226687181891,0.42594648983094147,1.2060008508857327,0.29516107678279208,1.3510271195581548E-2,5.4346025851372527E-5,1.9871560525364073E-11,4.1402223706245425E-2,1,0,null,null,{"$f":"IF(RAND()<poisson_parameter*model!K291,1,0)","v":0},{"$f":"IF(RAND()<(K280^quadratic_condition*L280-$T$21)*$T$22*(1+pref_attach_on*SUM($X$35:X290)),1,0)","v":0},257,{"$f":"IF(AND(SUM($X$35:X290)=0,X291=1),Y291,\"\")","v":""}]
[null,null,null,null,null,null,269,26.9,0.73863209112126271,2.9400639425415019E-4,0.57276302307046223,0.4259834265361952,1.2060584556075682,0.29501556614343072,1.3344410516699295E-2,5.186825964600939E-5,1.4875540454792662E-11,4.1402223706245425E-2,1,0,null,null,{"$f":"IF(RAND()<poisson_parameter*model!K292,1,0)","v":0},{"$f":"IF(RAND()<(K281^quadratic_condition*L281-$T$21)*$T$22*(1+pref_attach_on*SUM($X$35:X291)),1,0)","v":0},258,{"$f":"IF(AND(SUM($X$35:X291)=0,X292=1),Y292,\"\")","v":""}]
[null,null,null,null,null,null,270,27,0.73867768747658269,2.9289068998587727E-4,0.57282110874763026,0.42601850363050919,1.2061039629110104,0.29487454582740136,1.3180742355125169E-2,4.9503153575932614E-5,1.1135584770645335E-11,4.1402223706245425E-2,1,0,null,null,{"$f":"IF(RAND()<poisson_parameter*model!K293,1,0)","v":0},{"$f":"IF(RAND()<(K282^quadratic_condition*L282-$T$21)*$T$22*(1+pref_attach_on*SUM($X$35:X292)),1,0)","v":0},259,{"$f":"IF(AND(SUM($X$35:X292)=0,X293=1),Y293,\"\")","v":""}]
[null,null,null,null,null,null,271,27.1,0.73872088630348642,2.9178752049591932E-4,0.57287663404653588,0.42605181538750175,1.2061384895411327,0.29473788634628173,1.3019236302904772E-2,4.7245614447149179E-5,8.3359337640921306E-12,4.1402223706245425E-2,1,0,null,null,{"$f":"IF(RAND()<poisson_parameter*model!K294,1,0)","v":0},{"$f":"IF(RAND()<(K283^quadratic_condition*L283-$T$21)*$T$22*(1+pref_attach_on*SUM($X$35:X293)),1,0)","v":0},260,{"$f":"IF(AND(SUM($X$35:X293)=0,X294=1),Y294,\"\")","v":""}]
[null,null,null,null,null,null,272,27.2,0.73876180786938528,2.9069652003363037E-4,0.57292970511212826,0.42608345128204111,1.2061630631435809,0.29460546161042028,1.2859862270050183E-2,4.5090776546175281E-5,6.2401890836671267E-12,4.1402223706245425E-2,1,0,null,null,{"$f":"IF(RAND()<poisson_parameter*model!K295,1,0)","v":0},{"$f":"IF(RAND()<(K284^quadratic_condition*L284-$T$21)*$T$22*(1+pref_attach_on*SUM($X$35:X294)),1,0)","v":0},261,{"$f":"IF(AND(SUM($X$35:X294)=0,X295=1),Y295,\"\")","v":""}]
[null,null,null,null,null,null,273,27.3,0.73880056648152026,2.8961733557542101E-4,0.57298042419328898,0.42611349623415745,1.2061786290143757,0.29447714884541387,1.2702590492675367E-2,4.3033991742774776E-5,4.6713746286236032E-12,4.1402223706245425E-2,1,0,null,null,{"$f":"IF(RAND()<poisson_parameter*model!K296,1,0)","v":0},{"$f":"IF(RAND()<(K285^quadratic_condition*L285-$T$21)*$T$22*(1+pref_attach_on*SUM($X$35:X295)),1,0)","v":0},262,{"$f":"IF(AND(SUM($X$35:X295)=0,X296=1),Y296,\"\")","v":""}]
[null,null,null,null,null,null,274,27.4,0.73883727077833672,2.885496263613239E-4,0.57302888974620148,0.42614203084070978,1.2061860563556979,0.29435282851127759,1.2547391540023309E-2,4.1070819998253284E-5,3.497004308285996E-12,4.1402223706245425E-2,1,0,null,null,{"$f":"IF(RAND()<poisson_parameter*model!K297,1,0)","v":0},{"$f":"IF(RAND()<(K286^quadratic_condition*L286-$T$21)*$T$22*(1+pref_attach_on*SUM($X$35:X296)),1,0)","v":0},263,{"$f":"IF(AND(SUM($X$35:X296)=0,X297=1),Y297,\"\")","v":""}]
[null,null,null,null,null,null,275,27.5,0.73887202400692753,2.874930634503113E-4,0.57307519653843919,0.42616913159540148,1.2061861440719202,0.29423238422411813,1.2394236320468944E-2,3.9197020265125804E-5,2.6179003836476767E-12,4.1402223706245425E-2,1,0,null,null,{"$f":"IF(RAND()<poisson_parameter*model!K298,1,0)","v":0},{"$f":"IF(RAND()<(K287^quadratic_condition*L287-$T$21)*$T$22*(1+pref_attach_on*SUM($X$35:X297)),1,0)","v":0},264,{"$f":"IF(AND(SUM($X$35:X297)=0,X298=1),Y298,\"\")","v":""}]
[null,null,null,null,null,null,276,27.6,0.73890492428718535,2.8644732929343546E-4,0.57311943575336621,0.42619487109771104,1.2061796261380642,0.29411570268014142,1.2243096086576363E-2,3.7408541764222227E-5,1.9598209850292448E-12,4.1402223706245425E-2,1,0,null,null,{"$f":"IF(RAND()<poisson_parameter*model!K299,1,0)","v":0},{"$f":"IF(RAND()<(K288^quadratic_condition*L288-$T$21)*$T$22*(1+pref_attach_on*SUM($X$35:X298)),1,0)","v":0},265,{"$f":"IF(AND(SUM($X$35:X298)=0,X299=1),Y299,\"\")","v":""}]
[null,null,null,null,null,null,277,27.7,0.73893606486327246,2.8541211732392046E-4,0.57316169509448478,0.42621931825127973,1.2061671765708517,0.29400267358184073,1.2093942439283521E-2,3.5701515625566884E-5,1.4671914702703186E-12,4.1402223706245425E-2,1,0,null,null,{"$f":"IF(RAND()<poisson_parameter*model!K300,1,0)","v":0},{"$f":"IF(RAND()<(K289^quadratic_condition*L289-$T$21)*$T$22*(1+pref_attach_on*SUM($X$35:X299)),1,0)","v":0},266,{"$f":"IF(AND(SUM($X$35:X299)=0,X300=1),Y300,\"\")","v":""}]
[null,null,null,null,null,null,278,27.8,0.73896553434299628,2.8438713156338821E-4,0.57320205888940512,0.42624253845227394,1.2061494140306004,0.29389318956622745,1.1946747331282788E-2,3.4072246879661173E-5,1.0984112372540122E-12,4.1402223706245425E-2,1,0,null,null,{"$f":"IF(RAND()<poisson_parameter*model!K301,1,0)","v":0},{"$f":"IF(RAND()<(K290^quadratic_condition*L290-$T$21)*$T$22*(1+pref_attach_on*SUM($X$35:X300)),1,0)","v":0},267,{"$f":"IF(AND(SUM($X$35:X300)=0,X301=1),Y301,\"\")","v":""}]
[null,null,null,null,null,null,279,27.9,0.73899341692565035,2.8337208624345107E-4,0.57324060819314848,0.42626459376821524,1.206126906080375,0.29378714613498075,1.1801483069661023E-2,3.2517206786107891E-5,8.2234021323878823E-13,4.1402223706245425E-2,1,0,null,null,{"$f":"IF(RAND()<poisson_parameter*model!K302,1,0)","v":0},{"$f":"IF(RAND()<(K291^quadratic_condition*L291-$T$21)*$T$22*(1+pref_attach_on*SUM($X$35:X301)),1,0)","v":0},268,{"$f":"IF(AND(SUM($X$35:X301)=0,X302=1),Y302,\"\")","v":""}]
[null,null,null,null,null,null,280,28,0.7390197926188572,2.8236670544195007E-4,0.57327742089052725,0.42628554310774958,1.2061001731270684,0.29368444158640328,1.1658122317858592E-2,3.1033025486839296E-5,6.1566860535365796E-13,4.1402223706245425E-2,1,0,null,null,{"$f":"IF(RAND()<poisson_parameter*model!K303,1,0)","v":0},{"$f":"IF(RAND()<(K292^quadratic_condition*L292-$T$21)*$T$22*(1+pref_attach_on*SUM($X$35:X302)),1,0)","v":0},269,{"$f":"IF(AND(SUM($X$35:X302)=0,X303=1),Y303,\"\")","v":""}]
[null,null,null,null,null,null,281,28.1,0.73904473744492838,2.8137072273316029E-4,0.57331257179737782,0.42630544238180434,1.2060696920674292,0.29358497694908359,1.151663809700265E-2,2.9616484971544402E-5,4.6094793561023207E-13,4.1402223706245425E-2,1,0,null,null,{"$f":"IF(RAND()<poisson_parameter*model!K304,1,0)","v":0},{"$f":"IF(RAND()<(K293^quadratic_condition*L293-$T$21)*$T$22*(1+pref_attach_on*SUM($X$35:X303)),1,0)","v":0},270,{"$f":"IF(AND(SUM($X$35:X303)=0,X304=1),Y304,\"\")","v":""}]
[null,null,null,null,null,null,282,28.2,0.73906832363723074,2.8038388085132519E-4,0.57334613276044866,0.42632434465656166,1.2060358996604945,0.29348865591717338,1.1377003786666257E-2,2.8264512343232197E-5,3.4511714360964341E-13,4.1402223706245425E-2,1,0,null,null,{"$f":"IF(RAND()<poisson_parameter*model!K305,1,0)","v":0},{"$f":"IF(RAND()<(K294^quadratic_condition*L294-$T$21)*$T$22*(1+pref_attach_on*SUM($X$35:X304)),1,0)","v":0},271,{"$f":"IF(AND(SUM($X$35:X304)=0,X305=1),Y305,\"\")","v":""}]
[null,null,null,null,null,null,283,28.3,0.73909061982703073,2.7940593136691858E-4,0.5733781727557723,0.42634230029865561,1.2059991956464118,0.29339538478719907,1.1239193125101306E-2,2.6974173372213897E-5,2.5839930288024374E-13,4.1402223706245425E-2,1,0,null,null,{"$f":"IF(RAND()<poisson_parameter*model!K306,1,0)","v":0},{"$f":"IF(RAND()<(K295^quadratic_condition*L295-$T$21)*$T$22*(1+pref_attach_on*SUM($X$35:X305)),1,0)","v":0},272,{"$f":"IF(AND(SUM($X$35:X305)=0,X306=1),Y306,\"\")","v":""}]
[null,null,null,null,null,null,284,28.4,0.73911169122126463,2.7843663437506709E-4,0.57340875798537394,0.4263593571129819,1.205959945630251,0.2933050723963338,1.110318020898996E-2,2.5742666327136749E-5,1.9347577269418859E-13,4.1402223706245425E-2,1,0,null,null,{"$f":"IF(RAND()<poisson_parameter*model!K307,1,0)","v":0},{"$f":"IF(RAND()<(K296^quadratic_condition*L296-$T$21)*$T$22*(1+pref_attach_on*SUM($X$35:X306)),1,0)","v":0},273,{"$f":"IF(AND(SUM($X$35:X306)=0,X307=1),Y307,\"\")","v":""}]
[null,null,null,null,null,null,285,28.5,0.73913159977166354,2.774757581955986E-4,0.57343795197218894,0.4263755604734904,1.2059184837481034,0.29321763006206436,1.0968939492756154E-2,2.4567316072052554E-5,1.4486802735053482E-13,4.1402223706245425E-2,1,0,null,null,{"$f":"IF(RAND()<poisson_parameter*model!K308,1,0)","v":0},{"$f":"IF(RAND()<(K297^quadratic_condition*L297-$T$21)*$T$22*(1+pref_attach_on*SUM($X$35:X307)),1,0)","v":0},274,{"$f":"IF(AND(SUM($X$35:X307)=0,X308=1),Y308,\"\")","v":""}]
[null,null,null,null,null,null,286,28.6,0.73915040433564361,2.7652307908421144E-4,0.57346581565308352,0.42639095344731215,1.2058751151315432,0.29313297152319295,1.0836445787475828E-2,2.3445568418854273E-5,1.0847494100405036E-13,4.1402223706245425E-2,1,0,null,null,{"$f":"IF(RAND()<poisson_parameter*model!K309,1,0)","v":0},{"$f":"IF(RAND()<(K298^quadratic_condition*L298-$T$21)*$T$22*(1+pref_attach_on*SUM($X$35:X308)),1,0)","v":0},275,{"$f":"IF(AND(SUM($X$35:X308)=0,X309=1),Y309,\"\")","v":""}]
[null,null,null,null,null,null,287,28.7,0.73916816082935255,2.7557838095428706E-4,0.57349240746988872,0.42640557691255648,1.2058301181853885,0.29305101288212126,1.0705674259421812E-2,2.2374984724762445E-5,8.1226435513013352E-14,4.1402223706245425E-2,1,0,null,null,{"$f":"IF(RAND()<poisson_parameter*model!K310,1,0)","v":0},{"$f":"IF(RAND()<(K299^quadratic_condition*L299-$T$21)*$T$22*(1+pref_attach_on*SUM($X$35:X309)),1,0)","v":0},276,{"$f":"IF(AND(SUM($X$35:X309)=0,X310=1),Y310,\"\")","v":""}]
[null,null,null,null,null,null,288,28.8,0.7391849223732454,2.7464145510889496E-4,0.5735177834583749,0.42641946967009747,1.205783746692626,0.29297167254836759,1.0576600428276786E-2,2.1353236724888593E-5,6.0824228234063849E-14,4.1402223706245425E-2,1,0,null,null,{"$f":"IF(RAND()<poisson_parameter*model!K311,1,0)","v":0},{"$f":"IF(RAND()<(K300^quadratic_condition*L300-$T$21)*$T$22*(1+pref_attach_on*SUM($X$35:X310)),1,0)","v":0},277,{"$f":"IF(AND(SUM($X$35:X310)=0,X311=1),Y311,\"\")","v":""}]
[null,null,null,null,null,null,289,28.9,0.73920073943054732,2.7371209998256228E-4,0.57354199733510791,0.42643266854965256,1.2057362317593647,0.29289487118327451,1.0449200165045297E-2,2.0378101590243884E-5,4.5547775220779545E-14,4.1402223706245425E-2,1,0,null,null,{"$f":"IF(RAND()<poisson_parameter*model!K312,1,0)","v":0},{"$f":"IF(RAND()<(K301^quadratic_condition*L301-$T$21)*$T$22*(1+pref_attach_on*SUM($X$35:X311)),1,0)","v":0},278,{"$f":"IF(AND(SUM($X$35:X311)=0,X312=1),Y312,\"\")","v":""}]
[null,null,null,null,null,null,290,29,0.739215659938943,2.727901208924038E-4,0.57356510058214194,0.42644520851044243,1.2056877836117572,0.29282053164586691,1.0323449689693662E-2,1.9447457201897742E-5,3.4109013777451049E-14,4.1402223706245425E-2,1,0,null,null,{"$f":"IF(RAND()<poisson_parameter*model!K313,1,0)","v":0},{"$f":"IF(RAND()<(K302^quadratic_condition*L302-$T$21)*$T$22*(1+pref_attach_on*SUM($X$35:X312)),1,0)","v":0},279,{"$f":"IF(AND(SUM($X$35:X312)=0,X313=1),Y313,\"\")","v":""}]
[null,null,null,null,null,null,291,29.1,0.73922972943581744,2.7187532979822837E-4,0.57358714252951559,0.42645712273670666,1.205638593255953,0.29274857893982559,1.0199325568544441E-2,1.8559277632321605E-5,2.5543631749263972E-14,4.1402223706245425E-2,1,0,null,null,{"$f":"IF(RAND()<poisson_parameter*model!K314,1,0)","v":0},{"$f":"IF(RAND()<(K303^quadratic_condition*L303-$T$21)*$T$22*(1+pref_attach_on*SUM($X$35:X313)),1,0)","v":0},280,{"$f":"IF(AND(SUM($X$35:X313)=0,X314=1),Y314,\"\")","v":""}]
[null,null,null,null,null,null,292,29.2,0.73924299117735759,2.7096754507125782E-4,0.57360817043552847,0.42646844272833545,1.2055888340113439,0.29267894016154344,1.0076804711450289E-2,1.7711628825277236E-5,1.912967746320715E-14,4.1402223706245425E-2,1,0,null,null,{"$f":"IF(RAND()<poisson_parameter*model!K315,1,0)","v":0},{"$f":"IF(RAND()<(K304^quadratic_condition*L304-$T$21)*$T$22*(1+pref_attach_on*SUM($X$35:X314)),1,0)","v":0},281,{"$f":"IF(AND(SUM($X$35:X314)=0,X315=1),Y315,\"\")","v":""}]
[null,null,null,null,null,null,293,29.3,0.73925548625181114,2.7006659127111303E-4,0.57362822956478532,0.42647919838686615,1.2055386629266074,0.29261154444923593,9.9558643687701447E-3,1.6902664465926354E-5,1.4326634557013865E-14,4.2655428746370197E-2,1,0,null,null,{"$f":"IF(RAND()<poisson_parameter*model!K316,1,0)","v":0},{"$f":"IF(RAND()<(K305^quadratic_condition*L305-$T$21)*$T$22*(1+pref_attach_on*SUM($X$35:X315)),1,0)","v":0},282,{"$f":"IF(AND(SUM($X$35:X315)=0,X316=1),Y316,\"\")","v":""}]
[null,null,null,null,null,null,294,29.4,0.73926725368718305,2.6917229893073854E-4,0.57364736326400345,0.4264894180970798,1.2054882220873537,0.29254632293307814,9.8364821281690315E-3,1.6129402151863741E-5,1.0729815217584414E-14,4.3942337234991878E-2,1,0,null,null,{"$f":"IF(RAND()<poisson_parameter*model!K317,1,0)","v":0},{"$f":"IF(RAND()<(K306^quadratic_condition*L306-$T$21)*$T$22*(1+pref_attach_on*SUM($X$35:X316)),1,0)","v":0},283,{"$f":"IF(AND(SUM($X$35:X316)=0,X317=1),Y317,\"\")","v":""}]
[null,null,null,null,null,null,295,29.5,0.73927833051172365,2.6828450434895353E-4,0.5736656130355865,0.42649912889936753,1.2054376398235322,0.29248320868634481,9.718635911227267E-3,1.5390295412950944E-5,8.0362197083182498E-15,4.5263591524934192E-2,1,0,null,null,{"$f":"IF(RAND()<poisson_parameter*model!K318,1,0)","v":0},{"$f":"IF(RAND()<(K307^quadratic_condition*L307-$T$21)*$T$22*(1+pref_attach_on*SUM($X$35:X317)),1,0)","v":0},284,{"$f":"IF(AND(SUM($X$35:X317)=0,X318=1),Y318,\"\")","v":""}]
[null,null,null,null,null,null,296,29.6,0.73928875189990439,2.6740304939013932E-4,0.57368301861168725,0.4265083564523735,1.2053870318266258,0.29242213667753059,9.6023039700233979E-3,1.468386432375045E-5,6.018978870406407E-15,4.6619829830728418E-2,1,0,null,null,{"$f":"IF(RAND()<poisson_parameter*model!K319,1,0)","v":0},{"$f":"IF(RAND()<(K308^quadratic_condition*L308-$T$21)*$T$22*(1+pref_attach_on*SUM($X$35:X318)),1,0)","v":0},285,{"$f":"IF(AND(SUM($X$35:X318)=0,X319=1),Y319,\"\")","v":""}]
[null,null,null,null,null,null,297,29.7,0.73929855126432886,2.6652778129118617E-4,0.57369961802273117,0.4265171251043412,1.2053365021780671,0.29236304372338356,9.4874648835082398E-3,1.4008692661727736E-5,4.5082214273076156E-15,4.8011685007004236E-2,1,0,null,null,{"$f":"IF(RAND()<poisson_parameter*model!K320,1,0)","v":0},{"$f":"IF(RAND()<(K309^quadratic_condition*L309-$T$21)*$T$22*(1+pref_attach_on*SUM($X$35:X319)),1,0)","v":0},286,{"$f":"IF(AND(SUM($X$35:X319)=0,X320=1),Y320,\"\")","v":""}]
[null,null,null,null,null,null,298,29.8,0.73930776034313506,2.6565855247521884E-4,0.57371544766383897,0.42652545796075214,1.205286144298515,0.29230586844289219,9.3740975537741043E-3,1.3363425184266048E-5,3.3767506683597028E-15,4.9439783264442948E-2,1,0,null,null,{"$f":"IF(RAND()<poisson_parameter*model!K321,1,0)","v":0},{"$f":"IF(RAND()<(K310^quadratic_condition*L310-$T$21)*$T$22*(1+pref_attach_on*SUM($X$35:X320)),1,0)","v":0},287,{"$f":"IF(AND(SUM($X$35:X320)=0,X321=1),Y321,\"\")","v":""}]
[null,null,null,null,null,null,299,29.9,0.73931640928310749,2.6479522037184394E-4,0.57373054235916665,0.42653337694845012,1.2052360418239667,0.29225055121220583,9.2621812022334708E-3,1.2746765019740327E-5,2.5293213321803141E-15,5.0904742823146727E-2,1,0,null,null,{"$f":"IF(RAND()<poisson_parameter*model!K322,1,0)","v":0},{"$f":"IF(RAND()<(K311^quadratic_condition*L311-$T$21)*$T$22*(1+pref_attach_on*SUM($X$35:X321)),1,0)","v":0},288,{"$f":"IF(AND(SUM($X$35:X321)=0,X322=1),Y322,\"\")","v":""}]
[null,null,null,null,null,null,300,30,0.73932452671870574,2.6393764724367207E-4,0.57374493542418281,0.42654090287643315,1.2051862694142403,0.29219703412047093,9.1516953657202645E-3,1.2157471168067512E-5,1.8946115786931943E-15,5.2407172503548621E-2,1,0,null,null,{"$f":"IF(RAND()<poisson_parameter*model!K323,1,0)","v":0},{"$f":"IF(RAND()<(K312^quadratic_condition*L312-$T$21)*$T$22*(1+pref_attach_on*SUM($X$35:X322)),1,0)","v":0},289,{"$f":"IF(AND(SUM($X$35:X322)=0,X323=1),Y323,\"\")","v":""}]
[null,null,null,null,null,null,301,30.1,0.73933213984720803,2.6308570001888084E-4,0.5737586587259117,0.42654805549348701,1.205136893498943,0.29214526092656623,9.0426198925258917E-3,1.1594356106317107E-5,1.4192125325362541E-15,5.3947670255283374E-2,1,0,null,null,{"$f":"IF(RAND()<poisson_parameter*model!K324,1,0)","v":0},{"$f":"IF(RAND()<(K313^quadratic_condition*L313-$T$21)*$T$22*(1+pref_attach_on*SUM($X$35:X323)),1,0)","v":0},290,{"$f":"IF(AND(SUM($X$35:X323)=0,X324=1),Y324,\"\")","v":""}]
[null,null,null,null,null,null,302,30.2,0.73933927450015735,2.6223925012959384E-4,0.5737717427411706,0.42655485354282419,1.2050879729656601,0.29209517701672044,8.9349349383811959E-3,1.1056283495128333E-5,1.0631282357850632E-15,5.5526821624758936E-2,1,0,null,null,{"$f":"IF(RAND()<poisson_parameter*model!K325,1,0)","v":0},{"$f":"IF(RAND()<(K314^quadratic_condition*L314-$T$21)*$T$22*(1+pref_attach_on*SUM($X$35:X324)),1,0)","v":0},291,{"$f":"IF(AND(SUM($X$35:X324)=0,X325=1),Y325,\"\")","v":""}]
[null,null,null,null,null,null,303,30.3,0.73934595521129087,2.6139817335586171E-4,0.57378421661283574,0.42656131481388448,1.2050395597947434,0.29204672936299836,8.8286209623946489E-3,1.0542165981838359E-5,7.9640636138225867E-16,5.7145198162513185E-2,1,0,null,null,{"$f":"IF(RAND()<poisson_parameter*model!K326,1,0)","v":0},{"$f":"IF(RAND()<(K315^quadratic_condition*L315-$T$21)*$T$22*(1+pref_attach_on*SUM($X$35:X325)),1,0)","v":0},292,{"$f":"IF(AND(SUM($X$35:X325)=0,X326=1),Y326,\"\")","v":""}]
[null,null,null,null,null,null,304,30.4,0.73935220528112189,2.6056234967504016E-4,0.57379610820417226,0.42656745619144554,1.2049916996447509,0.29199986648264054,8.7236587229562179E-3,1.0050963096379835E-5,5.9661548595218296E-16,5.8803355771809215E-2,1,0,null,null,{"$f":"IF(RAND()<poisson_parameter*model!K327,1,0)","v":0},{"$f":"IF(RAND()<(K316^quadratic_condition*L316-$T$21)*$T$22*(1+pref_attach_on*SUM($X$35:X326)),1,0)","v":0},293,{"$f":"IF(AND(SUM($X$35:X326)=0,X327=1),Y327,\"\")","v":""}]
[null,null,null,null,null,null,305,30.5,0.73935804683833872,2.5973166311636919E-4,0.5738074441512665,0.42657329370218233,1.2049444323922789,0.2919545383982437,8.6200292736156245E-3,9.5816792361553278E-6,4.4695616683575365E-16,6.0501833000315974E-2,1,0,null,null,{"$f":"IF(RAND()<poisson_parameter*model!K328,1,0)","v":0},{"$f":"IF(RAND()<(K317^quadratic_condition*L317-$T$21)*$T$22*(1+pref_attach_on*SUM($X$35:X327)),1,0)","v":0},294,{"$f":"IF(AND(SUM($X$35:X327)=0,X328=1),Y328,\"\")","v":""}]
[null,null,null,null,null,null,306,30.6,0.73936350089817482,2.5890600162056522E-4,0.57381824991360164,0.4265788425588099,1.2048977926296542,0.29191069659876856,8.517713958942956E-3,9.1333617362411966E-6,3.3484654955179703E-16,6.2241149277137704E-2,1,0,null,null,{"$f":"IF(RAND()<poisson_parameter*model!K329,1,0)","v":0},{"$f":"IF(RAND()<(K318^quadratic_condition*L318-$T$21)*$T$22*(1+pref_attach_on*SUM($X$35:X328)),1,0)","v":0},295,{"$f":"IF(AND(SUM($X$35:X328)=0,X329=1),Y329,\"\")","v":""}]
[null,null,null,null,null,null,307,30.7,0.73936858741789779,2.5808525690424697E-4,0.57382854982281839,0.4265841172019344,1.204851810123688,0.29186829400136338,8.4166944103789484E-3,8.7050990214139158E-6,2.5086326646660957E-16,6.4021803097895194E-2,1,0,null,null,{"$f":"IF(RAND()<poisson_parameter*model!K330,1,0)","v":0},{"$f":"IF(RAND()<(K319^quadratic_condition*L319-$T$21)*$T$22*(1+pref_attach_on*SUM($X$35:X329)),1,0)","v":0},296,{"$f":"IF(AND(SUM($X$35:X329)=0,X330=1),Y330,\"\")","v":""}]
[null,null,null,null,null,null,308,30.8,0.73937332534955791,2.5726932432902237E-4,0.57383836712970326,0.42658913133973253,1.2048065102384502,0.29182728491399051,8.3169525420816251E-3,8.2960188366280224E-6,1.8794835681572586E-16,6.5844270161022719E-2,1,0,null,null,{"$f":"IF(RAND()<poisson_parameter*model!K331,1,0)","v":0},{"$f":"IF(RAND()<(K320^quadratic_condition*L320-$T$21)*$T$22*(1+pref_attach_on*SUM($X$35:X330)),1,0)","v":0},297,{"$f":"IF(AND(SUM($X$35:X330)=0,X331=1),Y331,\"\")","v":""}]
[null,null,null,null,null,null,309,30.9,0.73937773269013018,2.564581027750711E-4,0.57384772404944928,0.42659389798557207,1.2047619143248054,0.2917876249988452,8.2184705467753909E-3,7.9052865527065354E-6,1.4081537341619593E-16,6.7709001458925541E-2,1,0,null,null,{"$f":"IF(RAND()<poisson_parameter*model!K332,1,0)","v":0},{"$f":"IF(RAND()<(K321^quadratic_condition*L321-$T$21)*$T$22*(1+pref_attach_on*SUM($X$35:X331)),1,0)","v":0},298,{"$f":"IF(AND(SUM($X$35:X331)=0,X332=1),Y332,\"\")","v":""}]
[null,null,null,null,null,null,310,31,0.73938182652917717,2.5565149451906428E-4,0.57385664180523455,0.42659842949368154,1.2047180400792397,0.2917492712365547,8.1212308916081884E-3,7.5321035441321587E-6,1.0550463689670628E-16,6.9616421328141484E-2,1,0,null,null,{"$f":"IF(RAND()<poisson_parameter*model!K333,1,0)","v":0},{"$f":"IF(RAND()<(K322^quadratic_condition*L322-$T$21)*$T$22*(1+pref_attach_on*SUM($X$35:X332)),1,0)","v":0},299,{"$f":"IF(AND(SUM($X$35:X332)=0,X333=1),Y333,\"\")","v":""}]
[null,null,null,null,null,null,311,31.1,0.73938562309415401,2.5484940511626928E-4,0.57386514067016303,0.42660273759297029,1.204674901874319,0.29171218189114712,8.025216314021753E-3,7.175705635950692E-6,7.9050172066262177E-17,7.1566925463164885E-2,1,0,null,null,{"$f":"IF(RAND()<poisson_parameter*model!K334,1,0)","v":0},{"$f":"IF(RAND()<(K323^quadratic_condition*L323-$T$21)*$T$22*(1+pref_attach_on*SUM($X$35:X333)),1,0)","v":0},300,{"$f":"IF(AND(SUM($X$35:X333)=0,X334=1),Y334,\"\")","v":""}]
[null,null,null,null,null,null,312,31.2,0.73938913779347093,2.5405174328669297E-4,0.57387324000761397,0.42660683341909572,1.2046325110629419,0.29167631647577885,7.9304098176396134E-3,6.8353616169170177E-6,5.923027454254532E-17,7.3560878899118554E-2,1,0,null,null,{"$f":"IF(RAND()<poisson_parameter*model!K335,1,0)","v":0},{"$f":"IF(RAND()<(K324^quadratic_condition*L324-$T$21)*$T$22*(1+pref_attach_on*SUM($X$35:X334)),1,0)","v":0},301,{"$f":"IF(AND(SUM($X$35:X334)=0,X335=1),Y335,\"\")","v":""}]
[null,null,null,null,null,null,313,31.3,0.73939238525742312,2.5325842080512313E-4,0.57388095831004604,0.4266107275448689,1.2045908762583872,0.29164163571921026,7.8367946681770061E-3,6.510371816128842E-6,4.4380703460828456E-17,7.5598613968997086E-2,1,0,null,null,{"$f":"IF(RAND()<poisson_parameter*model!K336,1,0)","v":0},{"$f":"IF(RAND()<(K325^quadratic_condition*L325-$T$21)*$T$22*(1+pref_attach_on*SUM($X$35:X335)),1,0)","v":0},302,{"$f":"IF(AND(SUM($X$35:X335)=0,X336=1),Y336,\"\")","v":""}]
[null,null,null,null,null,null,314,31.4,0.73939537937709277,2.5246935239493291E-4,0.5738883132363013,0.42661443000908561,1.2045500035920056,0.29160810153301858,7.7443543893764982E-3,6.2000667405041059E-6,3.3254772697888058E-17,7.7680428241748659E-2,1,0,null,null,{"$f":"IF(RAND()<poisson_parameter*model!K337,1,0)","v":0},{"$f":"IF(RAND()<(K326^quadratic_condition*L326-$T$21)*$T$22*(1+pref_attach_on*SUM($X$35:X336)),1,0)","v":0},303,{"$f":"IF(AND(SUM($X$35:X336)=0,X337=1),Y337,\"\")","v":""}]
[null,null,null,null,null,null,315,31.5,0.73939813334132265,2.5168445562551817E-4,0.57389532164745571,0.42661795034386457,1.2045098969502621,0.29157567697953796,7.6530727589727296E-3,5.9038057705647445E-6,2.4918563754060143E-17,7.9806582448008784E-2,1,0,null,null,{"$f":"IF(RAND()<poisson_parameter*model!K338,1,0)","v":0},{"$f":"IF(RAND()<(K327^quadratic_condition*L327-$T$21)*$T$22*(1+pref_attach_on*SUM($X$35:X337)),1,0)","v":0},304,{"$f":"IF(AND(SUM($X$35:X337)=0,X338=1),Y338,\"\")","v":""}]
[null,null,null,null,null,null,316,31.6,0.73940065967185553,2.5090365081324327E-4,0.57390199964126021,0.42662129760057077,1.2044705581927122,0.29154432624051602,7.562933804689362E-3,5.6209759120923663E-6,1.8672441494683607E-17,8.1977298400844195E-2,1,0,null,null,{"$f":"IF(RAND()<poisson_parameter*model!K339,1,0)","v":0},{"$f":"IF(RAND()<(K328^quadratic_condition*L328-$T$21)*$T$22*(1+pref_attach_on*SUM($X$35:X338)),1,0)","v":0},305,{"$f":"IF(AND(SUM($X$35:X338)=0,X339=1),Y339,\"\")","v":""}]
[null,null,null,null,null,null,317,31.7,0.73940297025673074,2.5012686092577407E-4,0.57390836258521827,0.42662448037439804,1.2044319873523694,0.29151401458647663,7.4739218002709785E-3,5.3509906013204836E-6,1.3992268833558555E-17,8.4192756919402784E-2,1,0,null,null,{"$f":"IF(RAND()<poisson_parameter*model!K340,1,0)","v":0},{"$f":"IF(RAND()<(K329^quadratic_condition*L329-$T$21)*$T$22*(1+pref_attach_on*SUM($X$35:X339)),1,0)","v":0},306,{"$f":"IF(AND(SUM($X$35:X339)=0,X340=1),Y340,\"\")","v":""}]
[null,null,null,null,null,null,318,31.8,0.73940507638202169,2.4935401148968325E-4,0.57391442514834401,0.42662750682768025,1.2043941828198157,0.29148470834677864,7.3860212615524078E-3,5.093288561423311E-6,1.0485374906427174E-17,8.645309576389168E-2,1,0,null,null,{"$f":"IF(RAND()<poisson_parameter*model!K341,1,0)","v":0},{"$f":"IF(RAND()<(K330^quadratic_condition*L330-$T$21)*$T$22*(1+pref_attach_on*SUM($X$35:X340)),1,0)","v":0},307,{"$f":"IF(AND(SUM($X$35:X340)=0,X341=1),Y341,\"\")","v":""}]
[null,null,null,null,null,null,319,31.9,0.73940698876199817,2.4858503050121555E-4,0.57392020133164434,0.42663038471199782,1.2043571415123004,0.29145637488036003,7.2992169425676679E-3,4.8473327081528748E-6,7.857573147998185E-18,8.8758407590814339E-2,1,0,null,null,{"$f":"IF(RAND()<poisson_parameter*model!K342,1,0)","v":0},{"$f":"IF(RAND()<(K331^quadratic_condition*L331-$T$21)*$T$22*(1+pref_attach_on*SUM($X$35:X341)),1,0)","v":0},308,{"$f":"IF(AND(SUM($X$35:X341)=0,X342=1),Y342,\"\")","v":""}]
[null,null,null,null,null,null,320,32,0.73940871756778914,2.478198483401061E-4,0.57392570449736824,0.42663312138914233,1.2043208590289844,0.29142898254715766,7.2134938317004625E-3,4.6126091025644321E-6,5.8884556261308693E-18,9.1108737937883127E-2,1,0,null,null,{"$f":"IF(RAND()<poisson_parameter*model!K343,1,0)","v":0},{"$f":"IF(RAND()<(K332^quadratic_condition*L332-$T$21)*$T$22*(1+pref_attach_on*SUM($X$35:X342)),1,0)","v":0},309,{"$f":"IF(AND(SUM($X$35:X342)=0,X343=1),Y343,\"\")","v":""}]
[null,null,null,null,null,null,321,32.1,0.73941027245462088,2.4705839768634737E-4,0.57393094739706552,0.42663572385099813,1.2042853297933909,0.29140250068019175,7.1288371478779467E-3,4.388625948854964E-6,4.4128863689545122E-18,9.3504083248480307E-2,1,0,null,null,{"$f":"IF(RAND()<poisson_parameter*model!K344,1,0)","v":0},{"$f":"IF(RAND()<(K333^quadratic_condition*L333-$T$21)*$T$22*(1+pref_attach_on*SUM($X$35:X343)),1,0)","v":0},310,{"$f":"IF(AND(SUM($X$35:X343)=0,X344=1),Y344,\"\")","v":""}]
[null,null,null,null,null,null,322,32.200000000000003,0.73941166258770052,2.4630061343980587E-4,0.57393594219849675,0.42663819873839842,1.2042505471840528,0.29137689955830526,7.0452323368092526E-3,4.1749126354210125E-6,3.3071379185767339E-18,9.5944388945960579E-2,1,0,null,null,{"$f":"IF(RAND()<poisson_parameter*model!K345,1,0)","v":0},{"$f":"IF(RAND()<(K334^quadratic_condition*L334-$T$21)*$T$22*(1+pref_attach_on*SUM($X$35:X344)),1,0)","v":0},311,{"$f":"IF(AND(SUM($X$35:X344)=0,X345=1),Y345,\"\")","v":""}]
[null,null,null,null,null,null,323,32.299999999999997,0.73941289666681154,2.455464326425911E-4,0.57394070051143442,0.42664055235900822,1.2042165036542638,0.29135215037954776,6.9626650672700748E-3,3.9710188173203273E-6,2.4785058887634326E-18,9.8429547568466724E-2,1,{"$f":"S346-S345","v":0},null,null,{"$f":"IF(RAND()<poisson_parameter*model!K346,1,0)","v":0},{"$f":"IF(RAND()<(K335^quadratic_condition*L335-$T$21)*$T$22*(1+pref_attach_on*SUM($X$35:X345)),1,0)","v":0},312,{"$f":"IF(AND(SUM($X$35:X345)=0,X346=1),Y346,\"\")","v":""}]
[null,null,null,null,null,null,324,32.4,0.73941398294968508,2.4479579440408479E-4,0.57394523341239512,0.42664279070428529,1.2041831908417782,0.29132822523519325,6.8811212274344303E-3,3.7765135383968984E-6,1.8575287858497089E-18,0.1009593969752587,1,0,null,null,{"$f":"IF(RAND()<poisson_parameter*model!K347,1,0)","v":0},{"$f":"IF(RAND()<(K336^quadratic_condition*L336-$T$21)*$T$22*(1+pref_attach_on*SUM($X$35:X346)),1,0)","v":0},313,{"$f":"IF(AND(SUM($X$35:X346)=0,X347=1),Y347,\"\")","v":""}]
[null,null,null,null,null,null,325,32.5,0.73941492927420749,2.4404863982854016E-4,0.57394955146834215,0.42664491946556732,1.2041505996692332,0.29130509708438207,6.8005869212545301E-3,3.5909843914009865E-6,1.3921594006792288E-18,0.10353371863582968,1,0,null,null,{"$f":"IF(RAND()<poisson_parameter*model!K348,1,0)","v":0},{"$f":"IF(RAND()<(K337^quadratic_condition*L337-$T$21)*$T$22*(1+pref_attach_on*SUM($X$35:X347)),1,0)","v":0},314,{"$f":"IF(AND(SUM($X$35:X347)=0,X348=1),Y348,\"\")","v":""}]
[null,null,null,null,null,null,326,32.6,0.73941574307952129,2.4330491194516463E-4,0.57395366475939524,0.42664694404933018,1.204118720436018,0.29128273972937624,6.7210484648895681E-3,3.4140367145048603E-6,1.0433981360009087E-18,0.10615223601329303,1,0,null,null,{"$f":"IF(RAND()<poisson_parameter*model!K349,1,0)","v":0},{"$f":"IF(RAND()<(K338^quadratic_condition*L338-$T$21)*$T$22*(1+pref_attach_on*SUM($X$35:X348)),1,0)","v":0},315,{"$f":"IF(AND(SUM($X$35:X348)=0,X349=1),Y349,\"\")","v":""}]
[null,null,null,null,null,null,327,32.700000000000003,0.73941643142607427,2.4256455564060288E-4,0.57395758290058518,0.42664886959166082,1.2040875429022504,0.29126112779141816,6.642492383184059E-3,3.2452928226811764E-6,7.8202150751705033E-19,0.10881461305366495,1,0,null,null,{"$f":"IF(RAND()<poisson_parameter*model!K350,1,0)","v":0},{"$f":"IF(RAND()<(K339^quadratic_condition*L339-$T$21)*$T$22*(1+pref_attach_on*SUM($X$35:X349)),1,0)","v":0},316,{"$f":"IF(AND(SUM($X$35:X349)=0,X350=1),Y350,\"\")","v":""}]
[null,null,null,null,null,null,328,32.799999999999997,0.73941700101466967,2.4182751759373899E-4,0.57396131506268855,0.42665070097198543,1.2040570563654764,0.29124023668718219,6.5649054061962565E-3,3.0843912724744153E-6,5.8613108825427704E-19,0.11152045279273329,1,0,null,null,{"$f":"IF(RAND()<poisson_parameter*model!K351,1,0)","v":0},{"$f":"IF(RAND()<(K340^quadratic_condition*L340-$T$21)*$T$22*(1+pref_attach_on*SUM($X$35:X350)),1,0)","v":0},317,{"$f":"IF(AND(SUM($X$35:X350)=0,X351=1),Y351,\"\")","v":""}]
[null,null,null,null,null,null,329,32.9,0.73941745820456528,2.4109374621274023E-4,0.573964869992178,0.42665244282609188,1.2040272497306621,0.29122004260580897,6.4882744657770372E-3,2.9309861587565833E-6,4.3931709864025211E-19,0.11426929609218604,1,0,null,null,{"$f":"IF(RAND()<poisson_parameter*model!K352,1,0)","v":0},{"$f":"IF(RAND()<(K341^quadratic_condition*L341-$T$21)*$T$22*(1+pref_attach_on*SUM($X$35:X351)),1,0)","v":0},318,{"$f":"IF(AND(SUM($X$35:X351)=0,X352=1),Y352,\"\")","v":""}]
[null,null,null,null,null,null,330,33,0.73941780903066989,2.40363191574267E-4,0.57396825603032087,0.42665409955848238,1.2039981115739995,0.29120052248651224,6.4125866921995438E-3,2.7847464421166088E-6,3.2928247750306578E-19,0.11706062051656976,1,0,null,null,{"$f":"IF(RAND()<poisson_parameter*model!K353,1,0)","v":0},{"$f":"IF(RAND()<(K342^quadratic_condition*L342-$T$21)*$T$22*(1+pref_attach_on*SUM($X$35:X352)),1,0)","v":0},319,{"$f":"IF(AND(SUM($X$35:X352)=0,X353=1),Y353,\"\")","v":""}]
[null,null,null,null,null,null,331,33.1,0.7394180592198808,2.396358053647762E-4,0.57397148113146046,0.42665567535409221,1.2039696302010141,0.2911816539967475,6.3378294108397681E-3,2.645355305588591E-6,2.4681194490012601E-19,0.11989383936245103,1,0,null,null,{"$f":"IF(RAND()<poisson_parameter*model!K354,1,0)","v":0},{"$f":"IF(RAND()<(K343^quadratic_condition*L343-$T$21)*$T$22*(1+pref_attach_on*SUM($X$35:X353)),1,0)","v":0},320,{"$f":"IF(AND(SUM($X$35:X353)=0,X354=1),Y354,\"\")","v":""}]
[null,null,null,null,null,null,332,33.200000000000003,0.73941821420660603,2.3891154082384799E-4,0.57397455288051058,0.42665717418940619,1.2039417936994212,0.291163415510933,6.2639901389081702E-3,2.5125095394773904E-6,1.84999538554805E-19,0.12276830085086135,1,0,null,null,{"$f":"IF(RAND()<poisson_parameter*model!K355,1,0)","v":0},{"$f":"IF(RAND()<(K344^quadratic_condition*L344-$T$21)*$T$22*(1+pref_attach_on*SUM($X$35:X354)),1,0)","v":0},321,{"$f":"IF(AND(SUM($X$35:X354)=0,X355=1),Y355,\"\")","v":""}]
[null,null,null,null,null,null,333,33.299999999999997,0.73941827914751057,2.3819035268946779E-4,0.57397747850969483,0.4266585998430053,1.2039145899871451,0.29114578608971187,6.1910565822323399E-3,2.3859189530910763E-6,1.3866980750600586E-19,0.12568328749371188,1,0,null,null,{"$f":"IF(RAND()<poisson_parameter*model!K356,1,0)","v":0},{"$f":"IF(RAND()<(K345^quadratic_condition*L345-$T$21)*$T$22*(1+pref_attach_on*SUM($X$35:X355)),1,0)","v":0},322,{"$f":"IF(AND(SUM($X$35:X355)=0,X356=1),Y356,\"\")","v":""}]
[null,null,null,null,null,null,334,33.4,0.73941825893552582,2.3747219714519824E-4,0.57398026491456022,0.42665995590557204,1.2038880068558833,0.29112874545974632,6.1190166320906321E-3,2.2653058122385402E-6,1.0394410364082835E-19,0.12863801564436736,1,0,null,null,{"$f":"IF(RAND()<poisson_parameter*model!K357,1,0)","v":0},{"$f":"IF(RAND()<(K346^quadratic_condition*L346-$T$21)*$T$22*(1+pref_attach_on*SUM($X$35:X356)),1,0)","v":0},323,{"$f":"IF(AND(SUM($X$35:X356)=0,X357=1),Y357,\"\")","v":""}]
[null,null,null,null,null,null,335,33.5,0.73941815821315826,2.367570317691775E-4,0.5739829186692943,0.42666124578938325,1.2038620320105706,0.29111227399403278,6.0478583620966371E-3,2.1504043013972576E-6,7.7915590425169666E-20,0.13163163524196675,1,0,null,null,{"$f":"IF(RAND()<poisson_parameter*model!K358,1,0)","v":0},{"$f":"IF(RAND()<(K347^quadratic_condition*L347-$T$21)*$T$22*(1+pref_attach_on*SUM($X$35:X357)),1,0)","v":0},324,{"$f":"IF(AND(SUM($X$35:X357)=0,X358=1),Y358,\"\")","v":""}]
[null,null,null,null,null,null,336,33.6,0.73941798138513293,2.3604481548488251E-4,0.57398544604137358,0.42666247273731656,1.2038366531050699,0.29109635269272843,5.977570025134285E-3,2.0409600095007995E-6,5.8405711754727054E-20,0.13466322975837111,1,0,null,null,{"$f":"IF(RAND()<poisson_parameter*model!K359,1,0)","v":0},{"$f":"IF(RAND()<(K348^quadratic_condition*L348-$T$21)*$T$22*(1+pref_attach_on*SUM($X$35:X358)),1,0)","v":0},325,{"$f":"IF(AND(SUM($X$35:X358)=0,X359=1),Y359,\"\")","v":""}]
[null,null,null,null,null,null,337,33.700000000000003,0.73941773263040389,2.3533550851359837E-4,0.57398785300557054,0.42666363983139566,1.2038118577743895,0.29108096316447896,5.9081400503433199E-3,1.9367294383383535E-6,4.37816989495726E-20,0.13773181635580672,1,0,null,null,{"$f":"IF(RAND()<poisson_parameter*model!K360,1,0)","v":0},{"$f":"IF(RAND()<(K349^quadratic_condition*L349-$T$21)*$T$22*(1+pref_attach_on*SUM($X$35:X359)),1,0)","v":0},326,{"$f":"IF(AND(SUM($X$35:X359)=0,X360=1),Y360,\"\")","v":""}]
[null,null,null,null,null,null,338,33.799999999999997,0.73941741591356336,2.346290723285361E-4,0.57399014525734449,0.42666475000089854,1.2037876336637077,0.29106608760823732,5.8395570401548373E-3,1.8374795325993064E-6,3.2819814667696142E-20,0.14083634626235692,1,0,null,null,{"$f":"IF(RAND()<poisson_parameter*model!K361,1,0)","v":0},{"$f":"IF(RAND()<(K350^quadratic_condition*L350-$T$21)*$T$22*(1+pref_attach_on*SUM($X$35:X360)),1,0)","v":0},327,{"$f":"IF(AND(SUM($X$35:X360)=0,X361=1),Y361,\"\")","v":""}]
[null,null,null,null,null,null,339,33.9,0.73941703499568012,2.3392546961054357E-4,0.57399232822564306,0.42666580603005111,1.2037639684544634,0.29105170879556408,5.7718097673765218E-3,1.7429872306349221E-6,2.4602868993307028E-20,0.14397570537144119,1,0,null,null,{"$f":"IF(RAND()<poisson_parameter*model!K362,1,0)","v":0},{"$f":"IF(RAND()<(K351^quadratic_condition*L351-$T$21)*$T$22*(1+pref_attach_on*SUM($X$35:X361)),1,0)","v":0},328,{"$f":"IF(AND(SUM($X$35:X361)=0,X362=1),Y362,\"\")","v":""}]
[null,null,null,null,null,null,340,34,0.73941659344459432,2.3322466420535627E-4,0.57399440708513683,0.42666681056532729,1.2037408498877478,0.29103781005339885,5.7048871723271799E-3,1.6530390350464487E-6,1.844341732406831E-20,0.14714871507031066,1,0,null,null,{"$f":"IF(RAND()<poisson_parameter*model!K363,1,0)","v":0},{"$f":"IF(RAND()<(K352^quadratic_condition*L352-$T$21)*$T$22*(1+pref_attach_on*SUM($X$35:X362)),1,0)","v":0},329,{"$f":"IF(AND(SUM($X$35:X362)=0,X363=1),Y363,\"\")","v":""}]
[null,null,null,null,null,null,341,34.1,0.73941609464469649,2.3252662108233559E-4,0.57399638676791154,0.42666776612237672,1.2037182657852186,0.29102437524729335,5.6387783600201384E-3,1.5674306022446327E-6,1.3826203266054918E-20,0.15035413330139016,1,0,null,null,{"$f":"IF(RAND()<poisson_parameter*model!K364,1,0)","v":0},{"$f":"IF(RAND()<(K353^quadratic_condition*L353-$T$21)*$T$22*(1+pref_attach_on*SUM($X$35:X363)),1,0)","v":0},330,{"$f":"IF(AND(SUM($X$35:X363)=0,X364=1),Y364,\"\")","v":""}]
[null,null,null,null,null,null,342,34.200000000000003,0.73941554180621683,2.3183130629464511E-4,0.57399827197464071,0.42666867509259843,1.2036962040677404,0.29101138876509669,5.5734725973950244E-3,1.4859663501597446E-6,1.0365023328449862E-20,0.15359065585901754,1,0,null,null,{"$f":"IF(RAND()<poisson_parameter*model!K365,1,0)","v":0},{"$f":"IF(RAND()<(K354^quadratic_condition*L354-$T$21)*$T$22*(1+pref_attach_on*SUM($X$35:X364)),1,0)","v":0},331,{"$f":"IF(AND(SUM($X$35:X364)=0,X365=1),Y365,\"\")","v":""}]
[null,null,null,null,null,null,343,34.299999999999997,0.73941493797404789,2.3113868694081598E-4,0.57400006718525942,0.42666953974937938,1.2036746527719384,0.29099883550108224,5.5089593105974262E-3,1.4084590833138556E-6,7.770399221848383E-21,0.15685691792277684,1,0,null,null,{"$f":"IF(RAND()<poisson_parameter*model!K366,1,0)","v":0},{"$f":"IF(RAND()<(K355^quadratic_condition*L355-$T$21)*$T$22*(1+pref_attach_on*SUM($X$35:X365)),1,0)","v":0},332,{"$f":"IF(AND(SUM($X$35:X365)=0,X366=1),Y366,\"\")","v":""}]
[null,null,null,null,null,null,344,34.4,0.73941428603612525,2.3044873112765491E-4,0.57400177666916152,0.42667036225401472,1.2036536000648375,0.29098670084050793,5.4452280823059076E-3,1.3347296344983694E-6,5.8253494621568603E-21,0.16015149582720764,1,0,null,null,{"$f":"IF(RAND()<poisson_parameter*model!K367,1,0)","v":0},{"$f":"IF(RAND()<(K356^quadratic_condition*L356-$T$21)*$T$22*(1+pref_attach_on*SUM($X$35:X366)),1,0)","v":0},333,{"$f":"IF(AND(SUM($X$35:X366)=0,X367=1),Y367,\"\")","v":""}]
[null,null,null,null,null,null,345,34.5,0.73941358873138696,2.2976140793444912E-4,0.57400340449493881,0.42667114466132655,1.2036330342567483,0.29097497064459921,5.3822686491058177E-3,1.2646065223297564E-6,4.3672307754673578E-21,0.16347290906620482,1,0,null,null,{"$f":"IF(RAND()<poisson_parameter*model!K368,1,0)","v":0},{"$f":"IF(RAND()<(K357^quadratic_condition*L357-$T$21)*$T$22*(1+pref_attach_on*SUM($X$35:X367)),1,0)","v":0},334,{"$f":"IF(AND(SUM($X$35:X367)=0,X368=1),Y368,\"\")","v":""}]
[null,null,null,null,null,null,346,34.6,0.73941284865733392,2.290766873784247E-4,0.57400495453968325,0.42667188892499647,1.2036129438125465,0.29096363123594615,5.3200708989093251E-3,1.1979256239851382E-6,3.2741284330191196E-21,0.16681962252891833,1,0,null,null,{"$f":"IF(RAND()<poisson_parameter*model!K369,1,0)","v":0},{"$f":"IF(RAND()<(K358^quadratic_condition*L358-$T$21)*$T$22*(1+pref_attach_on*SUM($X$35:X368)),1,0)","v":0},335,{"$f":"IF(AND(SUM($X$35:X368)=0,X369=1),Y369,\"\")","v":""}]
[null,null,null,null,null,null,347,34.700000000000003,0.73941206827721029,2.2839454038141581E-4,0.57400643049787003,0.4266725969026266,1.2035933173614823,0.29095266938430531,5.2586248684210789E-3,1.1345298624469166E-6,2.4546557830111697E-21,0.17019004896243103,1,0,null,null,{"$f":"IF(RAND()<poisson_parameter*model!K370,1,0)","v":0},{"$f":"IF(RAND()<(K359^quadratic_condition*L359-$T$21)*$T$22*(1+pref_attach_on*SUM($X$35:X369)),1,0)","v":0},336,{"$f":"IF(AND(SUM($X$35:X369)=0,X370=1),Y370,\"\")","v":""}]
[null,null,null,null,null,null,348,34.799999999999997,0.73941124992682294,2.2771493873770376E-4,0.57400783588983895,0.4266732703605432,1.2035741437056455,0.29094207229279667,5.1979207406488955E-3,1.0742689076120722E-6,1.840308852176199E-21,0.17358255165495162,1,0,null,null,{"$f":"IF(RAND()<poisson_parameter*model!K371,1,0)","v":0},{"$f":"IF(RAND()<(K360^quadratic_condition*L360-$T$21)*$T$22*(1+pref_attach_on*SUM($X$35:X370)),1,0)","v":0},337,{"$f":"IF(AND(SUM($X$35:X370)=0,X371=1),Y371,\"\")","v":""}]
[null,null,null,null,null,null,349,34.9,0.73941039582101831,2.2703785508298627E-4,0.57400917406989294,0.42667391097835633,1.2035554118272029,0.29093182758448749,5.1379488424588482E-3,1.0169988906471727E-6,1.3797359138347187E-21,0.17699544733172198,1,0,null,null,{"$f":"IF(RAND()<poisson_parameter*model!K372,1,0)","v":0},{"$f":"IF(RAND()<(K361^quadratic_condition*L361-$T$21)*$T$22*(1+pref_attach_on*SUM($X$35:X371)),1,0)","v":0},338,{"$f":"IF(AND(SUM($X$35:X371)=0,X372=1),Y372,\"\")","v":""}]
[null,null,null,null,null,null,350,35,0.73940950805983374,2.2636326286443867E-4,0.57401044823402825,0.42667452035328735,1.2035371108945134,0.29092192328935323,5.0786996421741228E-3,9.6258213099457495E-7,1.0344423047307259E-21,0.18042700925432126,1,0,null,null,{"$f":"IF(RAND()<poisson_parameter*model!K373,1,0)","v":0},{"$f":"IF(RAND()<(K362^quadratic_condition*L362-$T$21)*$T$22*(1+pref_attach_on*SUM($X$35:X372)),1,0)","v":0},339,{"$f":"IF(AND(SUM($X$35:X372)=0,X373=1),Y373,\"\")","v":""}]
[null,null,null,null,null,null,351,35.1,0.73940858863433889,2.2569113631182988E-4,0.57401166142731419,0.42667510000427727,1.2035192302672215,0.29091234783160758,5.020163747217009E-3,9.108868754588321E-7,7.7557096537887151E-22,0.18387547051256709,1,0,null,null,{"$f":"IF(RAND()<poisson_parameter*model!K374,1,0)","v":0},{"$f":"IF(RAND()<(K363^quadratic_condition*L363-$T$21)*$T$22*(1+pref_attach_on*SUM($X$35:X373)),1,0)","v":0},340,{"$f":"IF(AND(SUM($X$35:X373)=0,X374=1),Y374,\"\")","v":""}]
[null,null,null,null,null,null,352,35.200000000000003,0.73940763943218379,2.2502145040965703E-4,0.57401281655093617,0.4266756513758862,1.2035017595004194,0.29090309001739223,4.9623319017933713E-3,8.6178704882501621E-7,5.8148925220752572E-22,0.18733902749678524,1,0,null,null,{"$f":"IF(RAND()<poisson_parameter*model!K375,1,0)","v":0},{"$f":"IF(RAND()<(K364^quadratic_condition*L364-$T$21)*$T$22*(1+pref_attach_on*SUM($X$35:X374)),1,0)","v":0},341,{"$f":"IF(AND(SUM($X$35:X374)=0,X375=1),Y375,\"\")","v":""}]
[null,null,null,null,null,null,353,35.299999999999997,0.739406662242867,2.2435418087026444E-4,0.57401391636891752,0.42667617584199519,1.2034846883479609,0.2908941390228183,4.9051949846189505E-3,8.1516201548255351E-7,4.3598007319798837E-22,0.19081584353685616,1,0,null,null,{"$f":"IF(RAND()<poisson_parameter*model!K376,1,0)","v":0},{"$f":"IF(RAND()<(K365^quadratic_condition*L365-$T$21)*$T$22*(1+pref_attach_on*SUM($X$35:X375)),1,0)","v":0},342,{"$f":"IF(AND(SUM($X$35:X375)=0,X376=1),Y376,\"\")","v":""}]
[null,null,null,null,null,null,354,35.4,0.73940565876273889,2.2368930410791304E-4,0.57401496351453418,0.42667667470932052,1.2034680067650056,0.29088548438235046,4.8487440066868424E-3,7.7089635154932384E-7,3.2688598844477711E-22,0.19430405269316797,1,0,null,null,{"$f":"IF(RAND()<poisson_parameter*model!K377,1,0)","v":0},{"$f":"IF(RAND()<(K366^quadratic_condition*L366-$T$21)*$T$22*(1+pref_attach_on*SUM($X$35:X376)),1,0)","v":0},343,{"$f":"IF(AND(SUM($X$35:X376)=0,X377=1),Y377,\"\")","v":""}]
[null,null,null,null,null,null,355,35.5,0.7394046305997527,2.2302679721376785E-4,0.57401596049643533,0.42667714922074995,1.2034517049098648,0.29087711597752614,4.7929701090754871E-3,7.2887962701122871E-7,2.450928316950892E-22,0.19780176368342417,1,0,null,null,{"$f":"IF(RAND()<poisson_parameter*model!K378,1,0)","v":0},{"$f":"IF(RAND()<(K367^quadratic_condition*L367-$T$21)*$T$22*(1+pref_attach_on*SUM($X$35:X377)),1,0)","v":0},344,{"$f":"IF(AND(SUM($X$35:X377)=0,X378=1),Y378,\"\")","v":""}]
[null,null,null,null,null,null,356,35.6,0.73940357927797606,2.2236663793177218E-4,0.57401690970448327,0.42667760055851006,1.2034357731452123,0.2908690240260009,4.7378645607965121E-3,6.8900619741223592E-7,1.8376782468309591E-22,0.20130706392818387,1,0,null,null,{"$f":"IF(RAND()<poisson_parameter*model!K379,1,0)","v":0},{"$f":"IF(RAND()<(K368^quadratic_condition*L368-$T$21)*$T$22*(1+pref_attach_on*SUM($X$35:X378)),1,0)","v":0},345,{"$f":"IF(AND(SUM($X$35:X378)=0,X379=1),Y379,\"\")","v":""}]
[null,null,null,null,null,null,357,35.700000000000003,0.73940250624187498,2.2170880463537809E-4,0.57401781341532476,0.42667802984717351,1.2034202020387252,0.2908611990709124,4.6834187566817754E-3,6.5117500464909381E-7,1.3778845311833569E-22,0.2048180236970672,1,0,null,null,{"$f":"IF(RAND()<poisson_parameter*model!K380,1,0)","v":0},{"$f":"IF(RAND()<(K369^quadratic_condition*L369-$T$21)*$T$22*(1+pref_attach_on*SUM($X$35:X379)),1,0)","v":0},346,{"$f":"IF(AND(SUM($X$35:X379)=0,X380=1),Y380,\"\")","v":""}]
[null,null,null,null,null,null,358,35.799999999999997,0.73940141286038186,2.2105327630510366E-4,0.57401867379770599,0.42667843815651424,1.203404982363206,0.29085363197055497,4.6296242153089327E-3,6.1528938644351672E-7,1.0331433517504144E-22,0.20833270033674781,1,0,null,null,{"$f":"IF(RAND()<poisson_parameter*model!K381,1,0)","v":0},{"$f":"IF(RAND()<(K370^quadratic_condition*L370-$T$21)*$T$22*(1+pref_attach_on*SUM($X$35:X380)),1,0)","v":0},347,{"$f":"IF(AND(SUM($X$35:X380)=0,X381=1),Y381,\"\")","v":""}]
[null,null,null,null,null,null,359,35.9,0.73940030043075811,2.2040003250688894E-4,0.57401949291754217,0.4266788265042184,1.2033901050962392,0.29084631388835658,4.5764725769648915E-3,5.8125689408270256E-7,7.7466276933810663E-23,0.21184914256119053,1,0,null,null,{"$f":"IF(RAND()<poisson_parameter*model!K382,1,0)","v":0},{"$f":"IF(RAND()<(K371^quadratic_condition*L371-$T$21)*$T$22*(1+pref_attach_on*SUM($X$35:X381)),1,0)","v":0},348,{"$f":"IF(AND(SUM($X$35:X381)=0,X382=1),Y382,\"\")","v":""}]
[null,null,null,null,null,null,360,36,0.73939917018226187,2.197490533712226E-4,0.57402027274275336,0.4266791958584587,1.203375561419429,0.29083923628315111,4.5239556016464779E-3,5.4898911803658121E-7,5.8085676170570492E-23,0.21536539478408107,1,0,null,null,{"$f":"IF(RAND()<poisson_parameter*model!K383,1,0)","v":0},{"$f":"IF(RAND()<(K372^quadratic_condition*L372-$T$21)*$T$22*(1+pref_attach_on*SUM($X$35:X382)),1,0)","v":0},349,{"$f":"IF(AND(SUM($X$35:X382)=0,X383=1),Y383,\"\")","v":""}]
[null,null,null,null,null,null,361,36.1,0.73939802327963045,2.1910031957301336E-4,0.57402101514787596,0.42667954714033851,1.2033613427172631,0.29083239089973817,4.4720651670976811E-3,5.1840152107723172E-7,4.3554156889346507E-23,0.21887950147304391,1,0,null,null,{"$f":"IF(RAND()<poisson_parameter*model!K384,1,0)","v":0},{"$f":"IF(RAND()<(K373^quadratic_condition*L373-$T$21)*$T$22*(1+pref_attach_on*SUM($X$35:X383)),1,0)","v":0},350,{"$f":"IF(AND(SUM($X$35:X383)=0,X384=1),Y384,\"\")","v":""}]
[null,null,null,null,null,null,362,36.200000000000003,0.73939686082638623,2.1845381231217983E-4,0.57402172191846124,0.42667988122621331,1.203347440575639,0.2908257697597228,4.4207932668828154E-3,4.8941327854246544E-7,3.2658354675669726E-23,0.22238951150505898,1,0,null,null,{"$f":"IF(RAND()<poisson_parameter*model!K385,1,0)","v":0},{"$f":"IF(RAND()<(K374^quadratic_condition*L374-$T$21)*$T$22*(1+pref_attach_on*SUM($X$35:X384)),1,0)","v":0},351,{"$f":"IF(AND(SUM($X$35:X384)=0,X385=1),Y385,\"\")","v":""}]
[null,null,null,null,null,null,363,36.299999999999997,0.73939568386797649,2.1780951329493451E-4,0.57402239475526895,0.4266801989498949,1.2033338467800936,0.29081936515262835,4.3701320084949657E-3,4.6194712540167004E-7,2.4488548966181554E-23,0.22589348250246757,1,0,null,null,{"$f":"IF(RAND()<poisson_parameter*model!K386,1,0)","v":0},{"$f":"IF(RAND()<(K375^quadratic_condition*L375-$T$21)*$T$22*(1+pref_attach_on*SUM($X$35:X385)),1,0)","v":0},352,{"$f":"IF(AND(SUM($X$35:X385)=0,X386=1),Y386,\"\")","v":""}]
[null,null,null,null,null,null,364,36.4,0.73939449339475338,2.1716740471573745E-4,0.57402303527826715,0.42668050110474476,1.2033205533137656,0.29081316962727494,4.3200736114990777E-3,4.3592920979765188E-7,1.836266870823348E-23,0.22938948512910692,1,0,null,null,{"$f":"IF(RAND()<poisson_parameter*model!K387,1,0)","v":0},{"$f":"IF(RAND()<(K376^quadratic_condition*L376-$T$21)*$T$22*(1+pref_attach_on*SUM($X$35:X386)),1,0)","v":0},353,{"$f":"IF(AND(SUM($X$35:X386)=0,X387=1),Y387,\"\")","v":""}]
[null,null,null,null,null,null,365,36.5,0.73939329034480361,2.1652746923989661E-4,0.57402364503044467,0.42668078844566237,1.2033075523551251,0.29080717598341671,4.2706104057090638E-3,4.1128895275341853E-7,1.3769319473456344E-23,0.23287560732642573,1,0,null,null,{"$f":"IF(RAND()<poisson_parameter*model!K388,1,0)","v":0},{"$f":"IF(RAND()<(K377^quadratic_condition*L377-$T$21)*$T$22*(1+pref_attach_on*SUM($X$35:X387)),1,0)","v":0},354,{"$f":"IF(AND(SUM($X$35:X387)=0,X388=1),Y388,\"\")","v":""}]
[null,null,null,null,null,null,366,36.6,0.73939207560663478,2.1588968998679253E-4,0.57402422548144727,0.42668106169097353,1.2032948362754956,0.29080137726363103,4.2217348293982935E-3,3.8795891374760596E-7,1.032507041132825E-23,0.23634995846990883,1,0,null,null,{"$f":"IF(RAND()<poisson_parameter*model!K389,1,0)","v":0},{"$f":"IF(RAND()<(K378^quadratic_condition*L378-$T$21)*$T$22*(1+pref_attach_on*SUM($X$35:X388)),1,0)","v":0},355,{"$f":"IF(AND(SUM($X$35:X388)=0,X389=1),Y389,\"\")","v":""}]
[null,null,null,null,null,null,367,36.700000000000003,0.73939085002172555,2.1525405051370529E-4,0.57402477803104313,0.426681321524224,1.2032823976363978,0.29079576674545288,4.1734394275428615E-3,3.6587466187658947E-7,7.7424315354374813E-24,0.23981067342676984,1,0,null,null,{"$f":"IF(RAND()<poisson_parameter*model!K390,1,0)","v":0},{"$f":"IF(RAND()<(K379^quadratic_condition*L379-$T$21)*$T$22*(1+pref_attach_on*SUM($X$35:X389)),1,0)","v":0},356,{"$f":"IF(AND(SUM($X$35:X389)=0,X390=1),Y390,\"\")","v":""}]
[null,null,null,null,null,null,368,36.799999999999997,0.7393896143869465,2.1462053480022304E-4,0.57402530401242691,0.42668156859588319,1.2032702291867343,0.29079033793374787,4.125716850097016E-3,3.4497465233521645E-7,5.8058454522745769E-24,0.24325591649665099,1,0,null,null,{"$f":"IF(RAND()<poisson_parameter*model!K391,1,0)","v":0},{"$f":"IF(RAND()<(K380^quadratic_condition*L380-$T$21)*$T$22*(1+pref_attach_on*SUM($X$35:X390)),1,0)","v":0},357,{"$f":"IF(AND(SUM($X$35:X390)=0,X391=1),Y391,\"\")","v":""}]
[null,null,null,null,null,null,369,36.9,0.73938836945685837,2.1398912723321183E-4,0.57402580469536957,0.4266818035249626,1.2032583238598418,0.29078508455331764,4.0785598503001444E-3,3.2520010796156778E-7,4.3536875178755375E-24,0.24668388521798737,1,0,null,null,{"$f":"IF(RAND()<poisson_parameter*model!K392,1,0)","v":0},{"$f":"IF(RAND()<(K381^quadratic_condition*L381-$T$21)*$T$22*(1+pref_attach_on*SUM($X$35:X391)),1,0)","v":0},358,{"$f":"IF(AND(SUM($X$35:X391)=0,X392=1),Y392,\"\")","v":""}]
[null,null,null,null,null,null,370,37,0.73938711594589335,2.1335981259232686E-4,0.57402628128922051,0.42668202690055335,1.2032466747704271,0.29078000054173087,4.0319612830147294E-3,3.0649490560418796E-7,3.264770568429506E-24,0.25009281402373978,1,0,null,null,{"$f":"IF(RAND()<poisson_parameter*model!K393,1,0)","v":0},{"$f":"IF(RAND()<(K382^quadratic_condition*L382-$T$21)*$T$22*(1+pref_attach_on*SUM($X$35:X392)),1,0)","v":0},359,{"$f":"IF(AND(SUM($X$35:X392)=0,X393=1),Y393,\"\")","v":""}]
[null,null,null,null,null,null,371,37.1,0.73938585453042616,2.1273257603604651E-4,0.57402673494576861,0.4266822392832868,1.2032352752114066,0.29077508004237401,3.9859141030946788E-3,2.8880546708281978E-7,2.4482268124881779E-24,0.25348097773136236,1,0,null,null,{"$f":"IF(RAND()<poisson_parameter*model!K394,1,0)","v":0},{"$f":"IF(RAND()<(K383^quadratic_condition*L383-$T$21)*$T$22*(1+pref_attach_on*SUM($X$35:X393)),1,0)","v":0},360,{"$f":"IF(AND(SUM($X$35:X393)=0,X394=1),Y394,\"\")","v":""}]
[null,null,null,null,null,null,372,37.200000000000003,0.73938458585073941,2.1210740308821068E-4,0.57402716676196996,0.42668244120672238,1.2032241186506656,0.29077031739771608,3.9404113637834552E-3,2.7208065452583316E-7,1.835921673155356E-24,0.25684669485313533,1,0,null,null,{"$f":"IF(RAND()<poisson_parameter*model!K395,1,0)","v":0},{"$f":"IF(RAND()<(K384^quadratic_condition*L384-$T$21)*$T$22*(1+pref_attach_on*SUM($X$35:X394)),1,0)","v":0},361,{"$f":"IF(AND(SUM($X$35:X394)=0,X395=1),Y395,\"\")","v":""}]
[null,null,null,null,null,null,373,37.299999999999997,0.73938331051288897,2.1148427962504576E-4,0.57402757778254687,0.426682633178666,1.2032131987277528,0.29076570714278072,3.8954462151414406E-3,2.5627166987924495E-7,1.3767659242606995E-24,0.26018833071434538,1,0,null,null,{"$f":"IF(RAND()<poisson_parameter*model!K396,1,0)","v":0},{"$f":"IF(RAND()<(K385^quadratic_condition*L385-$T$21)*$T$22*(1+pref_attach_on*SUM($X$35:X395)),1,0)","v":0},362,{"$f":"IF(AND(SUM($X$35:X395)=0,X396=1),Y396,\"\")","v":""}]
[null,null,null,null,null,null,374,37.4,0.73938202909047501,2.1086319186265905E-4,0.57402796900246467,0.42668281568242328,1.2032025092505225,0.29076124399882053,3.8510119025019617E-3,2.4133195839348377E-7,1.0324510621569016E-24,0.26350430036821942,1,0,null,null,{"$f":"IF(RAND()<poisson_parameter*model!K397,1,0)","v":0},{"$f":"IF(RAND()<(K386^quadratic_condition*L386-$T$21)*$T$22*(1+pref_attach_on*SUM($X$35:X396)),1,0)","v":0},363,{"$f":"IF(AND(SUM($X$35:X396)=0,X397=1),Y397,\"\")","v":""}]
[null,null,null,null,null,null,375,37.5,0.73938074212632243,2.102441263449864E-4,0.57402834136929259,0.42668298917798991,1.2031920441917385,0.29075692286718774,3.8071017649554365E-3,2.2721711590485532E-7,7.7425175274897895E-25,0.26679307129799784,1,0,null,null,{"$f":"IF(RAND()<poisson_parameter*model!K398,1,0)","v":0},{"$f":"IF(RAND()<(K387^quadratic_condition*L387-$T$21)*$T$22*(1+pref_attach_on*SUM($X$35:X397)),1,0)","v":0},364,{"$f":"IF(AND(SUM($X$35:X397)=0,X398=1),Y398,\"\")","v":""}]
[null,null,null,null,null,null,376,37.6,0.73937945013407558,2.0962706993217655E-4,0.57402869578545268,0.42668315410318347,1.2031817976856503,0.29075273882339558,3.7637092338610898E-3,2.1388479973900652E-7,5.8062833029443693E-25,0.27005316589805461,1,0,null,null,{"$f":"IF(RAND()<poisson_parameter*model!K399,1,0)","v":0},{"$f":"IF(RAND()<(K388^quadratic_condition*L388-$T$21)*$T$22*(1+pref_attach_on*SUM($X$35:X398)),1,0)","v":0},365,{"$f":"IF(AND(SUM($X$35:X398)=0,X399=1),Y399,\"\")","v":""}]
[null,null,null,null,null,null,377,37.700000000000003,0.73937815359971204,2.0901200978939741E-4,0.57402903311036346,0.42668331087471861,1.2031717640245514,0.29074868711136503,3.7208278313857058E-3,2.0129464307356889E-7,4.3542915064399841E-25,0.27328316372751565,1,0,null,null,{"$f":"IF(RAND()<poisson_parameter*model!K400,1,0)","v":0},{"$f":"IF(RAND()<(K389^quadratic_condition*L389-$T$21)*$T$22*(1+pref_attach_on*SUM($X$35:X399)),1,0)","v":0},366,{"$f":"IF(AND(SUM($X$35:X399)=0,X400=1),Y400,\"\")","v":""}]
[null,null,null,null,null,null,378,37.799999999999997,0.73937685298297928,2.0839893337604881E-4,0.57402935416248202,0.42668345988922934,1.2031619376553306,0.29074476313785197,3.6784511690688892E-3,1.8940817260658008E-7,3.2654270188701196E-25,0.27648170353138063,1,0,null,null,{"$f":"IF(RAND()<poisson_parameter*model!K401,1,0)","v":0},{"$f":"IF(RAND()<(K390^quadratic_condition*L390-$T$21)*$T$22*(1+pref_attach_on*SUM($X$35:X400)),1,0)","v":0},367,{"$f":"IF(AND(SUM($X$35:X400)=0,X401=1),Y401,\"\")","v":""}]
[null,null,null,null,null,null,379,37.9,0.73937554871875721,2.0778782843536761E-4,0.57402965972124975,0.42668360152424062,1.2031523131760229,0.29074096246704911,3.6365729464143204E-3,1.7818872938623758E-7,2.4488693656614921E-25,0.27964748502569942,1,0,null,null,{"$f":"IF(RAND()<poisson_parameter*model!K402,1,0)","v":0},{"$f":"IF(RAND()<(K391^quadratic_condition*L391-$T$21)*$T$22*(1+pref_attach_on*SUM($X$35:X401)),1,0)","v":0},368,{"$f":"IF(AND(SUM($X$35:X401)=0,X402=1),Y402,\"\")","v":""}]
[null,null,null,null,null,null,380,38,0.73937424121835205,2.0717868298441124E-4,0.57402995052894656,0.42668373613909194,1.2031428853323674,0.29073728081535793,3.5951869495064927E-3,1.6760139266603181E-7,1.8365145034806201E-25,0.28277927044487899,1,0,null,null,{"$f":"IF(RAND()<poisson_parameter*model!K403,1,0)","v":0},{"$f":"IF(RAND()<(K392^quadratic_condition*L392-$T$21)*$T$22*(1+pref_attach_on*SUM($X$35:X402)),1,0)","v":0},369,{"$f":"IF(AND(SUM($X$35:X402)=0,X403=1),Y403,\"\")","v":""}]
[null,null,null,null,null,null,381,38.1,0.73937293087072342,2.0657148530440605E-4,0.5740302272924569,0.42668386407581554,1.2031336490143822,0.29073371404632575,3.5542870496524351E-3,1.5761290665733931E-7,1.3772924519266572E-25,0.28587588585068585,1,0,null,null,{"$f":"IF(RAND()<poisson_parameter*model!K404,1,0)","v":0},{"$f":"IF(RAND()<(K393^quadratic_condition*L393-$T$21)*$T$22*(1+pref_attach_on*SUM($X$35:X403)),1,0)","v":0},370,{"$f":"IF(AND(SUM($X$35:X403)=0,X404=1),Y404,\"\")","v":""}]
[null,null,null,null,null,null,382,38.200000000000003,0.7393716180436487,2.0596622393144777E-4,0.57403049068495271,0.42668398565997112,1.2031245992529584,0.29073025816574311,3.5138672020479282E-3,1.481916100591343E-7,1.0329064457435836E-25,0.28893622220394766,1,0,null,null,{"$f":"IF(RAND()<poisson_parameter*model!K405,1,0)","v":0},{"$f":"IF(RAND()<(K394^quadratic_condition*L394-$T$21)*$T$22*(1+pref_attach_on*SUM($X$35:X404)),1,0)","v":0},371,{"$f":"IF(AND(SUM($X$35:X404)=0,X405=1),Y405,\"\")","v":""}]
[null,null,null,null,null,null,383,38.299999999999997,0.73937030308482821,2.0536288764754133E-4,0.57403074134749643,0.42668410120143985,1.2031157312164804,0.2907269093168966,3.4739214444677309E-3,1.3930736825160712E-7,7.7463796558878634E-26,0.2919592362013394,1,0,null,null,{"$f":"IF(RAND()<poisson_parameter*model!K406,1,0)","v":0},{"$f":"IF(RAND()<(K395^quadratic_condition*L395-$T$21)*$T$22*(1+pref_attach_on*SUM($X$35:X405)),1,0)","v":0},372,{"$f":"IF(AND(SUM($X$35:X405)=0,X406=1),Y406,\"\")","v":""}]
[null,null,null,null,null,null,384,38.4,0.73936898632293313,2.0476146547196799E-4,0.57403097989056806,0.42668421099517917,1.2031070402074777,0.29072366377597314,3.4344438959793455E-3,1.3093150804716508E-7,5.809509891457925E-26,0.29494395088094522,1,0,null,null,{"$f":"IF(RAND()<poisson_parameter*model!K407,1,0)","v":0},{"$f":"IF(RAND()<(K396^quadratic_condition*L396-$T$21)*$T$22*(1+pref_attach_on*SUM($X$35:X406)),1,0)","v":0},373,{"$f":"IF(AND(SUM($X$35:X406)=0,X407=1),Y407,\"\")","v":""}]
[null,null,null,null,null,null,385,38.5,0.7393676680686001,2.0416194665296816E-4,0.57403120689552034,0.42668431532194068,1.2030985216593129,0.29072051794761039,3.3954287556798588E-3,1.2303675489854801E-7,4.3569552181764441E-26,0.29788945600151695,1,0,null,null,{"$f":"IF(RAND()<poisson_parameter*model!K408,1,0)","v":0},{"$f":"IF(RAND()<(K397^quadratic_condition*L397-$T$21)*$T$22*(1+pref_attach_on*SUM($X$35:X407)),1,0)","v":0},374,{"$f":"IF(AND(SUM($X$35:X407)=0,X408=1),Y408,\"\")","v":""}]
[null,null,null,null,null,null,386,38.6,0.73936634861537454,2.0356432065972842E-4,0.57403142291596432,0.42668441444895289,1.2030901711329072,0.29071746836058981,3.3568703014553981E-3,1.1559717246962679E-7,3.2676048958939277E-26,0.30079490820148819,1,0,null,null,{"$f":"IF(RAND()<poisson_parameter*model!K409,1,0)","v":0},{"$f":"IF(RAND()<(K398^quadratic_condition*L398-$T$21)*$T$22*(1+pref_attach_on*SUM($X$35:X408)),1,0)","v":0},375,{"$f":"IF(AND(SUM($X$35:X408)=0,X409=1),Y409,\"\")","v":""}]
[null,null,null,null,null,null,387,38.700000000000003,0.73936502824060535,2.0296857717466222E-4,0.57403162847908962,0.42668450863057072,1.2030819843135099,0.29071451166366791,3.3187628887627624E-3,1.0858810447988121E-7,2.4506358350827088E-26,0.30365953094484804,1,{"$f":"S410-S409","v":0},null,null,{"$f":"IF(RAND()<poisson_parameter*model!K410,1,0)","v":0},{"$f":"IF(RAND()<(K399^quadratic_condition*L399-$T$21)*$T$22*(1+pref_attach_on*SUM($X$35:X409)),1,0)","v":0},376,{"$f":"IF(AND(SUM($X$35:X409)=0,X410=1),Y410,\"\")","v":""}]
[null,null,null,null,null,null,388,38.799999999999997,0.73936370720629407,2.0237470608597323E-4,0.57403182408692177,0.42668459810889331,1.2030739570075131,0.29071164462154092,3.2811009494327845E-3,1.0198611873858819E-7,1.8379376767732985E-26,0.30648261426192241,1,0,null,null,{"$f":"IF(RAND()<poisson_parameter*model!K411,1,0)","v":0},{"$f":"IF(RAND()<(K400^quadratic_condition*L400-$T$21)*$T$22*(1+pref_attach_on*SUM($X$35:X410)),1,0)","v":0},377,{"$f":"IF(AND(SUM($X$35:X410)=0,X411=1),Y411,\"\")","v":""}]
[null,null,null,null,null,null,389,38.9,0.73936238575989999,2.017826974804917E-4,0.57403201021752004,0.42668468311435159,1.2030660851393142,0.29070886411094021,3.2438789904949954E-3,9.5768953289408504E-8,1.3784324893600501E-26,0.30926351429395177,1,0,null,null,{"$f":"IF(RAND()<poisson_parameter*model!K412,1,0)","v":0},{"$f":"IF(RAND()<(K401^quadratic_condition*L401-$T$21)*$T$22*(1+pref_attach_on*SUM($X$35:X411)),1,0)","v":0},378,{"$f":"IF(AND(SUM($X$35:X411)=0,X412=1),Y412,\"\")","v":""}]
[null,null,null,null,null,null,390,39,0.73936106413510361,2.0119254163677351E-4,0.5740321873261186,0.42668476386626752,1.2030583647482289,0.2907061671168531,3.207091593023171E-3,8.9915464590354909E-8,1.0338151710003079E-26,0.31200165265108887,1,0,null,null,{"$f":"IF(RAND()<poisson_parameter*model!K413,1,0)","v":0},{"$f":"IF(RAND()<(K402^quadratic_condition*L402-$T$21)*$T$22*(1+pref_attach_on*SUM($X$35:X412)),1,0)","v":0},379,{"$f":"IF(AND(SUM($X$35:X412)=0,X413=1),Y413,\"\")","v":""}]
[null,null,null,null,null,null,391,39.1,0.73935974255253112,2.0060422901845302E-4,0.57403235584621271,0.42668484057338613,1.2030507919854558,0.29070355072886633,3.1707334110013473E-3,8.4405577658076926E-8,7.7535919767538683E-27,0.31469651559406753,1,0,null,null,{"$f":"IF(RAND()<poisson_parameter*model!K414,1,0)","v":0},{"$f":"IF(RAND()<(K403^quadratic_condition*L403-$T$21)*$T$22*(1+pref_attach_on*SUM($X$35:X413)),1,0)","v":0},380,{"$f":"IF(AND(SUM($X$35:X413)=0,X414=1),Y414,\"\")","v":""}]
[null,null,null,null,null,null,392,39.200000000000003,0.73935842122044104,2.0001775026783991E-4,0.57403251619059437,0.42668491343438175,1.2030433631110962,0.29070101213762817,3.1347991702098958E-3,7.9220238109022954E-8,5.8152124968043613E-27,0.31734765305031482,1,0,null,null,{"$f":"IF(RAND()<poisson_parameter*model!K415,1,0)","v":0},{"$f":"IF(RAND()<(K404^quadratic_condition*L404-$T$21)*$T$22*(1+pref_attach_on*SUM($X$35:X414)),1,0)","v":0},381,{"$f":"IF(AND(SUM($X$35:X414)=0,X415=1),Y415,\"\")","v":""}]
[null,null,null,null,null,null,393,39.299999999999997,0.73935710033537583,1.994330961997518E-4,0.5740326687523376,0.42668498263833982,1.2030360744912265,0.29069854863142508,3.0992836671312664E-3,7.4341366033360427E-8,4.3614490386435548E-27,0.31995467747569417,1,0,null,null,{"$f":"IF(RAND()<poisson_parameter*model!K416,1,0)","v":0},{"$f":"IF(RAND()<(K405^quadratic_condition*L405-$T$21)*$T$22*(1+pref_attach_on*SUM($X$35:X415)),1,0)","v":0},382,{"$f":"IF(AND(SUM($X$35:X415)=0,X416=1),Y416,\"\")","v":""}]
[null,null,null,null,null,null,394,39.4,0.73935578008277947,1.9885025779557382E-4,0.57403281390573802,0.42668504836521531,1.2030289225950292,0.29069615759287037,3.0641817678750058E-3,6.9751811640567201E-8,3.2711355909886234E-27,0.32251726257338059,1,0,null,null,{"$f":"IF(RAND()<poisson_parameter*model!K417,1,0)","v":0},{"$f":"IF(RAND()<(K406^quadratic_condition*L406-$T$21)*$T$22*(1+pref_attach_on*SUM($X$35:X416)),1,0)","v":0},383,{"$f":"IF(AND(SUM($X$35:X416)=0,X417=1),Y417,\"\")","v":""}]
[null,null,null,null,null,null,395,39.5,0.73935446063758326,1.9826922619753685E-4,0.57403295200720661,0.42668511078626931,1.2030219039919789,0.29069383649570074,3.0294884071216696E-3,6.5435312618372496E-8,2.4534023985251842E-27,0.32503514188158256,1,0,null,null,{"$f":"IF(RAND()<poisson_parameter*model!K418,1,0)","v":0},{"$f":"IF(RAND()<(K407^quadratic_condition*L407-$T$21)*$T$22*(1+pref_attach_on*SUM($X$35:X417)),1,0)","v":0},384,{"$f":"IF(AND(SUM($X$35:X417)=0,X418=1),Y418,\"\")","v":""}]
[null,null,null,null,null,null,396,39.6,0.73935314216476089,1.9768999270320682E-4,0.5740330833961218,0.42668517006448425,1.2030150153490864,0.2906915829016774,2.995198587085256E-3,6.1376453149242635E-8,1.840100252572871E-27,0.32750810724194324,1,0,null,null,{"$f":"IF(RAND()<poisson_parameter*model!K419,1,0)","v":0},{"$f":"IF(RAND()<(K408^quadratic_condition*L408-$T$21)*$T$22*(1+pref_attach_on*SUM($X$35:X418)),1,0)","v":0},385,{"$f":"IF(AND(SUM($X$35:X418)=0,X419=1),Y419,\"\")","v":""}]
[null,null,null,null,null,null,397,39.700000000000003,0.73935182481985517,1.9711254876017705E-4,0.57403320839564065,0.42668522635495953,1.2030082534282007,0.29068939445758912,2.9613073764937947E-3,5.7560624530896026E-8,1.3801192397569527E-27,0.32993600716048316,1,0,null,null,{"$f":"IF(RAND()<poisson_parameter*model!K420,1,0)","v":0},{"$f":"IF(RAND()<(K409^quadratic_condition*L409-$T$21)*$T$22*(1+pref_attach_on*SUM($X$35:X419)),1,0)","v":0},386,{"$f":"IF(AND(SUM($X$35:X419)=0,X420=1),Y420,\"\")","v":""}]
[null,null,null,null,null,null,398,39.799999999999997,0.73935050874947728,1.9653688596095651E-4,0.57403332731347156,0.42668527980528798,1.20300161508337,0.29068726889235319,2.9278099095877306E-3,5.3973987349411291E-8,1.0351281703360737E-27,0.33231874507288994,1,0,null,null,{"$f":"IF(RAND()<poisson_parameter*model!K421,1,0)","v":0},{"$f":"IF(RAND()<(K410^quadratic_condition*L410-$T$21)*$T$22*(1+pref_attach_on*SUM($X$35:X420)),1,0)","v":0},387,{"$f":"IF(AND(SUM($X$35:X420)=0,X421=1),Y421,\"\")","v":""}]
[null,null,null,null,null,null,399,39.9,0.7393491940917799,1.9596299603804682E-4,0.57403344044260995,0.42668533055591423,1.2029950972582593,0.29068520401421233,2.8947013851357527E-3,5.0603435155381944E-8,7.7637940153828734E-28,0.33465627752582711,1,0,null,null,{"$f":"IF(RAND()<poisson_parameter*model!K422,1,0)","v":0},{"$f":"IF(RAND()<(K411^quadratic_condition*L411-$T$21)*$T$22*(1+pref_attach_on*SUM($X$35:X421)),1,0)","v":0},388,{"$f":"IF(AND(SUM($X$35:X421)=0,X422=1),Y422,\"\")","v":""}]
[null,null,null,null,null,null,400,40,0.73934788097690562,1.9539087085920098E-4,0.57403354806203954,0.42668537874047618,1.2029886969836274,0.29068319770802348,2.8619770654677245E-3,4.7436559595288388E-8,5.8231262712237279E-28,0.33694861228572731,1,0,null,null,{"$f":"IF(RAND()<poisson_parameter*model!K423,1,0)","v":0},{"$f":"IF(RAND()<(K412^quadratic_condition*L412-$T$21)*$T$22*(1+pref_attach_on*SUM($X$35:X422)),1,0)","v":0},389,{"$f":"IF(AND(SUM($X$35:X422)=0,X423=1),Y423,\"\")","v":""}]
[null,null,null,null,null,null,401,40.1,0.73934656952741262,1.9482050242285737E-4,0.5740336504373994,0.42668542448612973,1.2029824113748626,0.29068124793263633,2.8296322755243771E-3,4.4461616951820731E-8,4.3675783602973141E-28,0.33919580638626562,1,0,null,null,{"$f":"IF(RAND()<poisson_parameter*model!K424,1,0)","v":0},{"$f":"IF(RAND()<(K413^quadratic_condition*L413-$T$21)*$T$22*(1+pref_attach_on*SUM($X$35:X423)),1,0)","v":0},390,{"$f":"IF(AND(SUM($X$35:X423)=0,X424=1),Y424,\"\")","v":""}]
[null,null,null,null,null,null,402,40.200000000000003,0.73934525985867738,1.9425188285374258E-4,0.57403374782161976,0.42668546791385858,1.2029762376295747,0.29067935271835865,2.7976624019234344E-3,4.1667496048311005E-8,3.2758760945286751E-28,0.34139796412537771,1,0,null,null,{"$f":"IF(RAND()<poisson_parameter*model!K425,1,0)","v":0},{"$f":"IF(RAND()<(K414^quadratic_condition*L414-$T$21)*$T$22*(1+pref_attach_on*SUM($X$35:X424)),1,0)","v":0},391,{"$f":"IF(AND(SUM($X$35:X424)=0,X425=1),Y425,\"\")","v":""}]
[null,null,null,null,null,null,403,40.299999999999997,0.73934395207927694,1.9368500439863689E-4,0.57403384045552774,0.42668550913876874,1.2029701730252453,0.29067751016450549,2.766062892041852E-3,3.9043687473736625E-8,2.4570639533953373E-28,0.34355523502230889,1,0,null,null,{"$f":"IF(RAND()<poisson_parameter*model!K426,1,0)","v":1},{"$f":"IF(RAND()<(K415^quadratic_condition*L415-$T$21)*$T$22*(1+pref_attach_on*SUM($X$35:X425)),1,0)","v":0},392,{"$f":"IF(AND(SUM($X$35:X425)=0,X426=1),Y426,\"\")","v":""}]
[null,null,null,null,null,null,404,40.4,0.73934264629135071,1.9311985942229638E-4,0.57403392856842361,0.42668554827036936,1.2029642149169357,0.29067571843702977,2.7348292531138474E-3,3.6580254085953127E-8,1.8429249798162853E-28,0.34566781174475408,1,0,null,null,{"$f":"IF(RAND()<poisson_parameter*model!K427,1,0)","v":0},{"$f":"IF(RAND()<(K416^quadratic_condition*L416-$T$21)*$T$22*(1+pref_attach_on*SUM($X$35:X426)),1,0)","v":0},393,{"$f":"IF(AND(SUM($X$35:X426)=0,X427=1),Y427,\"\")","v":""}]
[null,null,null,null,null,null,405,40.5,0.73934134259094386,1.9255644040352607E-4,0.57403401237863028,0.42668558541284013,1.20295836073505,0.29067397576623172,2.7039570513444156E-3,3.4267802751917833E-8,1.3822959174633251E-28,0.34773592801568765,1,0,null,null,{"$f":"IF(RAND()<poisson_parameter*model!K428,1,0)","v":0},{"$f":"IF(RAND()<(K417^quadratic_condition*L417-$T$21)*$T$22*(1+pref_attach_on*SUM($X$35:X427)),1,0)","v":0},394,{"$f":"IF(AND(SUM($X$35:X427)=0,X428=1),Y428,\"\")","v":""}]
[null,null,null,null,null,null,406,40.6,0.73934004106833251,1.9199473993139845E-4,0.57403409209401612,0.42668562066528581,1.2029526079831556,0.29067228044454446,2.6734419110380236E-3,3.2097457284689583E-8,1.0368036976255074E-28,0.34975985650898755,1,0,null,null,{"$f":"IF(RAND()<poisson_parameter*model!K429,1,0)","v":0},{"$f":"IF(RAND()<(K418^quadratic_condition*L418-$T$21)*$T$22*(1+pref_attach_on*SUM($X$35:X428)),1,0)","v":0},395,{"$f":"IF(AND(SUM($X$35:X428)=0,X429=1),Y429,\"\")","v":""}]
[null,null,null,null,null,null,407,40.700000000000003,0.73933874180833159,1.9143475070161213E-4,0.57403416791249318,0.4266856541219789,1.2029469542358577,0.29067063082439376,2.6432795137421913E-3,3.0060832537945185E-8,7.7766788432212849E-29,0.35173990674244238,1,0,null,null,{"$f":"IF(RAND()<poisson_parameter*model!K430,1,0)","v":0},{"$f":"IF(RAND()<(K419^quadratic_condition*L419-$T$21)*$T$22*(1+pref_attach_on*SUM($X$35:X429)),1,0)","v":0},396,{"$f":"IF(AND(SUM($X$35:X429)=0,X430=1),Y430,\"\")","v":""}]
[null,null,null,null,null,null,408,40.799999999999997,0.73933744489058717,1.9087646551298537E-4,0.57403424002249182,0.42668568587259076,1.2029413971367291,0.29066902531612893,2.6134655974056633E-3,2.8150009619651926E-8,5.8330255299902618E-29,0.35367642297619195,1,0,null,null,{"$f":"IF(RAND()<poisson_parameter*model!K431,1,0)","v":0},{"$f":"IF(RAND()<(K420^quadratic_condition*L420-$T$21)*$T$22*(1+pref_attach_on*SUM($X$35:X430)),1,0)","v":0},397,{"$f":"IF(AND(SUM($X$35:X430)=0,X431=1),Y431,\"\")","v":""}]
[null,null,null,null,null,null,409,40.9,0.73933615038985301,1.9031987726407962E-4,0.57403430860341209,0.42668571600241167,1.2029359343962926,0.29066746238602342,2.5839959555508897E-3,2.6357512187386594E-8,4.3751772202650658E-29,0.35556978212410512,1,0,null,null,{"$f":"IF(RAND()<poisson_parameter*model!K432,1,0)","v":0},{"$f":"IF(RAND()<(K421^quadratic_condition*L421-$T$21)*$T$22*(1+pref_attach_on*SUM($X$35:X431)),1,0)","v":0},398,{"$f":"IF(AND(SUM($X$35:X431)=0,X432=1),Y432,\"\")","v":""}]
[null,null,null,null,null,null,410,41,0.73933485837625257,1.8976497894994829E-4,0.57403437382605449,0.42668574459256053,1.2029305637900587,0.29066594055434208,2.5548664364605359E-3,2.4676283788604502E-8,3.2817043492192202E-29,0.35742039168504081,1,0,null,null,{"$f":"IF(RAND()<poisson_parameter*model!K433,1,0)","v":0},{"$f":"IF(RAND()<(K422^quadratic_condition*L422-$T$21)*$T$22*(1+pref_attach_on*SUM($X$35:X432)),1,0)","v":0},399,{"$f":"IF(AND(SUM($X$35:X432)=0,X433=1),Y433,\"\")","v":""}]
[null,null,null,null,null,null,411,41.1,0.73933356891552737,1.8921176365900612E-4,0.5740344358530296,0.42668577172018468,1.202925283156612,0.29066445839347349,2.5260729423777508E-3,2.3099666209944254E-8,2.4615307236106331E-29,0.35922868770038074,1,0,null,null,{"$f":"IF(RAND()<poisson_parameter*model!K434,1,0)","v":0},{"$f":"IF(RAND()<(K423^quadratic_condition*L423-$T$21)*$T$22*(1+pref_attach_on*SUM($X$35:X433)),1,0)","v":0},400,{"$f":"IF(AND(SUM($X$35:X433)=0,X434=1),Y434,\"\")","v":""}]
[null,null,null,null,null,null,412,41.2,0.73933228206927259,1.8866022457001449E-4,0.57403449483914859,0.42668579745865026,1.2029200903957518,0.29066301452612514,2.4976114287199227E-3,2.1621378800412754E-8,1.8463458193132293E-29,0.36099513274366596,1,0,null,null,{"$f":"IF(RAND()<poisson_parameter*model!K435,1,0)","v":0},{"$f":"IF(RAND()<(K424^quadratic_condition*L424-$T$21)*$T$22*(1+pref_attach_on*SUM($X$35:X434)),1,0)","v":0},401,{"$f":"IF(AND(SUM($X$35:X434)=0,X435=1),Y435,\"\")","v":""}]
[null,null,null,null,null,null,413,41.3,0.73933099789515955,1.8811035494917889E-4,0.57403455093179478,0.42668582187772347,1.2029149834666812,0.29066160762357923,2.4694779033056654E-3,2.0235498734035803E-8,1.384913939174861E-29,0.362720213947618,1,0,null,null,{"$f":"IF(RAND()<poisson_parameter*model!K436,1,0)","v":0},{"$f":"IF(RAND()<(K425^quadratic_condition*L425-$T$21)*$T$22*(1+pref_attach_on*SUM($X$35:X435)),1,0)","v":0},402,{"$f":"IF(AND(SUM($X$35:X435)=0,X436=1),Y436,\"\")","v":""}]
[null,null,null,null,null,null,414,41.4,0.73932971644714685,1.8756214814735382E-4,0.57403460427127806,0.42668584504374346,1.2029099603862468,0.29066023640400751,2.4416684255947766E-3,1.8936442178288114E-8,1.0388060077620984E-29,0.36440444107328684,1,0,null,null,{"$f":"IF(RAND()<poisson_parameter*model!K437,1,0)","v":0},{"$f":"IF(RAND()<(K426^quadratic_condition*L426-$T$21)*$T$22*(1+pref_attach_on*SUM($X$35:X436)),1,0)","v":0},403,{"$f":"IF(AND(SUM($X$35:X436)=0,X437=1),Y437,\"\")","v":""}]
[null,null,null,null,null,null,415,41.5,0.7393284377756808,1.8701559759735158E-4,0.57403465499117179,0.42668586701978678,1.2029050192272253,0.29065889963084279,2.4141791059409177E-3,1.7718946335336516E-8,7.7919834393009902E-30,0.36604834462553937,1,0,null,null,{"$f":"IF(RAND()<poisson_parameter*model!K438,1,0)","v":0},{"$f":"IF(RAND()<(K427^quadratic_condition*L427-$T$21)*$T$22*(1+pref_attach_on*SUM($X$35:X437)),1,0)","v":0},404,{"$f":"IF(AND(SUM($X$35:X437)=0,X438=1),Y438,\"\")","v":""}]
[null,null,null,null,null,null,416,41.6,0.73932716192788428,1.8647069681135088E-4,0.57403470321863426,0.4266858878658244,1.2029001581166585,0.29065759611120578,2.3870061048567705E-3,1.657805232384536E-8,5.8447167163413948E-30,0.36765247401859136,1,0,null,null,{"$f":"IF(RAND()<poisson_parameter*model!K439,1,0)","v":0},{"$f":"IF(RAND()<(K428^quadratic_condition*L428-$T$21)*$T$22*(1+pref_attach_on*SUM($X$35:X438)),1,0)","v":0},405,{"$f":"IF(AND(SUM($X$35:X438)=0,X439=1),Y439,\"\")","v":""}]
[null,null,null,null,null,null,417,41.7,0.73932588894773665,1.859274393784017E-4,0.5740347490747143,0.42668590763887099,1.2028953752342351,0.29065632469438502,2.360145632291432E-3,1.5509088869806449E-8,4.3841031659150282E-30,0.36921739579479357,1,0,null,null,{"$f":"IF(RAND()<poisson_parameter*model!K440,1,0)","v":0},{"$f":"IF(RAND()<(K429^quadratic_condition*L429-$T$21)*$T$22*(1+pref_attach_on*SUM($X$35:X439)),1,0)","v":0},406,{"$f":"IF(AND(SUM($X$35:X439)=0,X440=1),Y440,\"\")","v":""}]
[null,null,null,null,null,null,418,41.8,0.73932461887624323,1.8538581896202264E-4,0.57403479267464297,0.4266859263931273,1.202890668810717,0.29065508427036846,2.3335939469198114E-3,1.4507656775569348E-8,3.2885155030688878E-30,0.37074369189940914,1,0,null,null,{"$f":"IF(RAND()<poisson_parameter*model!K441,1,0)","v":0},{"$f":"IF(RAND()<(K430^quadratic_condition*L430-$T$21)*$T$22*(1+pref_attach_on*SUM($X$35:X440)),1,0)","v":0},407,{"$f":"IF(AND(SUM($X$35:X440)=0,X441=1),Y441,\"\")","v":""}]
[null,null,null,null,null,null,419,41.9,0.73932335175159658,1.848458292978876E-4,0.57403483412811096,0.42668594418011585,1.2028860371264107,0.29065387376842489,2.307347355443798E-3,1.356961413696329E-8,2.4667255252433057E-30,0.37223195801366976,1,0,null,null,{"$f":"IF(RAND()<poisson_parameter*model!K442,1,0)","v":0},{"$f":"IF(RAND()<(K431^quadratic_condition*L431-$T$21)*$T$22*(1+pref_attach_on*SUM($X$35:X441)),1,0)","v":0},408,{"$f":"IF(AND(SUM($X$35:X441)=0,X442=1),Y442,\"\")","v":""}]
[null,null,null,null,null,null,420,42,0.73932208760932872,1.8430746419159831E-4,0.57403487353953286,0.42668596104881013,1.2028814785096822,0.29065269215573375,2.281402211904978E-3,1.2691062279120321E-8,1.8503059484845149E-30,0.37368280194797066,1,0,null,null,{"$f":"IF(RAND()<poisson_parameter*model!K443,1,0)","v":0},{"$f":"IF(RAND()<(K432^quadratic_condition*L432-$T$21)*$T$22*(1+pref_attach_on*SUM($X$35:X442)),1,0)","v":0},409,{"$f":"IF(AND(SUM($X$35:X442)=0,X443=1),Y443,\"\")","v":""}]
[null,null,null,null,null,null,421,42.1,0.73932082648245556,1.8377071751653933E-4,0.57403491100829895,0.42668597704575773,1.2028769913355142,0.29065153843606123,2.2557549170086769E-3,1.1868332382331349E-8,1.3879314680630668E-30,0.37509684209666122,1,0,null,null,{"$f":"IF(RAND()<poisson_parameter*model!K444,1,0)","v":0},{"$f":"IF(RAND()<(K433^quadratic_condition*L433-$T$21)*$T$22*(1+pref_attach_on*SUM($X$35:X443)),1,0)","v":0},410,{"$f":"IF(AND(SUM($X$35:X443)=0,X444=1),Y444,\"\")","v":""}]
[null,null,null,null,null,null,422,42.2,0.73931956840161339,1.8323558321181293E-4,0.574034946629015,0.42668599221519771,1.2028725740241049,0.29065041164848188,2.2304019174591147E-3,1.1097972769992674E-8,1.0411042944016072E-30,0.37647470595551058,1,0,null,null,{"$f":"IF(RAND()<poisson_parameter*model!K445,1,0)","v":0},{"$f":"IF(RAND()<(K434^quadratic_condition*L434-$T$21)*$T$22*(1+pref_attach_on*SUM($X$35:X444)),1,0)","v":0},411,{"$f":"IF(AND(SUM($X$35:X444)=0,X445=1),Y445,\"\")","v":""}]
[null,null,null,null,null,null,423,42.3,0.73931831339518861,1.8270205528025043E-4,0.57403498049173052,0.42668600659917227,1.202868225039508,0.29064931086614371,2.20533970530546E-3,1.0376736831430352E-8,7.8094809399247918E-31,0.3778170287025735,1,0,null,null,{"$f":"IF(RAND()<poisson_parameter*model!K446,1,0)","v":0},{"$f":"IF(RAND()<(K435^quadratic_condition*L435-$T$21)*$T$22*(1+pref_attach_on*SUM($X$35:X445)),1,0)","v":0},412,{"$f":"IF(AND(SUM($X$35:X445)=0,X446=1),Y446,\"\")","v":""}]
[null,null,null,null,null,null,424,42.4,0.73931706148943976,1.8217012778649739E-4,0.57403501268215651,0.4266860202376333,1.2028639428883108,0.29064823519507538,2.1805648172985802E-3,9.7015715531228547E-9,5.858032746956609E-31,0.37912445184285642,1,0,null,null,{"$f":"IF(RAND()<poisson_parameter*model!K447,1,0)","v":0},{"$f":"IF(RAND()<(K436^quadratic_condition*L436-$T$21)*$T$22*(1+pref_attach_on*SUM($X$35:X446)),1,0)","v":0},413,{"$f":"IF(AND(SUM($X$35:X446)=0,X447=1),Y447,\"\")","v":""}]
[null,null,null,null,null,null,425,42.5,0.73931581270861402,1.8163979485516968E-4,0.57403504328187249,0.42668603316854364,1.2028597261183527,0.29064718377303445,2.1560738342582802E-3,9.0696066325785314E-9,4.3942331295021672E-31,0.38039762191687893,1,0,null,null,{"$f":"IF(RAND()<poisson_parameter*model!K448,1,0)","v":0},{"$f":"IF(RAND()<(K437^quadratic_condition*L437-$T$21)*$T$22*(1+pref_attach_on*SUM($X$35:X447)),1,0)","v":0},414,{"$f":"IF(AND(SUM($X$35:X447)=0,X448=1),Y448,\"\")","v":""}]
[null,null,null,null,null,null,426,42.6,0.73931456707505683,1.8111105066907817E-4,0.57403507236852391,0.42668604542797389,1.2028555733174799,0.29064615576839492,2.131863380450837E-3,8.4781441498622648E-9,3.2962188997276395E-31,0.38163718927295098,1,0,null,null,{"$f":"IF(RAND()<poisson_parameter*model!K449,1,0)","v":0},{"$f":"IF(RAND()<(K438^quadratic_condition*L438-$T$21)*$T$22*(1+pref_attach_on*SUM($X$35:X448)),1,0)","v":0},415,{"$f":"IF(AND(SUM($X$35:X448)=0,X449=1),Y449,\"\")","v":""}]
[null,null,null,null,null,null,427,42.7,0.73931332460931598,1.8058388946751901E-4,0.57403510001600988,0.42668605705019436,1.2028514831123382,0.29064515037907296,2.1079301229766337E-3,7.9246487725046624E-9,2.4725815708481789E-31,0.3828438069027319,1,0,null,null,{"$f":"IF(RAND()<poisson_parameter*model!K450,1,0)","v":0},{"$f":"IF(RAND()<(K439^quadratic_condition*L439-$T$21)*$T$22*(1+pref_attach_on*SUM($X$35:X449)),1,0)","v":0},416,{"$f":"IF(AND(SUM($X$35:X449)=0,X450=1),Y450,\"\")","v":""}]
[null,null,null,null,null,null,428,42.8,0.73931208533023984,1.8005830554462734E-4,0.57403512629466258,0.42668606806776282,1.2028474541672001,0.29064416683148941,2.0842707711677035E-3,7.406738470265963E-9,1.8547561595463849E-31,0.38401812933940921,1,0,null,null,{"$f":"IF(RAND()<poisson_parameter*model!K451,1,0)","v":0},{"$f":"IF(RAND()<(K440^quadratic_condition*L440-$T$21)*$T$22*(1+pref_attach_on*SUM($X$35:X450)),1,0)","v":0},417,{"$f":"IF(AND(SUM($X$35:X450)=0,X451=1),Y451,\"\")","v":""}]
[null,null,null,null,null,null,429,42.9,0.73931084925507073,1.7953429324779206E-4,0.57403515127141758,0.42668607851160795,1.2028434851828278,0.29064320437956837,2.060882075994998E-3,6.9221757169643019E-9,1.3913122452049057E-31,0.38516081161762972,1,0,null,null,{"$f":"IF(RAND()<poisson_parameter*model!K452,1,0)","v":0},{"$f":"IF(RAND()<(K441^quadratic_condition*L441-$T$21)*$T$22*(1+pref_attach_on*SUM($X$35:X451)),1,0)","v":0},418,{"$f":"IF(AND(SUM($X$35:X451)=0,X452=1),Y452,\"\")","v":""}]
[null,null,null,null,null,null,430,43,0.7393096163995333,1.790118469761292E-4,0.57403517500997603,0.42668608841110878,1.2028395748953704,0.29064226230376955,2.0377608294851997E-3,6.4688591573129446E-9,1.0436718374581604E-31,0.38627250829413107,1,0,null,null,{"$f":"IF(RAND()<poisson_parameter*model!K453,1,0)","v":0},{"$f":"IF(RAND()<(K442^quadratic_condition*L442-$T$21)*$T$22*(1+pref_attach_on*SUM($X$35:X452)),1,0)","v":0},419,{"$f":"IF(AND(SUM($X$35:X452)=0,X453=1),Y453,\"\")","v":""}]
[null,null,null,null,null,null,431,43.1,0.73930838677791777,1.784909611790118E-4,0.57403519757095989,0.42668609779417072,1.202835722075293,0.29064133991015473,2.0149038641468966E-3,6.044815717442184E-9,7.8289744194033145E-32,0.38735387252786108,1,0,null,null,{"$f":"IF(RAND()<poisson_parameter*model!K454,1,0)","v":0},{"$f":"IF(RAND()<(K443^quadratic_condition*L443-$T$21)*$T$22*(1+pref_attach_on*SUM($X$35:X453)),1,0)","v":0},420,{"$f":"IF(AND(SUM($X$35:X453)=0,X454=1),Y454,\"\")","v":""}]
[null,null,null,null,null,null,432,43.2,0.73930716040315914,1.7797163035465418E-4,0.57403521901205867,0.4266861066872974,1.2028319255263389,0.29064043652948574,1.9923080524059502E-3,5.6481931385075602E-9,5.8728284747951422E-32,0.38840555521822934,1,0,null,null,{"$f":"IF(RAND()<poisson_parameter*model!K455,1,0)","v":0},{"$f":"IF(RAND()<(K444^quadratic_condition*L444-$T$21)*$T$22*(1+pref_attach_on*SUM($X$35:X454)),1,0)","v":0},421,{"$f":"IF(AND(SUM($X$35:X454)=0,X455=1),Y455,\"\")","v":""}]
[null,null,null,null,null,null,433,43.3,0.73930593728691196,1.7745384904874868E-4,0.57403523938817025,0.42668611511565963,1.2028281840845227,0.29063955151635401,1.9699703060498822E-3,5.2772529135056445E-9,4.4054601181204017E-32,0.38942820420001351,1,0,null,null,{"$f":"IF(RAND()<poisson_parameter*model!K456,1,0)","v":0},{"$f":"IF(RAND()<(K445^quadratic_condition*L445-$T$21)*$T$22*(1+pref_attach_on*SUM($X$35:X455)),1,0)","v":0},422,{"$f":"IF(AND(SUM($X$35:X455)=0,X456=1),Y456,\"\")","v":""}]
[null,null,null,null,null,null,434,43.4,0.73930471743962112,1.7693761185315254E-4,0.57403525875153427,0.42668612310316073,1.2028244966171546,0.29063868424834016,1.9478875756811147E-3,4.9303636081305529E-9,3.3047356636351173E-32,0.39042246349333848,1,0,null,null,{"$f":"IF(RAND()<poisson_parameter*model!K457,1,0)","v":0},{"$f":"IF(RAND()<(K446^quadratic_condition*L446-$T$21)*$T$22*(1+pref_attach_on*SUM($X$35:X456)),1,0)","v":0},423,{"$f":"IF(AND(SUM($X$35:X456)=0,X457=1),Y457,\"\")","v":""}]
[null,null,null,null,null,null,435,43.5,0.73930350087058916,1.7642291340462345E-4,0.57403527715185954,0.42668613067249878,1.2028208620218932,0.29063783412520239,1.9260568501788995E-3,4.6059945472074787E-9,2.4790407076711465E-32,0.39138897260705902,1,0,null,null,{"$f":"IF(RAND()<poisson_parameter*model!K458,1,0)","v":0},{"$f":"IF(RAND()<(K447^quadratic_condition*L447-$T$21)*$T$22*(1+pref_attach_on*SUM($X$35:X457)),1,0)","v":0},424,{"$f":"IF(AND(SUM($X$35:X457)=0,X458=1),Y458,\"\")","v":""}]
[null,null,null,null,null,null,436,43.6,0.7393022875880394,1.759097483836017E-4,0.57403529463644531,0.42668613784522602,1.2028172792258278,0.29063700056809322,1.9044751561697769E-3,4.302709848932678E-9,1.8596535741409494E-32,0.39232836589380471,1,0,null,null,{"$f":"IF(RAND()<poisson_parameter*model!K459,1,0)","v":0},{"$f":"IF(RAND()<(K448^quadratic_condition*L448-$T$21)*$T$22*(1+pref_attach_on*SUM($X$35:X458)),1,0)","v":0},425,{"$f":"IF(AND(SUM($X$35:X458)=0,X459=1),Y459,\"\")","v":""}]
[null,null,null,null,null,null,437,43.7,0.73930107759917607,1.753981115130372E-4,0.57403531125029672,0.42668614464180532,1.202813747184589,0.2906361830188034,1.8831395575064083E-3,4.0191627898315052E-9,1.3950246517779438E-32,0.3932412719548905,1,0,null,null,{"$f":"IF(RAND()<poisson_parameter*model!K460,1,0)","v":0},{"$f":"IF(RAND()<(K449^quadratic_condition*L449-$T$21)*$T$22*(1+pref_attach_on*SUM($X$35:X459)),1,0)","v":0},426,{"$f":"IF(AND(SUM($X$35:X459)=0,X460=1),Y460,\"\")","v":""}]
[null,null,null,null,null,null,438,43.8,0.73929987091024119,1.7488799755725979E-4,0.57403532703623483,0.42668615108166397,1.2028102648814858,0.29063538093903196,1.8620471547546272E-3,3.7540904840162269E-9,1.0464853188627889E-32,0.39412831309325125,1,0,null,null,{"$f":"IF(RAND()<poisson_parameter*model!K461,1,0)","v":0},{"$f":"IF(RAND()<(K450^quadratic_condition*L450-$T$21)*$T$22*(1+pref_attach_on*SUM($X$35:X460)),1,0)","v":0},427,{"$f":"IF(AND(SUM($X$35:X460)=0,X461=1),Y461,\"\")","v":""}]
[null,null,null,null,null,null,439,43.9,0.73929866752656848,1.7437940132089105E-4,0.57403534203500151,0.42668615718324476,1.2028068313266695,0.29063459380968149,1.8411950846885592E-3,3.5063088609825904E-9,7.8502918975307528E-33,0.39499010481253072,1,0,null,null,{"$f":"IF(RAND()<poisson_parameter*model!K462,1,0)","v":0},{"$f":"IF(RAND()<(K451^quadratic_condition*L451-$T$21)*$T$22*(1+pref_attach_on*SUM($X$35:X461)),1,0)","v":0},428,{"$f":"IF(AND(SUM($X$35:X461)=0,X462=1),Y462,\"\")","v":""}]
[null,null,null,null,null,null,440,44,0.73929746745263403,1.7387231764779619E-4,0.57403535628535896,0.42668616296405487,1.2028034455563237,0.29063382113017816,1.8205805197936643E-3,3.2747079268276625E-9,5.8889770462043186E-33,0.39582725536043384,1,0,null,null,{"$f":"IF(RAND()<poisson_parameter*model!K463,1,0)","v":0},{"$f":"IF(RAND()<(K452^quadratic_condition*L452-$T$21)*$T$22*(1+pref_attach_on*SUM($X$35:X462)),1,0)","v":0},429,{"$f":"IF(AND(SUM($X$35:X462)=0,X463=1),Y463,\"\")","v":""}]
[null,null,null,null,null,null,441,44.1,0.73929627069210468,1.7336674142007447E-4,0.5740353698241849,0.42668616844071211,1.2028001066318779,0.29063306241781534,1.8002006677775566E-3,3.0582472944005206E-9,4.4176905554945959E-33,0.39664036531444524,1,0,null,null,{"$f":"IF(RAND()<poisson_parameter*model!K464,1,0)","v":0},{"$f":"IF(RAND()<(K453^quadratic_condition*L453-$T$21)*$T$22*(1+pref_attach_on*SUM($X$35:X463)),1,0)","v":0},430,{"$f":"IF(AND(SUM($X$35:X463)=0,X464=1),Y464,\"\")","v":""}]
[null,null,null,null,null,null,442,44.2,0.73929507724788335,1.7286266755708662E-4,0.57403538268656329,0.4266861736289892,1.2027968136392477,0.29063231720711991,1.7800527710884612E-3,2.8559519685113964E-9,3.3139967602534364E-33,0.3974300272080159,1,0,null,null,{"$f":"IF(RAND()<poisson_parameter*model!K465,1,0)","v":0},{"$f":"IF(RAND()<(K454^quadratic_condition*L454-$T$21)*$T$22*(1+pref_attach_on*SUM($X$35:X464)),1,0)","v":0},431,{"$f":"IF(AND(SUM($X$35:X464)=0,X465=1),Y465,\"\")","v":""}]
[null,null,null,null,null,null,443,44.3,0.73929388712215227,1.7236009101451793E-4,0.5740353949058703,0.42668617854385565,1.2027935656880961,0.29063158504924086,1.760134106441169E-3,2.6669083729232263E-9,2.4860520020852431E-33,0.39819682519533106,1,0,null,null,{"$f":"IF(RAND()<poisson_parameter*model!K466,1,0)","v":0},{"$f":"IF(RAND()<(K455^quadratic_condition*L455-$T$21)*$T$22*(1+pref_attach_on*SUM($X$35:X465)),1,0)","v":0},432,{"$f":"IF(AND(SUM($X$35:X465)=0,X466=1),Y466,\"\")","v":""}]
[null,null,null,null,null,null,444,44.4,0.73929270031641403,1.718590067834757E-4,0.57403540651385643,0.42668618319951779,1.2027903619111193,0.29063086551135919,1.7404419843503548E-3,2.4902606064318332E-9,1.8649606102659932E-33,0.3989413347527887,1,0,null,null,{"$f":"IF(RAND()<poisson_parameter*model!K467,1,0)","v":0},{"$f":"IF(RAND()<(K456^quadratic_condition*L456-$T$21)*$T$22*(1+pref_attach_on*SUM($X$35:X466)),1,0)","v":0},433,{"$f":"IF(AND(SUM($X$35:X466)=0,X467=1),Y467,\"\")","v":""}]
[null,null,null,null,null,null,445,44.5,0.73929151683152972,1.7135940988961964E-4,0.57403541754072474,0.42668618760945687,1.2027872014633538,0.2906301581761182,1.7209737486711257E-3,2.3252069159067563E-9,1.3990409550942068E-33,0.39966412241534249,1,0,null,null,{"$f":"IF(RAND()<poisson_parameter*model!K468,1,0)","v":0},{"$f":"IF(RAND()<(K457^quadratic_condition*L457-$T$21)*$T$22*(1+pref_attach_on*SUM($X$35:X467)),1,0)","v":0},434,{"$f":"IF(AND(SUM($X$35:X467)=0,X468=1),Y468,\"\")","v":""}]
[null,null,null,null,null,null,446,44.6,0.73929033666775601,1.7086129539232412E-4,0.57403542801520546,0.42668619178646522,1.2027840835215053,0.29062946264107398,1.701726776146671E-3,2.1709963747137481E-9,1.0495242722669854E-33,0.40036574554589283,1,0,null,null,{"$f":"IF(RAND()<poisson_parameter*model!K469,1,0)","v":0},{"$f":"IF(RAND()<(K458^quadratic_condition*L458-$T$21)*$T$22*(1+pref_attach_on*SUM($X$35:X468)),1,0)","v":0},435,{"$f":"IF(AND(SUM($X$35:X468)=0,X469=1),Y469,\"\")","v":""}]
[null,null,null,null,null,null,447,44.7,0.73928915982477927,1.7036465838387086E-4,0.57403543796462675,0.42668619574268063,1.202781007283299,0.29062877851816504,1.682698475962884E-3,2.0269257554719896E-9,7.8732823229204449E-34,0.40104675213594465,1,0,null,null,{"$f":"IF(RAND()<poisson_parameter*model!K470,1,0)","v":0},{"$f":"IF(RAND()<(K459^quadratic_condition*L459-$T$21)*$T$22*(1+pref_attach_on*SUM($X$35:X469)),1,0)","v":0},436,{"$f":"IF(AND(SUM($X$35:X469)=0,X470=1),Y470,\"\")","v":""}]
[null,null,null,null,null,null,448,44.8,0.73928798630174841,1.6986949398867116E-4,0.57403544741498247,0.42668619948961917,1.2027779719668492,0.29062810543320039,1.6638862893098344E-3,1.8923365866139378E-9,5.9063669689497675E-34,0.40170768063579138,1,0,null,null,{"$f":"IF(RAND()<poisson_parameter*model!K471,1,0)","v":0},{"$f":"IF(RAND()<(K460^quadratic_condition*L460-$T$21)*$T$22*(1+pref_attach_on*SUM($X$35:X470)),1,0)","v":0},437,{"$f":"IF(AND(SUM($X$35:X470)=0,X471=1),Y471,\"\")","v":""}]
[null,null,null,null,null,null,449,44.9,0.73928681609730595,1.6937579736251641E-4,0.57403545639099607,0.42668620303820631,1.2027749768100495,0.29062744302536558,1.6452876889499668E-3,1.7666123827133861E-9,4.4308421416561584E-34,0.40234905981252594,1,0,null,null,{"$f":"IF(RAND()<poisson_parameter*model!K472,1,0)","v":0},{"$f":"IF(RAND()<(K461^quadratic_condition*L461-$T$21)*$T$22*(1+pref_attach_on*SUM($X$35:X471)),1,0)","v":0},438,{"$f":"IF(AND(SUM($X$35:X471)=0,X472=1),Y472,\"\")","v":""}]
[null,null,null,null,null,null,450,45,0.73928564920961715,1.6888356369185571E-4,0.5740354649161824,0.42668620639880672,1.2027720210699813,0.29062679094674626,1.6269001787929062E-3,1.6491760390277485E-9,3.3239414335423085E-34,0.40297140863422881,1,0,null,null,{"$f":"IF(RAND()<poisson_parameter*model!K473,1,0)","v":0},{"$f":"IF(RAND()<(K462^quadratic_condition*L462-$T$21)*$T$22*(1+pref_attach_on*SUM($X$35:X472)),1,0)","v":0},439,{"$f":"IF(AND(SUM($X$35:X472)=0,X473=1),Y473,\"\")","v":""}]
[null,null,null,null,null,null,451,45.1,0.73928448563639781,1.683927881930998E-4,0.57403547301290581,0.42668620958125225,1.2027691040223412,0.29062614886186822,1.6087212934767544E-3,1.5394873811638311E-9,2.4935705988090053E-34,0.40357523617873048,1,{"$f":"S474-S473","v":0},null,null,{"$f":"IF(RAND()<poisson_parameter*model!K474,1,0)","v":0},{"$f":"IF(RAND()<(K463^quadratic_condition*L463-$T$21)*$T$22*(1+pref_attach_on*SUM($X$35:X473)),1,0)","v":0},440,{"$f":"IF(AND(SUM($X$35:X473)=0,X474=1),Y474,\"\")","v":""}]
[null,null,null,null,null,null,452,45.2,0.73928332537494024,1.6790346611195018E-4,0.57403548070243549,0.42668621259486889,1.2027662249608866,0.29062551644725365,1.5907485979557616E-3,1.437040861222539E-9,1.8706441493472169E-34,0.40416104156539862,1,0,null,null,{"$f":"IF(RAND()<poisson_parameter*model!K475,1,0)","v":0},{"$f":"IF(RAND()<(K464^quadratic_condition*L464-$T$21)*$T$22*(1+pref_attach_on*SUM($X$35:X474)),1,0)","v":0},441,{"$f":"IF(AND(SUM($X$35:X474)=0,X475=1),Y475,\"\")","v":""}]
[null,null,null,null,null,null,453,45.3,0.73928216842213834,1.6741559272275239E-4,0.57403548800499871,0.42668621544850216,1.2027633831968982,0.29062489339099312,1.5729796870942608E-3,1.3413633922072295E-9,1.4033367004058684E-34,0.40472931390845251,1,0,null,null,{"$f":"IF(RAND()<poisson_parameter*model!K476,1,0)","v":0},{"$f":"IF(RAND()<(K465^quadratic_condition*L465-$T$21)*$T$22*(1+pref_attach_on*SUM($X$35:X475)),1,0)","v":0},442,{"$f":"IF(AND(SUM($X$35:X475)=0,X476=1),Y476,\"\")","v":""}]
[null,null,null,null,null,null,454,45.4,0.73928101477451091,1.669291633278727E-4,0.57403549493983108,0.42668621815054147,1.2027605780586599,0.29062427939233249,1.5554121852667554E-3,1.2520123128929741E-9,1.0527706389143432E-34,0.40528053229036204,1,0,null,null,{"$f":"IF(RAND()<poisson_parameter*model!K477,1,0)","v":0},{"$f":"IF(RAND()<(K466^quadratic_condition*L466-$T$21)*$T$22*(1+pref_attach_on*SUM($X$35:X476)),1,0)","v":0},443,{"$f":"IF(AND(SUM($X$35:X476)=0,X477=1),Y477,\"\")","v":""}]
[null,null,null,null,null,null,455,45.5,0.73927986442822369,1.6644417325709725E-4,0.57403550152522453,0.42668622070894319,1.2027578088909539,0.29062367416127433,1.538043745964052E-3,1.1685734757500742E-9,7.8978123295585568E-35,0.40581516575394389,1,0,null,null,{"$f":"IF(RAND()<poisson_parameter*model!K478,1,0)","v":0},{"$f":"IF(RAND()<(K467^quadratic_condition*L467-$T$21)*$T$22*(1+pref_attach_on*SUM($X$35:X477)),1,0)","v":0},444,{"$f":"IF(AND(SUM($X$35:X477)=0,X478=1),Y478,\"\")","v":""}]
[null,null,null,null,null,null,456,45.6,0.73927871737911044,1.6596061786705268E-4,0.57403550777857304,0.42668622313125237,1.2027550750545732,0.29062307741819349,1.5208720514053326E-3,1.0906594508950633E-9,5.9248997433637875E-35,0.40633367331182252,1,0,null,null,{"$f":"IF(RAND()<poisson_parameter*model!K479,1,0)","v":0},{"$f":"IF(RAND()<(K468^quadratic_condition*L468-$T$21)*$T$22*(1+pref_attach_on*SUM($X$35:X478)),1,0)","v":0},445,{"$f":"IF(AND(SUM($X$35:X478)=0,X479=1),Y479,\"\")","v":""}]
[null,null,null,null,null,null,457,45.7,0.73927757362269286,1.6547849254064766E-4,0.57403551371641592,0.42668622542462376,1.2027523759258487,0.29062248889346615,1.5038948121560613E-3,1.0179078394064406E-9,4.4448421227171407E-35,0.40683650397198035,1,0,null,null,{"$f":"IF(RAND()<poisson_parameter*model!K480,1,0)","v":0},{"$f":"IF(RAND()<(K469^quadratic_condition*L469-$T$21)*$T$22*(1+pref_attach_on*SUM($X$35:X479)),1,0)","v":0},446,{"$f":"IF(AND(SUM($X$35:X479)=0,X480=1),Y480,\"\")","v":""}]
[null,null,null,null,null,null,458,45.8,0.73927643315419922,1.6499779268653428E-4,0.5740355193544795,0.42668622759584163,1.2027497108961909,0.2906219083271121,1.4871097667516265E-3,9.4997968969085771E-10,3.3345159420890733E-35,0.40732409677817638,1,0,null,null,{"$f":"IF(RAND()<poisson_parameter*model!K481,1,0)","v":0},{"$f":"IF(RAND()<(K470^quadratic_condition*L470-$T$21)*$T$22*(1+pref_attach_on*SUM($X$35:X480)),1,0)","v":0},447,{"$f":"IF(AND(SUM($X$35:X480)=0,X481=1),Y481,\"\")","v":""}]
[null,null,null,null,null,null,459,45.9,0.7392752959685821,1.6451851373858875E-4,0.57403552470771635,0.42668622965133846,1.2027470793716462,0.29062133546844932,1.4705146813266173E-3,8.8655801091878106E-10,2.501556797617962E-35,0.4077968808640679,1,0,null,null,{"$f":"IF(RAND()<poisson_parameter*model!K482,1,0)","v":0},{"$f":"IF(RAND()<(K471^quadratic_condition*L471-$T$21)*$T$22*(1+pref_attach_on*SUM($X$35:X481)),1,0)","v":0},448,{"$f":"IF(AND(SUM($X$35:X481)=0,X482=1),Y482,\"\")","v":""}]
[null,null,null,null,null,null,460,46,0.73927416206053531,1.6404065115541047E-4,0.574035529790343,0.42668623159721292,1.2027444807724679,0.29062077007576115,1.4541073492496366E-3,8.2734637786716974E-10,1.876674861696671E-35,0.4082552755199248,1,0,null,null,{"$f":"IF(RAND()<poisson_parameter*model!K483,1,0)","v":0},{"$f":"IF(RAND()<(K472^quadratic_condition*L472-$T$21)*$T$22*(1+pref_attach_on*SUM($X$35:X482)),1,0)","v":0},449,{"$f":"IF(AND(SUM($X$35:X482)=0,X483=1),Y483,\"\")","v":""}]
[null,null,null,null,null,null,461,46.1,0.73927303142450951,1.6356420041983911E-4,0.57403553461587575,0.42668623343924683,1.2027419145326999,0.29062021191597504,1.437885590763556E-3,7.7206762181084007E-10,1.4078902180526985E-35,0.40869969027087977,1,0,null,null,{"$f":"IF(RAND()<poisson_parameter*model!K484,1,0)","v":0},{"$f":"IF(RAND()<(K473^quadratic_condition*L473-$T$21)*$T$22*(1+pref_attach_on*SUM($X$35:X483)),1,0)","v":0},450,{"$f":"IF(AND(SUM($X$35:X483)=0,X484=1),Y484,\"\")","v":""}]
[null,null,null,null,null,null,462,46.2,0.73927190405472754,1.6308915703848855E-4,0.57403553919716432,0.42668623518292148,1.2027393800997732,0.29061966076435253,1.4218472526311182E-3,7.2046260239435122E-10,1.0562084075074368E-35,0.40913052496571017,1,0,null,null,{"$f":"IF(RAND()<poisson_parameter*model!K485,1,0)","v":0},{"$f":"IF(RAND()<(K474^quadratic_condition*L474-$T$21)*$T$22*(1+pref_attach_on*SUM($X$35:X484)),1,0)","v":0},451,{"$f":"IF(AND(SUM($X$35:X484)=0,X485=1),Y485,\"\")","v":""}]
[null,null,null,null,null,null,463,46.3,0.7392707799451983,1.6261551654129741E-4,0.57403554354642472,0.42668623683343265,1.2027368769341167,0.29061911640419053,1.4059902077857968E-3,6.7228905569286839E-10,7.9237636050361155E-36,0.40954816987519965,1,0,null,null,{"$f":"IF(RAND()<poisson_parameter*model!K486,1,0)","v":0},{"$f":"IF(RAND()<(K475^quadratic_condition*L475-$T$21)*$T$22*(1+pref_attach_on*SUM($X$35:X485)),1,0)","v":0},452,{"$f":"IF(AND(SUM($X$35:X485)=0,X486=1),Y486,\"\")","v":""}]
[null,null,null,null,null,null,464,46.4,0.73926965908973019,1.6214327448109547E-4,0.57403554767526965,0.42668623839570557,1.2027344045087784,0.29061857862653284,1.3903123549878196E-3,6.2732051393397262E-10,5.9444879389378343E-36,0.40995300579917748,1,0,null,null,{"$f":"IF(RAND()<poisson_parameter*model!K487,1,0)","v":0},{"$f":"IF(RAND()<(K476^quadratic_condition*L476-$T$21)*$T$22*(1+pref_attach_on*SUM($X$35:X486)),1,0)","v":0},453,{"$f":"IF(AND(SUM($X$35:X486)=0,X487=1),Y487,\"\")","v":""}]
[null,null,null,null,null,null,465,46.5,0.7392685414819441,1.6167242643318517E-4,0.57403555159473829,0.42668623987440851,1.2027319623090604,0.29061804722989232,1.3748116184852718E-3,5.8534529260323164E-10,4.4596258850335201E-36,0.41034540418138293,1,0,null,null,{"$f":"IF(RAND()<poisson_parameter*model!K488,1,0)","v":0},{"$f":"IF(RAND()<(K477^quadratic_condition*L477-$T$21)*$T$22*(1+pref_attach_on*SUM($X$35:X487)),1,0)","v":0},454,{"$f":"IF(AND(SUM($X$35:X487)=0,X488=1),Y488,\"\")","v":""}]
[null,null,null,null,null,null,466,46.6,0.73926742711528493,1.6120296799493786E-4,0.57403555531532402,0.42668624127396609,1.2027295498321631,0.29061752201998231,1.3594859476801897E-3,5.4616554089496473E-10,3.3456725314734918E-36,0.41072572723135004,1,0,null,null,{"$f":"IF(RAND()<poisson_parameter*model!K489,1,0)","v":0},{"$f":"IF(RAND()<(K478^quadratic_condition*L478-$T$21)*$T$22*(1+pref_attach_on*SUM($X$35:X488)),1,0)","v":0},455,{"$f":"IF(AND(SUM($X$35:X488)=0,X489=1),Y489,\"\")","v":""}]
[null,null,null,null,null,null,467,46.7,0.73926631598303338,1.6073489478540413E-4,0.57403555884700108,0.42668624259857169,1.2027271665868431,0.29061700280945824,1.3443333167995604E-3,5.0959635169646787E-10,2.5099753020950832E-36,0.41109432805255364,1,0,null,null,{"$f":"IF(RAND()<poisson_parameter*model!K490,1,0)","v":0},{"$f":"IF(RAND()<(K479^quadratic_condition*L479-$T$21)*$T$22*(1+pref_attach_on*SUM($X$35:X489)),1,0)","v":0},456,{"$f":"IF(AND(SUM($X$35:X489)=0,X490=1),Y490,\"\")","v":""}]
[null,null,null,null,null,null,468,46.8,0.73926520807831642,1.6026820244493774E-4,0.57403556219924989,0.42668624385219939,1.2027248120930805,0.29061648941766793,1.3293517245711456E-3,4.7546492750945861E-10,1.8830266572612683E-36,0.41145155077610274,1,0,null,null,{"$f":"IF(RAND()<poisson_parameter*model!K491,1,0)","v":0},{"$f":"IF(RAND()<(K480^quadratic_condition*L480-$T$21)*$T$22*(1+pref_attach_on*SUM($X$35:X490)),1,0)","v":0},457,{"$f":"IF(AND(SUM($X$35:X490)=0,X491=1),Y491,\"\")","v":""}]
[null,null,null,null,null,null,469,46.9,0.73926410339411741,1.5980288663483249E-4,0.57403556538108114,0.4266862450386153,1.2027224858817565,0.29061598167041103,1.3145391939040469E-3,4.4360979891708623E-10,1.4126822218556603E-36,0.41179773069931003,1,0,null,null,{"$f":"IF(RAND()<poisson_parameter*model!K492,1,0)","v":0},{"$f":"IF(RAND()<(K481^quadratic_condition*L481-$T$21)*$T$22*(1+pref_attach_on*SUM($X$35:X491)),1,0)","v":0},458,{"$f":"IF(AND(SUM($X$35:X491)=0,X492=1),Y492,\"\")","v":""}]
[null,null,null,null,null,null,470,47,0.73926300192328565,1.593389430369717E-4,0.57403556840105874,0.42668624616138806,1.2027201874943421,0.29061547939970683,1.2998937715739324E-3,4.1388009239896927E-10,1.0598233205287795E-36,0.4121331944285081,1,0,null,null,{"$f":"IF(RAND()<poisson_parameter*model!K493,1,0)","v":0},{"$f":"IF(RAND()<(K482^quadratic_condition*L482-$T$21)*$T$22*(1+pref_attach_on*SUM($X$35:X492)),1,0)","v":0},459,{"$f":"IF(AND(SUM($X$35:X492)=0,X493=1),Y493,\"\")","v":""}]
[null,null,null,null,null,null,471,47.1,0.73926190365854572,1.5887636735348976E-4,0.57403557126732174,0.42668624722389931,1.2027179164825961,0.29061498244357059,1.2854135279128482E-3,3.8613484448079653E-10,7.9510307427740553E-37,0.41245826002552222,1,0,null,null,{"$f":"IF(RAND()<poisson_parameter*model!K494,1,0)","v":0},{"$f":"IF(RAND()<(K483^quadratic_condition*L483-$T$21)*$T$22*(1+pref_attach_on*SUM($X$35:X493)),1,0)","v":0},460,{"$f":"IF(AND(SUM($X$35:X493)=0,X494=1),Y494,\"\")","v":""}]
[null,null,null,null,null,null,472,47.2,0.73926080859250554,1.5841515530644532E-4,0.57403557398760519,0.42668624822935314,1.2027156724082724,0.29061449064579759,1.2710965565035349E-3,3.6024235937947765E-10,5.9650536234222121E-37,0.41277323715724845,1,0,null,null,{"$f":"IF(RAND()<poisson_parameter*model!K495,1,0)","v":0},{"$f":"IF(RAND()<(K484^quadratic_condition*L484-$T$21)*$T$22*(1+pref_attach_on*SUM($X$35:X494)),1,0)","v":0},461,{"$f":"IF(AND(SUM($X$35:X494)=0,X495=1),Y495,\"\")","v":""}]
[null,null,null,null,null,null,473,47.3,0.73925971671766488,1.5795530263750554E-4,0.57403557656925974,0.42668624918078529,1.2027134548428371,0.29061400385575481,1.256940973878176E-3,3.3607960747007095E-10,4.4751358061179197E-37,0.41307842724782196,1,0,null,null,{"$f":"IF(RAND()<poisson_parameter*model!K496,1,0)","v":0},{"$f":"IF(RAND()<(K485^quadratic_condition*L485-$T$21)*$T$22*(1+pref_attach_on*SUM($X$35:X495)),1,0)","v":0},462,{"$f":"IF(AND(SUM($X$35:X495)=0,X496=1),Y496,\"\")","v":""}]
[null,null,null,null,null,null,474,47.4,0.73925862802642295,1.5749680510764117E-4,0.57403557901927049,0.42668625008107186,1.2027112633671937,0.29061352192818046,1.2429449192215049E-3,3.1353166205714933E-10,3.3573685936424637E-37,0.41337412363289511,1,0,null,null,{"$f":"IF(RAND()<poisson_parameter*model!K497,1,0)","v":0},{"$f":"IF(RAND()<(K486^quadratic_condition*L486-$T$21)*$T$22*(1+pref_attach_on*SUM($X$35:X496)),1,0)","v":0},463,{"$f":"IF(AND(SUM($X$35:X496)=0,X497=1),Y497,\"\")","v":""}]
[null,null,null,null,null,null,475,47.5,0.73925754251108522,1.5703965849683197E-4,0.57403558134427513,0.42668625093293772,1.2027090975714181,0.29061304472299021,1.2291065540781946E-3,2.9249117208128747E-10,2.5187946045992376E-37,0.41366061171557916,1,0,null,null,{"$f":"IF(RAND()<poisson_parameter*model!K498,1,0)","v":0},{"$f":"IF(RAND()<(K487^quadratic_condition*L487-$T$21)*$T$22*(1+pref_attach_on*SUM($X$35:X497)),1,0)","v":0},464,{"$f":"IF(AND(SUM($X$35:X497)=0,X498=1),Y498,\"\")","v":""}]
[null,null,null,null,null,null,476,47.6,0.7392564601638707,1.56583858603782E-4,0.5740355835505806,0.42668625173896413,1.2027069570545004,0.29061257210509056,1.2154240620644628E-3,2.7285786853134429E-10,1.8896762355960603E-37,0.41393816912363418,1,0,null,null,{"$f":"IF(RAND()<poisson_parameter*model!K499,1,0)","v":0},{"$f":"IF(RAND()<(K488^quadratic_condition*L488-$T$21)*$T$22*(1+pref_attach_on*SUM($X$35:X498)),1,0)","v":0},465,{"$f":"IF(AND(SUM($X$35:X498)=0,X499=1),Y499,\"\")","v":""}]
[null,null,null,null,null,null,477,47.7,0.73925538097691812,1.5612940124564451E-4,0.57403558564417989,0.42668625250159636,1.2027048414240966,0.29061210394419884,1.2018956485838207E-3,2.5453810246554887E-10,1.4176954797912119E-37,0.41420706586752293,1,0,null,null,{"$f":"IF(RAND()<poisson_parameter*model!K500,1,0)","v":0},{"$f":"IF(RAND()<(K489^quadratic_condition*L489-$T$21)*$T$22*(1+pref_attach_on*SUM($X$35:X499)),1,0)","v":0},466,{"$f":"IF(AND(SUM($X$35:X499)=0,X500=1),Y500,\"\")","v":""}]
[null,null,null,null,null,null,478,47.8,0.73925430494229227,1.5567628225775603E-4,0.5740355876307669,0.42668625322315062,1.2027027502962868,0.29061164011466961,1.1885195405468968E-3,2.3744441266943722E-10,1.0636026332171186E-37,0.41446756449897248,1,0,null,null,{"$f":"IF(RAND()<poisson_parameter*model!K501,1,0)","v":0},{"$f":"IF(RAND()<(K490^quadratic_condition*L490-$T$21)*$T$22*(1+pref_attach_on*SUM($X$35:X500)),1,0)","v":0},467,{"$f":"IF(AND(SUM($X$35:X500)=0,X501=1),Y501,\"\")","v":""}]
[null,null,null,null,null,null,479,47.9,0.73925323205198934,1.5522449749337937E-4,0.57403558951575162,0.42668625390582093,1.2027006832953413,0.29061118049532725,1.1752939860952703E-3,2.2149512109677853E-10,7.9795194778504205E-38,0.41471992026971521,1,0,null,null,{"$f":"IF(RAND()<poisson_parameter*model!K502,1,0)","v":0},{"$f":"IF(RAND()<(K491^quadratic_condition*L491-$T$21)*$T$22*(1+pref_attach_on*SUM($X$35:X501)),1,0)","v":0},468,{"$f":"IF(AND(SUM($X$35:X501)=0,X502=1),Y502,\"\")","v":""}]
[null,null,null,null,null,null,480,48,0.73925216229794277,1.5477404282345495E-4,0.57403559130427373,0.4266862545516853,1.202698640053494,0.29061072496930462,1.1622172543292466E-3,2.0661395435111425E-10,5.9865270713984236E-38,0.41496438129010627,1,0,null,null,{"$f":"IF(RAND()<poisson_parameter*model!K503,1,0)","v":0},{"$f":"IF(RAND()<(K492^quadratic_condition*L492-$T$21)*$T$22*(1+pref_attach_on*SUM($X$35:X502)),1,0)","v":0},469,{"$f":"IF(AND(SUM($X$35:X502)=0,X503=1),Y503,\"\")","v":""}]
[null,null,null,null,null,null,481,48.1,0.73925109567202807,1.543249141363605E-4,0.57403559300121609,0.42668625516271186,1.2026966202107234,0.2906102734238874,1.1492876350395107E-3,1.9272968957073367E-10,4.4913203091712425E-38,0.41520118868733935,1,0,null,null,{"$f":"IF(RAND()<poisson_parameter*model!K504,1,0)","v":0},{"$f":"IF(RAND()<(K493^quadratic_condition*L493-$T$21)*$T$22*(1+pref_attach_on*SUM($X$35:X503)),1,0)","v":0},470,{"$f":"IF(AND(SUM($X$35:X503)=0,X504=1),Y504,\"\")","v":""}]
[null,null,null,null,null,null,482,48.2,0.73925003216606788,1.5387710733767853E-4,0.57403559461121756,0.42668625574076469,1.2026946234145395,0.29060982575036415,1.1365034384425963E-3,1.7977582317914501E-10,3.369565974645266E-38,0.41543057676300565,1,0,null,null,{"$f":"IF(RAND()<poisson_parameter*model!K505,1,0)","v":0},{"$f":"IF(RAND()<(K494^quadratic_condition*L494-$T$21)*$T$22*(1+pref_attach_on*SUM($X$35:X504)),1,0)","v":0},471,{"$f":"IF(AND(SUM($X$35:X504)=0,X505=1),Y505,\"\")","v":""}]
[null,null,null,null,null,null,483,48.3,0.73924897177183635,1.5343061834997143E-4,0.57403559613868471,0.42668625628760903,1.2026926493197785,0.29060938184388152,1.1238629949201072E-3,1.6769026105666718E-10,2.5279864793374362E-38,0.41565277314976246,1,0,null,null,{"$f":"IF(RAND()<poisson_parameter*model!K506,1,0)","v":0},{"$f":"IF(RAND()<(K495^quadratic_condition*L495-$T$21)*$T$22*(1+pref_attach_on*SUM($X$35:X505)),1,0)","v":0},472,{"$f":"IF(AND(SUM($X$35:X505)=0,X506=1),Y506,\"\")","v":""}]
[null,null,null,null,null,null,484,48.4,0.73924791448106364,1.529854431125638E-4,0.57403559758780354,0.42668625680491667,1.2026906975884033,0.29060894160330486,1.1113646547616298E-3,1.5641502877696135E-10,1.8966027146122012E-38,0.41586799896689924,1,0,null,null,{"$f":"IF(RAND()<poisson_parameter*model!K507,1,0)","v":0},{"$f":"IF(RAND()<(K496^quadratic_condition*L496-$T$21)*$T$22*(1+pref_attach_on*SUM($X$35:X506)),1,0)","v":0},473,{"$f":"IF(AND(SUM($X$35:X506)=0,X507=1),Y507,\"\")","v":""}]
[null,null,null,null,null,null,485,48.5,0.73924686028543984,1.5254157758133187E-4,0.57403559896255019,0.42668625729427073,1.2026887678893099,0.29060850493108364,1.0990067879112779E-3,1.4589600063541699E-10,1.4229145420715086E-38,0.41607646897460743,1,0,null,null,{"$f":"IF(RAND()<poisson_parameter*model!K508,1,0)","v":0},{"$f":"IF(RAND()<(K497^quadratic_condition*L497-$T$21)*$T$22*(1+pref_attach_on*SUM($X$35:X507)),1,0)","v":0},474,{"$f":"IF(AND(SUM($X$35:X507)=0,X508=1),Y508,\"\")","v":""}]
[null,null,null,null,null,null,486,48.6,0.73924580917661886,1.5209901772849957E-4,0.57403560026670153,0.42668625775717028,1.2026868598981404,0.29060807173312198,1.0867877837178114E-3,1.3608264627457374E-10,1.0675349143798353E-38,0.41627839172677883,1,0,null,null,{"$f":"IF(RAND()<poisson_parameter*model!K509,1,0)","v":0},{"$f":"IF(RAND()<(K498^quadratic_condition*L498-$T$21)*$T$22*(1+pref_attach_on*SUM($X$35:X508)),1,0)","v":0},475,{"$f":"IF(AND(SUM($X$35:X508)=0,X509=1),Y509,\"\")","v":""}]
[null,null,null,null,null,null,487,48.7,0.73924476114622206,1.5165775954244118E-4,0.57403560150384481,0.42668625819503475,1.2026849732971014,0.29060764191865335,1.074706050688269E-3,1.269277937854544E-10,8.0091452277376301E-39,0.41647396972217521,1,0,null,null,{"$f":"IF(RAND()<poisson_parameter*model!K510,1,0)","v":0},{"$f":"IF(RAND()<(K499^quadratic_condition*L499-$T$21)*$T$22*(1+pref_attach_on*SUM($X$35:X509)),1,0)","v":0},476,{"$f":"IF(AND(SUM($X$35:X509)=0,X510=1),Y510,\"\")","v":""}]
[null,null,null,null,null,null,488,48.8,0.73924371618584173,1.5121779902749013E-4,0.57403560267738729,0.42668625860920822,1.202683107774789,0.29060721540012041,1.0627600162450609E-3,1.1838740823304777E-10,6.0088456950897589E-39,0.41666339955382686,1,0,null,null,{"$f":"IF(RAND()<poisson_parameter*model!K511,1,0)","v":0},{"$f":"IF(RAND()<(K500^quadratic_condition*L500-$T$21)*$T$22*(1+pref_attach_on*SUM($X$35:X510)),1,0)","v":0},477,{"$f":"IF(AND(SUM($X$35:X510)=0,X511=1),Y511,\"\")","v":""}]
[null,null,null,null,null,null,489,48.9,0.73924267428704438,1.5077913220375383E-4,0.57403560379056473,0.42668625900096319,1.2026812630260177,0.29060679209305856,1.0509481264864644E-3,1.1042038461944981E-10,4.5081330796061696E-39,0.41684687205653315,1,0,null,null,{"$f":"IF(RAND()<poisson_parameter*model!K512,1,0)","v":0},{"$f":"IF(RAND()<(K501^quadratic_condition*L501-$T$21)*$T$22*(1+pref_attach_on*SUM($X$35:X511)),1,0)","v":0},478,{"$f":"IF(AND(SUM($X$35:X511)=0,X512=1),Y512,\"\")","v":""}]
[null,null,null,null,null,null,490,49,0.73924163544137356,1.5034175510693441E-4,0.57403560484645044,0.42668625937150451,1.2026794387516557,0.29060637191598415,1.0392688459504693E-3,1.0298835435956844E-10,3.3822304004540688E-39,0.41702457245235264,1,0,null,null,{"$f":"IF(RAND()<poisson_parameter*model!K513,1,0)","v":0},{"$f":"IF(RAND()<(K502^quadratic_condition*L502-$T$21)*$T$22*(1+pref_attach_on*SUM($X$35:X512)),1,0)","v":0},479,{"$f":"IF(AND(SUM($X$35:X512)=0,X513=1),Y513,\"\")","v":""}]
[null,null,null,null,null,null,491,49.1,0.73924059964035282,1.4990566378815477E-4,0.57403560584796309,0.42668625972197283,1.2026776346584651,0.29060595479028628,1.0277206573819175E-3,9.6055504402034546E-11,2.5375255615220191E-39,0.4171966804939834,1,0,null,null,{"$f":"IF(RAND()<poisson_parameter*model!K514,1,0)","v":0},{"$f":"IF(RAND()<(K503^quadratic_condition*L503-$T$21)*$T$22*(1+pref_attach_on*SUM($X$35:X513)),1,0)","v":0},480,{"$f":"IF(AND(SUM($X$35:X513)=0,X514=1),Y514,\"\")","v":""}]
[null,null,null,null,null,null,492,49.2,0.73923956687548864,1.4947085431379017E-4,0.57403560679787413,0.42668626005344801,1.202675850458947,0.29060554064012289,1.0163020615028876E-3,8.9588408182243059E-11,1.903787322085687E-39,0.4173633706059458,1,0,null,null,{"$f":"IF(RAND()<poisson_parameter*model!K515,1,0)","v":0},{"$f":"IF(RAND()<(K504^quadratic_condition*L504-$T$21)*$T$22*(1+pref_attach_on*SUM($X$35:X514)),1,0)","v":0},481,{"$f":"IF(AND(SUM($X$35:X514)=0,X515=1),Y515,\"\")","v":""}]
[null,null,null,null,null,null,493,49.3,0.73923853713827259,1.4903732276530486E-4,0.57403560769881556,0.4266862603669524,1.2026740858711908,0.29060512939232036,1.0050115767862684E-3,8.3555867645464418E-11,1.4283255149839463E-39,0.41752481202349234,1,0,null,null,{"$f":"IF(RAND()<poisson_parameter*model!K516,1,0)","v":0},{"$f":"IF(RAND()<(K505^quadratic_condition*L505-$T$21)*$T$22*(1+pref_attach_on*SUM($X$35:X515)),1,0)","v":0},482,{"$f":"IF(AND(SUM($X$35:X515)=0,X516=1),Y516,\"\")","v":""}]
[null,null,null,null,null,null,494,49.4,0.73923751042018415,1.4860506523909373E-4,0.57403560855328672,0.42668626066345366,1.2026723406187296,0.29060472097627676,9.9384773923247619E-4,7.7928765625904008E-11,1.0716098805712119E-39,0.41768116892917917,1,0,null,null,{"$f":"IF(RAND()<poisson_parameter*model!K517,1,0)","v":0},{"$f":"IF(RAND()<(K506^quadratic_condition*L506-$T$21)*$T$22*(1+pref_attach_on*SUM($X$35:X516)),1,0)","v":0},483,{"$f":"IF(AND(SUM($X$35:X516)=0,X517=1),Y517,\"\")","v":""}]
[null,null,null,null,null,null,495,49.5,0.73923648671269271,1.4817407784632872E-4,0.5740356093636606,0.42668626094386797,1.2026706144303982,0.29060431532386866,9.8280910214926112E-4,7.2679927912617479E-11,8.039831876348005E-40,0.41783260058704436,1,0,null,null,{"$f":"IF(RAND()<poisson_parameter*model!K518,1,0)","v":0},{"$f":"IF(RAND()<(K507^quadratic_condition*L507-$T$21)*$T$22*(1+pref_attach_on*SUM($X$35:X517)),1,0)","v":0},484,{"$f":"IF(AND(SUM($X$35:X517)=0,X518=1),Y518,\"\")","v":""}]
[null,null,null,null,null,null,496,49.6,0.73923546600725987,1.4774435671280971E-4,0.57403561013219062,0.42668626120906239,1.2026689070401968,0.29060391236936123,9.7189423593455775E-4,6.7783994375480831E-11,6.0319531526087575E-40,0.41797926147434672,1,0,null,null,{"$f":"IF(RAND()<poisson_parameter*model!K519,1,0)","v":0},{"$f":"IF(RAND()<(K508^quadratic_condition*L508-$T$21)*$T$22*(1+pref_attach_on*SUM($X$35:X518)),1,0)","v":0},485,{"$f":"IF(AND(SUM($X$35:X518)=0,X519=1),Y519,\"\")","v":""}]
[null,null,null,null,null,null,497,49.7,0.73923444829534124,1.4731589797881991E-4,0.57403561086101607,0.42668626145985772,1.2026672181871585,0.29060351204932156,9.6110172786232923E-4,6.3217298564121507E-11,4.5255324109795391E-40,0.41812130141082748,1,0,null,null,{"$f":"IF(RAND()<poisson_parameter*model!K520,1,0)","v":0},{"$f":"IF(RAND()<(K509^quadratic_condition*L509-$T$21)*$T$22*(1+pref_attach_on*SUM($X$35:X519)),1,0)","v":0},486,{"$f":"IF(AND(SUM($X$35:X519)=0,X520=1),Y520,\"\")","v":""}]
[null,null,null,null,null,null,498,49.8,0.73923343356838855,1.4688869779898547E-4,0.57403561155216842,0.42668626169703083,1.2026655476152208,0.29060311430253521,9.5043018187135992E-4,5.8957755229990718E-11,3.3953309971727561E-40,0.41825886568546583,1,0,null,null,{"$f":"IF(RAND()<poisson_parameter*model!K521,1,0)","v":0},{"$f":"IF(RAND()<(K510^quadratic_condition*L510-$T$21)*$T$22*(1+pref_attach_on*SUM($X$35:X520)),1,0)","v":0},487,{"$f":"IF(AND(SUM($X$35:X520)=0,X521=1),Y521,\"\")","v":""}]
[null,null,null,null,null,null,499,49.9,0.73923242181785143,1.4646275234213923E-4,0.57403561220757604,0.42668626192131703,1.2026638950731008,0.29060271906992574,9.3987821835694949E-4,5.4984755256738308E-11,2.5473889953783099E-40,0.41839209518070541,1,0,null,null,{"$f":"IF(RAND()<poisson_parameter*model!K522,1,0)","v":0},{"$f":"IF(RAND()<(K511^quadratic_condition*L511-$T$21)*$T$22*(1+pref_attach_on*SUM($X$35:X521)),1,0)","v":0},488,{"$f":"IF(AND(SUM($X$35:X521)=0,X522=1),Y522,\"\")","v":""}]
[]
[null,null,null,null,null,null,null,null,{"$f":"SUM(I24:I522)","v":304.6701299871761},2.4695265735539094,237.83121937415976,175.97905837989472,376.77813595496144,161.54550674295353,12.617345256500313,2.9279889865742939,8.0610234291778955,70.310378853186535,null,{"$f":"SUM(T24:T522)","v":1},{"$f":"SUM(W35:W522)","v":1}]
[]
[null,null,null,null,null,null,null,null,null,null,null,null,null,null,null,null,null,null,null,1]
[null,null,null,null,null,null,null,null,null,null,null,null,null,null,null,null,null,null,null,2]
[null,null,null,null,null,null,null,null,null,null,null,null,null,null,null,null,null,null,null,3]
[null,null,null,null,null,null,null,null,null,null,null,null,null,null,null,null,null,null,null,4]
[null,null,null,null,null,null,null,null,null,null,null,null,null,null,null,null,null,null,null,5]
[null,null,null,null,null,null,null,null,null,null,null,null,null,null,null,null,null,null,null,6]
[null,null,null,null,null,null,null,null,null,null,null,null,null,null,null,null,null,null,null,7]
[null,null,null,null,null,null,null,null,null,null,null,null,null,null,null,null,null,null,null,8]
[null,null,null,null,null,null,null,null,null,null,null,null,null,null,null,null,null,null,null,9]
[null,null,null,null,null,null,null,null,null,null,null,null,null,null,null,null,null,null,null,10]
[null,null,null,null,null,null,null,null,null,null,null,null,null,null,null,"slope productivity",null,null,null,11]
[null,null,null,null,null,null,null,null,null,null,null,null,null,1,{"$f":"SUM(X35:X74)","v":0},{"$f":"SLOPE(T24:T522,time_for_slope)","v":-9.6578699567810575E-8},null,null,null,12]
[null,null,null,null,null,null,null,null,null,null,null,null,null,2,{"$f":"SUM(X75:X114)","v":0},null,null,null,null,13]
[null,null,null,null,null,null,null,null,null,null,null,null,null,3,{"$f":"SUM(X115:X154)","v":0},null,null,null,null,14]
[null,null,null,null,null,null,null,null,null,null,null,null,null,4,{"$f":"SUM(X155:X194)","v":0},null,null,null,null,15]
[null,null,null,null,null,null,null,null,null,null,null,null,null,5,{"$f":"SUM(X195:X234)","v":0},null,null,null,null,16]
[null,null,null,null,null,null,null,null,null,null,null,null,null,6,{"$f":"SUM(X236:X274)","v":0},null,null,null,null,17]
[null,null,null,null,null,null,null,null,null,null,null,null,null,7,{"$f":"SUM(X275:X315)","v":0},null,null,null,null,18]
[null,null,null,null,null,null,null,null,null,null,null,null,null,8,{"$f":"SUM(X315:X354)","v":0},null,null,null,null,19]
[null,null,null,null,null,null,null,null,null,null,null,null,null,9,{"$f":"SUM(X355:X394)","v":0},null,null,null,null,20]
[null,null,null,null,null,null,null,null,null,null,null,null,null,10,{"$f":"SUM(X395:X434)","v":0},null,null,null,null,21]
[null,null,null,null,null,null,null,null,null,null,null,null,null,11,{"$f":"SUM(X435:X474)","v":0},null,null,null,null,22]
[null,null,null,null,null,null,null,null,null,null,null,null,null,12,{"$f":"SUM(V475:V533)","v":0},null,null,null,null,23]
[null,null,null,null,null,null,null,null,null,null,null,null,null,null,null,null,null,null,null,24]
[null,null,null,null,null,null,null,null,null,null,null,null,null,null,null,null,null,null,null,25]
[null,null,null,null,null,null,null,null,null,null,null,null,null,null,null,null,null,null,null,26]
[null,null,null,null,null,null,null,null,null,null,null,null,null,null,null,null,null,null,null,27]
[null,null,null,null,null,null,null,null,null,null,null,null,null,null,null,null,null,null,null,28]
[null,null,null,null,null,null,null,null,null,null,null,null,null,null,null,null,null,null,null,29]
[null,null,null,null,null,null,null,null,null,null,null,null,null,null,null,null,null,null,null,30]
[null,null,null,null,null,null,null,null,null,null,null,null,null,null,null,null,null,null,null,31]
[null,null,null,null,null,null,null,null,null,null,null,null,null,null,null,null,null,null,null,32]
[null,null,null,null,null,null,null,null,null,null,null,null,null,null,null,null,null,null,null,33]
[null,null,null,null,null,null,null,null,null,null,null,null,null,null,null,null,null,null,null,34]
[null,null,null,null,null,null,null,null,null,null,null,null,null,null,null,null,null,null,null,35]
[null,null,null,null,null,null,null,null,null,null,null,null,null,null,null,null,null,null,null,36]
[null,null,null,null,null,null,null,null,null,null,null,null,null,null,null,null,null,null,null,37]
[null,null,null,null,null,null,null,null,null,null,null,null,null,null,null,null,null,null,null,38]
[null,null,null,null,null,null,null,null,null,null,null,null,null,null,null,null,null,null,null,39]
[null,null,null,null,null,null,null,null,null,null,null,null,null,null,null,null,null,null,null,40]
[null,null,null,null,null,null,null,null,null,null,null,null,null,null,null,null,null,null,null,41]
[null,null,null,null,null,null,null,null,null,null,null,null,null,null,null,null,null,null,null,42]
[null,null,null,null,null,null,null,null,null,null,null,null,null,null,null,null,null,null,null,43]
[null,null,null,null,null,null,null,null,"grower1","grower2","grower3","grower4","grower5","grower6","grower7","grower8","grower9","grower10",null,44]
[null,null,null,null,null,null,null,null,{"$f":"I24","v":1.6697514057159423E-2},{"$f":"J24","v":1.5346333384513855E-2},{"$f":"K24","v":1.8410855531692506E-2},{"$f":"L24","v":1.927238404750824E-2},3.4813439846038817E-2,3.4105437994003299E-2,2.9225558042526245E-2,1.9168597459793092E-2,4.76382851600647E-2,4.1402223706245425E-2,null,45]
[null,null,null,null,null,null,null,null,{"$f":"I44","v":4.227896322016874E-2},{"$f":"J44","v":3.4324413058445677E-2},{"$f":"K44","v":4.0842438844411029E-2},{"$f":"L44","v":4.4217686830480704E-2},3.4813439846038817E-2,0.13345324763564129,2.9225558042526245E-2,1.9168597459793092E-2,4.76382851600647E-2,4.1402223706245425E-2,null,46]
[null,null,null,null,null,null,null,null,{"$f":"I64","v":0.10591960738124205},{"$f":"J64","v":3.9752348040200822E-2},{"$f":"K64","v":8.730591378891478E-2},{"$f":"L64","v":9.2433798232848752E-2},3.4813439846038817E-2,0.34939871607257866,2.9225558042526245E-2,1.9168597459793092E-2,4.76382851600647E-2,4.1402223706245425E-2,null,47]
[null,null,null,null,null,null,null,null,{"$f":"I84","v":0.228308045590531},{"$f":"J84","v":2.0395463807877445E-2},{"$f":"K84","v":0.17216792184746202},{"$f":"L84","v":0.16476177993551203},3.4813439846038817E-2,0.50000255391541426,4.7550373586668158E-2,1.9168597459793092E-2,4.76382851600647E-2,4.1402223706245425E-2,null,48]
[null,null,null,null,null,null,null,null,{"$f":"I104","v":0.38506618476073601},{"$f":"J104","v":7.9762211771172743E-3},{"$f":"K104","v":0.29186338458537897},{"$f":"L104","v":0.24022194200599947},3.4813439846038817E-2,0.50685109827268671,7.2252533089157855E-2,1.9168597459793092E-2,4.76382851600647E-2,4.1402223706245425E-2,null,49]
[null,null,null,null,null,null,null,null,{"$f":"I124","v":0.51846523872871852},{"$f":"J124","v":3.5097768585733336E-3},{"$f":"K124","v":0.40567778916667213},{"$f":"L124","v":0.2940849321592619},3.4813439846038817E-2,0.46504228669401426,8.0005409435541602E-2,1.9168597459793092E-2,4.7150517316849251E-2,4.1402223706245425E-2,null,50]
[null,null,null,null,null,null,null,null,{"$f":"I144","v":0.60088228227133877},{"$f":"J144","v":1.8661816025547294E-3},{"$f":"K144","v":0.47803714481406728},{"$f":"L144","v":0.32407218772987445},3.4813439846038817E-2,0.4225563194448036,7.2196302989274777E-2,1.9168597459793092E-2,4.4442212997185863E-2,4.1402223706245425E-2,null,51]
[null,null,null,null,null,null,null,null,{"$f":"I164","v":0.642431721311846},{"$f":"J164","v":1.1556960705280458E-3},{"$f":"K164","v":0.51370395219355547},{"$f":"L164","v":0.34297252076571511},3.4813439846038817E-2,0.39204194905967593,5.9396971433104184E-2,1.1284003767472071E-2,4.1497618850691649E-2,4.1402223706245425E-2,null,52]
[null,null,null,null,null,null,null,null,{"$f":"I184","v":0.66061784116930544},{"$f":"J184","v":7.902940810417358E-4},{"$f":"K184","v":0.53151267770733057},{"$f":"L184","v":0.35961414969611932},0.10056898799402667,0.37219250409113919,4.7618946462320393E-2,5.5534060560596381E-3,3.6490350793493317E-2,4.1402223706245425E-2,null,53]
[null,null,null,null,null,null,null,null,{"$f":"I204","v":0.68023503304307809},{"$f":"J204","v":5.7368717315084482E-4},{"$f":"K204","v":0.54281507134589213},{"$f":"L204","v":0.379225355775061},0.37489372114575609,0.35195760500654616,3.8425249253096434E-2,2.6237506277079332E-3,1.6603149223762589E-2,4.1402223706245425E-2,null,54]
[null,null,null,null,null,null,null,null,{"$f":"I224","v":0.71021428543349374},{"$f":"J224","v":4.4508998226486127E-4},{"$f":"K224","v":0.55401995536711079},{"$f":"L224","v":0.40400244461050355},0.83936304554250685,0.32724863468923238,3.0965145770478458E-2,1.1578644524972556E-3,1.2601487545417526E-3,4.1402223706245425E-2,null,55]
[null,null,null,null,null,null,null,null,{"$f":"I244","v":0.7285563740870945},{"$f":"J244","v":3.7457784269245029E-4},{"$f":"K244","v":0.56381852110845498},{"$f":"L244","v":0.41833065814221282},1.1161422613768237,0.31055059849419164,2.4349039239679428E-2,4.7758432506012939E-4,1.2330347285347143E-5,4.1402223706245425E-2,null,56]
[null,null,null,null,null,null,null,null,{"$f":"I264","v":0.73562795723645935},{"$f":"J264","v":3.3234167264704185E-4},{"$f":"K264","v":0.56952715519164787},{"$f":"L264","v":0.42371468558773656},1.1915712111195531,0.30137144537798438,1.8934228723452393E-2,1.9078660086220323E-4,4.8010399650761605E-8,4.1402223706245425E-2,null,57]
[null,null,null,null,null,null,null,null,{"$f":"I284","v":0.73816435326892416},{"$f":"J284","v":3.0343177326547211E-4},{"$f":"K284","v":0.57219206202154194},{"$f":"L284","v":0.42562681196401564},1.205142732395337,0.29631701254506171,1.4735302528007414E-2,7.5325444454506566E-5,1.5079066327084548E-10,4.1402223706245425E-2,null,58]
[null,null,null,null,null,null,null,null,{"$f":"I304","v":0.73904473744492838},{"$f":"J304","v":2.8137072273316029E-4},{"$f":"K304","v":0.57331257179737782},{"$f":"L304","v":0.42630544238180434},1.2060696920674292,0.29358497694908359,1.151663809700265E-2,2.9616484971544402E-5,4.6094793561023207E-13,4.1402223706245425E-2,null,59]
[null,null,null,null,null,null,null,null,{"$f":"I324","v":0.73933213984720803},{"$f":"J324","v":2.6308570001888084E-4},{"$f":"K324","v":0.5737586587259117},{"$f":"L324","v":0.42654805549348701},1.205136893498943,0.29214526092656623,9.0426198925258917E-3,1.1594356106317107E-5,1.4192125325362541E-15,5.3947670255283374E-2,null,60]
[null,null,null,null,null,null,null,null,{"$f":"I344","v":0.73941027245462088},{"$f":"J344","v":2.4705839768634737E-4},{"$f":"K344","v":0.57393094739706552},{"$f":"L344","v":0.42663572385099813},1.2042853297933909,0.29140250068019175,7.1288371478779467E-3,4.388625948854964E-6,4.4128863689545122E-18,9.3504083248480307E-2,null,61]
[null,null,null,null,null,null,null,null,{"$f":"I364","v":0.73941609464469649},{"$f":"J364","v":2.3252662108233559E-4},{"$f":"K364","v":0.57399638676791154},{"$f":"L364","v":0.42666776612237672},1.2037182657852186,0.29102437524729335,5.6387783600201384E-3,1.5674306022446327E-6,1.3826203266054918E-20,0.15035413330139016,null,62]
[null,null,null,null,null,null,null,null,{"$f":"I384","v":0.73939802327963045},{"$f":"J384","v":2.1910031957301336E-4},{"$f":"K384","v":0.57402101514787596},{"$f":"L384","v":0.42667954714033851},1.2033613427172631,0.29083239089973817,4.4720651670976811E-3,5.1840152107723172E-7,4.3554156889346507E-23,0.21887950147304391,null,63]
[null,null,null,null,null,null,null,null,{"$f":"I404","v":0.73937293087072342},{"$f":"J404","v":2.0657148530440605E-4},{"$f":"K404","v":0.5740302272924569},{"$f":"L404","v":0.42668386407581554},1.2031336490143822,0.29073371404632575,3.5542870496524351E-3,1.5761290665733931E-7,1.3772924519266572E-25,0.28587588585068585,null,64]
[null,null,null,null,null,null,null,null,{"$f":"I424","v":0.73934656952741262},{"$f":"J424","v":1.9482050242285737E-4},{"$f":"K424","v":0.5740336504373994},{"$f":"L424","v":0.42668542448612973},1.2029824113748626,0.29068124793263633,2.8296322755243771E-3,4.4461616951820731E-8,4.3675783602973141E-28,0.33919580638626562,null,65]
[null,null,null,null,null,null,null,null,{"$f":"I444","v":0.73932082648245556},{"$f":"J444","v":1.8377071751653933E-4},{"$f":"K444","v":0.57403491100829895},{"$f":"L444","v":0.42668597704575773},1.2028769913355142,0.29065153843606123,2.2557549170086769E-3,1.1868332382331349E-8,1.3879314680630668E-30,0.37509684209666122,null,66]
[null,null,null,null,null,null,null,null,{"$f":"I464","v":0.73929627069210468},{"$f":"J464","v":1.7336674142007447E-4},{"$f":"K464","v":0.5740353698241849},{"$f":"L464","v":0.42668616844071211},1.2028001066318779,0.29063306241781534,1.8002006677775566E-3,3.0582472944005206E-9,4.4176905554945959E-33,0.39664036531444524,null,67]
[null,null,null,null,null,null,null,null,{"$f":"I484","v":0.73927303142450951},{"$f":"J484","v":1.6356420041983911E-4},{"$f":"K484","v":0.57403553461587575},{"$f":"L484","v":0.42668623343924683},1.2027419145326999,0.29062021191597504,1.437885590763556E-3,7.7206762181084007E-10,1.4078902180526985E-35,0.40869969027087977,null,68]
[null,null,null,null,null,null,null,null,null,null,null,null,null,null,null,null,null,null,null,69]
[null,null,null,null,null,null,null,null,null,null,null,null,null,null,null,null,null,null,null,70]
[null,null,null,null,null,null,null,null,null,null,null,null,null,null,null,null,null,null,null,71]
[null,null,null,null,null,null,null,null,null,null,null,null,null,null,null,null,null,null,null,72]
[null,null,null,null,null,null,null,null,null,null,null,null,null,null,null,null,null,null,null,73]
[null,null,null,null,null,null,null,null,null,null,null,null,null,null,null,null,null,null,null,74]
[null,null,null,null,null,null,null,null,null,null,null,null,null,null,null,null,null,null,null,75]
[null,null,null,null,null,null,null,null,null,null,null,null,null,null,null,null,null,null,null,76]
[null,null,null,null,null,null,null,null,null,null,null,null,null,null,null,null,null,null,null,77]
[null,null,null,null,null,null,null,null,null,null,null,null,null,null,null,null,null,null,null,78]
[null,null,null,null,null,null,null,null,null,null,null,null,null,null,null,null,null,null,null,79]
[null,null,null,null,null,null,null,null,null,null,null,null,null,null,null,null,null,null,null,80]
[null,null,null,null,null,null,null,null,null,null,null,null,null,null,null,null,null,null,null,81]
[null,null,null,null,null,null,null,null,null,null,null,null,null,null,null,null,null,null,null,82]
[null,null,null,null,null,null,null,null,null,null,null,null,null,null,null,null,null,null,null,83]
[null,null,null,null,null,null,null,null,null,null,null,null,null,null,null,null,null,null,null,84]
[null,null,null,null,null,null,null,null,null,null,null,null,null,null,null,null,null,null,null,85]
[null,null,null,null,null,null,null,null,null,null,null,null,null,null,null,null,null,null,null,86]
[null,null,null,null,null,null,null,null,null,null,null,null,null,null,null,null,null,null,null,87]
[null,null,null,null,null,null,null,null,null,null,null,null,null,null,null,null,null,null,null,88]
[null,null,null,null,null,null,null,null,null,null,null,null,null,null,null,null,null,null,null,89]
[null,null,null,null,null,null,null,null,null,null,null,null,null,null,null,null,null,null,null,90]
[null,null,null,null,null,null,null,null,null,null,null,null,null,null,null,null,null,null,null,91]
[null,null,null,null,null,null,null,null,null,null,null,null,null,null,null,null,null,null,null,92]
[null,null,null,null,null,null,null,null,null,null,null,null,null,null,null,null,null,null,null,93]
[null,null,null,null,null,null,null,null,null,null,null,null,null,null,null,null,null,null,null,94]
[null,null,null,null,null,null,null,null,null,null,null,null,null,null,null,null,null,null,null,95]
[null,null,null,null,null,null,null,null,null,null,null,null,null,null,null,null,null,null,null,96]
[null,null,null,null,null,null,null,null,null,null,null,null,null,null,null,null,null,null,null,97]
[null,null,null,null,null,null,null,null,null,null,null,null,null,null,null,null,null,null,null,98]
[null,null,null,null,null,null,null,null,null,null,null,null,null,null,null,null,null,null,null,99]
[null,null,null,null,null,null,null,null,null,null,null,null,null,null,null,null,null,null,null,100]
[null,null,null,null,null,null,null,null,null,null,null,null,null,null,null,null,null,null,null,101]
[null,null,null,null,null,null,null,null,null,null,null,null,null,null,null,null,null,null,null,102]
[null,null,null,null,null,null,null,null,null,null,null,null,null,null,null,null,null,null,null,103]
[null,null,null,null,null,null,null,null,null,null,null,null,null,null,null,null,null,null,null,104]
[null,null,null,null,null,null,null,null,null,null,null,null,null,null,null,null,null,null,null,105]
[null,null,null,null,null,null,null,null,null,null,null,null,null,null,null,null,null,null,null,106]
[null,null,null,null,null,null,null,null,null,null,null,null,null,null,null,null,null,null,null,107]
[null,null,null,null,null,null,null,null,null,null,null,null,null,null,null,null,null,null,null,108]
[null,null,null,null,null,null,null,null,null,null,null,null,null,null,null,null,null,null,null,109]
[null,null,null,null,null,null,null,null,null,null,null,null,null,null,null,null,null,null,null,110]
[null,null,null,null,null,null,null,null,null,null,null,null,null,null,null,null,null,null,null,111]
[null,null,null,null,null,null,null,null,null,null,null,null,null,null,null,null,null,null,null,112]
[null,null,null,null,null,null,null,null,null,null,null,null,null,null,null,null,null,null,null,113]
[null,null,null,null,null,null,null,null,null,null,null,null,null,null,null,null,null,null,null,114]
[null,null,null,null,null,null,null,null,null,null,null,null,null,null,null,null,null,null,null,115]
[null,null,null,null,null,null,null,null,null,null,null,null,null,null,null,null,null,null,null,116]
[null,null,null,null,null,null,null,null,null,null,null,null,null,null,null,null,null,null,null,117]
[null,null,null,null,null,null,null,null,null,null,null,null,null,null,null,null,null,null,null,118]
[null,null,null,null,null,null,null,null,null,null,null,null,null,null,null,null,null,null,null,119]
[null,null,null,null,null,null,null,null,null,null,null,null,null,null,null,null,null,null,null,120]
[null,null,null,null,null,null,null,null,null,null,null,null,null,null,null,null,null,null,null,121]
[null,null,null,null,null,null,null,null,null,null,null,null,null,null,null,null,null,null,null,122]
[null,null,null,null,null,null,null,null,null,null,null,null,null,null,null,null,null,null,null,123]
[null,null,null,null,null,null,null,null,null,null,null,null,null,null,null,null,null,null,null,124]
[null,null,null,null,null,null,null,null,null,null,null,null,null,null,null,null,null,null,null,125]
[null,null,null,null,null,null,null,null,null,null,null,null,null,null,null,null,null,null,null,126]
[null,null,null,null,null,null,null,null,null,null,null,null,null,null,null,null,null,null,null,127]
[null,null,null,null,null,null,null,null,null,null,null,null,null,null,null,null,null,null,null,128]
[null,null,null,null,null,null,null,null,null,null,null,null,null,null,null,null,null,null,null,129]
[null,null,null,null,null,null,null,null,null,null,null,null,null,null,null,null,null,null,null,130]
[null,null,null,null,null,null,null,null,null,null,null,null,null,null,null,null,null,null,null,131]
[null,null,null,null,null,null,null,null,null,null,null,null,null,null,null,null,null,null,null,132]
[null,null,null,null,null,null,null,null,null,null,null,null,null,null,null,null,null,null,null,133]
[null,null,null,null,null,null,null,null,null,null,null,null,null,null,null,null,null,null,null,134]
[null,null,null,null,null,null,null,null,null,null,null,null,null,null,null,null,null,null,null,135]
[null,null,null,null,null,null,null,null,null,null,null,null,null,null,null,null,null,null,null,136]
[null,null,null,null,null,null,null,null,null,null,null,null,null,null,null,null,null,null,null,137]
[null,null,null,null,null,null,null,null,null,null,null,null,null,null,null,null,null,null,null,138]
[null,null,null,null,null,null,null,null,null,null,null,null,null,null,null,null,null,null,null,139]
[null,null,null,null,null,null,null,null,null,null,null,null,null,null,null,null,null,null,null,140]
[null,null,null,null,null,null,null,null,null,null,null,null,null,null,null,null,null,null,null,141]
[null,null,null,null,null,null,null,null,null,null,null,null,null,null,null,null,null,null,null,142]
[null,null,null,null,null,null,null,null,null,null,null,null,null,null,null,null,null,null,null,143]
[null,null,null,null,null,null,null,null,null,null,null,null,null,null,null,null,null,null,null,144]
[null,null,null,null,null,null,null,null,null,null,null,null,null,null,null,null,null,null,null,145]
[null,null,null,null,null,null,null,null,null,null,null,null,null,null,null,null,null,null,null,146]
[null,null,null,null,null,null,null,null,null,null,null,null,null,null,null,null,null,null,null,147]
[null,null,null,null,null,null,null,null,null,null,null,null,null,null,null,null,null,null,null,148]
[null,null,null,null,null,null,null,null,null,null,null,null,null,null,null,null,null,null,null,149]
[null,null,null,null,null,null,null,null,null,null,null,null,null,null,null,null,null,null,null,150]
[null,null,null,null,null,null,null,null,null,null,null,null,null,null,null,null,null,null,null,151]
[null,null,null,null,null,null,null,null,null,null,null,null,null,null,null,null,null,null,null,152]
[null,null,null,null,null,null,null,null,null,null,null,null,null,null,null,null,null,null,null,153]
[null,null,null,null,null,null,null,null,null,null,null,null,null,null,null,null,null,null,null,154]
[null,null,null,null,null,null,null,null,null,null,null,null,null,null,null,null,null,null,null,155]
[null,null,null,null,null,null,null,null,null,null,null,null,null,null,null,null,null,null,null,156]
[null,null,null,null,null,null,null,null,null,null,null,null,null,null,null,null,null,null,null,157]
[null,null,null,null,null,null,null,null,null,null,null,null,null,null,null,null,null,null,null,158]
[null,null,null,null,null,null,null,null,null,null,null,null,null,null,null,null,null,null,null,159]
[null,null,null,null,null,null,null,null,null,null,null,null,null,null,null,null,null,null,null,160]
[null,null,null,null,null,null,null,null,null,null,null,null,null,null,null,null,null,null,null,161]
[null,null,null,null,null,null,null,null,null,null,null,null,null,null,null,null,null,null,null,162]
[null,null,null,null,null,null,null,null,null,null,null,null,null,null,null,null,null,null,null,163]
[null,null,null,null,null,null,null,null,null,null,null,null,null,null,null,null,null,null,null,164]
[null,null,null,null,null,null,null,null,null,null,null,null,null,null,null,null,null,null,null,165]
[null,null,null,null,null,null,null,null,null,null,null,null,null,null,null,null,null,null,null,166]
[null,null,null,null,null,null,null,null,null,null,null,null,null,null,null,null,null,null,null,167]
[null,null,null,null,null,null,null,null,null,null,null,null,null,null,null,null,null,null,null,168]
[null,null,null,null,null,null,null,null,null,null,null,null,null,null,null,null,null,null,null,169]
[null,null,null,null,null,null,null,null,null,null,null,null,null,null,null,null,null,null,null,170]
[null,null,null,null,null,null,null,null,null,null,null,null,null,null,null,null,null,null,null,171]
[null,null,null,null,null,null,null,null,null,null,null,null,null,null,null,null,null,null,null,172]
[null,null,null,null,null,null,null,null,null,null,null,null,null,null,null,null,null,null,null,173]
[null,null,null,null,null,null,null,null,null,null,null,null,null,null,null,null,null,null,null,174]
[null,null,null,null,null,null,null,null,null,null,null,null,null,null,null,null,null,null,null,175]
[null,null,null,null,null,null,null,null,null,null,null,null,null,null,null,null,null,null,null,176]
[null,null,null,null,null,null,null,null,null,null,null,null,null,null,null,null,null,null,null,177]
[null,null,null,null,null,null,null,null,null,null,null,null,null,null,null,null,null,null,null,178]
[null,null,null,null,null,null,null,null,null,null,null,null,null,null,null,null,null,null,null,179]
[null,null,null,null,null,null,null,null,null,null,null,null,null,null,null,null,null,null,null,180]
[null,null,null,null,null,null,null,null,null,null,null,null,null,null,null,null,null,null,null,181]
[null,null,null,null,null,null,null,null,null,null,null,null,null,null,null,null,null,null,null,182]
[null,null,null,null,null,null,null,null,null,null,null,null,null,null,null,null,null,null,null,183]
[null,null,null,null,null,null,null,null,null,null,null,null,null,null,null,null,null,null,null,184]
[null,null,null,null,null,null,null,null,null,null,null,null,null,null,null,null,null,null,null,185]
[null,null,null,null,null,null,null,null,null,null,null,null,null,null,null,null,null,null,null,186]
[null,null,null,null,null,null,null,null,null,null,null,null,null,null,null,null,null,null,null,187]
[null,null,null,null,null,null,null,null,null,null,null,null,null,null,null,null,null,null,null,188]
[null,null,null,null,null,null,null,null,null,null,null,null,null,null,null,null,null,null,null,189]
[null,null,null,null,null,null,null,null,null,null,null,null,null,null,null,null,null,null,null,190]
[null,null,null,null,null,null,null,null,null,null,null,null,null,null,null,null,null,null,null,191]
[null,null,null,null,null,null,null,null,null,null,null,null,null,null,null,null,null,null,null,192]
[null,null,null,null,null,null,null,null,null,null,null,null,null,null,null,null,null,null,null,193]
[null,null,null,null,null,null,null,null,null,null,null,null,null,null,null,null,null,null,null,194]
[null,null,null,null,null,null,null,null,null,null,null,null,null,null,null,null,null,null,null,195]
[null,null,null,null,null,null,null,null,null,null,null,null,null,null,null,null,null,null,null,196]
[null,null,null,null,null,null,null,null,null,null,null,null,null,null,null,null,null,null,null,197]
[null,null,null,null,null,null,null,null,null,null,null,null,null,null,null,null,null,null,null,198]
[null,null,null,null,null,null,null,null,null,null,null,null,null,null,null,null,null,null,null,199]
[null,null,null,null,null,null,null,null,null,null,null,null,null,null,null,null,null,null,null,200]
[null,null,null,null,null,null,null,null,null,null,null,null,null,null,null,null,null,null,null,201]
[null,null,null,null,null,null,null,null,null,null,null,null,null,null,null,null,null,null,null,202]
[null,null,null,null,null,null,null,null,null,null,null,null,null,null,null,null,null,null,null,203]
[null,null,null,null,null,null,null,null,null,null,null,null,null,null,null,null,null,null,null,204]
[null,null,null,null,null,null,null,null,null,null,null,null,null,null,null,null,null,null,null,205]
[null,null,null,null,null,null,null,null,null,null,null,null,null,null,null,null,null,null,null,206]
[null,null,null,null,null,null,null,null,null,null,null,null,null,null,null,null,null,null,null,207]
[null,null,null,null,null,null,null,null,null,null,null,null,null,null,null,null,null,null,null,208]
[null,null,null,null,null,null,null,null,null,null,null,null,null,null,null,null,null,null,null,209]
[null,null,null,null,null,null,null,null,null,null,null,null,null,null,null,null,null,null,null,210]
[null,null,null,null,null,null,null,null,null,null,null,null,null,null,null,null,null,null,null,211]
[null,null,null,null,null,null,null,null,null,null,null,null,null,null,null,null,null,null,null,212]
[null,null,null,null,null,null,null,null,null,null,null,null,null,null,null,null,null,null,null,213]
[null,null,null,null,null,null,null,null,null,null,null,null,null,null,null,null,null,null,null,214]
[null,null,null,null,null,null,null,null,null,null,null,null,null,null,null,null,null,null,null,215]
[null,null,null,null,null,null,null,null,null,null,null,null,null,null,null,null,null,null,null,216]
[null,null,null,null,null,null,null,null,null,null,null,null,null,null,null,null,null,null,null,217]
[null,null,null,null,null,null,null,null,null,null,null,null,null,null,null,null,null,null,null,218]
[null,null,null,null,null,null,null,null,null,null,null,null,null,null,null,null,null,null,null,219]
[null,null,null,null,null,null,null,null,null,null,null,null,null,null,null,null,null,null,null,220]
[null,null,null,null,null,null,null,null,null,null,null,null,null,null,null,null,null,null,null,221]
[null,null,null,null,null,null,null,null,null,null,null,null,null,null,null,null,null,null,null,222]
[null,null,null,null,null,null,null,null,null,null,null,null,null,null,null,null,null,null,null,223]
[null,null,null,null,null,null,null,null,null,null,null,null,null,null,null,null,null,null,null,224]
[null,null,null,null,null,null,null,null,null,null,null,null,null,null,null,null,null,null,null,225]
[null,null,null,null,null,null,null,null,null,null,null,null,null,null,null,null,null,null,null,226]
[null,null,null,null,null,null,null,null,null,null,null,null,null,null,null,null,null,null,null,227]
[null,null,null,null,null,null,null,null,null,null,null,null,null,null,null,null,null,null,null,228]
[null,null,null,null,null,null,null,null,null,null,null,null,null,null,null,null,null,null,null,229]
[null,null,null,null,null,null,null,null,null,null,null,null,null,null,null,null,null,null,null,230]
[null,null,null,null,null,null,null,null,null,null,null,null,null,null,null,null,null,null,null,231]
[null,null,null,null,null,null,null,null,null,null,null,null,null,null,null,null,null,null,null,232]
[null,null,null,null,null,null,null,null,null,null,null,null,null,null,null,null,null,null,null,233]
[null,null,null,null,null,null,null,null,null,null,null,null,null,null,null,null,null,null,null,234]
[null,null,null,null,null,null,null,null,null,null,null,null,null,null,null,null,null,null,null,235]
[null,null,null,null,null,null,null,null,null,null,null,null,null,null,null,null,null,null,null,236]
[null,null,null,null,null,null,null,null,null,null,null,null,null,null,null,null,null,null,null,237]
[null,null,null,null,null,null,null,null,null,null,null,null,null,null,null,null,null,null,null,238]
[null,null,null,null,null,null,null,null,null,null,null,null,null,null,null,null,null,null,null,239]
[null,null,null,null,null,null,null,null,null,null,null,null,null,null,null,null,null,null,null,240]
[null,null,null,null,null,null,null,null,null,null,null,null,null,null,null,null,null,null,null,241]
[null,null,null,null,null,null,null,null,null,null,null,null,null,null,null,null,null,null,null,242]
[null,null,null,null,null,null,null,null,null,null,null,null,null,null,null,null,null,null,null,243]
[null,null,null,null,null,null,null,null,null,null,null,null,null,null,null,null,null,null,null,244]
[null,null,null,null,null,null,null,null,null,null,null,null,null,null,null,null,null,null,null,245]
[null,null,null,null,null,null,null,null,null,null,null,null,null,null,null,null,null,null,null,246]
[null,null,null,null,null,null,null,null,null,null,null,null,null,null,null,null,null,null,null,247]
[null,null,null,null,null,null,null,null,null,null,null,null,null,null,null,null,null,null,null,248]
[null,null,null,null,null,null,null,null,null,null,null,null,null,null,null,null,null,null,null,249]
[null,null,null,null,null,null,null,null,null,null,null,null,null,null,null,null,null,null,null,250]
[null,null,null,null,null,null,null,null,null,null,null,null,null,null,null,null,null,null,null,251]
[null,null,null,null,null,null,null,null,null,null,null,null,null,null,null,null,null,null,null,252]
[null,null,null,null,null,null,null,null,null,null,null,null,null,null,null,null,null,null,null,253]
[null,null,null,null,null,null,null,null,null,null,null,null,null,null,null,null,null,null,null,254]
[null,null,null,null,null,null,null,null,null,null,null,null,null,null,null,null,null,null,null,255]
[null,null,null,null,null,null,null,null,null,null,null,null,null,null,null,null,null,null,null,256]
[null,null,null,null,null,null,null,null,null,null,null,null,null,null,null,null,null,null,null,257]
[null,null,null,null,null,null,null,null,null,null,null,null,null,null,null,null,null,null,null,258]
[null,null,null,null,null,null,null,null,null,null,null,null,null,null,null,null,null,null,null,259]
[null,null,null,null,null,null,null,null,null,null,null,null,null,null,null,null,null,null,null,260]
[null,null,null,null,null,null,null,null,null,null,null,null,null,null,null,null,null,null,null,261]
[null,null,null,null,null,null,null,null,null,null,null,null,null,null,null,null,null,null,null,262]
[null,null,null,null,null,null,null,null,null,null,null,null,null,null,null,null,null,null,null,263]
[null,null,null,null,null,null,null,null,null,null,null,null,null,null,null,null,null,null,null,264]
[null,null,null,null,null,null,null,null,null,null,null,null,null,null,null,null,null,null,null,265]
[null,null,null,null,null,null,null,null,null,null,null,null,null,null,null,null,null,null,null,266]
[null,null,null,null,null,null,null,null,null,null,null,null,null,null,null,null,null,null,null,267]
[null,null,null,null,null,null,null,null,null,null,null,null,null,null,null,null,null,null,null,268]
[null,null,null,null,null,null,null,null,null,null,null,null,null,null,null,null,null,null,null,269]
[null,null,null,null,null,null,null,null,null,null,null,null,null,null,null,null,null,null,null,270]
[null,null,null,null,null,null,null,null,null,null,null,null,null,null,null,null,null,null,null,271]
[null,null,null,null,null,null,null,null,null,null,null,null,null,null,null,null,null,null,null,272]
[null,null,null,null,null,null,null,null,null,null,null,null,null,null,null,null,null,null,null,273]
[null,null,null,null,null,null,null,null,null,null,null,null,null,null,null,null,null,null,null,274]
[null,null,null,null,null,null,null,null,null,null,null,null,null,null,null,null,null,null,null,275]
[null,null,null,null,null,null,null,null,null,null,null,null,null,null,null,null,null,null,null,276]
[null,null,null,null,null,null,null,null,null,null,null,null,null,null,null,null,null,null,null,277]
[null,null,null,null,null,null,null,null,null,null,null,null,null,null,null,null,null,null,null,278]
[null,null,null,null,null,null,null,null,null,null,null,null,null,null,null,null,null,null,null,279]
[null,null,null,null,null,null,null,null,null,null,null,null,null,null,null,null,null,null,null,280]
[null,null,null,null,null,null,null,null,null,null,null,null,null,null,null,null,null,null,null,281]
[null,null,null,null,null,null,null,null,null,null,null,null,null,null,null,null,null,null,null,282]
[null,null,null,null,null,null,null,null,null,null,null,null,null,null,null,null,null,null,null,283]
[null,null,null,null,null,null,null,null,null,null,null,null,null,null,null,null,null,null,null,284]
[null,null,null,null,null,null,null,null,null,null,null,null,null,null,null,null,null,null,null,285]
[null,null,null,null,null,null,null,null,null,null,null,null,null,null,null,null,null,null,null,286]
[null,null,null,null,null,null,null,null,null,null,null,null,null,null,null,null,null,null,null,287]
[null,null,null,null,null,null,null,null,null,null,null,null,null,null,null,null,null,null,null,288]
[null,null,null,null,null,null,null,null,null,null,null,null,null,null,null,null,null,null,null,289]
[null,null,null,null,null,null,null,null,null,null,null,null,null,null,null,null,null,null,null,290]
[null,null,null,null,null,null,null,null,null,null,null,null,null,null,null,null,null,null,null,291]
[null,null,null,null,null,null,null,null,null,null,null,null,null,null,null,null,null,null,null,292]
[null,null,null,null,null,null,null,null,null,null,null,null,null,null,null,null,null,null,null,293]
[null,null,null,null,null,null,null,null,null,null,null,null,null,null,null,null,null,null,null,294]
[null,null,null,null,null,null,null,null,null,null,null,null,null,null,null,null,null,null,null,295]
[null,null,null,null,null,null,null,null,null,null,null,null,null,null,null,null,null,null,null,296]
[null,null,null,null,null,null,null,null,null,null,null,null,null,null,null,null,null,null,null,297]
[null,null,null,null,null,null,null,null,null,null,null,null,null,null,null,null,null,null,null,298]
[null,null,null,null,null,null,null,null,null,null,null,null,null,null,null,null,null,null,null,299]
[null,null,null,null,null,null,null,null,null,null,null,null,null,null,null,null,null,null,null,300]
[null,null,null,null,null,null,null,null,null,null,null,null,null,null,null,null,null,null,null,301]
[null,null,null,null,null,null,null,null,null,null,null,null,null,null,null,null,null,null,null,302]
[null,null,null,null,null,null,null,null,null,null,null,null,null,null,null,null,null,null,null,303]
[null,null,null,null,null,null,null,null,null,null,null,null,null,null,null,null,null,null,null,304]
[null,null,null,null,null,null,null,null,null,null,null,null,null,null,null,null,null,null,null,305]
[null,null,null,null,null,null,null,null,null,null,null,null,null,null,null,null,null,null,null,306]
[null,null,null,null,null,null,null,null,null,null,null,null,null,null,null,null,null,null,null,307]
[null,null,null,null,null,null,null,null,null,null,null,null,null,null,null,null,null,null,null,308]
[null,null,null,null,null,null,null,null,null,null,null,null,null,null,null,null,null,null,null,309]
[null,null,null,null,null,null,null,null,null,null,null,null,null,null,null,null,null,null,null,310]
[null,null,null,null,null,null,null,null,null,null,null,null,null,null,null,null,null,null,null,311]
[null,null,null,null,null,null,null,null,null,null,null,null,null,null,null,null,null,null,null,312]
[null,null,null,null,null,null,null,null,null,null,null,null,null,null,null,null,null,null,null,313]
[null,null,null,null,null,null,null,null,null,null,null,null,null,null,null,null,null,null,null,314]
[null,null,null,null,null,null,null,null,null,null,null,null,null,null,null,null,null,null,null,315]
[null,null,null,null,null,null,null,null,null,null,null,null,null,null,null,null,null,null,null,316]
[null,null,null,null,null,null,null,null,null,null,null,null,null,null,null,null,null,null,null,317]
[null,null,null,null,null,null,null,null,null,null,null,null,null,null,null,null,null,null,null,318]
[null,null,null,null,null,null,null,null,null,null,null,null,null,null,null,null,null,null,null,319]
[null,null,null,null,null,null,null,null,null,null,null,null,null,null,null,null,null,null,null,320]
[null,null,null,null,null,null,null,null,null,null,null,null,null,null,null,null,null,null,null,321]
[null,null,null,null,null,null,null,null,null,null,null,null,null,null,null,null,null,null,null,322]
[null,null,null,null,null,null,null,null,null,null,null,null,null,null,null,null,null,null,null,323]
[null,null,null,null,null,null,null,null,null,null,null,null,null,null,null,null,null,null,null,324]
[null,null,null,null,null,null,null,null,null,null,null,null,null,null,null,null,null,null,null,325]
[null,null,null,null,null,null,null,null,null,null,null,null,null,null,null,null,null,null,null,326]
[null,null,null,null,null,null,null,null,null,null,null,null,null,null,null,null,null,null,null,327]
[null,null,null,null,null,null,null,null,null,null,null,null,null,null,null,null,null,null,null,328]
[null,null,null,null,null,null,null,null,null,null,null,null,null,null,null,null,null,null,null,329]
[null,null,null,null,null,null,null,null,null,null,null,null,null,null,null,null,null,null,null,330]
[null,null,null,null,null,null,null,null,null,null,null,null,null,null,null,null,null,null,null,331]
[null,null,null,null,null,null,null,null,null,null,null,null,null,null,null,null,null,null,null,332]
[null,null,null,null,null,null,null,null,null,null,null,null,null,null,null,null,null,null,null,333]
[null,null,null,null,null,null,null,null,null,null,null,null,null,null,null,null,null,null,null,334]
[null,null,null,null,null,null,null,null,null,null,null,null,null,null,null,null,null,null,null,335]
[null,null,null,null,null,null,null,null,null,null,null,null,null,null,null,null,null,null,null,336]
[null,null,null,null,null,null,null,null,null,null,null,null,null,null,null,null,null,null,null,337]
[null,null,null,null,null,null,null,null,null,null,null,null,null,null,null,null,null,null,null,338]
[null,null,null,null,null,null,null,null,null,null,null,null,null,null,null,null,null,null,null,339]
[null,null,null,null,null,null,null,null,null,null,null,null,null,null,null,null,null,null,null,340]
[null,null,null,null,null,null,null,null,null,null,null,null,null,null,null,null,null,null,null,341]
[null,null,null,null,null,null,null,null,null,null,null,null,null,null,null,null,null,null,null,342]
[null,null,null,null,null,null,null,null,null,null,null,null,null,null,null,null,null,null,null,343]
[null,null,null,null,null,null,null,null,null,null,null,null,null,null,null,null,null,null,null,344]
[null,null,null,null,null,null,null,null,null,null,null,null,null,null,null,null,null,null,null,345]
[null,null,null,null,null,null,null,null,null,null,null,null,null,null,null,null,null,null,null,346]
[null,null,null,null,null,null,null,null,null,null,null,null,null,null,null,null,null,null,null,347]
[null,null,null,null,null,null,null,null,null,null,null,null,null,null,null,null,null,null,null,348]
[null,null,null,null,null,null,null,null,null,null,null,null,null,null,null,null,null,null,null,349]
[null,null,null,null,null,null,null,null,null,null,null,null,null,null,null,null,null,null,null,350]
[null,null,null,null,null,null,null,null,null,null,null,null,null,null,null,null,null,null,null,351]
[null,null,null,null,null,null,null,null,null,null,null,null,null,null,null,null,null,null,null,352]
[null,null,null,null,null,null,null,null,null,null,null,null,null,null,null,null,null,null,null,353]
[null,null,null,null,null,null,null,null,null,null,null,null,null,null,null,null,null,null,null,354]
[null,null,null,null,null,null,null,null,null,null,null,null,null,null,null,null,null,null,null,355]
[null,null,null,null,null,null,null,null,null,null,null,null,null,null,null,null,null,null,null,356]
[null,null,null,null,null,null,null,null,null,null,null,null,null,null,null,null,null,null,null,357]
[null,null,null,null,null,null,null,null,null,null,null,null,null,null,null,null,null,null,null,358]
[null,null,null,null,null,null,null,null,null,null,null,null,null,null,null,null,null,null,null,359]
[null,null,null,null,null,null,null,null,null,null,null,null,null,null,null,null,null,null,null,360]
[null,null,null,null,null,null,null,null,null,null,null,null,null,null,null,null,null,null,null,361]
[null,null,null,null,null,null,null,null,null,null,null,null,null,null,null,null,null,null,null,362]
[null,null,null,null,null,null,null,null,null,null,null,null,null,null,null,null,null,null,null,363]
[null,null,null,null,null,null,null,null,null,null,null,null,null,null,null,null,null,null,null,364]
[null,null,null,null,null,null,null,null,null,null,null,null,null,null,null,null,null,null,null,365]
[null,null,null,null,null,null,null,null,null,null,null,null,null,null,null,null,null,null,null,366]
[null,null,null,null,null,null,null,null,null,null,null,null,null,null,null,null,null,null,null,367]
[null,null,null,null,null,null,null,null,null,null,null,null,null,null,null,null,null,null,null,368]
[null,null,null,null,null,null,null,null,null,null,null,null,null,null,null,null,null,null,null,369]
[null,null,null,null,null,null,null,null,null,null,null,null,null,null,null,null,null,null,null,370]
[null,null,null,null,null,null,null,null,null,null,null,null,null,null,null,null,null,null,null,371]
[null,null,null,null,null,null,null,null,null,null,null,null,null,null,null,null,null,null,null,372]
[null,null,null,null,null,null,null,null,null,null,null,null,null,null,null,null,null,null,null,373]
[null,null,null,null,null,null,null,null,null,null,null,null,null,null,null,null,null,null,null,374]
[null,null,null,null,null,null,null,null,null,null,null,null,null,null,null,null,null,null,null,375]
[null,null,null,null,null,null,null,null,null,null,null,null,null,null,null,null,null,null,null,376]
[null,null,null,null,null,null,null,null,null,null,null,null,null,null,null,null,null,null,null,377]
[null,null,null,null,null,null,null,null,null,null,null,null,null,null,null,null,null,null,null,378]
[null,null,null,null,null,null,null,null,null,null,null,null,null,null,null,null,null,null,null,379]
[null,null,null,null,null,null,null,null,null,null,null,null,null,null,null,null,null,null,null,380]
[null,null,null,null,null,null,null,null,null,null,null,null,null,null,null,null,null,null,null,381]
[null,null,null,null,null,null,null,null,null,null,null,null,null,null,null,null,null,null,null,382]
[null,null,null,null,null,null,null,null,null,null,null,null,null,null,null,null,null,null,null,383]
[null,null,null,null,null,null,null,null,null,null,null,null,null,null,null,null,null,null,null,384]
[null,null,null,null,null,null,null,null,null,null,null,null,null,null,null,null,null,null,null,385]
[null,null,null,null,null,null,null,null,null,null,null,null,null,null,null,null,null,null,null,386]
[null,null,null,null,null,null,null,null,null,null,null,null,null,null,null,null,null,null,null,387]
[null,null,null,null,null,null,null,null,null,null,null,null,null,null,null,null,null,null,null,388]
[null,null,null,null,null,null,null,null,null,null,null,null,null,null,null,null,null,null,null,389]
[null,null,null,null,null,null,null,null,null,null,null,null,null,null,null,null,null,null,null,390]
[null,null,null,null,null,null,null,null,null,null,null,null,null,null,null,null,null,null,null,391]
[null,null,null,null,null,null,null,null,null,null,null,null,null,null,null,null,null,null,null,392]
[null,null,null,null,null,null,null,null,null,null,null,null,null,null,null,null,null,null,null,393]
[null,null,null,null,null,null,null,null,null,null,null,null,null,null,null,null,null,null,null,394]
[null,null,null,null,null,null,null,null,null,null,null,null,null,null,null,null,null,null,null,395]
[null,null,null,null,null,null,null,null,null,null,null,null,null,null,null,null,null,null,null,396]
[null,null,null,null,null,null,null,null,null,null,null,null,null,null,null,null,null,null,null,397]
[null,null,null,null,null,null,null,null,null,null,null,null,null,null,null,null,null,null,null,398]
[null,null,null,null,null,null,null,null,null,null,null,null,null,null,null,null,null,null,null,399]
[null,null,null,null,null,null,null,null,null,null,null,null,null,null,null,null,null,null,null,400]
[null,null,null,null,null,null,null,null,null,null,null,null,null,null,null,null,null,null,null,401]
[null,null,null,null,null,null,null,null,null,null,null,null,null,null,null,null,null,null,null,402]
[null,null,null,null,null,null,null,null,null,null,null,null,null,null,null,null,null,null,null,403]
[null,null,null,null,null,null,null,null,null,null,null,null,null,null,null,null,null,null,null,404]
[null,null,null,null,null,null,null,null,null,null,null,null,null,null,null,null,null,null,null,405]
[null,null,null,null,null,null,null,null,null,null,null,null,null,null,null,null,null,null,null,406]
[null,null,null,null,null,null,null,null,null,null,null,null,null,null,null,null,null,null,null,407]
[null,null,null,null,null,null,null,null,null,null,null,null,null,null,null,null,null,null,null,408]
[null,null,null,null,null,null,null,null,null,null,null,null,null,null,null,null,null,null,null,409]
[null,null,null,null,null,null,null,null,null,null,null,null,null,null,null,null,null,null,null,410]
[null,null,null,null,null,null,null,null,null,null,null,null,null,null,null,null,null,null,null,411]
[null,null,null,null,null,null,null,null,null,null,null,null,null,null,null,null,null,null,null,412]
[null,null,null,null,null,null,null,null,null,null,null,null,null,null,null,null,null,null,null,413]
[null,null,null,null,null,null,null,null,null,null,null,null,null,null,null,null,null,null,null,414]
[null,null,null,null,null,null,null,null,null,null,null,null,null,null,null,null,null,null,null,415]
[null,null,null,null,null,null,null,null,null,null,null,null,null,null,null,null,null,null,null,416]
[null,null,null,null,null,null,null,null,null,null,null,null,null,null,null,null,null,null,null,417]
[null,null,null,null,null,null,null,null,null,null,null,null,null,null,null,null,null,null,null,418]
[null,null,null,null,null,null,null,null,null,null,null,null,null,null,null,null,null,null,null,419]
[null,null,null,null,null,null,null,null,null,null,null,null,null,null,null,null,null,null,null,420]
[null,null,null,null,null,null,null,null,null,null,null,null,null,null,null,null,null,null,null,421]
[null,null,null,null,null,null,null,null,null,null,null,null,null,null,null,null,null,null,null,422]
[null,null,null,null,null,null,null,null,null,null,null,null,null,null,null,null,null,null,null,423]
[null,null,null,null,null,null,null,null,null,null,null,null,null,null,null,null,null,null,null,424]
[null,null,null,null,null,null,null,null,null,null,null,null,null,null,null,null,null,null,null,425]
[null,null,null,null,null,null,null,null,null,null,null,null,null,null,null,null,null,null,null,426]
[null,null,null,null,null,null,null,null,null,null,null,null,null,null,null,null,null,null,null,427]
[null,null,null,null,null,null,null,null,null,null,null,null,null,null,null,null,null,null,null,428]
[null,null,null,null,null,null,null,null,null,null,null,null,null,null,null,null,null,null,null,429]
[null,null,null,null,null,null,null,null,null,null,null,null,null,null,null,null,null,null,null,430]
[null,null,null,null,null,null,null,null,null,null,null,null,null,null,null,null,null,null,null,431]
[null,null,null,null,null,null,null,null,null,null,null,null,null,null,null,null,null,null,null,432]
[null,null,null,null,null,null,null,null,null,null,null,null,null,null,null,null,null,null,null,433]
[null,null,null,null,null,null,null,null,null,null,null,null,null,null,null,null,null,null,null,434]
[null,null,null,null,null,null,null,null,null,null,null,null,null,null,null,null,null,null,null,435]
[null,null,null,null,null,null,null,null,null,null,null,null,null,null,null,null,null,null,null,436]
[null,null,null,null,null,null,null,null,null,null,null,null,null,null,null,null,null,null,null,437]
[null,null,null,null,null,null,null,null,null,null,null,null,null,null,null,null,null,null,null,438]
[null,null,null,null,null,null,null,null,null,null,null,null,null,null,null,null,null,null,null,439]
[null,null,null,null,null,null,null,null,null,null,null,null,null,null,null,null,null,null,null,440]
[null,null,null,null,null,null,null,null,null,null,null,null,null,null,null,null,null,null,null,441]
[null,null,null,null,null,null,null,null,null,null,null,null,null,null,null,null,null,null,null,442]
[null,null,null,null,null,null,null,null,null,null,null,null,null,null,null,null,null,null,null,443]
[null,null,null,null,null,null,null,null,null,null,null,null,null,null,null,null,null,null,null,444]
[null,null,null,null,null,null,null,null,null,null,null,null,null,null,null,null,null,null,null,445]
[null,null,null,null,null,null,null,null,null,null,null,null,null,null,null,null,null,null,null,446]
[null,null,null,null,null,null,null,null,null,null,null,null,null,null,null,null,null,null,null,447]
[null,null,null,null,null,null,null,null,null,null,null,null,null,null,null,null,null,null,null,448]
[null,null,null,null,null,null,null,null,null,null,null,null,null,null,null,null,null,null,null,449]
[null,null,null,null,null,null,null,null,null,null,null,null,null,null,null,null,null,null,null,450]
[null,null,null,null,null,null,null,null,null,null,null,null,null,null,null,null,null,null,null,451]
[null,null,null,null,null,null,null,null,null,null,null,null,null,null,null,null,null,null,null,452]
[null,null,null,null,null,null,null,null,null,null,null,null,null,null,null,null,null,null,null,453]
[null,null,null,null,null,null,null,null,null,null,null,null,null,null,null,null,null,null,null,454]
[null,null,null,null,null,null,null,null,null,null,null,null,null,null,null,null,null,null,null,455]
[null,null,null,null,null,null,null,null,null,null,null,null,null,null,null,null,null,null,null,456]
[null,null,null,null,null,null,null,null,null,null,null,null,null,null,null,null,null,null,null,457]
[null,null,null,null,null,null,null,null,null,null,null,null,null,null,null,null,null,null,null,458]
[null,null,null,null,null,null,null,null,null,null,null,null,null,null,null,null,null,null,null,459]
[null,null,null,null,null,null,null,null,null,null,null,null,null,null,null,null,null,null,null,460]
[null,null,null,null,null,null,null,null,null,null,null,null,null,null,null,null,null,null,null,461]
[null,null,null,null,null,null,null,null,null,null,null,null,null,null,null,null,null,null,null,462]
[null,null,null,null,null,null,null,null,null,null,null,null,null,null,null,null,null,null,null,463]
[null,null,null,null,null,null,null,null,null,null,null,null,null,null,null,null,null,null,null,464]
[null,null,null,null,null,null,null,null,null,null,null,null,null,null,null,null,null,null,null,465]
[null,null,null,null,null,null,null,null,null,null,null,null,null,null,null,null,null,null,null,466]
[null,null,null,null,null,null,null,null,null,null,null,null,null,null,null,null,null,null,null,467]
[null,null,null,null,null,null,null,null,null,null,null,null,null,null,null,null,null,null,null,468]
[null,null,null,null,null,null,null,null,null,null,null,null,null,null,null,null,null,null,null,469]
[null,null,null,null,null,null,null,null,null,null,null,null,null,null,null,null,null,null,null,470]
[null,null,null,null,null,null,null,null,null,null,null,null,null,null,null,null,null,null,null,471]
[null,null,null,null,null,null,null,null,null,null,null,null,null,null,null,null,null,null,null,472]
[null,null,null,null,null,null,null,null,null,null,null,null,null,null,null,null,null,null,null,473]
[null,null,null,null,null,null,null,null,null,null,null,null,null,null,null,null,null,null,null,474]
[null,null,null,null,null,null,null,null,null,null,null,null,null,null,null,null,null,null,null,475]
[null,null,null,null,null,null,null,null,null,null,null,null,null,null,null,null,null,null,null,476]
[null,null,null,null,null,null,null,null,null,null,null,null,null,null,null,null,null,null,null,477]
[null,null,null,null,null,null,null,null,null,null,null,null,null,null,null,null,null,null,null,478]
[null,null,null,null,null,null,null,null,null,null,null,null,null,null,null,null,null,null,null,479]
[null,null,null,null,null,null,null,null,null,null,null,null,null,null,null,null,null,null,null,480]
[null,null,null,null,null,null,null,null,null,null,null,null,null,null,null,null,null,null,null,481]
[null,null,null,null,null,null,null,null,null,null,null,null,null,null,null,null,null,null,null,482]
[null,null,null,null,null,null,null,null,null,null,null,null,null,null,null,null,null,null,null,483]
[null,null,null,null,null,null,null,null,null,null,null,null,null,null,null,null,null,null,null,484]
[null,null,null,null,null,null,null,null,null,null,null,null,null,null,null,null,null,null,null,485]
[null,null,null,null,null,null,null,null,null,null,null,null,null,null,null,null,null,null,null,486]
[null,null,null,null,null,null,null,null,null,null,null,null,null,null,null,null,null,null,null,487]
[null,null,null,null,null,null,null,null,null,null,null,null,null,null,null,null,null,null,null,488]
[null,null,null,null,null,null,null,null,null,null,null,null,null,null,null,null,null,null,null,489]
[null,null,null,null,null,null,null,null,null,null,null,null,null,null,null,null,null,null,null,490]
[null,null,null,null,null,null,null,null,null,null,null,null,null,null,null,null,null,null,null,491]
[null,null,null,null,null,null,null,null,null,null,null,null,null,null,null,null,null,null,null,492]
[null,null,null,null,null,null,null,null,null,null,null,null,null,null,null,null,null,null,null,493]
[null,null,null,null,null,null,null,null,null,null,null,null,null,null,null,null,null,null,null,494]
[null,null,null,null,null,null,null,null,null,null,null,null,null,null,null,null,null,null,null,495]
[null,null,null,null,null,null,null,null,null,null,null,null,null,null,null,null,null,null,null,496]
[null,null,null,null,null,null,null,null,null,null,null,null,null,null,null,null,null,null,null,497]
[null,null,null,null,null,null,null,null,null,null,null,null,null,null,null,null,null,null,null,498]
[null,null,null,null,null,null,null,null,null,null,null,null,null,null,null,null,null,null,null,499]

{"sheet":"results","index":3,"n_rows":0,"n_cols":0,"rows_kept":0,"cut":false,"hidden":false,"merged":[]}

{"sheet":"Preparation","index":4,"n_rows":0,"n_cols":0,"rows_kept":0,"cut":false,"hidden":false,"merged":[]}

{"sheet":"Explanation Parameters","index":5,"n_rows":0,"n_cols":0,"rows_kept":0,"cut":false,"hidden":false,"merged":[]}

{"sheet":"Explanation Output ","index":6,"n_rows":0,"n_cols":0,"rows_kept":0,"cut":false,"hidden":false,"merged":[]}

{"sheet":"Running a Simulation","index":7,"n_rows":0,"n_cols":0,"rows_kept":0,"cut":false,"hidden":false,"merged":[]}