{"text_format":"1","workbook":"xlsx","n_sheets":8,"sheets":["parameters","output","model","results","Preparation","Explanation Output ","Explanation Parameters","Running a Simulation"],"not_rendered":{"charts":4,"images":3,"macros":1,"external_links":0,"defined_names":260,"comments":2,"pivot_tables":0},"unopened":[],"bounds":{"document_bytes":16777216,"sheet_cells":100000,"rows_first":2000,"rows_last":500,"rows_between":2000,"halvings":0,"cell_chars":16384,"cell_head_chars":4096},"cells_cut":0,"cells_raw":0,"read":"whole","date_system":"1900"}

{"sheet":"parameters","index":0,"n_rows":53,"n_cols":31,"rows_kept":53,"cut":false,"hidden":false,"merged":[]}
["Parameter sheet",null,null,null,null,null,null,null,null,null,null,null,null,null,null,null,"do not remove","NO"]
[null,null,null,null,null,null,null,null,null,null,null,null,null,null,null,null,null,"YES",null,null,null,null,null,"Soccer",null,null,"Tennis & Golf",null,null,"Hockey"]
[null,"NETWORK PARAMETERS",null,null,null,null,null,null,null,null,null,null,null,null,null,null,null,null,null,null,null,null,null,0,0.05,null,0,0.05,null,0,0.05]
[null,null,"min/average","max/stdev",null,null,null,null,null,null,null,null,null,null,null,null,null,null,null,null,null,null,null,0.05,0.01,null,0.05,0.01,null,0.05,0.01]
[null,"initial level",0,0.05,null,null,null,null,null,null,null,null,null,null,null,null,null,1,null,null,null,null,null,0,0.02,null,0,0.02,null,0,0.02]
[null,"resource consumption rate r",0.05,0.01,null,null,null,null,null,null,null,null,null,null,null,null,null,2,null,null,null,null,null,1,0.15,null,1,0.15,null,1,0.15]
[null,"connection strength",0,0.02,null,null,null,null,null,null,null,null,null,null,null,null,null,3,null,null,null,null,null,0.5,0.25,null,0.5,0.25,null,0.5,0.25]
[null,"genetic factor normal case",1,0.15,null,null,null,null,null,null,null,null,null,null,null,null,null,4,null,null,null,null,null,1,350,null,1,350,null,1,350]
[null,"genetic factor emergenic case",0.5,0.25,null,null,null,null,null,null,null,null,null,null,null,null,null,5,null,null,null,null,null,10,25,null,10,25,null,10,25]
[null,"delay of onset",1,350]
[null,"maximum range",10,25,null,null,null,null,null,null,null,null,null,null,null,null,null,null,null,null,null,null,null,0.25,null,null,0.25,null,null,0.25]
[]
[null,"connection probability ",0.25]
[]
[]
[]
[]
[null,"PRODUCT PARAMETERS",null,null,null,null,null,null,null,null,null,null,null,null,null,null,null,null,null,null,null,null,null,2E-3,null,null,2.0000000000000001E-4,null,null,4.0000000000000001E-3]
[null,null,null,null,null,null,null,null,null,null,null,null,null,null,null,null,null,null,null,null,null,null,null,1,null,null,1,null,null,1]
[null,"Poisson parameter",2E-3,null,null,null,null,null,null,null,null,null,null,null,null,null,null,null,null,null,null,null,null,3,null,null,3,null,null,3]
[null,"Intermittent",1,null,null,null,null,null,null,null,null,null,null,null,null,null,null,null,null,null,null,null,null,3,null,null,1,null,null,3]
[null,"condition_value",1,null,"simple model",null,null,null,null,null,null,null,null,null,null,null,null,null,null,null,null,null,null,0,null,null,0,null,null,0]
[null,"Nr_Draws",1,null,null,null,null,null,null,null,null,null,null,null,null,null,null,null,null,null,null,null,null,300,null,null,300,null,null,300]
[null,"threshold_value",0,null,"threshold_age",200]
[null,"transition_to_prefessional",300,null,"senior_drop",{"$f":"IF(G25>1,1,IF(G25<0,0.01,G25))","v":0.49787820450790221},{"$f":"_xll.dNormalDev(0.65,0.15)","v":0.49787820450790221},null," ",null,null,null,null,null,null,null,null,null,null,null,null,null,null,0.7,null,null,0.7,null,null,0.7]
[null,"Correlated Frequency-tenacity (product model 3)"]
[null,"correlation_F_and_T",0.7]
[]
[]
[null,null,null,null,null,null,null,null,null,null,null,null,null,null,null,null,null,null,null,null,null,null,null,10,null,null,10,null,null,10]
[null,"Simonton Creative Productivity Model",null,null,null,null,null,null,null,null,null,null,null,null,null,null,null,null,null,null,null,null,null,2,null,null,2,null,null,2]
[null,"production_constant",10,null,null,null,null,null,null,null,null,null,null,null,null,null,null,null,null,null,null,null,null,1,null,null,1,null,null,1]
[null,"decay_constant",2]
[null,"power_constant",1]
[]
[]
[null,"Matthew Models",null,null,null,null,null,null,null,null,null,null,null,null,null,null,null,null,null,null,null,null,null,0.5,null,null,0.5,null,null,0.5]
[null,"Model 1"]
[null,"Simple_Matthew (condition value must be 5!)",0.5,null,"Applies only to Condition Value 5",null,null,null,null,null,null,null,null,null,null,null,null,null,null,null,null,null,null,0,null,null,0,null,null,0]
[null,"Model 2"]
[null,"Product support parameter",0,null,null,null,null,null,null,null,null,null,null,null,null,null,null,null,null,null,null,null,null,"NO",null,null,"NO",null,null,"NO"]
[null,"Model 3",null,null,null,null,null,null,null,null,null,null,null,null,null,null,null,null,null,null,null,null,null,1E-3,null,null,1E-3,null,null,1E-3]
[null,"matthew condition","NO"]
[null,"matthew parameter",1E-3]
[]
[]
[null,null,null,null,null,null,null,null,null,null,null,null,null,null,null,null,null,null,null,null,null,null,null,"NO",null,null,"NO",null,null,"NO"]
[null,"SECUNDARY PARAMETERS"]
[null,"lifespan decline condition","NO",null,null,null,null,null,null,null,null,null,null,null,null,null,null,null,null,null,null,null,null,0,null,null,0,null,null,0]
[]
[null,"random walk multiplier",0,null,null,null,null,null,null,null,null,null,null,null,null,null,null,null,null,null,null,null,null,0,null,null,0,null,null,0]
[]
[null,"random effect on growers",0]

{"sheet":"output","index":1,"n_rows":106,"n_cols":25,"rows_kept":106,"cut":false,"hidden":false,"merged":[[43,6,43,24],[59,6,59,24],[43,0,43,4]]}
[]
[]
[]
[]
[]
[]
[]
[]
[]
[]
[]
[]
[]
[]
[]
[]
[]
[]
[]
[]
[]
[]
[]
[]
[]
[]
[]
[]
[]
[null,null,null,null,null,null,null,null,null,null,null,null,null,null,null,null,null,null,null,"type of model ",{"$f":"model_type(model!E11)","v":"normal genetic model"}]
[null,null,null,null,null,null,null,null,null,null,null,null,null,null,null,null,null,null,null,null,{"$f":"IF(parameters!C43=\"YES\",\"Matthew model\",\"Standard model\")","v":"Standard model"}]
[]
[null,null,null,null,null,null,null,null,null,null,null,null,null,null,null,null,null,null,null,null,{"$f":"model_type2((model!L11))","v":"PRODUCT MODEL 3. RESET EQUATIONS TO NORMAL MODEL!"}]
[]
[]
[]
[]
[]
[]
[]
[]
[]
[]
["Specified values",null,null,null,null,null,"Growth and Connection parameters"]
[null,"grower3",{"$f":"H63","v":0.91971762061484674}]
[null,"products1",{"$f":"collected_number_of_products","v":0},null,null,null,{"$f":"model!A8:H18","v":"grower"},"endlevel","initial","rate","genetic K","effect_type","delay","MyMax",null,"grower1","grower2","grower3","grower4","grower5","grower6","grower7","grower8","grower9","grower10"]
[null,{"$f":"G65","v":"initial level"},3.3307219028938566E-2,null,null,null,1,0.53913812201547107,4.2708443826995788E-3,5.1970214588687329E-2,0.72370131740151844,1,1,10,"grower1",{"$f":"model!I9:R18","v":0},0,-2.1935791329674686E-2,0,0,0,0,8.9620962491570554E-3,0,0]
[null,"rate",5.3901756467711746E-2,null,null,null,2,1.0646145470112947,2.1177562023513022E-2,4.9177183387409999E-2,1.064614550309307,1,1,16,"grower2",0,0,0,0,0,-1.7974307522677632E-2,0,0,0,-3.4552380328700116E-2]
[null,"genetic K",1.158190880086998,null,null,null,3,0.10741299612394438,3.3307219028938566E-2,5.3901756467711746E-2,1.158190880086998,1,1,20,"grower3",0,0,0,0,0,-1.5216102756224668E-2,0,0,0,-4.6994083873248555E-4]
[null,"grower 4",{"$f":"H80","v":0.93831122027151548},null,null,null,4,0.93831122027151548,3.7713279796298599E-2,4.3273277334923511E-2,0.93831123601261768,1,1,22,"grower4",0,0,0,0,0,-3.6588928952087248E-3,1.4430823652706625E-2,0,-9.7116468415020078E-3,6.5355662511062933E-3]
[null,"life span slope",{"$f":"collected_product_slope","v":0},null,null,null,5,1.0791152194280256,2.1303850726690145E-2,5.332185073767038E-2,1.0791155811121325,1,134,18,"grower5",0,0,-3.4039318946252776E-2,0,0,0,1.2645970135554851E-2,0,0,8.5547068800534663E-3]
[null,null,null,null,null,null,6,1.0232864673323512,2.5294713350012901E-2,4.0203326715233731E-2,0.98380468910233498,1,13,21,"grower6",0,0,0,0,0,0,-3.7414000301663024E-2,0,0,0]
[null,null,null,null,null,null,7,0.54246622319081683,7.8630453674122698E-3,4.6523378041066141E-2,0.71249601294344345,1,137,16,"grower7",2.7393157995969419E-2,0,0,0,0,5.0006258692694948E-2,0,0,0,-9.8131726873315981E-3]
[null,null,null,null,null,null,8,1.3838796241816786,7.9670280567370362E-3,4.4174574311350731E-2,1.2473796869128773,1,223,13,"grower8",0,0,0,0,0,-9.500548307148027E-4,0,0,1.2995612696905081E-2,-2.7861228264853381E-2]
[null,null,null,null,null,null,9,1.060974086560172,8.0236639012582611E-3,5.4106350207118695E-2,0.91166896425569499,1,30,15,"grower9",-2.6578034234718838E-2,0,0,0,0,0,0,0,0,0]
[null,null,null,null,null,null,10,6.8362471431960932E-3,3.5447545617353172E-2,4.6236353541818209E-2,0.91499778898606865,1,141,18,"grower10",0,0,0,0,0,0,0,0,0,0]
[]
[]
[]
[null,null,null,null,null,null,"Growth Levels and Level parameters"]
[]
[null,null,null,null,null,null,null,"grower 3",null,"best performance",null,null,null,null,"timeseries growers step = 20"]
[null,null,null,null,null,null,"max value",{"$f":"H79","v":0.91971762061484674},null,{"$f":"MAX(H77:H86)","v":1.383886443801519},null,null,null,"time",{"$f":"growers_in_steps_of_20","v":"grower1"},"grower2","grower3","grower4","grower5","grower6","grower7","grower8","grower9","grower10"]
[null,null,null,null,null,null,"name","grower 3",null,{"$f":"Plookup(J63,H77:H86,G77:G86)","v":"grower8"},null,null,null,1,4.2708443826995788E-3,2.1177562023513022E-2,3.3307219028938566E-2,3.7713279796298599E-2,2.1303850726690145E-2,2.5294713350012901E-2,7.8630453674122698E-3,7.9670280567370362E-3,8.0236639012582611E-3,3.5447545617353172E-2]
[null,null,null,null,null,null,"initial level",{"$f":"model!C11","v":3.3307219028938566E-2},null,{"$f":"Plookup(J63,H77:H86,model!C9:C18)","v":7.9670280567370362E-3},null,null,null,21,1.1642348745290952E-2,5.357073821040733E-2,8.8875454344504334E-2,8.3520984386193334E-2,2.1303850726690145E-2,3.3883315707111852E-2,7.8630453674122698E-3,7.9670280567370362E-3,8.0236639012582611E-3,3.5447545617353172E-2]
[null,null,null,null,null,null,"rate",{"$f":"model!D11","v":5.3901756467711746E-2},null,{"$f":"Plookup(J63,H77:H86,model!D9:D18)","v":4.4174574311350731E-2},null,null,null,41,3.1154142051432111E-2,0.1292793103493079,0.21769837428324987,0.17420773333912346,2.1303850726690145E-2,6.6668678936466635E-2,7.8630453674122698E-3,7.9670280567370362E-3,1.4039047779695293E-2,3.5447545617353172E-2]
[null,null,null,null,null,null,"genetic K",{"$f":"model!E11","v":1.158190880086998},null,{"$f":"my_lookup(J63,H77:H86,model!E9:E18)","v":1.2473796869128773},null,null,null,61,7.9095326340065997E-2,0.28175602920703058,0.4469863475746178,0.32582562771236023,2.1303850726690145E-2,0.11496031819677101,7.8630453674122698E-3,7.9670280567370362E-3,3.753407502849973E-2,3.5447545617353172E-2]
[null,null,null,null,null,null,"delay",{"$f":"model!G11","v":1},null,{"$f":"my_lookup(J63,H77:H86,model!G9:G18)","v":223},null,null,null,81,0.17796117240811321,0.51415069643776146,0.70638291796173192,0.51963309533556734,2.1303850726690145E-2,0.16289974122661674,7.8630453674122698E-3,7.9670280567370362E-3,9.298186448870778E-2,3.5447545617353172E-2]
[null,null,null,null,null,null,"Max",{"$f":"model!H18","v":18},null,{"$f":"my_lookup(J63,H77:H86,model!H9:H18)","v":13},null,null,null,101,0.32233028326473545,0.75267446721920017,0.86884693797902013,0.69740563339650796,2.1303850726690145E-2,0.18953301985580945,7.8630453674122698E-3,7.9670280567370362E-3,0.20232225469049242,3.5447545617353172E-2]
[null,null,null,null,null,null,"connection sum",{"$f":"model!K20","v":-5.5975110275927463E-2},null,{"$f":"my_lookup(J63,H77:H86,connectionsum)","v":8.9620962491570554E-3},null,null,null,121,0.44667801805809482,0.91689236171532662,0.91761304024469637,0.81724669349466073,2.1303850726690145E-2,0.19399780824331639,7.8630453674122698E-3,7.9670280567370362E-3,0.36453152566439634,3.5447545617353172E-2]
[null,null,null,null,null,null,"total support",{"$f":"model!Z33","v":-1.0315784735416023E-2},null,{"$f":"my_lookup(J63,H77:H86,totalsupport)","v":4.2146214054888448E-3},null,null,null,141,0.50066801956954021,1.001707192915261,0.91570848760279544,0.88225130151719056,3.0382158416311165E-2,0.1878371260861266,9.6255397869121351E-3,7.9670280567370362E-3,0.53023237621967767,3.5447545617353172E-2]
[null,null,null,null,null,null,"number of products",{"$f":"model!T23","v":0},null,null,null,null,null,161,0.50491197365111307,1.0391433974600999,0.89592579146106111,0.9134124896076492,8.1645856622432428E-2,0.18057062941849422,2.6597536334806649E-2,7.9670280567370362E-3,0.64713065285820226,4.7112610593149896E-2]
[null,null,null,null,null,null,null,null,null,null,null,null,null,181,0.49670284347230648,1.0545199026787235,0.85467402109315893,0.92746486072524137,0.20259877476291877,0.17896328523878866,7.2895240871792805E-2,7.9670280567370362E-3,0.70997923883225023,6.1430355548979534E-2]
[null,null,null,null,null,null,null,null,null,null,null,null,null,201,0.49969801297686023,1.0606483626041445,0.77119608896625658,0.93362688803994198,0.42584509032703666,0.19293170284752156,0.18864716068095558,7.9670280567370362E-3,0.73892146805285808,7.9510852916181179E-2]
[null,null,null,null,null,null,null,null,null,null,null,null,null,221,0.53131625865541077,1.063061568707323,0.64234894103414031,0.93629573617567596,0.6983658654618754,0.24632058159948828,0.41080524730482471,7.9670280567370362E-3,0.75128664256891997,0.10183441023688393]
[null,null,null,null,null,null,null,"max level","endlevel","sum of levels",null,null,null,241,0.59751821736447419,1.0640072905295399,0.5026461263923695,0.93744544725086987,0.90357545946263218,0.3862961941559902,0.65182434799592492,1.8764939512486183E-2,0.75699112838692462,0.12641741557176345]
[null,null,null,null,null,null,"grower1",{"$f":"TRANSPOSE(maxlevel10)","v":0.69868469358391272},{"$f":"TRANSPOSE(endlevel10)","v":0.53913812201547107},{"$f":"TRANSPOSE(totalsumlist)","v":234.66564326808515},null,null,null,261,0.66686932825214684,1.0643772196965737,0.38634297614874785,0.93793958269688693,1.009127804400435,0.63838620416906522,0.74586024551234587,4.8517767202279891E-2,0.76188095180387472,0.1504204877521429]
[null,null,null,null,null,null,"grower2",1.0646145470112947,1.0646145470112947,443.43219214927331,null,null,null,281,0.69777123710855482,1.0645218153519127,0.30280627360284423,0.93815174586078809,1.053019320979049,0.89306020458887181,0.70029298153870989,0.12217974914407756,0.77041913051711941,0.17196373519702635]
[null,null,null,null,null,null,"grower3",0.91971762061484674,0.10741299612394438,194.61622970290912,null,null,null,301,0.69052503510160268,1.0645783178173138,0.1236180540313366,0.93824280171140084,1.0696399089713806,1.0224449885020326,0.62483638065240688,0.28394707081537907,0.78929167500444786,0.18497854166100475]
[null,null,null,null,null,null,"grower4",0.93831122027151548,0.93831122027151548,396.57056007306267,null,null,null,321,0.66641283626595538,1.0646003943514246,0.11618047332306169,0.93828187372988381,1.0757086797944575,1.0678680828756624,0.57073450950678029,0.56209643381162722,0.82725666277385224,0.17851601466889416]
[null,null,null,null,null,null,"grower5",1.0791152194280256,1.0791152194280256,315.5607365076234,null,null,null,341,0.63747422373382701,1.0646090196745672,0.11085424715070606,0.93829863818958481,1.0778950288521487,1.0578769335952465,0.54409408928794856,0.88957869811213885,0.88628543777119284,0.14882056360121554]
[null,null,null,null,null,null,"grower6",1.0682308233240385,1.0232864673323512,288.95540480576966,null,null,null,361,0.60894777549491097,1.0646123895389867,0.10745763969666529,0.9383058309992236,1.0786788690004532,1.03994596000421,0.53614423226965702,1.1428033288133586,0.95137730557875821,0.10911391047641988]
[null,null,null,null,null,null,"grower7",0.74602628317949038,0.54246622319081683,172.14112388451801,null,null,null,381,0.58440269823856184,1.0646137061169436,0.10561682785359819,0.93830891703716712,1.0789593979412242,1.0283728817865845,0.5364872219213177,1.2830003179186285,1.0026659736766537,7.4392577671628005E-2]
[null,null,null,null,null,null,"grower8",1.383886443801519,1.3838796241816786,237.90699720438357,null,null,null,401,0.56608184703469311,1.0646142204916411,0.10490534992680386,0.93831024107760408,1.0790597338700894,1.0235513769144067,0.53889785653519495,1.3460587806421238,1.0337555897633321,4.939518557976811E-2]
[null,null,null,null,null,null,"grower9",1.060974086560172,1.060974086560172,331.15866771791895,null,null,null,421,0.55397130768427583,1.0646144214528208,0.10492430926518451,0.93831080914527576,1.0790956126943685,1.0224980428059567,0.54085006882045916,1.3711212111380078,1.049514400007991,3.2680625049701338E-2]
[null,null,null,null,null,null,"grower10",0.18561892891524245,6.8362471431960932E-3,36.66419114080383,null,null,null,441,0.54664869771102398,1.0646144999663634,0.10536316523399682,0.93831105286933469,1.0791084414701664,1.0227633173530188,0.5418880729322243,1.3801751665645516,1.0566031296856557,2.1716316260659421E-2]
[null,null,null,null,null,null,null,null,null,null,null,null,null,461,0.54248866854727973,1.0646145306408217,0.10601233111132806,0.93831115743678428,1.079113028375893,1.0231486832159133,0.54229688072400672,1.3830802776750557,1.0595194298657029,1.4513946014892511E-2]
[]
[]
[]
[null,null,null,null,null,null,null,"Example of my_value formula, applies to total_model_output"]
[null,null,null,null,null,null,null,"time","value"]
[null,null,null,null,null,null,null,220,{"$f":"my_value(total_model_output,H93,3)","v":0.64942284305999776},"I93=my_value(total_model_output,H93,3)"]
[null,null,null,null,null,null,null,221,0.64234894103414031]
[null,null,null,null,null,null,null,222,0.63524913135644689]
[null,null,null,null,null,null,null,223,0.62812941714541393]
[null,null,null,null,null,null,null,224,0.6209957276741922]
[null,null,null,null,null,null,null,225,0.61385389784274536]
[null,null,null,null,null,null,null,226,0.60670964920270909]
[null,null,null,null,null,null,null,227,0.5995685732620496]
[null,null,null,null,null,null,null,228,0.59243611580959976]
[null,null,null,null,null,null,null,229,0.58531756299562787]
[null,null,null,null,null,null,null,230,0.57821802918085463]
[null,null,null,null,null,null,null,231,0.57114244654217072]
[null,null,null,null,null,null,null,232,0.56409555640125886]
[null,null,null,null,null,null,null,233,0.55708190222268583]

{"sheet":"model","index":2,"n_rows":1024,"n_cols":114,"rows_kept":1024,"cut":false,"hidden":false,"merged":[]}
["model","initial",{"$f":"parameters!C5","v":0},{"$f":"parameters!D5","v":0.05},null,{"$f":"parameters!C13","v":0.25},null,"RW_multiplier",{"$f":"parameters!C51","v":0},null,"MyMax",20,"myRandom",{"$f":"parameters!C51","v":0},"multiplier",null,"matthew","NO","NO"]
[null,"rate",{"$f":"parameters!C6","v":0.05},{"$f":"parameters!D6","v":0.01},null,null,null,"cc_reduction",{"$f":"parameters!C49","v":"NO"},null,"effect type",1,null,null,null,null,"matthewparameter",1E-4]
[null,"connection",{"$f":"parameters!C7","v":0},{"$f":"parameters!D7","v":0.02}]
[null,"carcapNorm",{"$f":"parameters!C8","v":1},{"$f":"parameters!D8","v":0.15},null,null,null,null,null,null,null,null,null,null,null,null,null,null,null,null,null,null,null,null,null,null,null,null,null,null,null,null,null,null,null,null,null,null,null,null,null,null,null,null,null,null,null,null,null,null,null,null,null,null,null,null,null,null,null,null,null,null,null,null,null,null,null,null,null,null,null,null,null,null,null,null,null,null,null,null,null,null,null,null,null,"PLUS FACTOR",0.01]
[null,"carcapEm",{"$f":"parameters!C9","v":0.5},{"$f":"parameters!D9","v":0.25},null,null,null,null,null,null,null,null,null,null,null,null,null,null,null,null,null,null,null,null,null,null,null,null,null,null,null,null,null,null,null,null,null,null,null,null,null,null,null,null,null,null,null,null,null,null,null,null,null,null,null,null,null,null,null,null,null,null,null,null,null,null,null,null,null,null,null,null,null,null,null,null,null,null,null,null,null,null,null,null,null,"MIN FACTOR",-0.01]
[null,"delay",{"$f":"parameters!C10","v":1},{"$f":"parameters!D10","v":350},null,null,null,null,null,null,null,null,null,null,null,null,null,null,null,null,null,null,null,null,null,null,null,null,null,null,null,null,null,null,null,null,null,null,null,null,null,null,null,null,null,null,null,null,null,null,null,null,null,null,null,null,null,null,null,null,null,null,null,null,null,null,30]
[null,"Max",{"$f":"parameters!C11","v":10},{"$f":"parameters!D11","v":25},null,null,null,null,null,null,null,null,null,null,null,null,null,null,null,null,{"$f":"COUNTIF(I10:R19,\"<>0\")","v":29}]
["grower","endlevel","initial","rate","genetic K","effect_type","delay","MyMax","grower1","grower2","grower3","grower4","grower5","grower6","grower7","grower8","grower9","grower10","grower5","grower6","grower7","grower8","grower9","grower10"]
[1,{"$f":"TRANSPOSE(endlevel10)","v":0.53913812201547107},{"$f":"_xll.dRandReal($C$1,$D$1)","v":4.2708443826995788E-3},{"$f":"_xll.dNormalDev($C$2,$D$2)","v":5.1970214588687329E-2},{"$f":"_xll.dNormalDev($C$4,$D$4)","v":0.72370131740151844},{"$f":"IF(RAND()<$L$2,1,0)","v":1},1,{"$f":"_xll.dRandInt($C$7,$D$7)","v":10},0,{"$f":"IF(RAND()<$F$1,_xll.dNormalDev($C$3,$D$3),0)","v":0},{"$f":"IF(RAND()<$F$1,_xll.dNormalDev($C$3,$D$3),0)","v":-2.1935791329674686E-2},{"$f":"IF(RAND()<$F$1,_xll.dNormalDev($C$3,$D$3),0)","v":0},{"$f":"IF(RAND()<$F$1,_xll.dNormalDev($C$3,$D$3),0)","v":0},{"$f":"IF(RAND()<$F$1,_xll.dNormalDev($C$3,$D$3),0)","v":0},{"$f":"IF(RAND()<$F$1,_xll.dNormalDev($C$3,$D$3),0)","v":0},{"$f":"IF(RAND()<$F$1,_xll.dNormalDev($C$3,$D$3),0)","v":8.9620962491570554E-3},{"$f":"IF(RAND()<$F$1,_xll.dNormalDev($C$3,$D$3),0)","v":0},{"$f":"IF(RAND()<$F$1,_xll.dNormalDev($C$3,$D$3),0)","v":0},0,0,0,0,-3.2338836525547554E-3,-2.3855281477309115E-2,"grower5","grower6","grower7","grower8","grower9","grower10",null,null,null,null,null,null,null,null,null,null,null,null,null,null,null,null,null,null,null,null,null,null,null,null,null,null,null,null,null,null,"grower",null,"initial","rate","genetic K","effect_type","delay","MyMax","grower1","grower2","grower3","grower4","grower5","grower6","grower7","grower8","grower9","grower10",null,null,"initial40","rate40","carcap40","effect_type","delay","MyMax","grower1","grower2","grower3","grower4","grower5","grower6","grower7","grower8","grower9","grower10",null,null,"initial","rate","genetic K","effect_type","delay","MyMax","grower1","grower2","grower3","grower4","grower5","grower6","grower7","grower8","grower9","grower10"]
[2,1.0646145470112947,{"$f":"_xll.dRandReal($C$1,$D$1)","v":2.1177562023513022E-2},{"$f":"_xll.dNormalDev($C$2,$D$2)","v":4.9177183387409999E-2},{"$f":"_xll.dNormalDev($C$4,$D$4)","v":1.064614550309307},1,1,{"$f":"_xll.dRandInt($C$7,$D$7)","v":16},{"$f":"IF(RAND()<$F$1,_xll.dNormalDev($C$3,$D$3),0)","v":0},0,{"$f":"IF(RAND()<$F$1,_xll.dNormalDev($C$3,$D$3),0)","v":0},{"$f":"IF(RAND()<$F$1,_xll.dNormalDev($C$3,$D$3),0)","v":0},{"$f":"IF(RAND()<$F$1,_xll.dNormalDev($C$3,$D$3),0)","v":0},{"$f":"IF(RAND()<$F$1,_xll.dNormalDev($C$3,$D$3),0)","v":-1.7974307522677632E-2},{"$f":"IF(RAND()<$F$1,_xll.dNormalDev($C$3,$D$3),0)","v":0},{"$f":"IF(RAND()<$F$1,_xll.dNormalDev($C$3,$D$3),0)","v":0},{"$f":"IF(RAND()<$F$1,_xll.dNormalDev($C$3,$D$3),0)","v":0},{"$f":"IF(RAND()<$F$1,_xll.dNormalDev($C$3,$D$3),0)","v":-3.4552380328700116E-2},0,0,9.2657527007297853E-3,0,0,-6.655736523784911E-3,{"$f":"IF(M$21=MAX(maxlevel10),M10,\"\")","v":""},{"$f":"IF(N$21=MAX(maxlevel10),N10,\"\")","v":""},{"$f":"IF(O$21=MAX(maxlevel10),O10,\"\")","v":""},{"$f":"IF(P$21=MAX(maxlevel10),P10,\"\")","v":0},{"$f":"IF(Q$21=MAX(maxlevel10),Q10,\"\")","v":""},{"$f":"IF(R$21=MAX(maxlevel10),R10,\"\")","v":""},{"$f":"TRANSPOSE(totalsumlist)","v":234.66564326808515},{"$f":"SUM(U10:AD10)","v":2.6100161769448743E-3},{"$f":"AE10*AF10","v":0.61248112510287722},null,null,null,null,null,null,null,null,null,null,null,null,null,null,null,null,null,null,null,null,null,null,null,null,null,null,null,1,null,{"$f":"_xll.dRandReal($C$1,$D$1)","v":6.5438796533271674E-3},{"$f":"_xll.dNormalDev($C$2,$D$2)","v":5.7498795191112874E-2},{"$f":"_xll.dNormalDev($C$4,$D$4)","v":1.4596018322960496},{"$f":"IF(RAND()<$L$2,1,0)","v":1},1,{"$f":"_xll.dRandInt($C$7,$D$7)","v":18},0,{"$f":"IF(RAND()<$F$1,_xll.dNormalDev($C$3,$D$3),0)","v":0},{"$f":"IF(RAND()<$F$1,_xll.dNormalDev($C$3,$D$3),0)","v":1.756737889466525E-2},{"$f":"IF(RAND()<$F$1,_xll.dNormalDev($C$3,$D$3),0)","v":0},{"$f":"IF(RAND()<$F$1,_xll.dNormalDev($C$3,$D$3),0)","v":8.188911564141298E-3},{"$f":"IF(RAND()<$F$1,_xll.dNormalDev($C$3,$D$3),0)","v":-1.9090582243853047E-2},{"$f":"IF(RAND()<$F$1,_xll.dNormalDev($C$3,$D$3),0)","v":0},{"$f":"IF(RAND()<$F$1,_xll.dNormalDev($C$3,$D$3),0)","v":0},{"$f":"IF(RAND()<$F$1,_xll.dNormalDev($C$3,$D$3),0)","v":0},{"$f":"IF(RAND()<$F$1,_xll.dNormalDev($C$3,$D$3),0)","v":-2.3322673914331894E-2},null,null,{"$f":"_xll.dRandReal($C$1,$D$1)","v":4.0307252097409221E-2},{"$f":"_xll.dNormalDev($C$2,$D$2)","v":3.2055731334099155E-2},{"$f":"_xll.dNormalDev($C$4,$D$4)","v":1.0831979514831305},{"$f":"IF(RAND()<$L$2,1,0)","v":1},1,{"$f":"_xll.dRandInt($C$7,$D$7)","v":22},{"$f":"IF(RAND()<$F$1,_xll.dNormalDev($C$3+PLUS_FACTOR,$D$3),0)","v":0},{"$f":"IF(RAND()<$F$1,_xll.dNormalDev($C$3+PLUS_FACTOR,$D$3),0)","v":-2.2244138318275541E-2},{"$f":"IF(RAND()<$F$1,_xll.dNormalDev($C$3+PLUS_FACTOR,$D$3),0)","v":0},{"$f":"IF(RAND()<$F$1,_xll.dNormalDev($C$3+PLUS_FACTOR,$D$3),0)","v":0},{"$f":"IF(RAND()<$F$1,_xll.dNormalDev($C$3+PLUS_FACTOR,$D$3),0)","v":0},{"$f":"IF(RAND()<$F$1,_xll.dNormalDev($C$3+MIN_FACTOR,$D$3),0)","v":0},{"$f":"IF(RAND()<$F$1,_xll.dNormalDev($C$3+MIN_FACTOR,$D$3),0)","v":0},{"$f":"IF(RAND()<$F$1,_xll.dNormalDev($C$3+MIN_FACTOR,$D$3),0)","v":0},{"$f":"IF(RAND()<$F$1,_xll.dNormalDev($C$3+MIN_FACTOR,$D$3),0)","v":0},{"$f":"IF(RAND()<$F$1,_xll.dNormalDev($C$3+MIN_FACTOR,$D$3),0)","v":0},null,null,{"$f":"_xll.dRandReal($C$1,$D$1)","v":1.6202030004933477E-3},{"$f":"_xll.dNormalDev($C$2,$D$2)","v":4.2890682570852628E-2},{"$f":"_xll.dNormalDev($C$4,$D$4)","v":0.88245980125773527},{"$f":"IF(RAND()<$L$2,1,0)","v":1},1,{"$f":"_xll.dRandInt($C$7,$D$7)","v":10},0,{"$f":"IF(RAND()<$F$1,_xll.dNormalDev($C$3,$D$3),0)","v":0},{"$f":"IF(RAND()<$F$1,_xll.dNormalDev($C$3,$D$3),0)","v":0},{"$f":"IF(RAND()<$F$1,_xll.dNormalDev($C$3,$D$3),0)","v":1.0527532348533947E-2},{"$f":"IF(RAND()<$F$1,_xll.dNormalDev($C$3,$D$3),0)","v":0},{"$f":"IF(RAND()<$F$1,_xll.dNormalDev($C$3,$D$3),0)","v":0},{"$f":"IF(RAND()<$F$1,_xll.dNormalDev($C$3,$D$3),0)","v":0},{"$f":"IF(RAND()<$F$1,_xll.dNormalDev($C$3,$D$3),0)","v":0},{"$f":"IF(RAND()<$F$1,_xll.dNormalDev($C$3,$D$3),0)","v":0},{"$f":"IF(RAND()<$F$1,_xll.dNormalDev($C$3,$D$3),0)","v":0}]
[3,0.10741299612394438,{"$f":"_xll.dRandReal($C$1,$D$1)","v":3.3307219028938566E-2},{"$f":"_xll.dNormalDev($C$2,$D$2)","v":5.3901756467711746E-2},{"$f":"_xll.dNormalDev($C$4,$D$4)","v":1.158190880086998},1,1,{"$f":"_xll.dRandInt($C$7,$D$7)","v":20},{"$f":"IF(RAND()<$F$1,_xll.dNormalDev($C$3,$D$3),0)","v":0},{"$f":"IF(RAND()<$F$1,_xll.dNormalDev($C$3,$D$3),0)","v":0},0,{"$f":"IF(K12<>0,(correlation_F_and_T*K12+SQRT(1-correlation_F_and_T^2)*_xll.dNormalDev($C$3,$D$3)),0)","v":0},{"$f":"IF(RAND()<$F$1,_xll.dNormalDev($C$3,$D$3),0)","v":0},{"$f":"IF(RAND()<$F$1,_xll.dNormalDev($C$3,$D$3),0)","v":-1.5216102756224668E-2},{"$f":"IF(RAND()<$F$1,_xll.dNormalDev($C$3,$D$3),0)","v":0},{"$f":"IF(RAND()<$F$1,_xll.dNormalDev($C$3,$D$3),0)","v":0},{"$f":"IF(RAND()<$F$1,_xll.dNormalDev($C$3,$D$3),0)","v":0},{"$f":"IF(RAND()<$F$1,_xll.dNormalDev($C$3,$D$3),0)","v":-4.6994083873248555E-4},-7.5161840536796054E-3,-3.8287840609597994E-2,0,0,0,0,"","","",0,"","",443.43219214927331,0,0,null,null,null,null,null,null,null,null,null,null,null,null,null,null,null,null,null,null,null,null,null,null,null,null,null,null,null,2,null,{"$f":"_xll.dRandReal($C$1,$D$1)","v":3.9472018601372838E-2},{"$f":"_xll.dNormalDev($C$2,$D$2)","v":4.2561070866036402E-2},{"$f":"_xll.dNormalDev($C$4,$D$4)","v":1.0319695108325999},1,1,{"$f":"_xll.dRandInt($C$7,$D$7)","v":11},{"$f":"IF(RAND()<$F$1,_xll.dNormalDev($C$3,$D$3),0)","v":0},0,{"$f":"IF(RAND()<$F$1,_xll.dNormalDev($C$3,$D$3),0)","v":0},{"$f":"IF(RAND()<$F$1,_xll.dNormalDev($C$3,$D$3),0)","v":0},{"$f":"IF(RAND()<$F$1,_xll.dNormalDev($C$3,$D$3),0)","v":-2.9881337666841614E-2},{"$f":"IF(RAND()<$F$1,_xll.dNormalDev($C$3,$D$3),0)","v":0},{"$f":"IF(RAND()<$F$1,_xll.dNormalDev($C$3,$D$3),0)","v":0},{"$f":"IF(RAND()<$F$1,_xll.dNormalDev($C$3,$D$3),0)","v":0},{"$f":"IF(RAND()<$F$1,_xll.dNormalDev($C$3,$D$3),0)","v":0},{"$f":"IF(RAND()<$F$1,_xll.dNormalDev($C$3,$D$3),0)","v":0},null,null,{"$f":"_xll.dRandReal($C$1,$D$1)","v":4.2622881452552976E-2},{"$f":"_xll.dNormalDev($C$2,$D$2)","v":5.0185302207762149E-2},{"$f":"_xll.dNormalDev($C$4,$D$4)","v":0.93084106059741212},1,1,{"$f":"_xll.dRandInt($C$7,$D$7)","v":11},{"$f":"IF(RAND()<$F$1,_xll.dNormalDev($C$3+PLUS_FACTOR,$D$3),0)","v":0},{"$f":"IF(RAND()<$F$1,_xll.dNormalDev($C$3+PLUS_FACTOR,$D$3),0)","v":0},{"$f":"IF(RAND()<$F$1,_xll.dNormalDev($C$3+PLUS_FACTOR,$D$3),0)","v":0},{"$f":"IF(RAND()<$F$1,_xll.dNormalDev($C$3+PLUS_FACTOR,$D$3),0)","v":0},{"$f":"IF(RAND()<$F$1,_xll.dNormalDev($C$3+PLUS_FACTOR,$D$3),0)","v":0},{"$f":"IF(RAND()<$F$1,_xll.dNormalDev($C$3+MIN_FACTOR,$D$3),0)","v":0},{"$f":"IF(RAND()<$F$1,_xll.dNormalDev($C$3+MIN_FACTOR,$D$3),0)","v":0},{"$f":"IF(RAND()<$F$1,_xll.dNormalDev($C$3+MIN_FACTOR,$D$3),0)","v":0},{"$f":"IF(RAND()<$F$1,_xll.dNormalDev($C$3+MIN_FACTOR,$D$3),0)","v":0},{"$f":"IF(RAND()<$F$1,_xll.dNormalDev($C$3+MIN_FACTOR,$D$3),0)","v":0},null,null,{"$f":"_xll.dRandReal($C$1,$D$1)","v":4.2348749097436668E-2},{"$f":"_xll.dNormalDev($C$2,$D$2)","v":3.4061210037650558E-2},{"$f":"_xll.dNormalDev($C$4,$D$4)","v":1.1271384228017465},1,1,{"$f":"_xll.dRandInt($C$7,$D$7)","v":24},{"$f":"IF(RAND()<$F$1,_xll.dNormalDev($C$3,$D$3),0)","v":0},0,{"$f":"IF(RAND()<$F$1,_xll.dNormalDev($C$3,$D$3),0)","v":0},{"$f":"IF(RAND()<$F$1,_xll.dNormalDev($C$3,$D$3),0)","v":0},{"$f":"IF(RAND()<$F$1,_xll.dNormalDev($C$3,$D$3),0)","v":0},{"$f":"IF(RAND()<$F$1,_xll.dNormalDev($C$3,$D$3),0)","v":0},{"$f":"IF(RAND()<$F$1,_xll.dNormalDev($C$3,$D$3),0)","v":0},{"$f":"IF(RAND()<$F$1,_xll.dNormalDev($C$3,$D$3),0)","v":0},{"$f":"IF(RAND()<$F$1,_xll.dNormalDev($C$3,$D$3),0)","v":0},{"$f":"IF(RAND()<$F$1,_xll.dNormalDev($C$3,$D$3),0)","v":0}]
[4,0.93831122027151548,{"$f":"_xll.dRandReal($C$1,$D$1)","v":3.7713279796298599E-2},{"$f":"_xll.dNormalDev($C$2,$D$2)","v":4.3273277334923511E-2},{"$f":"_xll.dNormalDev($C$4,$D$4)","v":0.93831123601261768},1,1,{"$f":"_xll.dRandInt($C$7,$D$7)","v":22},{"$f":"IF(RAND()<$F$1,_xll.dNormalDev($C$3,$D$3),0)","v":0},{"$f":"IF(RAND()<$F$1,_xll.dNormalDev($C$3,$D$3),0)","v":0},{"$f":"IF(RAND()<$F$1,_xll.dNormalDev($C$3,$D$3),0)","v":0},0,{"$f":"IF(RAND()<$F$1,_xll.dNormalDev($C$3,$D$3),0)","v":0},{"$f":"IF(RAND()<$F$1,_xll.dNormalDev($C$3,$D$3),0)","v":-3.6588928952087248E-3},{"$f":"IF(RAND()<$F$1,_xll.dNormalDev($C$3,$D$3),0)","v":1.4430823652706625E-2},{"$f":"IF(RAND()<$F$1,_xll.dNormalDev($C$3,$D$3),0)","v":0},{"$f":"IF(RAND()<$F$1,_xll.dNormalDev($C$3,$D$3),0)","v":-9.7116468415020078E-3},{"$f":"IF(RAND()<$F$1,_xll.dNormalDev($C$3,$D$3),0)","v":6.5355662511062933E-3},-2.429855242869956E-2,0,0,0,-1.514843054415586E-2,0,"","","",0,"","",194.61622970290912,-1.514843054415586E-2,-2.9481304384200016,null,null,null,null,null,null,null,null,null,null,null,null,null,null,null,null,null,null,null,null,null,null,null,null,null,null,null,3,null,{"$f":"_xll.dRandReal($C$1,$D$1)","v":2.7397741808090362E-2},{"$f":"_xll.dNormalDev($C$2,$D$2)","v":5.5244138030061625E-2},{"$f":"_xll.dNormalDev($C$4,$D$4)","v":1.0228283333499371},1,1,{"$f":"_xll.dRandInt($C$7,$D$7)","v":25},{"$f":"IF(RAND()<$F$1,_xll.dNormalDev($C$3,$D$3),0)","v":0},{"$f":"IF(RAND()<$F$1,_xll.dNormalDev($C$3,$D$3),0)","v":0},0,{"$f":"IF(RAND()<$F$1,_xll.dNormalDev($C$3,$D$3),0)","v":0},{"$f":"IF(RAND()<$F$1,_xll.dNormalDev($C$3,$D$3),0)","v":0},{"$f":"IF(RAND()<$F$1,_xll.dNormalDev($C$3,$D$3),0)","v":0},{"$f":"IF(RAND()<$F$1,_xll.dNormalDev($C$3,$D$3),0)","v":0},{"$f":"IF(RAND()<$F$1,_xll.dNormalDev($C$3,$D$3),0)","v":0},{"$f":"IF(RAND()<$F$1,_xll.dNormalDev($C$3,$D$3),0)","v":-2.8958033684837861E-2},{"$f":"IF(RAND()<$F$1,_xll.dNormalDev($C$3,$D$3),0)","v":0},null,null,{"$f":"_xll.dRandReal($C$1,$D$1)","v":2.3253963235765698E-2},{"$f":"_xll.dNormalDev($C$2,$D$2)","v":4.3376519915771482E-2},{"$f":"_xll.dNormalDev($C$4,$D$4)","v":1.1842919080152978},1,{"$f":"_xll.dRandInt($C$6,CA12*$BO$6)","v":1},{"$f":"_xll.dRandInt($C$7,$D$7)","v":17},{"$f":"IF(RAND()<$F$1,_xll.dNormalDev($C$3+PLUS_FACTOR,$D$3),0)","v":0},{"$f":"IF(RAND()<$F$1,_xll.dNormalDev($C$3+PLUS_FACTOR,$D$3),0)","v":0},{"$f":"IF(RAND()<$F$1,_xll.dNormalDev($C$3+PLUS_FACTOR,$D$3),0)","v":0},{"$f":"IF(RAND()<$F$1,_xll.dNormalDev($C$3+PLUS_FACTOR,$D$3),0)","v":0},{"$f":"IF(RAND()<$F$1,_xll.dNormalDev($C$3+PLUS_FACTOR,$D$3),0)","v":0},{"$f":"IF(RAND()<$F$1,_xll.dNormalDev($C$3+MIN_FACTOR,$D$3),0)","v":0},{"$f":"IF(RAND()<$F$1,_xll.dNormalDev($C$3+MIN_FACTOR,$D$3),0)","v":0},{"$f":"IF(RAND()<$F$1,_xll.dNormalDev($C$3+MIN_FACTOR,$D$3),0)","v":0},{"$f":"IF(RAND()<$F$1,_xll.dNormalDev($C$3+MIN_FACTOR,$D$3),0)","v":0},{"$f":"IF(RAND()<$F$1,_xll.dNormalDev($C$3+MIN_FACTOR,$D$3),0)","v":0},null,null,{"$f":"_xll.dRandReal($C$1,$D$1)","v":2.5328832049854103E-2},{"$f":"_xll.dNormalDev($C$2,$D$2)","v":5.7751210444160539E-2},{"$f":"_xll.dNormalDev($C$4,$D$4)","v":0.86369867497958874},1,1,{"$f":"_xll.dRandInt($C$7,$D$7)","v":22},{"$f":"IF(RAND()<$F$1,_xll.dNormalDev($C$3,$D$3),0)","v":0},{"$f":"IF(RAND()<$F$1,_xll.dNormalDev($C$3,$D$3),0)","v":0},0,{"$f":"IF(DC13<>0,(correlation_F_and_T*DC13+SQRT(1-correlation_F_and_T^2)*_xll.dNormalDev($C$3,$D$3)),0)","v":0},{"$f":"IF(RAND()<$F$1,_xll.dNormalDev($C$3,$D$3),0)","v":0},{"$f":"IF(RAND()<$F$1,_xll.dNormalDev($C$3,$D$3),0)","v":0},{"$f":"IF(RAND()<$F$1,_xll.dNormalDev($C$3,$D$3),0)","v":0},{"$f":"IF(RAND()<$F$1,_xll.dNormalDev($C$3,$D$3),0)","v":2.3026285193397986E-2},{"$f":"IF(RAND()<$F$1,_xll.dNormalDev($C$3,$D$3),0)","v":0},{"$f":"IF(RAND()<$F$1,_xll.dNormalDev($C$3,$D$3),0)","v":0}]
[5,1.0791152194280256,{"$f":"_xll.dRandReal($C$1,$D$1)","v":2.1303850726690145E-2},{"$f":"_xll.dNormalDev($C$2,$D$2)","v":5.332185073767038E-2},{"$f":"_xll.dNormalDev($C$4,$D$4)","v":1.0791155811121325},1,{"$f":"_xll.dRandInt($C$6,A13*$BO$6)","v":134},{"$f":"_xll.dRandInt($C$7,$D$7)","v":18},{"$f":"IF(RAND()<$F$1,_xll.dNormalDev($C$3,$D$3),0)","v":0},{"$f":"IF(RAND()<$F$1,_xll.dNormalDev($C$3,$D$3),0)","v":0},{"$f":"IF(RAND()<$F$1,_xll.dNormalDev($C$3,$D$3),0)","v":-3.4039318946252776E-2},{"$f":"IF(RAND()<$F$1,_xll.dNormalDev($C$3,$D$3),0)","v":0},0,{"$f":"IF(RAND()<$F$1,_xll.dNormalDev($C$3,$D$3),0)","v":0},{"$f":"IF(RAND()<$F$1,_xll.dNormalDev($C$3,$D$3),0)","v":1.2645970135554851E-2},{"$f":"IF(RAND()<$F$1,_xll.dNormalDev($C$3,$D$3),0)","v":0},{"$f":"IF(RAND()<$F$1,_xll.dNormalDev($C$3,$D$3),0)","v":0},{"$f":"IF(RAND()<$F$1,_xll.dNormalDev($C$3,$D$3),0)","v":8.5547068800534663E-3},0,0,0,0,-2.092272245218588E-2,0,"","","",0,"","",396.57056007306267,-2.092272245218588E-2,-8.2973357611165977,null,null,null,null,null,null,null,null,null,null,null,null,null,null,null,null,null,null,null,null,null,null,null,null,null,null,null,4,null,{"$f":"_xll.dRandReal($C$1,$D$1)","v":5.9204720659181481E-3},{"$f":"_xll.dNormalDev($C$2,$D$2)","v":4.482722970209084E-2},{"$f":"_xll.dNormalDev($C$4,$D$4)","v":0.8585804582461487},1,1,{"$f":"_xll.dRandInt($C$7,$D$7)","v":10},{"$f":"IF(RAND()<$F$1,_xll.dNormalDev($C$3,$D$3),0)","v":0},{"$f":"IF(RAND()<$F$1,_xll.dNormalDev($C$3,$D$3),0)","v":0},{"$f":"IF(RAND()<$F$1,_xll.dNormalDev($C$3,$D$3),0)","v":0},0,{"$f":"IF(RAND()<$F$1,_xll.dNormalDev($C$3,$D$3),0)","v":-1.0024766351202257E-2},{"$f":"IF(RAND()<$F$1,_xll.dNormalDev($C$3,$D$3),0)","v":0},{"$f":"IF(RAND()<$F$1,_xll.dNormalDev($C$3,$D$3),0)","v":-6.6073808139312839E-3},{"$f":"IF(RAND()<$F$1,_xll.dNormalDev($C$3,$D$3),0)","v":0},{"$f":"IF(RAND()<$F$1,_xll.dNormalDev($C$3,$D$3),0)","v":0},{"$f":"IF(RAND()<$F$1,_xll.dNormalDev($C$3,$D$3),0)","v":1.2993322698423751E-2},null,null,{"$f":"_xll.dRandReal($C$1,$D$1)","v":3.0998644093051555E-2},{"$f":"_xll.dNormalDev($C$2,$D$2)","v":3.2360897611053735E-2},{"$f":"_xll.dNormalDev($C$4,$D$4)","v":0.88002818172310016},1,{"$f":"_xll.dRandInt($C$6,CA13*$BO$6)","v":1},{"$f":"_xll.dRandInt($C$7,$D$7)","v":24},{"$f":"IF(RAND()<$F$1,_xll.dNormalDev($C$3+PLUS_FACTOR,$D$3),0)","v":0},{"$f":"IF(RAND()<$F$1,_xll.dNormalDev($C$3+PLUS_FACTOR,$D$3),0)","v":-5.5110632806496321E-4},{"$f":"IF(RAND()<$F$1,_xll.dNormalDev($C$3+PLUS_FACTOR,$D$3),0)","v":0},{"$f":"IF(RAND()<$F$1,_xll.dNormalDev($C$3+PLUS_FACTOR,$D$3),0)","v":0},{"$f":"IF(RAND()<$F$1,_xll.dNormalDev($C$3+PLUS_FACTOR,$D$3),0)","v":0},{"$f":"IF(RAND()<$F$1,_xll.dNormalDev($C$3+MIN_FACTOR,$D$3),0)","v":0},{"$f":"IF(RAND()<$F$1,_xll.dNormalDev($C$3+MIN_FACTOR,$D$3),0)","v":0},{"$f":"IF(RAND()<$F$1,_xll.dNormalDev($C$3+MIN_FACTOR,$D$3),0)","v":0},{"$f":"IF(RAND()<$F$1,_xll.dNormalDev($C$3+MIN_FACTOR,$D$3),0)","v":-2.8349377665174771E-2},{"$f":"IF(RAND()<$F$1,_xll.dNormalDev($C$3+MIN_FACTOR,$D$3),0)","v":-2.5788776214371589E-2},null,null,{"$f":"_xll.dRandReal($C$1,$D$1)","v":4.6801715972833334E-3},{"$f":"_xll.dNormalDev($C$2,$D$2)","v":5.1629975649048969E-2},{"$f":"_xll.dNormalDev($C$4,$D$4)","v":0.98864952882986412},1,1,{"$f":"_xll.dRandInt($C$7,$D$7)","v":20},{"$f":"IF(RAND()<$F$1,_xll.dNormalDev($C$3,$D$3),0)","v":0},{"$f":"IF(RAND()<$F$1,_xll.dNormalDev($C$3,$D$3),0)","v":0},{"$f":"IF(RAND()<$F$1,_xll.dNormalDev($C$3,$D$3),0)","v":0},0,{"$f":"IF(RAND()<$F$1,_xll.dNormalDev($C$3,$D$3),0)","v":0},{"$f":"IF(RAND()<$F$1,_xll.dNormalDev($C$3,$D$3),0)","v":0},{"$f":"IF(RAND()<$F$1,_xll.dNormalDev($C$3,$D$3),0)","v":0},{"$f":"IF(RAND()<$F$1,_xll.dNormalDev($C$3,$D$3),0)","v":-6.7908241825712992E-3},{"$f":"IF(RAND()<$F$1,_xll.dNormalDev($C$3,$D$3),0)","v":0},{"$f":"IF(RAND()<$F$1,_xll.dNormalDev($C$3,$D$3),0)","v":1.2362094665811353E-2}]
[6,1.0232864673323512,{"$f":"_xll.dRandReal($C$1,$D$1)","v":2.5294713350012901E-2},{"$f":"_xll.dNormalDev($C$2,$D$2)","v":4.0203326715233731E-2},{"$f":"_xll.dNormalDev($C$4,$D$4)","v":0.98380468910233498},1,{"$f":"_xll.dRandInt($C$6,A14*$BO$6)","v":13},{"$f":"_xll.dRandInt($C$7,$D$7)","v":21},{"$f":"IF(RAND()<$F$1,_xll.dNormalDev($C$3,$D$3),0)","v":0},{"$f":"IF(RAND()<$F$1,_xll.dNormalDev($C$3,$D$3),0)","v":0},{"$f":"IF(RAND()<$F$1,_xll.dNormalDev($C$3,$D$3),0)","v":0},{"$f":"IF(RAND()<$F$1,_xll.dNormalDev($C$3,$D$3),0)","v":0},{"$f":"IF(RAND()<$F$1,_xll.dNormalDev($C$3,$D$3),0)","v":0},0,{"$f":"IF(RAND()<$F$1,_xll.dNormalDev($C$3,$D$3),0)","v":-3.7414000301663024E-2},{"$f":"IF(RAND()<$F$1,_xll.dNormalDev($C$3,$D$3),0)","v":0},{"$f":"IF(RAND()<$F$1,_xll.dNormalDev($C$3,$D$3),0)","v":0},{"$f":"IF(RAND()<$F$1,_xll.dNormalDev($C$3,$D$3),0)","v":0},0,-5.0423442943088856E-2,0,2.1097246753026901E-2,-1.7227318737590716E-2,-4.0109819164461533E-2,"","","",0,"","",315.5607365076234,-3.6239891149025344E-2,-11.435886741942539,null,null,null,null,null,null,null,null,null,null,null,null,null,null,null,null,null,null,null,null,null,null,null,null,null,null,null,5,null,{"$f":"_xll.dRandReal($C$1,$D$1)","v":1.610897296341136E-2},{"$f":"_xll.dNormalDev($C$2,$D$2)","v":5.1250375283088942E-2},{"$f":"_xll.dNormalDev($C$4,$D$4)","v":0.96791740736023146},1,{"$f":"_xll.dRandInt($C$6,BI14*$BO$6)","v":134},{"$f":"_xll.dRandInt($C$7,$D$7)","v":10},{"$f":"IF(RAND()<$F$1,_xll.dNormalDev($C$3,$D$3),0)","v":0},{"$f":"IF(RAND()<$F$1,_xll.dNormalDev($C$3,$D$3),0)","v":0},{"$f":"IF(RAND()<$F$1,_xll.dNormalDev($C$3,$D$3),0)","v":0},{"$f":"IF(RAND()<$F$1,_xll.dNormalDev($C$3,$D$3),0)","v":0},0,{"$f":"IF(RAND()<$F$1,_xll.dNormalDev($C$3,$D$3),0)","v":0},{"$f":"IF(RAND()<$F$1,_xll.dNormalDev($C$3,$D$3),0)","v":0},{"$f":"IF(RAND()<$F$1,_xll.dNormalDev($C$3,$D$3),0)","v":0},{"$f":"IF(RAND()<$F$1,_xll.dNormalDev($C$3,$D$3),0)","v":0},{"$f":"IF(RAND()<$F$1,_xll.dNormalDev($C$3,$D$3),0)","v":0},null,null,{"$f":"_xll.dRandReal($C$1,$D$1)","v":2.6807507616467774E-2},{"$f":"_xll.dNormalDev($C$2,$D$2)","v":4.1522703249027945E-2},{"$f":"_xll.dNormalDev($C$4,$D$4)","v":0.83037196145981484},1,{"$f":"_xll.dRandInt($C$6,CA14*$BO$6)","v":1},{"$f":"_xll.dRandInt($C$7,$D$7)","v":18},{"$f":"IF(RAND()<$F$1,_xll.dNormalDev($C$3+PLUS_FACTOR,$D$3),0)","v":0},{"$f":"IF(RAND()<$F$1,_xll.dNormalDev($C$3+PLUS_FACTOR,$D$3),0)","v":2.2579821092979123E-3},{"$f":"IF(RAND()<$F$1,_xll.dNormalDev($C$3+PLUS_FACTOR,$D$3),0)","v":0},{"$f":"IF(RAND()<$F$1,_xll.dNormalDev($C$3+PLUS_FACTOR,$D$3),0)","v":0},{"$f":"IF(RAND()<$F$1,_xll.dNormalDev($C$3+PLUS_FACTOR,$D$3),0)","v":0},{"$f":"IF(RAND()<$F$1,_xll.dNormalDev($C$3+MIN_FACTOR,$D$3),0)","v":0},{"$f":"IF(RAND()<$F$1,_xll.dNormalDev($C$3+MIN_FACTOR,$D$3),0)","v":-1.3784630902196565E-2},{"$f":"IF(RAND()<$F$1,_xll.dNormalDev($C$3+MIN_FACTOR,$D$3),0)","v":0},{"$f":"IF(RAND()<$F$1,_xll.dNormalDev($C$3+MIN_FACTOR,$D$3),0)","v":0},{"$f":"IF(RAND()<$F$1,_xll.dNormalDev($C$3+MIN_FACTOR,$D$3),0)","v":-3.7484108735307432E-3},null,null,{"$f":"_xll.dRandReal($C$1,$D$1)","v":2.001025100471452E-2},{"$f":"_xll.dNormalDev($C$2,$D$2)","v":4.6201160011639764E-2},{"$f":"_xll.dNormalDev($C$4,$D$4)","v":1.0817744526972233},1,{"$f":"_xll.dRandInt($C$6,CS14*$BO$6)","v":1},{"$f":"_xll.dRandInt($C$7,$D$7)","v":23},{"$f":"IF(RAND()<$F$1,_xll.dNormalDev($C$3,$D$3),0)","v":0},{"$f":"IF(RAND()<$F$1,_xll.dNormalDev($C$3,$D$3),0)","v":-1.3622355039344945E-2},{"$f":"IF(RAND()<$F$1,_xll.dNormalDev($C$3,$D$3),0)","v":0},{"$f":"IF(RAND()<$F$1,_xll.dNormalDev($C$3,$D$3),0)","v":0},0,{"$f":"IF(RAND()<$F$1,_xll.dNormalDev($C$3,$D$3),0)","v":0},{"$f":"IF(RAND()<$F$1,_xll.dNormalDev($C$3,$D$3),0)","v":0},{"$f":"IF(RAND()<$F$1,_xll.dNormalDev($C$3,$D$3),0)","v":0},{"$f":"IF(RAND()<$F$1,_xll.dNormalDev($C$3,$D$3),0)","v":0},{"$f":"IF(RAND()<$F$1,_xll.dNormalDev($C$3,$D$3),0)","v":7.0608883996512205E-3}]
[7,0.54246622319081683,{"$f":"_xll.dRandReal($C$1,$D$1)","v":7.8630453674122698E-3},{"$f":"_xll.dNormalDev($C$2,$D$2)","v":4.6523378041066141E-2},{"$f":"_xll.dNormalDev($C$4,$D$4)","v":0.71249601294344345},1,{"$f":"_xll.dRandInt($C$6,A15*$BO$6)","v":137},{"$f":"_xll.dRandInt($C$7,$D$7)","v":16},{"$f":"IF(RAND()<$F$1,_xll.dNormalDev($C$3,$D$3),0)","v":2.7393157995969419E-2},{"$f":"IF(RAND()<$F$1,_xll.dNormalDev($C$3,$D$3),0)","v":0},{"$f":"IF(RAND()<$F$1,_xll.dNormalDev($C$3,$D$3),0)","v":0},{"$f":"IF(RAND()<$F$1,_xll.dNormalDev($C$3,$D$3),0)","v":0},{"$f":"IF(RAND()<$F$1,_xll.dNormalDev($C$3,$D$3),0)","v":0},{"$f":"IF(RAND()<$F$1,_xll.dNormalDev($C$3,$D$3),0)","v":5.0006258692694948E-2},0,{"$f":"IF(RAND()<$F$1,_xll.dNormalDev($C$3,$D$3),0)","v":0},{"$f":"IF(RAND()<$F$1,_xll.dNormalDev($C$3,$D$3),0)","v":0},{"$f":"IF(RAND()<$F$1,_xll.dNormalDev($C$3,$D$3),0)","v":-9.8131726873315981E-3},0,0,0,-9.1289513207373097E-3,0,0,"","","",0,"","",288.95540480576966,-9.1289513207373097E-3,-2.6378598243358149,null,null,null,null,null,null,null,null,null,null,null,null,null,null,null,null,null,null,null,null,null,null,null,null,null,null,null,6,null,{"$f":"_xll.dRandReal($C$1,$D$1)","v":2.8348681854549796E-2},{"$f":"_xll.dNormalDev($C$2,$D$2)","v":5.5945134128294008E-2},{"$f":"_xll.dNormalDev($C$4,$D$4)","v":0.95358035095920635},1,{"$f":"_xll.dRandInt($C$6,BI15*$BO$6)","v":170},{"$f":"_xll.dRandInt($C$7,$D$7)","v":13},{"$f":"IF(RAND()<$F$1,_xll.dNormalDev($C$3,$D$3),0)","v":0},{"$f":"IF(RAND()<$F$1,_xll.dNormalDev($C$3,$D$3),0)","v":0},{"$f":"IF(RAND()<$F$1,_xll.dNormalDev($C$3,$D$3),0)","v":8.6985013481549207E-3},{"$f":"IF(RAND()<$F$1,_xll.dNormalDev($C$3,$D$3),0)","v":0},{"$f":"IF(RAND()<$F$1,_xll.dNormalDev($C$3,$D$3),0)","v":0},0,{"$f":"IF(RAND()<$F$1,_xll.dNormalDev($C$3,$D$3),0)","v":0},{"$f":"IF(RAND()<$F$1,_xll.dNormalDev($C$3,$D$3),0)","v":0},{"$f":"IF(RAND()<$F$1,_xll.dNormalDev($C$3,$D$3),0)","v":0},{"$f":"IF(RAND()<$F$1,_xll.dNormalDev($C$3,$D$3),0)","v":0},null,null,{"$f":"_xll.dRandReal($C$1,$D$1)","v":3.9186185249127453E-2},{"$f":"_xll.dNormalDev($C$2,$D$2)","v":5.8639071840349249E-2},{"$f":"_xll.dNormalDev($C$4,$D$4)","v":1.1630562237215851},1,{"$f":"_xll.dRandInt($C$6,CA15*$BO$6)","v":1},{"$f":"_xll.dRandInt($C$7,$D$7)","v":24},{"$f":"IF(RAND()<$F$1,_xll.dNormalDev($C$3+MIN_FACTOR,$D$3),0)","v":0},{"$f":"IF(RAND()<$F$1,_xll.dNormalDev($C$3+MIN_FACTOR,$D$3),0)","v":-8.6248406900624481E-3},{"$f":"IF(RAND()<$F$1,_xll.dNormalDev($C$3+MIN_FACTOR,$D$3),0)","v":-2.3107206274472193E-2},{"$f":"IF(RAND()<$F$1,_xll.dNormalDev($C$3+MIN_FACTOR,$D$3),0)","v":0},{"$f":"IF(RAND()<$F$1,_xll.dNormalDev($C$3+MIN_FACTOR,$D$3),0)","v":0},{"$f":"IF(RAND()<$F$1,_xll.dNormalDev($C$3+PLUS_FACTOR,$D$3),0)","v":0},{"$f":"IF(RAND()<$F$1,_xll.dNormalDev($C$3+PLUS_FACTOR,$D$3),0)","v":0},{"$f":"IF(RAND()<$F$1,_xll.dNormalDev($C$3+PLUS_FACTOR,$D$3),0)","v":0},{"$f":"IF(RAND()<$F$1,_xll.dNormalDev($C$3+PLUS_FACTOR,$D$3),0)","v":0},{"$f":"IF(RAND()<$F$1,_xll.dNormalDev($C$3+PLUS_FACTOR,$D$3),0)","v":0},null,null,{"$f":"_xll.dRandReal($C$1,$D$1)","v":3.0602196580730382E-3},{"$f":"_xll.dNormalDev($C$2,$D$2)","v":5.1219509890796204E-2},{"$f":"_xll.dNormalDev($C$4,$D$4)","v":1.1414688574527325},1,{"$f":"_xll.dRandInt($C$6,CS15*$BO$6)","v":1},{"$f":"_xll.dRandInt($C$7,$D$7)","v":24},{"$f":"IF(RAND()<$F$1,_xll.dNormalDev($C$3,$D$3),0)","v":0},{"$f":"IF(RAND()<$F$1,_xll.dNormalDev($C$3,$D$3),0)","v":0},{"$f":"IF(RAND()<$F$1,_xll.dNormalDev($C$3,$D$3),0)","v":0},{"$f":"IF(RAND()<$F$1,_xll.dNormalDev($C$3,$D$3),0)","v":0},{"$f":"IF(RAND()<$F$1,_xll.dNormalDev($C$3,$D$3),0)","v":-1.7690762603403361E-2},0,{"$f":"IF(RAND()<$F$1,_xll.dNormalDev($C$3,$D$3),0)","v":0},{"$f":"IF(RAND()<$F$1,_xll.dNormalDev($C$3,$D$3),0)","v":0},{"$f":"IF(RAND()<$F$1,_xll.dNormalDev($C$3,$D$3),0)","v":0},{"$f":"IF(RAND()<$F$1,_xll.dNormalDev($C$3,$D$3),0)","v":1.4784177391163434E-2}]
[8,1.3838796241816786,{"$f":"_xll.dRandReal($C$1,$D$1)","v":7.9670280567370362E-3},{"$f":"_xll.dNormalDev($C$2,$D$2)","v":4.4174574311350731E-2},{"$f":"_xll.dNormalDev($C$4,$D$4)","v":1.2473796869128773},1,{"$f":"_xll.dRandInt($C$6,A16*$BO$6)","v":223},{"$f":"_xll.dRandInt($C$7,$D$7)","v":13},{"$f":"IF(RAND()<$F$1,_xll.dNormalDev($C$3,$D$3),0)","v":0},{"$f":"IF(RAND()<$F$1,_xll.dNormalDev($C$3,$D$3),0)","v":0},{"$f":"IF(RAND()<$F$1,_xll.dNormalDev($C$3,$D$3),0)","v":0},{"$f":"IF(RAND()<$F$1,_xll.dNormalDev($C$3,$D$3),0)","v":0},{"$f":"IF(RAND()<$F$1,_xll.dNormalDev($C$3,$D$3),0)","v":0},{"$f":"IF(RAND()<$F$1,_xll.dNormalDev($C$3,$D$3),0)","v":-9.500548307148027E-4},{"$f":"IF(RAND()<$F$1,_xll.dNormalDev($C$3,$D$3),0)","v":0},0,{"$f":"IF(RAND()<$F$1,_xll.dNormalDev($C$3,$D$3),0)","v":1.2995612696905081E-2},{"$f":"IF(RAND()<$F$1,_xll.dNormalDev($C$3,$D$3),0)","v":-2.7861228264853381E-2},0,-3.1007379215418296E-2,0,0,-1.070039383700731E-2,-3.8342836138665591E-2,"","","",0,"","",172.14112388451801,-4.9043229975672897E-2,-8.4423567269392148,null,null,null,null,null,null,null,null,null,null,null,null,null,null,null,null,null,null,null,null,null,null,null,null,null,null,null,7,null,{"$f":"_xll.dRandReal($C$1,$D$1)","v":2.4541997618507595E-2},{"$f":"_xll.dNormalDev($C$2,$D$2)","v":3.9929986025965113E-2},{"$f":"_xll.dNormalDev($C$4,$D$4)","v":0.92054724581877578},1,{"$f":"_xll.dRandInt($C$6,BI16*$BO$6)","v":153},{"$f":"_xll.dRandInt($C$7,$D$7)","v":10},{"$f":"IF(RAND()<$F$1,_xll.dNormalDev($C$3,$D$3),0)","v":9.1919627250940592E-3},{"$f":"IF(RAND()<$F$1,_xll.dNormalDev($C$3,$D$3),0)","v":0},{"$f":"IF(RAND()<$F$1,_xll.dNormalDev($C$3,$D$3),0)","v":0},{"$f":"IF(RAND()<$F$1,_xll.dNormalDev($C$3,$D$3),0)","v":1.5658322867433544E-2},{"$f":"IF(RAND()<$F$1,_xll.dNormalDev($C$3,$D$3),0)","v":1.1906827847158706E-2},{"$f":"IF(RAND()<$F$1,_xll.dNormalDev($C$3,$D$3),0)","v":-1.7907722365223668E-2},0,{"$f":"IF(RAND()<$F$1,_xll.dNormalDev($C$3,$D$3),0)","v":0},{"$f":"IF(RAND()<$F$1,_xll.dNormalDev($C$3,$D$3),0)","v":0},{"$f":"IF(RAND()<$F$1,_xll.dNormalDev($C$3,$D$3),0)","v":0},null,null,{"$f":"_xll.dRandReal($C$1,$D$1)","v":4.0140899596735839E-3},{"$f":"_xll.dNormalDev($C$2,$D$2)","v":4.4905641504143161E-2},{"$f":"_xll.dNormalDev($C$4,$D$4)","v":1.0078549379509611},1,{"$f":"_xll.dRandInt($C$6,CA16*$BO$6)","v":1},{"$f":"_xll.dRandInt($C$7,$D$7)","v":23},{"$f":"IF(RAND()<$F$1,_xll.dNormalDev($C$3+MIN_FACTOR,$D$3),0)","v":0},{"$f":"IF(RAND()<$F$1,_xll.dNormalDev($C$3+MIN_FACTOR,$D$3),0)","v":-3.0404011661795002E-2},{"$f":"IF(RAND()<$F$1,_xll.dNormalDev($C$3+MIN_FACTOR,$D$3),0)","v":0},{"$f":"IF(RAND()<$F$1,_xll.dNormalDev($C$3+MIN_FACTOR,$D$3),0)","v":0},{"$f":"IF(RAND()<$F$1,_xll.dNormalDev($C$3+MIN_FACTOR,$D$3),0)","v":0},{"$f":"IF(RAND()<$F$1,_xll.dNormalDev($C$3+PLUS_FACTOR,$D$3),0)","v":0},{"$f":"IF(RAND()<$F$1,_xll.dNormalDev($C$3+PLUS_FACTOR,$D$3),0)","v":0},{"$f":"IF(RAND()<$F$1,_xll.dNormalDev($C$3+PLUS_FACTOR,$D$3),0)","v":0},{"$f":"IF(RAND()<$F$1,_xll.dNormalDev($C$3+PLUS_FACTOR,$D$3),0)","v":0},{"$f":"IF(RAND()<$F$1,_xll.dNormalDev($C$3+PLUS_FACTOR,$D$3),0)","v":0},null,null,{"$f":"_xll.dRandReal($C$1,$D$1)","v":2.8073097951710226E-2},{"$f":"_xll.dNormalDev($C$2,$D$2)","v":5.1748605597934573E-2},{"$f":"_xll.dNormalDev($C$4,$D$4)","v":0.92683395230250676},1,{"$f":"_xll.dRandInt($C$6,CS16*$BO$6)","v":1},{"$f":"_xll.dRandInt($C$7,$D$7)","v":25},{"$f":"IF(RAND()<$F$1,_xll.dNormalDev($C$3,$D$3),0)","v":0},{"$f":"IF(RAND()<$F$1,_xll.dNormalDev($C$3,$D$3),0)","v":0},{"$f":"IF(RAND()<$F$1,_xll.dNormalDev($C$3,$D$3),0)","v":0},{"$f":"IF(RAND()<$F$1,_xll.dNormalDev($C$3,$D$3),0)","v":0},{"$f":"IF(RAND()<$F$1,_xll.dNormalDev($C$3,$D$3),0)","v":0},{"$f":"IF(RAND()<$F$1,_xll.dNormalDev($C$3,$D$3),0)","v":0},0,{"$f":"IF(RAND()<$F$1,_xll.dNormalDev($C$3,$D$3),0)","v":-3.6729639759452905E-2},{"$f":"IF(RAND()<$F$1,_xll.dNormalDev($C$3,$D$3),0)","v":0},{"$f":"IF(RAND()<$F$1,_xll.dNormalDev($C$3,$D$3),0)","v":0}]
[9,1.060974086560172,{"$f":"_xll.dRandReal($C$1,$D$1)","v":8.0236639012582611E-3},{"$f":"_xll.dNormalDev($C$2,$D$2)","v":5.4106350207118695E-2},{"$f":"_xll.dNormalDev($C$4,$D$4)","v":0.91166896425569499},1,{"$f":"_xll.dRandInt($C$6,A17*$BO$6)","v":30},{"$f":"_xll.dRandInt($C$7,$D$7)","v":15},{"$f":"IF(RAND()<$F$1,_xll.dNormalDev($C$3,$D$3),0)","v":-2.6578034234718838E-2},{"$f":"IF(RAND()<$F$1,_xll.dNormalDev($C$3,$D$3),0)","v":0},{"$f":"IF(RAND()<$F$1,_xll.dNormalDev($C$3,$D$3),0)","v":0},{"$f":"IF(RAND()<$F$1,_xll.dNormalDev($C$3,$D$3),0)","v":0},{"$f":"IF(RAND()<$F$1,_xll.dNormalDev($C$3,$D$3),0)","v":0},{"$f":"IF(RAND()<$F$1,_xll.dNormalDev($C$3,$D$3),0)","v":0},{"$f":"IF(RAND()<$F$1,_xll.dNormalDev($C$3,$D$3),0)","v":0},{"$f":"IF(RAND()<$F$1,_xll.dNormalDev($C$3,$D$3),0)","v":0},0,{"$f":"IF(RAND()<$F$1,_xll.dNormalDev($C$3,$D$3),0)","v":0},0,0,0,-3.0446706117288848E-4,0,-8.4821019487519057E-3,"","","",0,"","",237.90699720438357,-8.7865690099247946E-3,-2.0903862488803013,null,null,null,null,null,null,null,null,null,null,null,null,null,null,null,null,null,null,null,null,null,null,null,null,null,null,null,8,null,{"$f":"_xll.dRandReal($C$1,$D$1)","v":3.184491052525118E-2},{"$f":"_xll.dNormalDev($C$2,$D$2)","v":5.7738899235896028E-2},{"$f":"_xll.dNormalDev($C$4,$D$4)","v":1.2237091470865968},1,{"$f":"_xll.dRandInt($C$6,BI17*$BO$6)","v":74},{"$f":"_xll.dRandInt($C$7,$D$7)","v":13},{"$f":"IF(RAND()<$F$1,_xll.dNormalDev($C$3,$D$3),0)","v":0},{"$f":"IF(RAND()<$F$1,_xll.dNormalDev($C$3,$D$3),0)","v":0},{"$f":"IF(RAND()<$F$1,_xll.dNormalDev($C$3,$D$3),0)","v":0},{"$f":"IF(RAND()<$F$1,_xll.dNormalDev($C$3,$D$3),0)","v":3.1186713273278262E-2},{"$f":"IF(RAND()<$F$1,_xll.dNormalDev($C$3,$D$3),0)","v":0},{"$f":"IF(RAND()<$F$1,_xll.dNormalDev($C$3,$D$3),0)","v":0},{"$f":"IF(RAND()<$F$1,_xll.dNormalDev($C$3,$D$3),0)","v":0},0,{"$f":"IF(RAND()<$F$1,_xll.dNormalDev($C$3,$D$3),0)","v":2.4920521831190748E-3},{"$f":"IF(RAND()<$F$1,_xll.dNormalDev($C$3,$D$3),0)","v":0},null,null,{"$f":"_xll.dRandReal($C$1,$D$1)","v":1.3210951734799893E-2},{"$f":"_xll.dNormalDev($C$2,$D$2)","v":4.3941727253546524E-2},{"$f":"_xll.dNormalDev($C$4,$D$4)","v":0.88625307428719924},1,{"$f":"_xll.dRandInt($C$6,CA17*$BO$6)","v":1},{"$f":"_xll.dRandInt($C$7,$D$7)","v":12},{"$f":"IF(RAND()<$F$1,_xll.dNormalDev($C$3+MIN_FACTOR,$D$3),0)","v":0},{"$f":"IF(RAND()<$F$1,_xll.dNormalDev($C$3+MIN_FACTOR,$D$3),0)","v":0},{"$f":"IF(RAND()<$F$1,_xll.dNormalDev($C$3+MIN_FACTOR,$D$3),0)","v":0},{"$f":"IF(RAND()<$F$1,_xll.dNormalDev($C$3+MIN_FACTOR,$D$3),0)","v":0},{"$f":"IF(RAND()<$F$1,_xll.dNormalDev($C$3+MIN_FACTOR,$D$3),0)","v":0},{"$f":"IF(RAND()<$F$1,_xll.dNormalDev($C$3+PLUS_FACTOR,$D$3),0)","v":0},{"$f":"IF(RAND()<$F$1,_xll.dNormalDev($C$3+PLUS_FACTOR,$D$3),0)","v":0},{"$f":"IF(RAND()<$F$1,_xll.dNormalDev($C$3+PLUS_FACTOR,$D$3),0)","v":0},{"$f":"IF(RAND()<$F$1,_xll.dNormalDev($C$3+PLUS_FACTOR,$D$3),0)","v":0},{"$f":"IF(RAND()<$F$1,_xll.dNormalDev($C$3+PLUS_FACTOR,$D$3),0)","v":0},null,null,{"$f":"_xll.dRandReal($C$1,$D$1)","v":2.1833426773082466E-2},{"$f":"_xll.dNormalDev($C$2,$D$2)","v":5.3929517147007583E-2},{"$f":"_xll.dNormalDev($C$4,$D$4)","v":1.0379140676790464},1,{"$f":"_xll.dRandInt($C$6,CS17*$BO$6)","v":1},{"$f":"_xll.dRandInt($C$7,$D$7)","v":13},{"$f":"IF(RAND()<$F$1,_xll.dNormalDev($C$3,$D$3),0)","v":0},{"$f":"IF(RAND()<$F$1,_xll.dNormalDev($C$3,$D$3),0)","v":0},{"$f":"IF(RAND()<$F$1,_xll.dNormalDev($C$3,$D$3),0)","v":0},{"$f":"IF(RAND()<$F$1,_xll.dNormalDev($C$3,$D$3),0)","v":2.1644600535804617E-3},{"$f":"IF(RAND()<$F$1,_xll.dNormalDev($C$3,$D$3),0)","v":0},{"$f":"IF(RAND()<$F$1,_xll.dNormalDev($C$3,$D$3),0)","v":0},{"$f":"IF(RAND()<$F$1,_xll.dNormalDev($C$3,$D$3),0)","v":0},0,{"$f":"IF(RAND()<$F$1,_xll.dNormalDev($C$3,$D$3),0)","v":0},{"$f":"IF(RAND()<$F$1,_xll.dNormalDev($C$3,$D$3),0)","v":0}]
[10,6.8362471431960932E-3,{"$f":"_xll.dRandReal($C$1,$D$1)","v":3.5447545617353172E-2},{"$f":"_xll.dNormalDev($C$2,$D$2)","v":4.6236353541818209E-2},{"$f":"_xll.dNormalDev($C$4,$D$4)","v":0.91499778898606865},1,{"$f":"_xll.dRandInt($C$6,A18*$BO$6)","v":141},{"$f":"_xll.dRandInt($C$7,$D$7)","v":18},{"$f":"IF(RAND()<$F$1,_xll.dNormalDev($C$3,$D$3),0)","v":0},{"$f":"IF(RAND()<$F$1,_xll.dNormalDev($C$3,$D$3),0)","v":0},{"$f":"IF(RAND()<$F$1,_xll.dNormalDev($C$3,$D$3),0)","v":0},{"$f":"IF(RAND()<$F$1,_xll.dNormalDev($C$3,$D$3),0)","v":0},{"$f":"IF(RAND()<$F$1,_xll.dNormalDev($C$3,$D$3),0)","v":0},{"$f":"IF(RAND()<$F$1,_xll.dNormalDev($C$3,$D$3),0)","v":0},{"$f":"IF(RAND()<$F$1,_xll.dNormalDev($C$3,$D$3),0)","v":0},{"$f":"IF(RAND()<$F$1,_xll.dNormalDev($C$3,$D$3),0)","v":0},{"$f":"IF(RAND()<$F$1,_xll.dNormalDev($C$3,$D$3),0)","v":0},0,0,0,0,0,0,-2.3978156258791163E-2,"","","",0,"","",331.15866771791895,-2.3978156258791163E-2,-7.9405742809933608,null,null,null,null,null,null,null,null,null,null,null,null,null,null,null,null,null,null,null,null,null,null,null,null,null,null,null,9,null,{"$f":"_xll.dRandReal($C$1,$D$1)","v":1.9600685196928681E-2},{"$f":"_xll.dNormalDev($C$2,$D$2)","v":6.3357466678500313E-2},{"$f":"_xll.dNormalDev($C$4,$D$4)","v":0.91198853497167109},1,{"$f":"_xll.dRandInt($C$6,BI18*$BO$6)","v":23},{"$f":"_xll.dRandInt($C$7,$D$7)","v":14},{"$f":"IF(RAND()<$F$1,_xll.dNormalDev($C$3,$D$3),0)","v":0},{"$f":"IF(RAND()<$F$1,_xll.dNormalDev($C$3,$D$3),0)","v":0},{"$f":"IF(RAND()<$F$1,_xll.dNormalDev($C$3,$D$3),0)","v":-1.900601375699513E-3},{"$f":"IF(RAND()<$F$1,_xll.dNormalDev($C$3,$D$3),0)","v":0},{"$f":"IF(RAND()<$F$1,_xll.dNormalDev($C$3,$D$3),0)","v":0},{"$f":"IF(RAND()<$F$1,_xll.dNormalDev($C$3,$D$3),0)","v":0},{"$f":"IF(RAND()<$F$1,_xll.dNormalDev($C$3,$D$3),0)","v":0},{"$f":"IF(RAND()<$F$1,_xll.dNormalDev($C$3,$D$3),0)","v":0},0,{"$f":"IF(RAND()<$F$1,_xll.dNormalDev($C$3,$D$3),0)","v":0},null,null,{"$f":"_xll.dRandReal($C$1,$D$1)","v":1.999901573872194E-2},{"$f":"_xll.dNormalDev($C$2,$D$2)","v":3.8682003456594539E-2},{"$f":"_xll.dNormalDev($C$4,$D$4)","v":0.91660232776176565},1,{"$f":"_xll.dRandInt($C$6,CA18*$BO$6)","v":1},{"$f":"_xll.dRandInt($C$7,$D$7)","v":16},{"$f":"IF(RAND()<$F$1,_xll.dNormalDev($C$3+MIN_FACTOR,$D$3),0)","v":0},{"$f":"IF(RAND()<$F$1,_xll.dNormalDev($C$3+MIN_FACTOR,$D$3),0)","v":0},{"$f":"IF(RAND()<$F$1,_xll.dNormalDev($C$3+MIN_FACTOR,$D$3),0)","v":0},{"$f":"IF(RAND()<$F$1,_xll.dNormalDev($C$3+MIN_FACTOR,$D$3),0)","v":-1.9810430578338735E-2},{"$f":"IF(RAND()<$F$1,_xll.dNormalDev($C$3+MIN_FACTOR,$D$3),0)","v":0},{"$f":"IF(RAND()<$F$1,_xll.dNormalDev($C$3+PLUS_FACTOR,$D$3),0)","v":0},{"$f":"IF(RAND()<$F$1,_xll.dNormalDev($C$3+PLUS_FACTOR,$D$3),0)","v":0},{"$f":"IF(RAND()<$F$1,_xll.dNormalDev($C$3+PLUS_FACTOR,$D$3),0)","v":0},{"$f":"IF(RAND()<$F$1,_xll.dNormalDev($C$3+PLUS_FACTOR,$D$3),0)","v":0},{"$f":"IF(RAND()<$F$1,_xll.dNormalDev($C$3+PLUS_FACTOR,$D$3),0)","v":0},null,null,{"$f":"_xll.dRandReal($C$1,$D$1)","v":4.8890722449868923E-3},{"$f":"_xll.dNormalDev($C$2,$D$2)","v":4.4807081402640003E-2},{"$f":"_xll.dNormalDev($C$4,$D$4)","v":1.1521289624578326},1,{"$f":"_xll.dRandInt($C$6,CS18*$BO$6)","v":1},{"$f":"_xll.dRandInt($C$7,$D$7)","v":18},{"$f":"IF(RAND()<$F$1,_xll.dNormalDev($C$3,$D$3),0)","v":0},{"$f":"IF(RAND()<$F$1,_xll.dNormalDev($C$3,$D$3),0)","v":-1.3891963422731215E-2},{"$f":"IF(RAND()<$F$1,_xll.dNormalDev($C$3,$D$3),0)","v":0},{"$f":"IF(RAND()<$F$1,_xll.dNormalDev($C$3,$D$3),0)","v":0},{"$f":"IF(RAND()<$F$1,_xll.dNormalDev($C$3,$D$3),0)","v":0},{"$f":"IF(RAND()<$F$1,_xll.dNormalDev($C$3,$D$3),0)","v":-2.202918741799317E-2},{"$f":"IF(RAND()<$F$1,_xll.dNormalDev($C$3,$D$3),0)","v":0},{"$f":"IF(RAND()<$F$1,_xll.dNormalDev($C$3,$D$3),0)","v":0},0,{"$f":"IF(RAND()<$F$1,_xll.dNormalDev($C$3,$D$3),0)","v":0}]
[null,null,null,null,null,null,null,null,null,null,null,null,null,null,null,null,null,null,"quadratic_condition",1,{"$f":"IF(I$21=MAX(maxlevel10),I19,\"\")","v":""},{"$f":"IF(J$21=MAX(maxlevel10),J19,\"\")","v":""},{"$f":"IF(K$21=MAX(maxlevel10),K19,\"\")","v":""},{"$f":"IF(L$21=MAX(maxlevel10),L19,\"\")","v":""},"","","",0,"","",36.66419114080383,0,0,null,null,null,null,null,null,null,null,null,null,null,null,null,null,null,null,null,null,null,null,null,null,null,null,null,null,null,10,null,{"$f":"_xll.dRandReal($C$1,$D$1)","v":2.9516625916585328E-3},{"$f":"_xll.dNormalDev($C$2,$D$2)","v":5.2707702719522152E-2},{"$f":"_xll.dNormalDev($C$4,$D$4)","v":0.70466385010199839},1,{"$f":"_xll.dRandInt($C$6,BI19*$BO$6)","v":298},{"$f":"_xll.dRandInt($C$7,$D$7)","v":16},{"$f":"IF(RAND()<$F$1,_xll.dNormalDev($C$3,$D$3),0)","v":0},{"$f":"IF(RAND()<$F$1,_xll.dNormalDev($C$3,$D$3),0)","v":0},{"$f":"IF(RAND()<$F$1,_xll.dNormalDev($C$3,$D$3),0)","v":0},{"$f":"IF(RAND()<$F$1,_xll.dNormalDev($C$3,$D$3),0)","v":0},{"$f":"IF(RAND()<$F$1,_xll.dNormalDev($C$3,$D$3),0)","v":0},{"$f":"IF(RAND()<$F$1,_xll.dNormalDev($C$3,$D$3),0)","v":0},{"$f":"IF(RAND()<$F$1,_xll.dNormalDev($C$3,$D$3),0)","v":0},{"$f":"IF(RAND()<$F$1,_xll.dNormalDev($C$3,$D$3),0)","v":0},{"$f":"IF(RAND()<$F$1,_xll.dNormalDev($C$3,$D$3),0)","v":0},0,null,null,{"$f":"_xll.dRandReal($C$1,$D$1)","v":3.1405705946963285E-2},{"$f":"_xll.dNormalDev($C$2,$D$2)","v":5.2251536718782625E-2},{"$f":"_xll.dNormalDev($C$4,$D$4)","v":1.0074810507321992},1,{"$f":"_xll.dRandInt($C$6,CA19*$BO$6)","v":1},{"$f":"_xll.dRandInt($C$7,$D$7)","v":16},{"$f":"IF(RAND()<$F$1,_xll.dNormalDev($C$3+MIN_FACTOR,$D$3),0)","v":0},{"$f":"IF(RAND()<$F$1,_xll.dNormalDev($C$3+MIN_FACTOR,$D$3),0)","v":0},{"$f":"IF(RAND()<$F$1,_xll.dNormalDev($C$3+MIN_FACTOR,$D$3),0)","v":0},{"$f":"IF(RAND()<$F$1,_xll.dNormalDev($C$3+MIN_FACTOR,$D$3),0)","v":0},{"$f":"IF(RAND()<$F$1,_xll.dNormalDev($C$3+MIN_FACTOR,$D$3),0)","v":0},{"$f":"IF(RAND()<$F$1,_xll.dNormalDev($C$3+PLUS_FACTOR,$D$3),0)","v":0},{"$f":"IF(RAND()<$F$1,_xll.dNormalDev($C$3+PLUS_FACTOR,$D$3),0)","v":0},{"$f":"IF(RAND()<$F$1,_xll.dNormalDev($C$3+PLUS_FACTOR,$D$3),0)","v":0},{"$f":"IF(RAND()<$F$1,_xll.dNormalDev($C$3+PLUS_FACTOR,$D$3),0)","v":0},{"$f":"IF(RAND()<$F$1,_xll.dNormalDev($C$3+PLUS_FACTOR,$D$3),0)","v":0},null,null,{"$f":"_xll.dRandReal($C$1,$D$1)","v":6.5867644269019367E-3},{"$f":"_xll.dNormalDev($C$2,$D$2)","v":5.8385564055232229E-2},{"$f":"_xll.dNormalDev($C$4,$D$4)","v":0.75799156895735509},1,{"$f":"_xll.dRandInt($C$6,CS19*$BO$6)","v":1},{"$f":"_xll.dRandInt($C$7,$D$7)","v":16},{"$f":"IF(RAND()<$F$1,_xll.dNormalDev($C$3,$D$3),0)","v":0},{"$f":"IF(RAND()<$F$1,_xll.dNormalDev($C$3,$D$3),0)","v":0},{"$f":"IF(RAND()<$F$1,_xll.dNormalDev($C$3,$D$3),0)","v":0},{"$f":"IF(RAND()<$F$1,_xll.dNormalDev($C$3,$D$3),0)","v":0},{"$f":"IF(RAND()<$F$1,_xll.dNormalDev($C$3,$D$3),0)","v":0},{"$f":"IF(RAND()<$F$1,_xll.dNormalDev($C$3,$D$3),0)","v":4.8508024506722733E-3},{"$f":"IF(RAND()<$F$1,_xll.dNormalDev($C$3,$D$3),0)","v":0},{"$f":"IF(RAND()<$F$1,_xll.dNormalDev($C$3,$D$3),0)","v":-2.4572625095660686E-3},{"$f":"IF(RAND()<$F$1,_xll.dNormalDev($C$3,$D$3),0)","v":0},0]
[null,null,null,null,null,null,null,"Sum",{"$f":"SUM(I9:I18)","v":8.1512376125058086E-4},{"$f":"SUM(J9:J18)","v":0},-5.5975110275927463E-2,0,0,1.2206900687869121E-2,-1.0337206513401545E-2,8.9620962491570554E-3,3.2839658554030728E-3,-5.760644898845782E-2,"pref_attach_on",0,null,null,null,null,null,null,null,null,null,null,null,null,{"$f":"SUM(AG10:AG19)","v":-43.180048897524955}]
[null,"Max",null,null,null,null,null,"Max",{"$f":"MAX(I24:I522)","v":0.69868469358391272},1.0646145470112947,0.91971762061484674,0.93831122027151548,1.0791152194280256,1.0682308233240385,0.74602628317949038,1.383886443801519,1.060974086560172,0.18561892891524245,"threshold",0,null,null,null,null,null,null,null,null,null,null,null,null,null,null,null,null,null,null,null,null,null,null,null,null,null,null,null,null,null,null,null,null,null,null,null,null,null,null,null,null,null,null,null,null,null,null,null,null,25]
["grower1",{"$f":"TRANSPOSE(maxlevel10)","v":0.69868469358391272},{"$f":"TRANSPOSE(early_levels)","v":4.7839244002081505E-2},null,null,{"$f":"B22","v":0.69868469358391272},null,null,{"$f":"I21*I20","v":5.6951449536232854E-4},0,-5.1481295236629664E-2,0,0,1.3039787572037203E-2,-7.7118277536517739E-3,1.2402523507252889E-2,3.4842026737310692E-3,-1.0692847359848092E-2,"poisson prob",2E-3,null,null,null,null,null,null,null,null,null,null,null,null,null,null,null,{"$f":"COUNTIF(AJ24:AJ33,\"<>0\")","v":0},{"$f":"COUNTIF(AK24:AK33,\"<>0\")","v":1},4,0,0,3,3,2,2,0,null,null,null,null,null,null,null,null,null,null,null,null,null,null,null,"grower",null,"initial40","rate40","carcap40","effect_type","delay","MyMax","grower1","grower2","grower3","grower4","grower5","grower6","grower7","grower8","grower9","grower10",null,null,"initial40","rate40","carcap40","effect_type","delay","MyMax","grower1","grower2","grower3","grower4","grower5","grower6","grower7","grower8","grower9","grower10"]
["grower2",1.0646145470112947,0.1867124040407584,null,null,{"$f":"E10","v":1.064614550309307},"step","time","grower1","grower2","grower3","grower4","grower5","grower6","grower7","grower8","grower9","grower10","products 3",{"$f":"S522","v":0},null,null,null,"grower1","grower2","grower3","grower4","grower5","grower6","grower7","grower8","grower9","grower10",null,null,"grower1","grower2","grower3","grower4","grower5","grower6","grower7","grower8","grower9","grower10",null,null,null,null,null,null,null,null,null,null,null,null,null,null,null,1,null,{"$f":"_xll.dRandReal($C$1,$D$1)","v":2.8431304870173337E-2},{"$f":"_xll.dNormalDev($C$2,$D$2)","v":4.5111146157635743E-2},{"$f":"_xll.dNormalDev($C$4,$D$4)","v":1.0541406982024712},{"$f":"IF(RAND()<$L$2,1,0)","v":1},1,{"$f":"_xll.dRandInt($C$7,$D$7)","v":10},{"$f":"IF(RAND()<$F$1,_xll.dNormalDev($C$3-((1-(501-$BO23)/500)/$BQ$21),$D$3),0)","v":0},{"$f":"IF(RAND()<$F$1,_xll.dNormalDev($C$3-((1-(501-$BO23)/500)/$BQ$21),$D$3),0)","v":-3.0649536803929189E-2},{"$f":"IF(RAND()<$F$1,_xll.dNormalDev($C$3-((1-(501-$BO23)/500)/$BQ$21),$D$3),0)","v":0},{"$f":"IF(RAND()<$F$1,_xll.dNormalDev($C$3-((1-(501-$BO23)/500)/$BQ$21),$D$3),0)","v":-9.3096831112945318E-3},{"$f":"IF(RAND()<$F$1,_xll.dNormalDev($C$3-((1-(501-$BO23)/500)/$BQ$21),$D$3),0)","v":0},{"$f":"IF(RAND()<$F$1,_xll.dNormalDev($C$3-((1-(501-$BO23)/500)/$BQ$21),$D$3),0)","v":0},{"$f":"IF(RAND()<$F$1,_xll.dNormalDev($C$3-((1-(501-$BO23)/500)/$BQ$21),$D$3),0)","v":0},{"$f":"IF(RAND()<$F$1,_xll.dNormalDev($C$3-((1-(501-$BO23)/500)/$BQ$21),$D$3),0)","v":0},{"$f":"IF(RAND()<$F$1,_xll.dNormalDev($C$3-((1-(501-$BO23)/500)/$BQ$21),$D$3),0)","v":0},{"$f":"IF(RAND()<$F$1,_xll.dNormalDev($C$3-((1-(501-$BO23)/500)/$BQ$21),$D$3),0)","v":0},null,null,{"$f":"_xll.dRandReal($C$1,$D$1)","v":1.973198240157217E-2},{"$f":"_xll.dNormalDev($C$2,$D$2)","v":5.6708372839675912E-2},{"$f":"_xll.dNormalDev($C$4,$D$4)","v":0.8887390633991501},{"$f":"IF(RAND()<$L$2,1,0)","v":1},1,{"$f":"_xll.dRandInt($C$7,$D$7)","v":24},0,{"$f":"IF(RAND()<$F$1,_xll.dNormalDev($C$3,$D$3),0)","v":0},{"$f":"IF(RAND()<$F$1,_xll.dNormalDev($C$3,$D$3),0)","v":0},{"$f":"IF(RAND()<$F$1,_xll.dNormalDev($C$3,$D$3),0)","v":0},{"$f":"IF(RAND()<$F$1,_xll.dNormalDev($C$3,$D$3),0)","v":0},{"$f":"IF(RAND()<$F$1,_xll.dNormalDev($C$3,$D$3),0)","v":0},{"$f":"IF(RAND()<$F$1,_xll.dNormalDev($C$3,$D$3),0)","v":0},{"$f":"IF(RAND()<$F$1,_xll.dNormalDev($C$3,$D$3),0)","v":0},{"$f":"IF(RAND()<$F$1,_xll.dNormalDev($C$3,$D$3),0)","v":-1.8881172061988655E-2},{"$f":"IF(RAND()<$F$1,_xll.dNormalDev($C$3,$D$3),0)","v":0}]
["grower3",0.91971762061484674,0.30952233123910888,{"$f":"B35","v":1.383886443801519},null,{"$f":"D10","v":4.9177183387409999E-2},1,0.1,{"$f":"FGrowthMatrix8(C9:C18,D9:D18,E9:E18,F9:F18,G9:G18,H9:H18,I9:R18,500)","v":4.2708443826995788E-3},2.1177562023513022E-2,3.3307219028938566E-2,3.7713279796298599E-2,2.1303850726690145E-2,2.5294713350012901E-2,7.8630453674122698E-3,7.9670280567370362E-3,8.0236639012582611E-3,3.5447545617353172E-2,0,0,{"$f":"calculate_product_slope(T24:T522)","v":0},{"$f":"SUM(T24:T43)","v":0},null,{"$f":"I9*AVERAGE($I24:$I522)","v":0},0,-1.0315784735416023E-2,0,0,0,0,4.2146214054888448E-3,0,0,null,null,0,{"$f":"IF(RAND()<$F$1,_xll.dNormalDev($C$3,$D$3),0)","v":0},{"$f":"IF(RAND()<$F$1,_xll.dNormalDev($C$3,$D$3),0)","v":1.3167074480480668E-2},{"$f":"IF(RAND()<$F$1,_xll.dNormalDev($C$3,$D$3),0)","v":0},{"$f":"IF(RAND()<$F$1,_xll.dNormalDev($C$3,$D$3),0)","v":0},{"$f":"IF(RAND()<$F$1,_xll.dNormalDev($C$3,$D$3),0)","v":1.9283541279997467E-2},{"$f":"IF(RAND()<$F$1,_xll.dNormalDev($C$3,$D$3),0)","v":1.3373346410011169E-3},{"$f":"IF(RAND()<$F$1,_xll.dNormalDev($C$3,$D$3),0)","v":0},{"$f":"IF(RAND()<$F$1,_xll.dNormalDev($C$3,$D$3),0)","v":0},{"$f":"IF(RAND()<$F$1,_xll.dNormalDev($C$3,$D$3),0)","v":0},null,null,null,null,null,null,null,null,null,null,null,null,null,null,null,2,null,{"$f":"_xll.dRandReal($C$1,$D$1)","v":4.4945746869780125E-2},{"$f":"_xll.dNormalDev($C$2,$D$2)","v":4.3250284098994979E-2},{"$f":"_xll.dNormalDev($C$4,$D$4)","v":0.87093941151499676},1,1,{"$f":"_xll.dRandInt($C$7,$D$7)","v":21},{"$f":"IF(RAND()<$F$1,_xll.dNormalDev($C$3-((1-(501-$BO24)/500)/$BQ$21),$D$3),0)","v":0},{"$f":"IF(RAND()<$F$1,_xll.dNormalDev($C$3-((1-(501-$BO24)/500)/$BQ$21),$D$3),0)","v":0},{"$f":"IF(RAND()<$F$1,_xll.dNormalDev($C$3-((1-(501-$BO24)/500)/$BQ$21),$D$3),0)","v":0},{"$f":"IF(RAND()<$F$1,_xll.dNormalDev($C$3-((1-(501-$BO24)/500)/$BQ$21),$D$3),0)","v":0},{"$f":"IF(RAND()<$F$1,_xll.dNormalDev($C$3-((1-(501-$BO24)/500)/$BQ$21),$D$3),0)","v":0},{"$f":"IF(RAND()<$F$1,_xll.dNormalDev($C$3-((1-(501-$BO24)/500)/$BQ$21),$D$3),0)","v":0},{"$f":"IF(RAND()<$F$1,_xll.dNormalDev($C$3-((1-(501-$BO24)/500)/$BQ$21),$D$3),0)","v":-4.5846603698448132E-2},{"$f":"IF(RAND()<$F$1,_xll.dNormalDev($C$3-((1-(501-$BO24)/500)/$BQ$21),$D$3),0)","v":0},{"$f":"IF(RAND()<$F$1,_xll.dNormalDev($C$3-((1-(501-$BO24)/500)/$BQ$21),$D$3),0)","v":0},{"$f":"IF(RAND()<$F$1,_xll.dNormalDev($C$3-((1-(501-$BO24)/500)/$BQ$21),$D$3),0)","v":3.7343614839573915E-2},null,null,{"$f":"_xll.dRandReal($C$1,$D$1)","v":1.1390177300199866E-2},{"$f":"_xll.dNormalDev($C$2,$D$2)","v":5.2835560473650296E-2},{"$f":"_xll.dNormalDev($C$4,$D$4)","v":0.86568437354229211},1,1,{"$f":"_xll.dRandInt($C$7,$D$7)","v":14},{"$f":"IF(RAND()<$F$1,_xll.dNormalDev($C$3,$D$3),0)","v":0},0,{"$f":"IF(RAND()<$F$1,_xll.dNormalDev($C$3,$D$3),0)","v":0},{"$f":"IF(RAND()<$F$1,_xll.dNormalDev($C$3,$D$3),0)","v":0},{"$f":"IF(RAND()<$F$1,_xll.dNormalDev($C$3,$D$3),0)","v":0},{"$f":"IF(RAND()<$F$1,_xll.dNormalDev($C$3,$D$3),0)","v":0},{"$f":"IF(RAND()<$F$1,_xll.dNormalDev($C$3,$D$3),0)","v":1.1190704477444594E-2},{"$f":"IF(RAND()<$F$1,_xll.dNormalDev($C$3,$D$3),0)","v":-9.8737107207531576E-3},{"$f":"IF(RAND()<$F$1,_xll.dNormalDev($C$3,$D$3),0)","v":0},{"$f":"IF(RAND()<$F$1,_xll.dNormalDev($C$3,$D$3),0)","v":0}]
["grower4",0.93831122027151548,0.23483195624739941,null,null,{"$f":"I20","v":8.1512376125058086E-4},2,0.2,4.4914061312012164E-3,2.2196947006976955E-2,3.5020774784251356E-2,3.9276978253132797E-2,2.1303850726690145E-2,2.5294713350012901E-2,7.8630453674122698E-3,7.9670280567370362E-3,8.0236639012582611E-3,3.5447545617353172E-2,0,{"$f":"S25-S24","v":0},null,{"$f":"SUM(T44:T63)","v":0},null,{"$f":"I10*AVERAGE($J24:$J522)","v":0},0,0,0,0,-1.5972718611515262E-2,0,0,0,-3.0704684876013869E-2,null,null,{"$f":"IF(RAND()<$F$1,_xll.dNormalDev($C$3,$D$3),0)","v":0},0,{"$f":"IF(RAND()<$F$1,_xll.dNormalDev($C$3,$D$3),0)","v":0},{"$f":"IF(RAND()<$F$1,_xll.dNormalDev($C$3,$D$3),0)","v":0},{"$f":"IF(RAND()<$F$1,_xll.dNormalDev($C$3,$D$3),0)","v":0},{"$f":"IF(RAND()<$F$1,_xll.dNormalDev($C$3,$D$3),0)","v":0},{"$f":"IF(RAND()<$F$1,_xll.dNormalDev($C$3,$D$3),0)","v":0},{"$f":"IF(RAND()<$F$1,_xll.dNormalDev($C$3,$D$3),0)","v":0},{"$f":"IF(RAND()<$F$1,_xll.dNormalDev($C$3,$D$3),0)","v":1.2759785831858985E-2},{"$f":"IF(RAND()<$F$1,_xll.dNormalDev($C$3,$D$3),0)","v":0},null,null,null,null,null,null,null,null,null,null,null,null,null,null,null,3,null,{"$f":"_xll.dRandReal($C$1,$D$1)","v":1.114569699857384E-2},{"$f":"_xll.dNormalDev($C$2,$D$2)","v":3.2083664460902411E-2},{"$f":"_xll.dNormalDev($C$4,$D$4)","v":1.1192363078269096},1,{"$f":"_xll.dRandInt($C$6,BI25*$BO$6)","v":89},{"$f":"_xll.dRandInt($C$7,$D$7)","v":15},{"$f":"IF(RAND()<$F$1,_xll.dNormalDev($C$3-((1-(501-$BO25)/500)/$BQ$21),$D$3),0)","v":1.5522300286963421E-2},{"$f":"IF(RAND()<$F$1,_xll.dNormalDev($C$3-((1-(501-$BO25)/500)/$BQ$21),$D$3),0)","v":0},{"$f":"IF(RAND()<$F$1,_xll.dNormalDev($C$3-((1-(501-$BO25)/500)/$BQ$21),$D$3),0)","v":0},{"$f":"IF(RAND()<$F$1,_xll.dNormalDev($C$3-((1-(501-$BO25)/500)/$BQ$21),$D$3),0)","v":0},{"$f":"IF(RAND()<$F$1,_xll.dNormalDev($C$3-((1-(501-$BO25)/500)/$BQ$21),$D$3),0)","v":0},{"$f":"IF(RAND()<$F$1,_xll.dNormalDev($C$3-((1-(501-$BO25)/500)/$BQ$21),$D$3),0)","v":0},{"$f":"IF(RAND()<$F$1,_xll.dNormalDev($C$3-((1-(501-$BO25)/500)/$BQ$21),$D$3),0)","v":0},{"$f":"IF(RAND()<$F$1,_xll.dNormalDev($C$3-((1-(501-$BO25)/500)/$BQ$21),$D$3),0)","v":0},{"$f":"IF(RAND()<$F$1,_xll.dNormalDev($C$3-((1-(501-$BO25)/500)/$BQ$21),$D$3),0)","v":0},{"$f":"IF(RAND()<$F$1,_xll.dNormalDev($C$3-((1-(501-$BO25)/500)/$BQ$21),$D$3),0)","v":0},null,null,{"$f":"_xll.dRandReal($C$1,$D$1)","v":2.5241666473448277E-2},{"$f":"_xll.dNormalDev($C$2,$D$2)","v":4.2861646078876603E-2},{"$f":"_xll.dLogNormalDev($C$5,$D$5)","v":0.3499750248344779},1,1,{"$f":"_xll.dRandInt($C$7,$D$7)","v":24},{"$f":"IF(RAND()<$F$1,_xll.dNormalDev($C$3,$D$3),0)","v":0},{"$f":"IF(RAND()<$F$1,_xll.dNormalDev($C$3,$D$3),0)","v":-2.5324373791784723E-3},0,{"$f":"IF(RAND()<$F$1,_xll.dNormalDev($C$3,$D$3),0)","v":0},{"$f":"IF(RAND()<$F$1,_xll.dNormalDev($C$3,$D$3),0)","v":0},{"$f":"IF(RAND()<$F$1,_xll.dNormalDev($C$3,$D$3),0)","v":-3.133328213138701E-3},{"$f":"IF(RAND()<$F$1,_xll.dNormalDev($C$3,$D$3),0)","v":0},{"$f":"IF(RAND()<$F$1,_xll.dNormalDev($C$3,$D$3),0)","v":0},{"$f":"IF(RAND()<$F$1,_xll.dNormalDev($C$3,$D$3),0)","v":-1.9707184071474433E-2},{"$f":"IF(RAND()<$F$1,_xll.dNormalDev($C$3,$D$3),0)","v":0}]
["grower5",1.0791152194280256,2.1303850726690145E-2,null,null,null,3,0.3,4.7232822556426421E-3,2.326428831170245E-2,3.6819376085150048E-2,4.0902568683318881E-2,2.1303850726690145E-2,2.5294713350012901E-2,7.8630453674122698E-3,7.9670280567370362E-3,8.0236639012582611E-3,3.5447545617353172E-2,0,{"$f":"S26-S25","v":0},null,{"$f":"SUM(T64:T83)","v":0},null,{"$f":"I11*AVERAGE($K24:$K522)","v":0},0,0,0,0,-5.9344700384538849E-3,0,0,0,-1.8328279402312462E-4,null,null,{"$f":"IF(RAND()<$F$1,_xll.dNormalDev($C$3,$D$3),0)","v":0},{"$f":"IF(RAND()<$F$1,_xll.dNormalDev($C$3,$D$3),0)","v":0},0,{"$f":"IF(RAND()<$F$1,_xll.dNormalDev($C$3,$D$3),0)","v":0},{"$f":"IF(RAND()<$F$1,_xll.dNormalDev($C$3,$D$3),0)","v":0},{"$f":"IF(RAND()<$F$1,_xll.dNormalDev($C$3,$D$3),0)","v":-3.4648187675946261E-2},{"$f":"IF(RAND()<$F$1,_xll.dNormalDev($C$3,$D$3),0)","v":0},{"$f":"IF(RAND()<$F$1,_xll.dNormalDev($C$3,$D$3),0)","v":0},{"$f":"IF(RAND()<$F$1,_xll.dNormalDev($C$3,$D$3),0)","v":0},{"$f":"IF(RAND()<$F$1,_xll.dNormalDev($C$3,$D$3),0)","v":0},null,null,null,null,null,null,null,null,null,null,null,null,null,null,null,4,null,{"$f":"_xll.dRandReal($C$1,$D$1)","v":2.1268545673228802E-2},{"$f":"_xll.dNormalDev($C$2,$D$2)","v":4.7239969780403873E-2},{"$f":"_xll.dNormalDev($C$4,$D$4)","v":1.0842886080889274},1,{"$f":"_xll.dRandInt($C$6,BI26*$BO$6)","v":74},{"$f":"_xll.dRandInt($C$7,$D$7)","v":13},{"$f":"IF(RAND()<$F$1,_xll.dNormalDev($C$3-((1-(501-$BO26)/500)/$BQ$21),$D$3),0)","v":0},{"$f":"IF(RAND()<$F$1,_xll.dNormalDev($C$3-((1-(501-$BO26)/500)/$BQ$21),$D$3),0)","v":0},{"$f":"IF(RAND()<$F$1,_xll.dNormalDev($C$3-((1-(501-$BO26)/500)/$BQ$21),$D$3),0)","v":0},{"$f":"IF(RAND()<$F$1,_xll.dNormalDev($C$3-((1-(501-$BO26)/500)/$BQ$21),$D$3),0)","v":0},{"$f":"IF(RAND()<$F$1,_xll.dNormalDev($C$3-((1-(501-$BO26)/500)/$BQ$21),$D$3),0)","v":0},{"$f":"IF(RAND()<$F$1,_xll.dNormalDev($C$3-((1-(501-$BO26)/500)/$BQ$21),$D$3),0)","v":-1.5313010705992593E-2},{"$f":"IF(RAND()<$F$1,_xll.dNormalDev($C$3-((1-(501-$BO26)/500)/$BQ$21),$D$3),0)","v":-2.4068038717927902E-3},{"$f":"IF(RAND()<$F$1,_xll.dNormalDev($C$3-((1-(501-$BO26)/500)/$BQ$21),$D$3),0)","v":0},{"$f":"IF(RAND()<$F$1,_xll.dNormalDev($C$3-((1-(501-$BO26)/500)/$BQ$21),$D$3),0)","v":0},{"$f":"IF(RAND()<$F$1,_xll.dNormalDev($C$3-((1-(501-$BO26)/500)/$BQ$21),$D$3),0)","v":0},null,null,{"$f":"_xll.dRandReal($C$1,$D$1)","v":2.3028714349493384E-2},{"$f":"_xll.dNormalDev($C$2,$D$2)","v":4.3525290998011675E-2},{"$f":"_xll.dLogNormalDev($C$5,$D$5)","v":1.1801351535360758},1,1,{"$f":"_xll.dRandInt($C$7,$D$7)","v":23},{"$f":"IF(RAND()<$F$1,_xll.dNormalDev($C$3,$D$3),0)","v":0},{"$f":"IF(RAND()<$F$1,_xll.dNormalDev($C$3,$D$3),0)","v":0},{"$f":"IF(RAND()<$F$1,_xll.dNormalDev($C$3,$D$3),0)","v":0},0,{"$f":"IF(RAND()<$F$1,_xll.dNormalDev($C$3,$D$3),0)","v":0},{"$f":"IF(RAND()<$F$1,_xll.dNormalDev($C$3,$D$3),0)","v":-1.4080931288477455E-2},{"$f":"IF(RAND()<$F$1,_xll.dNormalDev($C$3,$D$3),0)","v":0},{"$f":"IF(RAND()<$F$1,_xll.dNormalDev($C$3,$D$3),0)","v":0},{"$f":"IF(RAND()<$F$1,_xll.dNormalDev($C$3,$D$3),0)","v":0},{"$f":"IF(RAND()<$F$1,_xll.dNormalDev($C$3,$D$3),0)","v":0}]
["grower6",1.0682308233240385,8.6989172659912614E-2,null,null,null,4,0.4,4.9670450920369057E-3,2.438173271319154E-2,3.8706916551977562E-2,4.2592252786889523E-2,2.1303850726690145E-2,2.5294713350012901E-2,7.8630453674122698E-3,7.9670280567370362E-3,8.0236639012582611E-3,3.5447545617353172E-2,0,0,null,{"$f":"SUM(T84:T103)","v":0},null,{"$f":"I12*AVERAGE($L24:$L522)","v":0},0,0,0,0,-2.9078340775556591E-3,1.1468616870279492E-2,0,-7.7181427398121073E-3,5.1940143659235062E-3,null,null,{"$f":"IF(RAND()<$F$1,_xll.dNormalDev($C$3,$D$3),0)","v":0},{"$f":"IF(RAND()<$F$1,_xll.dNormalDev($C$3,$D$3),0)","v":0},{"$f":"IF(RAND()<$F$1,_xll.dNormalDev($C$3,$D$3),0)","v":-9.3998984653904123E-3},0,{"$f":"IF(RAND()<$F$1,_xll.dNormalDev($C$3,$D$3),0)","v":0},{"$f":"IF(RAND()<$F$1,_xll.dNormalDev($C$3,$D$3),0)","v":0},{"$f":"IF(RAND()<$F$1,_xll.dNormalDev($C$3,$D$3),0)","v":0},{"$f":"IF(RAND()<$F$1,_xll.dNormalDev($C$3,$D$3),0)","v":-6.8199988801557979E-3},{"$f":"IF(RAND()<$F$1,_xll.dNormalDev($C$3,$D$3),0)","v":0},{"$f":"IF(RAND()<$F$1,_xll.dNormalDev($C$3,$D$3),0)","v":0},null,null,null,null,null,null,null,null,null,null,null,null,null,null,null,5,null,{"$f":"_xll.dRandReal($C$1,$D$1)","v":3.3215986820869146E-2},{"$f":"_xll.dNormalDev($C$2,$D$2)","v":6.1870938847883319E-2},{"$f":"_xll.dNormalDev($C$4,$D$4)","v":1.0703540277044337},1,{"$f":"_xll.dRandInt($C$6,BI27*$BO$6)","v":1},{"$f":"_xll.dRandInt($C$7,$D$7)","v":15},{"$f":"IF(RAND()<$F$1,_xll.dNormalDev($C$3-((1-(501-$BO27)/500)/$BQ$21),$D$3),0)","v":0},{"$f":"IF(RAND()<$F$1,_xll.dNormalDev($C$3-((1-(501-$BO27)/500)/$BQ$21),$D$3),0)","v":0},{"$f":"IF(RAND()<$F$1,_xll.dNormalDev($C$3-((1-(501-$BO27)/500)/$BQ$21),$D$3),0)","v":0},{"$f":"IF(RAND()<$F$1,_xll.dNormalDev($C$3-((1-(501-$BO27)/500)/$BQ$21),$D$3),0)","v":0},{"$f":"IF(RAND()<$F$1,_xll.dNormalDev($C$3-((1-(501-$BO27)/500)/$BQ$21),$D$3),0)","v":8.2052800723301875E-3},{"$f":"IF(RAND()<$F$1,_xll.dNormalDev($C$3-((1-(501-$BO27)/500)/$BQ$21),$D$3),0)","v":0},{"$f":"IF(RAND()<$F$1,_xll.dNormalDev($C$3-((1-(501-$BO27)/500)/$BQ$21),$D$3),0)","v":0},{"$f":"IF(RAND()<$F$1,_xll.dNormalDev($C$3-((1-(501-$BO27)/500)/$BQ$21),$D$3),0)","v":0},{"$f":"IF(RAND()<$F$1,_xll.dNormalDev($C$3-((1-(501-$BO27)/500)/$BQ$21),$D$3),0)","v":0},{"$f":"IF(RAND()<$F$1,_xll.dNormalDev($C$3-((1-(501-$BO27)/500)/$BQ$21),$D$3),0)","v":0},null,null,{"$f":"_xll.dRandReal($C$1,$D$1)","v":7.5844215112738315E-3},{"$f":"_xll.dNormalDev($C$2,$D$2)","v":6.3221300244805045E-2},{"$f":"_xll.dNormalDev($C$4,$D$4)","v":0.92462360118014608},1,{"$f":"_xll.dRandInt($C$6,CA27*$BO$6)","v":1},{"$f":"_xll.dRandInt($C$7,$D$7)","v":24},{"$f":"IF(RAND()<$F$1,_xll.dNormalDev($C$3,$D$3),0)","v":0},{"$f":"IF(RAND()<$F$1,_xll.dNormalDev($C$3,$D$3),0)","v":0},{"$f":"IF(RAND()<$F$1,_xll.dNormalDev($C$3,$D$3),0)","v":0},{"$f":"IF(RAND()<$F$1,_xll.dNormalDev($C$3,$D$3),0)","v":0},0,{"$f":"IF(RAND()<$F$1,_xll.dNormalDev($C$3,$D$3),0)","v":0},{"$f":"IF(RAND()<$F$1,_xll.dNormalDev($C$3,$D$3),0)","v":-3.7749785205428425E-2},{"$f":"IF(RAND()<$F$1,_xll.dNormalDev($C$3,$D$3),0)","v":0},{"$f":"IF(RAND()<$F$1,_xll.dNormalDev($C$3,$D$3),0)","v":0},{"$f":"IF(RAND()<$F$1,_xll.dNormalDev($C$3,$D$3),0)","v":0}]
["grower7",0.74602628317949038,7.8630453674122698E-3,null,null,null,5,0.5,5.2232950744205697E-3,2.5551512364486561E-2,4.0687433699579244E-2,4.4348289724514128E-2,2.1303850726690145E-2,2.5294713350012901E-2,7.8630453674122698E-3,7.9670280567370362E-3,8.0236639012582611E-3,3.5447545617353172E-2,0,0,null,{"$f":"SUM(T104:T123)","v":0},null,{"$f":"I14*AVERAGE($N24:$N522)","v":0},0,0,0,0,0,-2.1665285776693844E-2,0,0,0,null,null,{"$f":"IF(RAND()<$F$1,_xll.dNormalDev($C$3,$D$3),0)","v":0},{"$f":"IF(RAND()<$F$1,_xll.dNormalDev($C$3,$D$3),0)","v":1.2989867801011484E-3},{"$f":"IF(RAND()<$F$1,_xll.dNormalDev($C$3,$D$3),0)","v":0},{"$f":"IF(RAND()<$F$1,_xll.dNormalDev($C$3,$D$3),0)","v":0},0,{"$f":"IF(RAND()<$F$1,_xll.dNormalDev($C$3,$D$3),0)","v":0},{"$f":"IF(RAND()<$F$1,_xll.dNormalDev($C$3,$D$3),0)","v":0},{"$f":"IF(RAND()<$F$1,_xll.dNormalDev($C$3,$D$3),0)","v":-3.1080318418155974E-2},{"$f":"IF(RAND()<$F$1,_xll.dNormalDev($C$3,$D$3),0)","v":0},{"$f":"IF(RAND()<$F$1,_xll.dNormalDev($C$3,$D$3),0)","v":0},null,null,null,null,null,null,null,null,null,null,null,null,null,null,null,6,null,{"$f":"_xll.dRandReal($C$1,$D$1)","v":3.2856777228880675E-2},{"$f":"_xll.dNormalDev($C$2,$D$2)","v":3.9544949891993093E-2},{"$f":"_xll.dNormalDev($C$4,$D$4)","v":0.98836608901571155},1,{"$f":"_xll.dRandInt($C$6,BI28*$BO$6)","v":132},{"$f":"_xll.dRandInt($C$7,$D$7)","v":23},{"$f":"IF(RAND()<$F$1,_xll.dNormalDev($C$3-((1-(501-$BO28)/500)/$BQ$21),$D$3),0)","v":0},{"$f":"IF(RAND()<$F$1,_xll.dNormalDev($C$3-((1-(501-$BO28)/500)/$BQ$21),$D$3),0)","v":-1.3485059212184972E-2},{"$f":"IF(RAND()<$F$1,_xll.dNormalDev($C$3-((1-(501-$BO28)/500)/$BQ$21),$D$3),0)","v":0},{"$f":"IF(RAND()<$F$1,_xll.dNormalDev($C$3-((1-(501-$BO28)/500)/$BQ$21),$D$3),0)","v":-4.9737875221236467E-3},{"$f":"IF(RAND()<$F$1,_xll.dNormalDev($C$3-((1-(501-$BO28)/500)/$BQ$21),$D$3),0)","v":0},{"$f":"IF(RAND()<$F$1,_xll.dNormalDev($C$3-((1-(501-$BO28)/500)/$BQ$21),$D$3),0)","v":0},{"$f":"IF(RAND()<$F$1,_xll.dNormalDev($C$3-((1-(501-$BO28)/500)/$BQ$21),$D$3),0)","v":0},{"$f":"IF(RAND()<$F$1,_xll.dNormalDev($C$3-((1-(501-$BO28)/500)/$BQ$21),$D$3),0)","v":0},{"$f":"IF(RAND()<$F$1,_xll.dNormalDev($C$3-((1-(501-$BO28)/500)/$BQ$21),$D$3),0)","v":0},{"$f":"IF(RAND()<$F$1,_xll.dNormalDev($C$3-((1-(501-$BO28)/500)/$BQ$21),$D$3),0)","v":0},null,null,{"$f":"_xll.dRandReal($C$1,$D$1)","v":8.6371714831329893E-3},{"$f":"_xll.dNormalDev($C$2,$D$2)","v":5.8619202494958167E-2},{"$f":"_xll.dNormalDev($C$4,$D$4)","v":1.166948839317274},1,{"$f":"_xll.dRandInt($C$6,CA28*$BO$6)","v":1},{"$f":"_xll.dRandInt($C$7,$D$7)","v":16},{"$f":"IF(RAND()<$F$1,_xll.dNormalDev($C$3,$D$3),0)","v":0},{"$f":"IF(RAND()<$F$1,_xll.dNormalDev($C$3,$D$3),0)","v":0},{"$f":"IF(RAND()<$F$1,_xll.dNormalDev($C$3,$D$3),0)","v":0},{"$f":"IF(RAND()<$F$1,_xll.dNormalDev($C$3,$D$3),0)","v":0},{"$f":"IF(RAND()<$F$1,_xll.dNormalDev($C$3,$D$3),0)","v":1.6978966984609517E-2},0,{"$f":"IF(RAND()<$F$1,_xll.dNormalDev($C$3,$D$3),0)","v":0},{"$f":"IF(RAND()<$F$1,_xll.dNormalDev($C$3,$D$3),0)","v":0},{"$f":"IF(RAND()<$F$1,_xll.dNormalDev($C$3,$D$3),0)","v":0},{"$f":"IF(RAND()<$F$1,_xll.dNormalDev($C$3,$D$3),0)","v":0}]
["grower8",1.383886443801519,7.9670280567370362E-3,null,null,null,6,0.6,5.4926620237671728E-3,2.6775947126607951E-2,4.2765110554865905E-2,4.617299579721322E-2,2.1303850726690145E-2,2.5294713350012901E-2,7.8630453674122698E-3,7.9670280567370362E-3,8.0236639012582611E-3,3.5447545617353172E-2,0,0,null,{"$f":"SUM(T124:T143)","v":0},null,{"$f":"I15*AVERAGE($O24:$O522)","v":9.4498777638724381E-3},0,0,0,0,1.7250768682606124E-2,0,0,0,-3.3852716939280904E-3,null,null,{"$f":"IF(RAND()<$F$1,_xll.dNormalDev($C$3,$D$3),0)","v":0},{"$f":"IF(RAND()<$F$1,_xll.dNormalDev($C$3,$D$3),0)","v":0},{"$f":"IF(RAND()<$F$1,_xll.dNormalDev($C$3,$D$3),0)","v":0},{"$f":"IF(RAND()<$F$1,_xll.dNormalDev($C$3,$D$3),0)","v":0},{"$f":"IF(RAND()<$F$1,_xll.dNormalDev($C$3,$D$3),0)","v":0},0,{"$f":"IF(RAND()<$F$1,_xll.dNormalDev($C$3,$D$3),0)","v":0},{"$f":"IF(RAND()<$F$1,_xll.dNormalDev($C$3,$D$3),0)","v":0},{"$f":"IF(RAND()<$F$1,_xll.dNormalDev($C$3,$D$3),0)","v":-8.3844330931884216E-4},{"$f":"IF(RAND()<$F$1,_xll.dNormalDev($C$3,$D$3),0)","v":0},null,null,null,null,null,null,null,null,null,null,null,null,null,null,null,7,null,{"$f":"_xll.dRandReal($C$1,$D$1)","v":4.3443650892004373E-2},{"$f":"_xll.dNormalDev($C$2,$D$2)","v":5.0791879880588586E-2},{"$f":"_xll.dNormalDev($C$4,$D$4)","v":0.95091979487810463},1,{"$f":"_xll.dRandInt($C$6,BI29*$BO$6)","v":188},{"$f":"_xll.dRandInt($C$7,$D$7)","v":17},{"$f":"IF(RAND()<$F$1,_xll.dNormalDev($C$3-((1-(501-$BO29)/500)/$BQ$21),$D$3),0)","v":0},{"$f":"IF(RAND()<$F$1,_xll.dNormalDev($C$3-((1-(501-$BO29)/500)/$BQ$21),$D$3),0)","v":0},{"$f":"IF(RAND()<$F$1,_xll.dNormalDev($C$3-((1-(501-$BO29)/500)/$BQ$21),$D$3),0)","v":0},{"$f":"IF(RAND()<$F$1,_xll.dNormalDev($C$3-((1-(501-$BO29)/500)/$BQ$21),$D$3),0)","v":0},{"$f":"IF(RAND()<$F$1,_xll.dNormalDev($C$3-((1-(501-$BO29)/500)/$BQ$21),$D$3),0)","v":0},{"$f":"IF(RAND()<$F$1,_xll.dNormalDev($C$3-((1-(501-$BO29)/500)/$BQ$21),$D$3),0)","v":0},{"$f":"IF(RAND()<$F$1,_xll.dNormalDev($C$3-((1-(501-$BO29)/500)/$BQ$21),$D$3),0)","v":0},{"$f":"IF(RAND()<$F$1,_xll.dNormalDev($C$3-((1-(501-$BO29)/500)/$BQ$21),$D$3),0)","v":0},{"$f":"IF(RAND()<$F$1,_xll.dNormalDev($C$3-((1-(501-$BO29)/500)/$BQ$21),$D$3),0)","v":-1.080474735511424E-2},{"$f":"IF(RAND()<$F$1,_xll.dNormalDev($C$3-((1-(501-$BO29)/500)/$BQ$21),$D$3),0)","v":0},null,null,{"$f":"_xll.dRandReal($C$1,$D$1)","v":1.9384200579952451E-2},{"$f":"_xll.dNormalDev($C$2,$D$2)","v":5.017762132215893E-2},{"$f":"_xll.dNormalDev($C$4,$D$4)","v":0.79335222996621668},1,{"$f":"_xll.dRandInt($C$6,CA29*$BO$6)","v":1},{"$f":"_xll.dRandInt($C$7,$D$7)","v":11},{"$f":"IF(RAND()<$F$1,_xll.dNormalDev($C$3,$D$3),0)","v":-3.5261674816235426E-2},{"$f":"IF(RAND()<$F$1,_xll.dNormalDev($C$3,$D$3),0)","v":1.3613911301129308E-2},{"$f":"IF(RAND()<$F$1,_xll.dNormalDev($C$3,$D$3),0)","v":0},{"$f":"IF(RAND()<$F$1,_xll.dNormalDev($C$3,$D$3),0)","v":0},{"$f":"IF(RAND()<$F$1,_xll.dNormalDev($C$3,$D$3),0)","v":7.9420303703275092E-3},{"$f":"IF(RAND()<$F$1,_xll.dNormalDev($C$3,$D$3),0)","v":1.5361256766783833E-2},0,{"$f":"IF(RAND()<$F$1,_xll.dNormalDev($C$3,$D$3),0)","v":0},{"$f":"IF(RAND()<$F$1,_xll.dNormalDev($C$3,$D$3),0)","v":0},{"$f":"IF(RAND()<$F$1,_xll.dNormalDev($C$3,$D$3),0)","v":0}]
["grower9",1.060974086560172,2.2000660641628769E-2,null,null,null,7,0.7,5.7758064863027148E-3,2.8057446849633898E-2,4.4944276832941603E-2,4.8068743928376914E-2,2.1303850726690145E-2,2.5294713350012901E-2,7.8630453674122698E-3,7.9670280567370362E-3,8.0236639012582611E-3,3.5447545617353172E-2,0,0,null,{"$f":"SUM(T144:T163)","v":0},{"$f":"SLOPE(V28:V33,U28:U33)","v":{"$error":"#DIV/0!"}},{"$f":"I16*AVERAGE($P24:$P522)","v":0},0,0,0,0,-4.5295529449875286E-4,0,0,6.1958861594225423E-3,-1.3283328967769872E-2,null,null,{"$f":"IF(RAND()<$F$1,_xll.dNormalDev($C$3,$D$3),0)","v":0},{"$f":"IF(RAND()<$F$1,_xll.dNormalDev($C$3,$D$3),0)","v":0},{"$f":"IF(RAND()<$F$1,_xll.dNormalDev($C$3,$D$3),0)","v":0},{"$f":"IF(RAND()<$F$1,_xll.dNormalDev($C$3,$D$3),0)","v":0},{"$f":"IF(RAND()<$F$1,_xll.dNormalDev($C$3,$D$3),0)","v":0},{"$f":"IF(RAND()<$F$1,_xll.dNormalDev($C$3,$D$3),0)","v":0},0,{"$f":"IF(RAND()<$F$1,_xll.dNormalDev($C$3,$D$3),0)","v":0},{"$f":"IF(RAND()<$F$1,_xll.dNormalDev($C$3,$D$3),0)","v":0},{"$f":"IF(RAND()<$F$1,_xll.dNormalDev($C$3,$D$3),0)","v":0},null,null,null,null,null,null,null,null,null,null,null,null,null,null,null,8,null,{"$f":"_xll.dRandReal($C$1,$D$1)","v":4.2514993238728496E-2},{"$f":"_xll.dNormalDev($C$2,$D$2)","v":5.1274789020499929E-2},{"$f":"_xll.dNormalDev($C$4,$D$4)","v":1.1184248498750353},1,{"$f":"_xll.dRandInt($C$6,BI30*$BO$6)","v":179},{"$f":"_xll.dRandInt($C$7,$D$7)","v":18},{"$f":"IF(RAND()<$F$1,_xll.dNormalDev($C$3-((1-(501-$BO30)/500)/$BQ$21),$D$3),0)","v":0},{"$f":"IF(RAND()<$F$1,_xll.dNormalDev($C$3-((1-(501-$BO30)/500)/$BQ$21),$D$3),0)","v":0},{"$f":"IF(RAND()<$F$1,_xll.dNormalDev($C$3-((1-(501-$BO30)/500)/$BQ$21),$D$3),0)","v":0},{"$f":"IF(RAND()<$F$1,_xll.dNormalDev($C$3-((1-(501-$BO30)/500)/$BQ$21),$D$3),0)","v":0},{"$f":"IF(RAND()<$F$1,_xll.dNormalDev($C$3-((1-(501-$BO30)/500)/$BQ$21),$D$3),0)","v":0},{"$f":"IF(RAND()<$F$1,_xll.dNormalDev($C$3-((1-(501-$BO30)/500)/$BQ$21),$D$3),0)","v":0},{"$f":"IF(RAND()<$F$1,_xll.dNormalDev($C$3-((1-(501-$BO30)/500)/$BQ$21),$D$3),0)","v":0},{"$f":"IF(RAND()<$F$1,_xll.dNormalDev($C$3-((1-(501-$BO30)/500)/$BQ$21),$D$3),0)","v":0},{"$f":"IF(RAND()<$F$1,_xll.dNormalDev($C$3-((1-(501-$BO30)/500)/$BQ$21),$D$3),0)","v":0},{"$f":"IF(RAND()<$F$1,_xll.dNormalDev($C$3-((1-(501-$BO30)/500)/$BQ$21),$D$3),0)","v":0},null,null,{"$f":"_xll.dRandReal($C$1,$D$1)","v":4.5304382813628766E-2},{"$f":"_xll.dNormalDev($C$2,$D$2)","v":4.6241234903325115E-2},{"$f":"_xll.dNormalDev($C$4,$D$4)","v":1.1212811882842757},1,{"$f":"_xll.dRandInt($C$6,CA30*$BO$6)","v":1},{"$f":"_xll.dRandInt($C$7,$D$7)","v":22},{"$f":"IF(RAND()<$F$1,_xll.dNormalDev($C$3,$D$3),0)","v":0},{"$f":"IF(RAND()<$F$1,_xll.dNormalDev($C$3,$D$3),0)","v":0},{"$f":"IF(RAND()<$F$1,_xll.dNormalDev($C$3,$D$3),0)","v":0},{"$f":"IF(RAND()<$F$1,_xll.dNormalDev($C$3,$D$3),0)","v":0},{"$f":"IF(RAND()<$F$1,_xll.dNormalDev($C$3,$D$3),0)","v":3.3775434130533704E-3},{"$f":"IF(RAND()<$F$1,_xll.dNormalDev($C$3,$D$3),0)","v":0},{"$f":"IF(RAND()<$F$1,_xll.dNormalDev($C$3,$D$3),0)","v":0},0,{"$f":"IF(RAND()<$F$1,_xll.dNormalDev($C$3,$D$3),0)","v":0},{"$f":"IF(RAND()<$F$1,_xll.dNormalDev($C$3,$D$3),0)","v":0}]
["grower10",0.18561892891524245,3.5447545617353172E-2,"emerg",null,null,8,0.8,6.0734211220263368E-3,2.9398513588923956E-2,4.7229409610016551E-2,5.0037962930599332E-2,2.1303850726690145E-2,2.5294713350012901E-2,7.8630453674122698E-3,7.9670280567370362E-3,8.0236639012582611E-3,3.5447545617353172E-2,0,0,null,{"$f":"SUM(T164:T183)","v":0},null,{"$f":"I17*AVERAGE($Q24:$Q522)","v":-1.7638369554570602E-2},0,0,0,0,0,0,0,0,0,null,null,{"$f":"IF(RAND()<$F$1,_xll.dNormalDev($C$3,$D$3),0)","v":0},{"$f":"IF(RAND()<$F$1,_xll.dNormalDev($C$3,$D$3),0)","v":0},{"$f":"IF(RAND()<$F$1,_xll.dNormalDev($C$3,$D$3),0)","v":2.1595073540203315E-2},{"$f":"IF(RAND()<$F$1,_xll.dNormalDev($C$3,$D$3),0)","v":0},{"$f":"IF(RAND()<$F$1,_xll.dNormalDev($C$3,$D$3),0)","v":0},{"$f":"IF(RAND()<$F$1,_xll.dNormalDev($C$3,$D$3),0)","v":0},{"$f":"IF(RAND()<$F$1,_xll.dNormalDev($C$3,$D$3),0)","v":0},0,{"$f":"IF(RAND()<$F$1,_xll.dNormalDev($C$3,$D$3),0)","v":0},{"$f":"IF(RAND()<$F$1,_xll.dNormalDev($C$3,$D$3),0)","v":0},null,null,null,null,null,null,null,null,null,null,null,null,null,null,null,9,null,{"$f":"_xll.dRandReal($C$1,$D$1)","v":4.7851192508824171E-2},{"$f":"_xll.dNormalDev($C$2,$D$2)","v":4.1660272373144819E-2},{"$f":"_xll.dNormalDev($C$4,$D$4)","v":1.0251106470695757},1,{"$f":"_xll.dRandInt($C$6,BI31*$BO$6)","v":223},{"$f":"_xll.dRandInt($C$7,$D$7)","v":18},{"$f":"IF(RAND()<$F$1,_xll.dNormalDev($C$3-((1-(501-$BO31)/500)/$BQ$21),$D$3),0)","v":0},{"$f":"IF(RAND()<$F$1,_xll.dNormalDev($C$3-((1-(501-$BO31)/500)/$BQ$21),$D$3),0)","v":0},{"$f":"IF(RAND()<$F$1,_xll.dNormalDev($C$3-((1-(501-$BO31)/500)/$BQ$21),$D$3),0)","v":0},{"$f":"IF(RAND()<$F$1,_xll.dNormalDev($C$3-((1-(501-$BO31)/500)/$BQ$21),$D$3),0)","v":0},{"$f":"IF(RAND()<$F$1,_xll.dNormalDev($C$3-((1-(501-$BO31)/500)/$BQ$21),$D$3),0)","v":0},{"$f":"IF(RAND()<$F$1,_xll.dNormalDev($C$3-((1-(501-$BO31)/500)/$BQ$21),$D$3),0)","v":0},{"$f":"IF(RAND()<$F$1,_xll.dNormalDev($C$3-((1-(501-$BO31)/500)/$BQ$21),$D$3),0)","v":0},{"$f":"IF(RAND()<$F$1,_xll.dNormalDev($C$3-((1-(501-$BO31)/500)/$BQ$21),$D$3),0)","v":0},{"$f":"IF(RAND()<$F$1,_xll.dNormalDev($C$3-((1-(501-$BO31)/500)/$BQ$21),$D$3),0)","v":-1.0038261776548849E-2},{"$f":"IF(RAND()<$F$1,_xll.dNormalDev($C$3-((1-(501-$BO31)/500)/$BQ$21),$D$3),0)","v":0},null,null,{"$f":"_xll.dRandReal($C$1,$D$1)","v":2.8526110749226063E-2},{"$f":"_xll.dNormalDev($C$2,$D$2)","v":4.5811099331372424E-2},{"$f":"_xll.dNormalDev($C$4,$D$4)","v":1.1685027427559218},1,{"$f":"_xll.dRandInt($C$6,CA31*$BO$6)","v":1},{"$f":"_xll.dRandInt($C$7,$D$7)","v":23},{"$f":"IF(RAND()<$F$1,_xll.dNormalDev($C$3,$D$3),0)","v":0},{"$f":"IF(RAND()<$F$1,_xll.dNormalDev($C$3,$D$3),0)","v":0},{"$f":"IF(RAND()<$F$1,_xll.dNormalDev($C$3,$D$3),0)","v":0},{"$f":"IF(RAND()<$F$1,_xll.dNormalDev($C$3,$D$3),0)","v":0},{"$f":"IF(RAND()<$F$1,_xll.dNormalDev($C$3,$D$3),0)","v":1.2882288420603752E-2},{"$f":"IF(RAND()<$F$1,_xll.dNormalDev($C$3,$D$3),0)","v":1.065610898284312E-2},{"$f":"IF(RAND()<$F$1,_xll.dNormalDev($C$3,$D$3),0)","v":0},{"$f":"IF(RAND()<$F$1,_xll.dNormalDev($C$3,$D$3),0)","v":0},0,{"$f":"IF(RAND()<$F$1,_xll.dNormalDev($C$3,$D$3),0)","v":0}]
["avg",{"$f":"AVERAGE(I24:R522)","v":0.53139714357802548},null,{"$f":"K24","v":3.3307219028938566E-2},null,null,9,0.9,6.3862321441105676E-3,3.0801743739382603E-2,4.9625133426523291E-2,5.2083136539061041E-2,2.1303850726690145E-2,2.5294713350012901E-2,7.8630453674122698E-3,7.9670280567370362E-3,8.0236639012582611E-3,3.5447545617353172E-2,0,0,null,{"$f":"SUM(T184:T203)","v":0},null,{"$f":"I18*AVERAGE($R24:$R522)","v":0},0,0,0,0,0,0,0,0,0,null,null,{"$f":"IF(RAND()<$F$1,_xll.dNormalDev($C$3,$D$3),0)","v":0},{"$f":"IF(RAND()<$F$1,_xll.dNormalDev($C$3,$D$3),0)","v":0},{"$f":"IF(RAND()<$F$1,_xll.dNormalDev($C$3,$D$3),0)","v":1.313928092982998E-2},{"$f":"IF(RAND()<$F$1,_xll.dNormalDev($C$3,$D$3),0)","v":0},{"$f":"IF(RAND()<$F$1,_xll.dNormalDev($C$3,$D$3),0)","v":0},{"$f":"IF(RAND()<$F$1,_xll.dNormalDev($C$3,$D$3),0)","v":0},{"$f":"IF(RAND()<$F$1,_xll.dNormalDev($C$3,$D$3),0)","v":-2.2459726287230818E-2},{"$f":"IF(RAND()<$F$1,_xll.dNormalDev($C$3,$D$3),0)","v":0},0,{"$f":"IF(RAND()<$F$1,_xll.dNormalDev($C$3,$D$3),0)","v":0},null,null,null,null,null,null,null,null,null,null,null,null,null,null,null,10,null,{"$f":"_xll.dRandReal($C$1,$D$1)","v":4.0670540614519274E-2},{"$f":"_xll.dNormalDev($C$2,$D$2)","v":4.0622603149935217E-2},{"$f":"_xll.dNormalDev($C$4,$D$4)","v":1.1314743603656561},1,{"$f":"_xll.dRandInt($C$6,BI32*$BO$6)","v":115},{"$f":"_xll.dRandInt($C$7,$D$7)","v":17},{"$f":"IF(RAND()<$F$1,_xll.dNormalDev($C$3-((1-(501-$BO32)/500)/$BQ$21),$D$3),0)","v":-7.1913536031544319E-3},{"$f":"IF(RAND()<$F$1,_xll.dNormalDev($C$3-((1-(501-$BO32)/500)/$BQ$21),$D$3),0)","v":-1.5745149063947757E-2},{"$f":"IF(RAND()<$F$1,_xll.dNormalDev($C$3-((1-(501-$BO32)/500)/$BQ$21),$D$3),0)","v":0},{"$f":"IF(RAND()<$F$1,_xll.dNormalDev($C$3-((1-(501-$BO32)/500)/$BQ$21),$D$3),0)","v":-6.4487064574409144E-3},{"$f":"IF(RAND()<$F$1,_xll.dNormalDev($C$3-((1-(501-$BO32)/500)/$BQ$21),$D$3),0)","v":0},{"$f":"IF(RAND()<$F$1,_xll.dNormalDev($C$3-((1-(501-$BO32)/500)/$BQ$21),$D$3),0)","v":0},{"$f":"IF(RAND()<$F$1,_xll.dNormalDev($C$3-((1-(501-$BO32)/500)/$BQ$21),$D$3),0)","v":0},{"$f":"IF(RAND()<$F$1,_xll.dNormalDev($C$3-((1-(501-$BO32)/500)/$BQ$21),$D$3),0)","v":0},{"$f":"IF(RAND()<$F$1,_xll.dNormalDev($C$3-((1-(501-$BO32)/500)/$BQ$21),$D$3),0)","v":-7.4383426163603132E-3},{"$f":"IF(RAND()<$F$1,_xll.dNormalDev($C$3-((1-(501-$BO32)/500)/$BQ$21),$D$3),0)","v":0},null,null,{"$f":"_xll.dRandReal($C$1,$D$1)","v":3.898847772506997E-2},{"$f":"_xll.dNormalDev($C$2,$D$2)","v":3.756919296556796E-2},{"$f":"_xll.dNormalDev($C$4,$D$4)","v":1.1532854821253404},1,{"$f":"_xll.dRandInt($C$6,CA32*$BO$6)","v":1},{"$f":"_xll.dRandInt($C$7,$D$7)","v":23},{"$f":"IF(RAND()<$F$1,_xll.dNormalDev($C$3,$D$3),0)","v":0},{"$f":"IF(RAND()<$F$1,_xll.dNormalDev($C$3,$D$3),0)","v":1.2963400420340616E-2},{"$f":"IF(RAND()<$F$1,_xll.dNormalDev($C$3,$D$3),0)","v":0},{"$f":"IF(RAND()<$F$1,_xll.dNormalDev($C$3,$D$3),0)","v":0},{"$f":"IF(RAND()<$F$1,_xll.dNormalDev($C$3,$D$3),0)","v":0},{"$f":"IF(RAND()<$F$1,_xll.dNormalDev($C$3,$D$3),0)","v":0},{"$f":"IF(RAND()<$F$1,_xll.dNormalDev($C$3,$D$3),0)","v":0},{"$f":"IF(RAND()<$F$1,_xll.dNormalDev($C$3,$D$3),0)","v":0},{"$f":"IF(RAND()<$F$1,_xll.dNormalDev($C$3,$D$3),0)","v":0},0]
["stdev",{"$f":"STDEV(I24:R522)","v":0.42400594152299065},null,{"$f":"K44","v":8.8875454344504334E-2},null,null,10,1,6.7150008097045764E-3,3.226983006894988E-2,5.2136219748964222E-2,5.4206802192445155E-2,2.1303850726690145E-2,2.5294713350012901E-2,7.8630453674122698E-3,7.9670280567370362E-3,8.0236639012582611E-3,3.5447545617353172E-2,0,0,null,{"$f":"SUM(T104:T123)","v":0},null,{"$f":"SUM(X24:X32)","v":-8.1884917906981641E-3},0,-1.0315784735416023E-2,0,0,-8.017209339417436E-3,-1.0196668906414352E-2,4.2146214054888448E-3,-1.522256580389565E-3,-4.2362553965811449E-2,null,null,{"$f":"IF(RAND()<$F$1,_xll.dNormalDev($C$3,$D$3),0)","v":0},{"$f":"IF(RAND()<$F$1,_xll.dNormalDev($C$3,$D$3),0)","v":0},{"$f":"IF(RAND()<$F$1,_xll.dNormalDev($C$3,$D$3),0)","v":0},{"$f":"IF(RAND()<$F$1,_xll.dNormalDev($C$3,$D$3),0)","v":0},{"$f":"IF(RAND()<$F$1,_xll.dNormalDev($C$3,$D$3),0)","v":0},{"$f":"IF(RAND()<$F$1,_xll.dNormalDev($C$3,$D$3),0)","v":-4.7509924969316233E-2},{"$f":"IF(RAND()<$F$1,_xll.dNormalDev($C$3,$D$3),0)","v":3.5314353314601509E-3},{"$f":"IF(RAND()<$F$1,_xll.dNormalDev($C$3,$D$3),0)","v":0},{"$f":"IF(RAND()<$F$1,_xll.dNormalDev($C$3,$D$3),0)","v":0},0]
[null,null,null,{"$f":"K64","v":0.21769837428324987},null,null,11,1.1000000000000001,7.0605249624884269E-3,3.3805563630694709E-2,5.4767585714088504E-2,5.6411549541671449E-2,2.1303850726690145E-2,2.5294713350012901E-2,7.8630453674122698E-3,7.9670280567370362E-3,8.0236639012582611E-3,3.5447545617353172E-2,0,0,null,{"$f":"SUM(T124:T143)","v":0}]
["maxlevel",{"$f":"MAX(B22:B31)","v":1.383886443801519},null,{"$f":"K84","v":0.4469863475746178},null,null,12,1.2,7.4236406271238472E-3,3.5411835530973018E-2,5.7524292074084202E-2,5.8700018666089725E-2,2.1303850726690145E-2,2.5294713350012901E-2,7.8630453674122698E-3,7.9670280567370362E-3,8.0236639012582611E-3,3.5447545617353172E-2,0,0,null,{"$f":"SUM(T144:T163)","v":0},{"$f":"IF(RAND()<poisson_parameter*model!K35,1,0)","v":0},{"$f":"IF(RAND()<K24*$T$22,1,0)","v":0},1]
["average endlevel",{"$f":"AVERAGE(endlevel10)","v":0.77460347532584672},null,{"$f":"K104","v":0.70638291796173192},null,null,13,1.3,7.805223655514686E-3,3.7091638529100031E-2,6.0411540256646495E-2,6.1074897976203302E-2,2.1303850726690145E-2,2.5294713350012901E-2,7.8630453674122698E-3,7.9670280567370362E-3,8.0236639012582611E-3,3.5447545617353172E-2,0,0,null,{"$f":"SUM(T164:T183)","v":0},{"$f":"IF(RAND()<poisson_parameter*model!K36,1,0)","v":0},{"$f":"IF(RAND()<K25*$T$22,1,0)","v":0},2,null,null,null,null,null,null,null,null,null,null,null,null,null,null,null,null,null,null,null,null,null,null,null,null,null,null,null,null,null,null,null,null,null,null,null,null,null,null,null,null,null,{"$f":"$C$3-BP36/50","v":0},{"$f":"1-(501-BO23)/500","v":0}]
["totsupport maxlevel",{"$f":"AG20","v":-43.180048897524955},null,{"$f":"K124","v":0.86884693797902013},null,null,14,1.4,8.2061914245251111E-3,3.8848068441878249E-2,6.3434668449126458E-2,6.3538921781511687E-2,2.1303850726690145E-2,2.6248334926791891E-2,7.8630453674122698E-3,7.9670280567370362E-3,8.0236639012582611E-3,3.5447545617353172E-2,0,0,null,{"$f":"SUM(T184:T203)","v":0},{"$f":"IF(RAND()<poisson_parameter*model!K37,1,0)","v":0},{"$f":"IF(RAND()<(K26-$T$21)*$T$22*(1+SUM($X$35:X36)),1,0)","v":0},3,null,null,null,null,null,null,null,null,null,null,null,null,null,null,null,null,null,null,null,null,null,null,null,null,null,null,null,null,null,null,null,null,null,null,null,null,null,null,null,null,null,{"$f":"$C$3-BP37/50","v":0},{"$f":"1-(501-BO24)/500","v":0}]
["support maxlevel",{"$f":"my_lookup(B35,B22:B31,connectionsum)","v":8.9620962491570554E-3},null,{"$f":"K144","v":0.91761304024469637},null,null,15,1.5,8.6275045845025031E-3,4.0684325324125463E-2,6.6599146611571611E-2,6.6094867501685764E-2,2.1303850726690145E-2,2.7234571930772E-2,7.8630453674122698E-3,7.9670280567370362E-3,8.0236639012582611E-3,3.5447545617353172E-2,0,0,null,{"$f":"SUM(T204:T223)","v":0},{"$f":"IF(RAND()<poisson_parameter*model!K38,1,0)","v":0},{"$f":"IF(RAND()<(K27-$T$21)*$T$22*(1+pref_attach_on*SUM($X$35:X37)),1,0)","v":0},4,{"$f":"IF(AND(SUM($X$35:X37)=0,X38=1),Y38,\"\")","v":""},null,null,null,null,null,null,null,null,null,"Average","Median","Minimum","Maximum","Perc 0.025","Perc 0.975","StDev","Skewness","P value","# of simulations",null,null,null,null,null,null,null,null,null,null,null,null,null,null,null,null,null,null,null,null,null,{"$f":"$C$3-BP38/50","v":-3.520000000000001E-3},{"$f":"1-(501-BO25)/500","v":0.17600000000000005}]
["correl sum and max",{"$f":"CORREL(connectionsum,maxlevel10)","v":0.67990404399717186},null,{"$f":"K164","v":0.91570848760279544},null,null,16,1.6,9.0701688576115148E-3,4.2603714394069556E-2,6.9910570319449028E-2,6.8745552499038048E-2,2.1303850726690145E-2,2.8254259047648847E-2,7.8630453674122698E-3,7.9670280567370362E-3,8.0236639012582611E-3,3.5447545617353172E-2,0,0,null,{"$f":"SUM(T224:T243)","v":0},{"$f":"IF(RAND()<poisson_parameter*model!K39,1,0)","v":0},{"$f":"IF(RAND()<(K28^quadratic_condition*L28-$T$21)*$T$22*(1+pref_attach_on*SUM($X$35:X38)),1,0)","v":0},5,{"$f":"IF(AND(SUM($X$35:X38)=0,X39=1),Y39,\"\")","v":""},null,null,null,null,null,null,null,null,null,2.238,2,0,6,0,5,1.2619592236535728,0.31922963359951867,0.57399999999999995,500,null,null,null,null,null,null,null,null,null,null,null,null,null,null,null,null,null,null,null,null,null,-2.9200000000000003E-3,0.14600000000000002]
["correl carcap",{"$f":"CORREL(B22:B31,E10:E19)","v":-0.51447269603829737},null,{"$f":"K184","v":0.89592579146106111},null,null,17,1.7,9.5352368846023158E-3,4.4609646670128941E-2,7.3374653333317524E-2,7.1493830510144976E-2,2.1303850726690145E-2,2.9308228142263783E-2,7.8630453674122698E-3,7.9670280567370362E-3,8.0236639012582611E-3,3.5447545617353172E-2,0,0,null,{"$f":"SUM(T244:T263)","v":0},{"$f":"IF(RAND()<poisson_parameter*model!K40,1,0)","v":0},{"$f":"IF(RAND()<(K29^quadratic_condition*L29-$T$21)*$T$22*(1+pref_attach_on*SUM($X$35:X39)),1,0)","v":0},6,{"$f":"IF(AND(SUM($X$35:X39)=0,X40=1),Y40,\"\")","v":""},null,null,null,null,null,null,null,null,null,2.3079999999999998,2,0,6,0,5,1.2807875833514841,0.24231922045059553,0.628,500,null,null,null,null,null,null,null,null,null,null,null,null,null,null,null,null,null,null,null,null,null,0,0]
["correl rate",{"$f":"CORREL(B22:B31,D10:D19)","v":0.31114150395993656},null,{"$f":"K204","v":0.85467402109315893},null,null,18,1.8,1.0023810118205729E-2,4.6705639283193968E-2,7.6997218789828042E-2,7.4342587654539549E-2,2.1303850726690145E-2,3.0397305738563109E-2,7.8630453674122698E-3,7.9670280567370362E-3,8.0236639012582611E-3,3.5447545617353172E-2,0,0,null,{"$f":"SUM(T264:T283)","v":0},{"$f":"IF(RAND()<poisson_parameter*model!K41,1,0)","v":0},{"$f":"IF(RAND()<(K30^quadratic_condition*L30-$T$21)*$T$22*(1+pref_attach_on*SUM($X$35:X40)),1,0)","v":0},7,{"$f":"IF(AND(SUM($X$35:X40)=0,X41=1),Y41,\"\")","v":""},null,null,null,null,null,null,null,null,null,2.27,2,0,7,0,5,1.2394241988477468,0.53499264596935403,0.60599999999999998,500,null,null,null,null,null,null,null,null,null,null,null,null,null,null,null,null,null,null,null,null,null,-5.2399999999999999E-3,0.26200000000000001]
[null,null,null,{"$f":"K224","v":0.77119608896625658},null,null,19,1.9,1.0537040760866831E-2,4.8895315426081734E-2,8.0784188906336235E-2,7.7294737998644364E-2,2.1303850726690145E-2,3.1522310286074114E-2,7.8630453674122698E-3,7.9670280567370362E-3,8.0236639012582611E-3,3.5447545617353172E-2,0,0,null,{"$f":"SUM(T284:T303)","v":0},{"$f":"IF(RAND()<poisson_parameter*model!K42,1,0)","v":0},{"$f":"IF(RAND()<(K31^quadratic_condition*L31-$T$21)*$T$22*(1+pref_attach_on*SUM($X$35:X41)),1,0)","v":0},8,{"$f":"IF(AND(SUM($X$35:X41)=0,X42=1),Y42,\"\")","v":""},null,null,null,null,null,null,null,null,null,2.3199999999999998,2,0,8,0,5,1.2872116483528693,0.47347499093391321,0.59799999999999998,500,null,null,null,null,null,null,null,null,null,null,null,null,null,null,null,null,null,null,null,null,null,-7.4799999999999997E-3,0.374]
[null,null,null,{"$f":"E11","v":1.158190880086998},null,null,20,2,1.1076133743992297E-2,5.1182403899375756E-2,8.4741573090280922E-2,8.0353218653580499E-2,2.1303850726690145E-2,3.2684049205530835E-2,7.8630453674122698E-3,7.9670280567370362E-3,8.0236639012582611E-3,3.5447545617353172E-2,0,0,null,{"$f":"SUM(T304:T323)","v":0},{"$f":"IF(RAND()<poisson_parameter*model!K43,1,0)","v":0},{"$f":"IF(RAND()<(K32^quadratic_condition*L32-$T$21)*$T$22*(1+pref_attach_on*SUM($X$35:X42)),1,0)","v":0},9,{"$f":"IF(AND(SUM($X$35:X42)=0,X43=1),Y43,\"\")","v":""},null,null,null,null,null,null,null,null,null,2.2639999999999998,2,0,7,0,5,1.2543727124756849,0.37817002792818716,0.628,500,null,null,null,null,null,null,null,null,null,null,null,null,null,null,null,null,null,null,null,null,null,-7.1199999999999996E-3,0.35599999999999998]
[null,null,null,null,null,null,21,2.1,1.1642348745290952E-2,5.357073821040733E-2,8.8875454344504334E-2,8.3520984386193334E-2,2.1303850726690145E-2,3.3883315707111852E-2,7.8630453674122698E-3,7.9670280567370362E-3,8.0236639012582611E-3,3.5447545617353172E-2,0,0,null,{"$f":"SUM(T324:T343)","v":0},{"$f":"IF(RAND()<poisson_parameter*model!K44,1,0)","v":0},{"$f":"IF(RAND()<(K33^quadratic_condition*L33-$T$21)*$T$22*(1+pref_attach_on*SUM($X$35:X43)),1,0)","v":0},10,{"$f":"IF(AND(SUM($X$35:X43)=0,X44=1),Y44,\"\")","v":""},null,null,null,null,null,null,null,null,null,2.274,2,0,6,0,5,1.3647891040732976,0.3646352869207703,0.62,500,null,null,null,null,null,null,null,null,null,null,null,null,null,null,null,null,null,null,null,null,null,-8.879999999999999E-3,0.44399999999999995]
[null,null,null,null,null,null,22,2.2000000000000002,1.2237002240126948E-2,5.6064255179716277E-2,9.3191973861068408E-2,8.6801001723607066E-2,2.1303850726690145E-2,3.5120885375770107E-2,7.8630453674122698E-3,7.9670280567370362E-3,8.0236639012582611E-3,3.5447545617353172E-2,0,0,null,{"$f":"SUM(T344:T363)","v":0},{"$f":"IF(RAND()<poisson_parameter*model!K45,1,0)","v":0},{"$f":"IF(RAND()<(K34^quadratic_condition*L34-$T$21)*$T$22*(1+pref_attach_on*SUM($X$35:X44)),1,0)","v":0},11,{"$f":"IF(AND(SUM($X$35:X44)=0,X45=1),Y45,\"\")","v":""},null,null,null,null,null,null,null,null,null,2.286,2,0,7,0,5,1.2788568918764129,0.39931358867455802,0.59399999999999997,500,null,null,null,null,null,null,null,null,null,null,null,null,null,null,null,null,null,null,null,null,null,-4.5599999999999998E-3,0.22799999999999998]
[null,null,null,null,null,null,23,2.2999999999999998,1.2861469582076042E-2,5.8666993006979258E-2,9.7697313699071142E-2,9.0196242532882775E-2,2.1303850726690145E-2,3.6397512519357585E-2,7.8630453674122698E-3,7.9670280567370362E-3,8.0236639012582611E-3,3.5447545617353172E-2,0,0,null,{"$f":"SUM(T364:T383)","v":0},{"$f":"IF(RAND()<poisson_parameter*model!K46,1,0)","v":0},{"$f":"IF(RAND()<(K35^quadratic_condition*L35-$T$21)*$T$22*(1+pref_attach_on*SUM($X$35:X45)),1,0)","v":0},12,{"$f":"IF(AND(SUM($X$35:X45)=0,X46=1),Y46,\"\")","v":""},null,null,null,null,null,null,null,null,null,2.29,2,0,7,0,5,1.2445874802487704,0.24457294011863931,0.60799999999999998,500,null,null,null,null,null,null,null,null,null,null,null,null,null,null,null,null,null,null,null,null,null,{"$f":"$C$3-BP46/50","v":-1.9799999999999998E-2},0.99]
[null,null,null,null,null,null,24,2.4,1.3517187107072675E-2,6.1383088746153003E-2,0.10239767744671717,9.3709677058936805E-2,2.1303850726690145E-2,3.7713926276692254E-2,7.8630453674122698E-3,7.9670280567370362E-3,8.0236639012582611E-3,3.5447545617353172E-2,0,0,null,{"$f":"SUM(T384:T403)","v":0},{"$f":"IF(RAND()<poisson_parameter*model!K47,1,0)","v":0},{"$f":"IF(RAND()<(K36^quadratic_condition*L36-$T$21)*$T$22*(1+pref_attach_on*SUM($X$35:X46)),1,0)","v":0},13,{"$f":"IF(AND(SUM($X$35:X46)=0,X47=1),Y47,\"\")","v":""},null,null,null,null,null,null,null,null,null,2.2200000000000002,2,0,7,0,5,1.2879898430000691,0.39769733159603049,0.62,500]
[null,null,null,null,null,null,25,2.5,1.4205654254653971E-2,6.4216775137492105E-2,0.10729926877468222,9.7344266405803584E-2,2.1303850726690145E-2,3.9070826484396658E-2,7.8630453674122698E-3,7.9670280567370362E-3,8.0236639012582611E-3,3.5447545617353172E-2,0,0,null,{"$f":"SUM(T404:T423)","v":0},{"$f":"IF(RAND()<poisson_parameter*model!K48,1,0)","v":0},{"$f":"IF(RAND()<(K37^quadratic_condition*L37-$T$21)*$T$22*(1+pref_attach_on*SUM($X$35:X47)),1,0)","v":0},14,{"$f":"IF(AND(SUM($X$35:X47)=0,X48=1),Y48,\"\")","v":""},null,null,null,null,null,null,null,null,null,2.2200000000000002,2,0,6,0,5,1.2484860571387011,0.32188979469606976,1,500]
[null,null,null,null,null,null,26,2.6,1.4928435698841509E-2,6.7172376742217335E-2,0.11240826779687281,0.10110295444862531,2.1303850726690145E-2,4.0468879303271706E-2,7.8630453674122698E-3,7.9670280567370362E-3,8.0236639012582611E-3,3.5447545617353172E-2,0,0,null,{"$f":"SUM(T424:T463)","v":0},{"$f":"IF(RAND()<poisson_parameter*model!K49,1,0)","v":0},{"$f":"IF(RAND()<(K38^quadratic_condition*L38-$T$21)*$T$22*(1+pref_attach_on*SUM($X$35:X48)),1,0)","v":0},15,{"$f":"IF(AND(SUM($X$35:X48)=0,X49=1),Y49,\"\")","v":""},null,null,null,null,null,null,null,null,null,{"$f":"AVERAGE(AJ39:AJ48)","v":2.2689999999999997},null,null,null,null,null,{"$f":"AVERAGE(AP39:AP48)","v":1.2748464743018608}]
[null,null,null,null,null,null,27,2.7,1.568716348014771E-2,7.0254305323987104E-2,0.11773080516625907,0.10498865916644536,2.1303850726690145E-2,4.1908712607167838E-2,7.8630453674122698E-3,7.9670280567370362E-3,8.0236639012582611E-3,3.5447545617353172E-2,0,0,null,{"$f":"SUM(T464:T483)","v":0},{"$f":"IF(RAND()<poisson_parameter*model!K50,1,0)","v":0},{"$f":"IF(RAND()<(K39^quadratic_condition*L39-$T$21)*$T$22*(1+pref_attach_on*SUM($X$35:X49)),1,0)","v":0},16,{"$f":"IF(AND(SUM($X$35:X49)=0,X50=1),Y50,\"\")","v":""}]
[null,null,null,null,null,null,28,2.8,1.64835391290463E-2,7.3467054420024616E-2,0.12327293384778389,0.10900426338899437,2.1303850726690145E-2,4.3390911139789601E-2,7.8630453674122698E-3,7.9670280567370362E-3,8.0236639012582611E-3,3.5447545617353172E-2,0,0,null,{"$f":"SUM(T484:T503)","v":0},{"$f":"IF(RAND()<poisson_parameter*model!K51,1,0)","v":0},{"$f":"IF(RAND()<(K40^quadratic_condition*L40-$T$21)*$T$22*(1+pref_attach_on*SUM($X$35:X50)),1,0)","v":0},17,{"$f":"IF(AND(SUM($X$35:X50)=0,X51=1),Y51,\"\")","v":""},null,null,null,null,null,null,null,null,null,"Average","Median","Minimum","Maximum","Perc 0.025","Perc 0.975","StDev","Skewness","P value","# of simulations"]
[null,null,null,null,null,null,29,2.9,1.7319335770000825E-2,7.6815193043845709E-2,0.12904059852764246,0.1131526049542093,2.1303850726690145E-2,4.4916011447625394E-2,7.8630453674122698E-3,7.9670280567370362E-3,8.0236639012582611E-3,3.5447545617353172E-2,0,0,null,{"$f":"SUM(T504:T523)","v":0},{"$f":"IF(RAND()<poisson_parameter*model!K52,1,0)","v":0},{"$f":"IF(RAND()<(K41^quadratic_condition*L41-$T$21)*$T$22*(1+pref_attach_on*SUM($X$35:X51)),1,0)","v":0},18,{"$f":"IF(AND(SUM($X$35:X51)=0,X52=1),Y52,\"\")","v":""},null,null,null,null,null,null,null,null,null,2.222,2,0,6,0,5,1.3336020750188171,0.28408170381883546,1,1000]
[null,null,null,null,null,null,30,3,1.819640019379748E-2,8.0303358461092739E-2,0.13503960263867981,0.11743646627723119,2.1303850726690145E-2,4.6484496600235466E-2,7.8630453674122698E-3,7.9670280567370362E-3,8.0236639012582611E-3,3.5447545617353172E-2,0,0,null,null,{"$f":"IF(RAND()<poisson_parameter*model!K53,1,0)","v":0},{"$f":"IF(RAND()<(K42^quadratic_condition*L42-$T$21)*$T$22*(1+pref_attach_on*SUM($X$35:X52)),1,0)","v":0},19,{"$f":"IF(AND(SUM($X$35:X52)=0,X53=1),Y53,\"\")","v":""},null,null,null,null,null,null,null,null,null,2.3029999999999999,2,0,7,0,5,1.3729807267678873,0.41518971227189233,1,1000]
[null,null,null,null,null,null,31,3.1,1.9116654884474702E-2,8.3936247980089834E-2,0.14127557300543245,0.12185856333610107,2.1303850726690145E-2,4.8096790712456455E-2,7.8630453674122698E-3,7.9670280567370362E-3,8.4454282643519323E-3,3.5447545617353172E-2,0,0,null,null,{"$f":"IF(RAND()<poisson_parameter*model!K54,1,0)","v":0},{"$f":"IF(RAND()<(K43^quadratic_condition*L43-$T$21)*$T$22*(1+pref_attach_on*SUM($X$35:X53)),1,0)","v":0},20,{"$f":"IF(AND(SUM($X$35:X53)=0,X54=1),Y54,\"\")","v":""},null,null,null,null,null,null,null,null,null,2.2440000000000002,2,0,7,0,5,1.2830082268286942,0.51182775557225313,1,1000]
[null,null,null,null,null,null,32,3.2,2.0081886103884089E-2,8.7718609699481517E-2,0.1477539221395639,0.12642153408432177,2.1303850726690145E-2,4.9753253286682828E-2,7.8630453674122698E-3,7.9670280567370362E-3,8.888776435167443E-3,3.5447545617353172E-2,0,0,null,null,{"$f":"IF(RAND()<poisson_parameter*model!K55,1,0)","v":0},{"$f":"IF(RAND()<(K44^quadratic_condition*L44-$T$21)*$T$22*(1+pref_attach_on*SUM($X$35:X54)),1,0)","v":0},21,{"$f":"IF(AND(SUM($X$35:X54)=0,X55=1),Y55,\"\")","v":""},null,null,null,null,null,null,null,null,null,2.25,2,0,6,0,5,1.2677172820101126,0.29944623403144754,1,1000]
[null,null,null,null,{"$f":"B22","v":0.69868469358391272},{"$f":"B24","v":0.91971762061484674},33,3.3,2.1094130035496268E-2,9.1655232156792624E-2,0.15447980893526825,0.13112792630587769,2.1303850726690145E-2,5.1454173397251432E-2,7.8630453674122698E-3,7.9670280567370362E-3,9.3547572454145151E-3,3.5447545617353172E-2,0,0,null,null,{"$f":"IF(RAND()<poisson_parameter*model!K56,1,0)","v":0},{"$f":"IF(RAND()<(K45^quadratic_condition*L45-$T$21)*$T$22*(1+pref_attach_on*SUM($X$35:X55)),1,0)","v":0},22,{"$f":"IF(AND(SUM($X$35:X55)=0,X56=1),Y56,\"\")","v":""},null,null,null,null,null,null,null,null,null,2.2250000000000001,2,0,6,0,5,1.2790664607482329,0.33284210353767085,1,1000]
[null,null,null,null,null,null,34,3.4,2.2155498292705838E-2,9.5750932824048798E-2,0.16145809606155628,0.13598018493419989,2.1303850726690145E-2,5.3199763742526524E-2,7.8630453674122698E-3,7.9670280567370362E-3,9.844465301671235E-3,3.5447545617353172E-2,0,0,null,null,{"$f":"IF(RAND()<poisson_parameter*model!K57,1,0)","v":0},{"$f":"IF(RAND()<(K46^quadratic_condition*L46-$T$21)*$T$22*(1+pref_attach_on*SUM($X$35:X56)),1,0)","v":0},23,{"$f":"IF(AND(SUM($X$35:X56)=0,X57=1),Y57,\"\")","v":""},null,null,null,null,null,null,null,null,null,2.2109999999999999,2,0,7,0,5,1.279889494103736,0.3959745747814587,1,1000]
[null,1,{"$f":"TRANSPOSE(maxlevel10)","v":0.69868469358391272},{"$f":"C58","v":0.69868469358391272},"within person corrleation endlevel","within person corrleation gen factor",35,3.5,2.3268178939628095E-2,0.10001054539982362,0.16869330577991135,0.14098063886291531,2.1303850726690145E-2,5.4990154595913505E-2,7.8630453674122698E-3,7.9670280567370362E-3,1.0359042506156994E-2,3.5447545617353172E-2,0,0,null,null,{"$f":"IF(RAND()<poisson_parameter*model!K58,1,0)","v":0},{"$f":"IF(RAND()<(K47^quadratic_condition*L47-$T$21)*$T$22*(1+pref_attach_on*SUM($X$35:X57)),1,0)","v":0},24,{"$f":"IF(AND(SUM($X$35:X57)=0,X58=1),Y58,\"\")","v":""},null,null,null,null,null,null,null,null,null,2.2429999999999999,2,0,7,0,5,1.2874814983558438,0.43119076512566951,1,1000]
[null,2,1.0646145470112947,{"$f":"C68","v":5.1970214588687329E-2},{"$f":"CORREL(I60:R60,endlevel10)","v":-0.27427589335779362},{"$f":"CORREL(I60:R60,$E$9:$E$18)","v":0.32496460738116151},36,3.6,2.443443731149229E-2,0.10443890585133182,0.17618957388789472,0.14613148728300465,2.1303850726690145E-2,5.6825387690423348E-2,7.8630453674122698E-3,7.9670280567370362E-3,1.0899679583283644E-2,3.5447545617353172E-2,0,0,null,null,{"$f":"IF(RAND()<poisson_parameter*model!K59,1,0)","v":0},{"$f":"IF(RAND()<(K48^quadratic_condition*L48-$T$21)*$T$22*(1+pref_attach_on*SUM($X$35:X58)),1,0)","v":0},25,{"$f":"IF(AND(SUM($X$35:X58)=0,X59=1),Y59,\"\")","v":""},null,null,null,null,null,null,null,null,null,2.2040000000000002,2,0,8,0,5,1.2892036480114559,0.39945632081579058,1,1000]
[null,3,0.91971762061484674,{"$f":"C59","v":1.0646145470112947},{"$f":"CORREL(I80:R80,endlevel10)","v":-0.25241000712356904},{"$f":"CORREL(I80:R80,$E$9:$E$18)","v":0.31557212439537152},37,3.7,2.565661660554084E-2,0.10904083716556841,0.18395060200823971,0.15143478558817985,2.1303850726690145E-2,5.8705410076346623E-2,7.8630453674122698E-3,7.9670280567370362E-3,1.146761760697588E-2,3.5447545617353172E-2,0,0,null,null,{"$f":"IF(RAND()<poisson_parameter*model!K60,1,0)","v":0},{"$f":"IF(RAND()<(K49^quadratic_condition*L49-$T$21)*$T$22*(1+pref_attach_on*SUM($X$35:X59)),1,0)","v":0},26,{"$f":"IF(AND(SUM($X$35:X59)=0,X60=1),Y60,\"\")","v":""},null,null,null,null,null,null,null,null,null,2.27,2,0,6,0,5,1.2556578660911886,0.31334291477064996,1,1000]
[null,4,0.93831122027151548,{"$f":"C69","v":4.9177183387409999E-2},{"$f":"CORREL(I100:R100,endlevel10)","v":-0.22526253645591729},{"$f":"CORREL(I100:R100,$E$9:$E$18)","v":0.2866990238361059},38,3.8,2.6937138211003533E-2,0.11382113277510071,0.19197960848949647,0.15689243089783672,2.1303850726690145E-2,6.063006799628963E-2,7.8630453674122698E-3,7.9670280567370362E-3,1.2064149523201917E-2,3.5447545617353172E-2,0,0,null,null,{"$f":"IF(RAND()<poisson_parameter*model!K61,1,0)","v":0},{"$f":"IF(RAND()<(K50^quadratic_condition*L50-$T$21)*$T$22*(1+pref_attach_on*SUM($X$35:X60)),1,0)","v":0},27,{"$f":"IF(AND(SUM($X$35:X60)=0,X61=1),Y61,\"\")","v":""},null,null,null,null,null,null,null,null,null,2.2970000000000002,2,0,6,0,5,1.284695077223168,0.2534247723899713,1,1000]
[null,5,1.0791152194280256,{"$f":"C60","v":0.91971762061484674},{"$f":"CORREL(I120:R120,endlevel10)","v":-0.18092255939613416},{"$f":"CORREL(I120:R120,$E$9:$E$18)","v":0.23071749341658779},39,3.9,2.8278501744312047E-2,0.11878453863204655,0.20027927823282385,0.16250614725478318,2.1303850726690145E-2,6.2599100826520745E-2,7.8630453674122698E-3,7.9670280567370362E-3,1.2690621661571434E-2,3.5447545617353172E-2,0,0,null,null,{"$f":"IF(RAND()<poisson_parameter*model!K62,1,0)","v":0},{"$f":"IF(RAND()<(K51^quadratic_condition*L51-$T$21)*$T$22*(1+pref_attach_on*SUM($X$35:X61)),1,0)","v":0},28,{"$f":"IF(AND(SUM($X$35:X61)=0,X62=1),Y62,\"\")","v":""},null,null,null,null,null,null,null,null,null,{"$f":"AVERAGE(AJ52:AJ61)","v":2.2469000000000001},null,null,null,null,null,{"$f":"AVERAGE(AP52:AP61)","v":1.2933302355159138}]
[null,6,1.0682308233240385,{"$f":"C70","v":5.3901756467711746E-2},{"$f":"CORREL(I140:R140,endlevel10)","v":-0.12695203826271217},{"$f":"CORREL(I140:R140,$E$9:$E$18)","v":0.16635906410443729},40,4,2.9683284753271189E-2,0.12393573391310379,0.20885171180939283,0.168277470563025,2.1303850726690145E-2,6.4612135138193735E-2,7.8630453674122698E-3,7.9670280567370362E-3,1.334843522923879E-2,3.5447545617353172E-2,0,0,null,null,{"$f":"IF(RAND()<poisson_parameter*model!K63,1,0)","v":0},{"$f":"IF(RAND()<(K52^quadratic_condition*L52-$T$21)*$T$22*(1+pref_attach_on*SUM($X$35:X62)),1,0)","v":0},29,{"$f":"IF(AND(SUM($X$35:X62)=0,X63=1),Y63,\"\")","v":""}]
[null,7,0.74602628317949038,{"$f":"C61","v":0.93831122027151548},{"$f":"CORREL(I160:R160,endlevel10)","v":-7.5482193304997128E-2},{"$f":"CORREL(I160:R160,$E$9:$E$18)","v":0.12263080424029971},41,4.0999999999999996,3.1154142051432111E-2,0.1292793103493079,0.21769837428324987,0.17420773333912346,2.1303850726690145E-2,6.6668678936466635E-2,7.8630453674122698E-3,7.9670280567370362E-3,1.4039047779695293E-2,3.5447545617353172E-2,0,0,null,null,{"$f":"IF(RAND()<poisson_parameter*model!K64,1,0)","v":0},{"$f":"IF(RAND()<(K53^quadratic_condition*L53-$T$21)*$T$22*(1+pref_attach_on*SUM($X$35:X63)),1,0)","v":0},30,{"$f":"IF(AND(SUM($X$35:X63)=0,X64=1),Y64,\"\")","v":""}]
[{"$f":"rate10","v":4.9177183387409999E-2},8,1.383886443801519,{"$f":"C71","v":4.3273277334923511E-2},{"$f":"CORREL(I180:R180,endlevel10)","v":-3.5581428134747697E-2},{"$f":"CORREL(I180:R180,$E$9:$E$18)","v":0.1034277439535991},42,4.2,3.2693804641446458E-2,0.13481975018654438,0.22682004420442434,0.18029804935893398,2.1303850726690145E-2,6.8768116139721086E-2,7.8630453674122698E-3,7.9670280567370362E-3,1.4763974648344426E-2,3.5447545617353172E-2,0,0,null,null,{"$f":"IF(RAND()<poisson_parameter*model!K65,1,0)","v":0},{"$f":"IF(RAND()<(K54^quadratic_condition*L54-$T$21)*$T$22*(1+pref_attach_on*SUM($X$35:X64)),1,0)","v":0},31,{"$f":"IF(AND(SUM($X$35:X64)=0,X65=1),Y65,\"\")","v":""}]
[5.3901756467711746E-2,9,1.060974086560172,{"$f":"C62","v":1.0791152194280256},{"$f":"CORREL(I200:R200,endlevel10)","v":3.1310554633549753E-3},{"$f":"CORREL(I200:R200,$E$9:$E$18)","v":9.3456869615270124E-2},43,4.3,3.4305078183751739E-2,0.14056140279677176,0.23621676328545277,0.18654929828978131,2.1303850726690145E-2,7.0909701364898534E-2,7.8630453674122698E-3,7.9670280567370362E-3,1.5524790346028411E-2,3.5447545617353172E-2,0,0,null,null,{"$f":"IF(RAND()<poisson_parameter*model!K66,1,0)","v":0},{"$f":"IF(RAND()<(K55^quadratic_condition*L55-$T$21)*$T$22*(1+pref_attach_on*SUM($X$35:X65)),1,0)","v":0},32,{"$f":"IF(AND(SUM($X$35:X65)=0,X66=1),Y66,\"\")","v":""}]
[4.3273277334923511E-2,10,0.18561892891524245,{"$f":"C72","v":5.332185073767038E-2},{"$f":"CORREL(I220:R220,endlevel10)","v":6.1834829679304371E-2},{"$f":"CORREL(I220:R220,$E$9:$E$18)","v":6.5995262568716309E-2},44,4.4000000000000004,3.599084096458556E-2,0.14650845997543377,0.24588778732010444,0.19296211040620742,2.1303850726690145E-2,7.3092555088290753E-2,7.8630453674122698E-3,7.9670280567370362E-3,1.6323129900913311E-2,3.5447545617353172E-2,0,0,null,null,{"$f":"IF(RAND()<poisson_parameter*model!K67,1,0)","v":0},{"$f":"IF(RAND()<(K56^quadratic_condition*L56-$T$21)*$T$22*(1+pref_attach_on*SUM($X$35:X66)),1,0)","v":0},33,{"$f":"IF(AND(SUM($X$35:X66)=0,X67=1),Y67,\"\")","v":""}]
[5.332185073767038E-2,1,{"$f":"D9:D18","v":5.1970214588687329E-2},{"$f":"C63","v":1.0682308233240385},{"$f":"CORREL(I240:R240,endlevel10)","v":0.14392458087216858},{"$f":"CORREL(I240:R240,$E$9:$E$18)","v":-2.8104050099791719E-2},45,4.5,3.7754041315094376E-2,0.15266492997764483,0.25583153894459093,0.19953685149521228,2.1303850726690145E-2,7.5315659253831546E-2,7.8630453674122698E-3,7.9670280567370362E-3,1.71606901383436E-2,3.5447545617353172E-2,0,0,null,null,{"$f":"IF(RAND()<poisson_parameter*model!K68,1,0)","v":0},{"$f":"IF(RAND()<(K57^quadratic_condition*L57-$T$21)*$T$22*(1+pref_attach_on*SUM($X$35:X67)),1,0)","v":0},34,{"$f":"IF(AND(SUM($X$35:X67)=0,X68=1),Y68,\"\")","v":""}]
[4.0203326715233731E-2,2,4.9177183387409999E-2,{"$f":"C73","v":4.0203326715233731E-2},{"$f":"CORREL(I260:R260,endlevel10)","v":0.22335490187634419},{"$f":"CORREL(I260:R260,$E$9:$E$18)","v":-0.18175522792562299},46,4.5999999999999996,3.9597694431242211E-2,0.15903461036437486,0.26604556287750181,0.20627360806424985,2.1303850726690145E-2,7.7577853402907807E-2,7.8630453674122698E-3,7.9670280567370362E-3,1.8039230887446352E-2,3.5447545617353172E-2,0,0,null,null,{"$f":"IF(RAND()<poisson_parameter*model!K69,1,0)","v":0},{"$f":"IF(RAND()<(K58^quadratic_condition*L58-$T$21)*$T$22*(1+pref_attach_on*SUM($X$35:X68)),1,0)","v":0},35,{"$f":"IF(AND(SUM($X$35:X68)=0,X69=1),Y69,\"\")","v":""}]
[4.6523378041066141E-2,3,5.3901756467711746E-2,{"$f":"C64","v":0.74602628317949038},{"$f":"CORREL(I280:R280,endlevel10)","v":0.31172910992684549},{"$f":"CORREL(I280:R280,$E$9:$E$18)","v":-0.28095943004734319},47,4.7,4.1524878542395255E-2,0.16562105974995331,0.27652648430365434,0.21317217297199426,2.1303850726690145E-2,7.9877831400817195E-2,7.8630453674122698E-3,7.9670280567370362E-3,1.8960576102401112E-2,3.5447545617353172E-2,0,0,null,null,{"$f":"IF(RAND()<poisson_parameter*model!K70,1,0)","v":0},{"$f":"IF(RAND()<(K59^quadratic_condition*L59-$T$21)*$T$22*(1+pref_attach_on*SUM($X$35:X69)),1,0)","v":0},36,{"$f":"IF(AND(SUM($X$35:X69)=0,X70=1),Y70,\"\")","v":""}]
[4.4174574311350731E-2,4,4.3273277334923511E-2,{"$f":"C74","v":4.6523378041066141E-2},{"$f":"CORREL(I300:R300,endlevel10)","v":0.41973959371163266},{"$f":"CORREL(I300:R300,$E$9:$E$18)","v":-0.26979368424112721},48,4.8,4.3538730374924652E-2,0.17242756856363348,0.28726997108748414,0.22023203160789104,2.1303850726690145E-2,8.2214138835123157E-2,7.8630453674122698E-3,7.9670280567370362E-3,1.9926614885395516E-2,3.5447545617353172E-2,0,0,null,null,{"$f":"IF(RAND()<poisson_parameter*model!K71,1,0)","v":0},{"$f":"IF(RAND()<(K60^quadratic_condition*L60-$T$21)*$T$22*(1+pref_attach_on*SUM($X$35:X70)),1,0)","v":0},37,{"$f":"IF(AND(SUM($X$35:X70)=0,X71=1),Y71,\"\")","v":""}]
[5.4106350207118695E-2,5,5.332185073767038E-2,{"$f":"C65","v":1.383886443801519},{"$f":"CORREL(I320:R320,endlevel10)","v":0.54908472860330182},{"$f":"CORREL(I320:R320,$E$9:$E$18)","v":-0.18046823861661204},49,4.9000000000000004,4.5642439856006044E-2,0.17945712896053168,0.29827070051208021,0.22745234875159481,2.1303850726690145E-2,8.4585171160179579E-2,7.8630453674122698E-3,7.9670280567370362E-3,2.0939302397360884E-2,3.5447545617353172E-2,0,0,null,null,{"$f":"IF(RAND()<poisson_parameter*model!K72,1,0)","v":0},{"$f":"IF(RAND()<(K61^quadratic_condition*L61-$T$21)*$T$22*(1+pref_attach_on*SUM($X$35:X71)),1,0)","v":0},38,{"$f":"IF(AND(SUM($X$35:X71)=0,X72=1),Y72,\"\")","v":""}]
[4.6236353541818209E-2,6,4.0203326715233731E-2,{"$f":"C75","v":4.4174574311350731E-2},{"$f":"CORREL(I340:R340,endlevel10)","v":0.74202635839101339},{"$f":"CORREL(I340:R340,$E$9:$E$18)","v":-5.9649898120504488E-2},50,5,4.7839244002081505E-2,0.1867124040407584,0.30952233123910888,0.23483195624739941,2.1303850726690145E-2,8.6989172659912614E-2,7.8630453674122698E-3,7.9670280567370362E-3,2.2000660641628769E-2,3.5447545617353172E-2,0,0,null,null,{"$f":"IF(RAND()<poisson_parameter*model!K73,1,0)","v":0},{"$f":"IF(RAND()<(K62^quadratic_condition*L62-$T$21)*$T$22*(1+pref_attach_on*SUM($X$35:X72)),1,0)","v":0},39,{"$f":"IF(AND(SUM($X$35:X72)=0,X73=1),Y73,\"\")","v":""}]
[0,7,4.6523378041066141E-2,{"$f":"C66","v":1.060974086560172},{"$f":"CORREL(I360:R360,endlevel10)","v":0.90512138415785159},{"$f":"CORREL(I360:R360,$E$9:$E$18)","v":0.12437959374668311},51,5.0999999999999996,5.0132419936276242E-2,0.19419569655971389,0.32101748117144741,0.24236934163152515,2.1303850726690145E-2,8.9424236297465251E-2,7.8630453674122698E-3,7.9670280567370362E-3,2.311277910467209E-2,3.5447545617353172E-2,0,0,null,null,{"$f":"IF(RAND()<poisson_parameter*model!K74,1,0)","v":0},{"$f":"IF(RAND()<(K63^quadratic_condition*L63-$T$21)*$T$22*(1+pref_attach_on*SUM($X$35:X73)),1,0)","v":0},40,{"$f":"IF(AND(SUM($X$35:X73)=0,X74=1),Y74,\"\")","v":""}]
[{"$f":"carcap10","v":1.064614550309307},8,4.4174574311350731E-2,{"$f":"C76","v":5.4106350207118695E-2},{"$f":"CORREL(I380:R380,endlevel10)","v":0.97807723999867058},{"$f":"CORREL(I380:R380,$E$9:$E$18)","v":0.25210712349468239},52,5.2,5.2525276979524943E-2,0.20190891733699404,0.33274771187333141,0.25006263785148114,2.1303850726690145E-2,9.1888304515461219E-2,7.8630453674122698E-3,7.9670280567370362E-3,2.4277815237096639E-2,3.5447545617353172E-2,0,0,null,null,{"$f":"IF(RAND()<poisson_parameter*model!K75,1,0)","v":0},{"$f":"IF(RAND()<(K64^quadratic_condition*L64-$T$21)*$T$22*(1+pref_attach_on*SUM($X$35:X74)),1,0)","v":0},41,{"$f":"IF(AND(SUM($X$35:X74)=0,X75=1),Y75,\"\")","v":""}]
[1.158190880086998,9,5.4106350207118695E-2,{"$f":"C67","v":0.18561892891524245},{"$f":"CORREL(I400:R400,endlevel10)","v":0.99571481118531502},{"$f":"CORREL(I400:R400,$E$9:$E$18)","v":0.3099752431662241},53,5.3,5.5021147761363839E-2,0.20985355359575913,0.34470352016145273,0.25790961421651709,2.1303850726690145E-2,9.4379171044382412E-2,7.8630453674122698E-3,7.9670280567370362E-3,2.549799475703542E-2,3.5447545617353172E-2,0,0,null,null,{"$f":"IF(RAND()<poisson_parameter*model!K76,1,0)","v":0},{"$f":"IF(RAND()<(K65^quadratic_condition*L65-$T$21)*$T$22*(1+pref_attach_on*SUM($X$35:X75)),1,0)","v":0},42,{"$f":"IF(AND(SUM($X$35:X75)=0,X76=1),Y76,\"\")","v":""}]
[0.93831123601261768,10,4.6236353541818209E-2,{"$f":"C77","v":4.6236353541818209E-2},{"$f":"CORREL(I420:R420,endlevel10)","v":0.99911019981867999},{"$f":"CORREL(I420:R420,$E$9:$E$18)","v":0.33262507441983469},54,5.4,5.7623378298392744E-2,0.21803063748831297,0.35687433742427799,0.26590766871628124,2.1303850726690145E-2,9.6894483768859896E-2,7.8630453674122698E-3,7.9670280567370362E-3,2.6775611757074842E-2,3.5447545617353172E-2,0,0,null,null,{"$f":"IF(RAND()<poisson_parameter*model!K77,1,0)","v":0},{"$f":"IF(RAND()<(K66^quadratic_condition*L66-$T$21)*$T$22*(1+pref_attach_on*SUM($X$35:X76)),1,0)","v":0},43,{"$f":"IF(AND(SUM($X$35:X76)=0,X77=1),Y77,\"\")","v":""}]
[1.0791155811121325,null,null,null,{"$f":"CORREL(I440:R440,endlevel10)","v":0.99978047282385396},{"$f":"CORREL(I440:R440,$E$9:$E$18)","v":0.34142648874174603},55,5.5,6.0335316991420369E-2,0.22644071508653238,0.36924853715583361,0.27405382184109112,2.1303850726690145E-2,9.9431748692568211E-2,7.8630453674122698E-3,7.9670280567370362E-3,2.8113028594814932E-2,3.5447545617353172E-2,0,0,null,null,{"$f":"IF(RAND()<poisson_parameter*model!K78,1,0)","v":0},{"$f":"IF(RAND()<(K67^quadratic_condition*L67-$T$21)*$T$22*(1+pref_attach_on*SUM($X$35:X77)),1,0)","v":0},44,{"$f":"IF(AND(SUM($X$35:X77)=0,X78=1),Y78,\"\")","v":""}]
[0.98380468910233498,null,"max",{"$f":"B24","v":0.91971762061484674},{"$f":"CORREL(I460:R460,endlevel10)","v":0.99993801188752274},{"$f":"CORREL(I460:R460,$E$9:$E$18)","v":0.34501411164768198},56,5.6,6.3160302496391638E-2,0.23508381613713702,0.38181345110466769,0.28234471203160272,2.1303850726690145E-2,0.10198833503193427,7.8630453674122698E-3,7.9670280567370362E-3,2.9512675546143476E-2,3.5447545617353172E-2,0,0,null,null,{"$f":"IF(RAND()<poisson_parameter*model!K79,1,0)","v":0},{"$f":"IF(RAND()<(K68^quadratic_condition*L68-$T$21)*$T$22*(1+pref_attach_on*SUM($X$35:X78)),1,0)","v":0},45,{"$f":"IF(AND(SUM($X$35:X78)=0,X79=1),Y79,\"\")","v":""}]
[0.71249601294344345,null,"totsup",{"$f":"Z33","v":-1.0315784735416023E-2},{"$f":"CORREL(I480:R480,endlevel10)","v":0.99998326088420486},{"$f":"CORREL(I480:R480,$E$9:$E$18)","v":0.34660617751916228},57,5.7,6.6101650429475065E-2,0.2439594249010214,0.39455539433945863,0.29077659287806507,2.1303850726690145E-2,0.10456148145711426,7.8630453674122698E-3,7.9670280567370362E-3,3.097705019929519E-2,3.5447545617353172E-2,0,0,null,null,{"$f":"IF(RAND()<poisson_parameter*model!K80,1,0)","v":0},{"$f":"IF(RAND()<(K69^quadratic_condition*L69-$T$21)*$T$22*(1+pref_attach_on*SUM($X$35:X79)),1,0)","v":0},46,{"$f":"IF(AND(SUM($X$35:X79)=0,X80=1),Y80,\"\")","v":""}]
[1.2473796869128773,null,"sup",{"$f":"K20","v":-5.5975110275927463E-2},null,null,58,5.8,6.9162638873276422E-2,0.25306645241237891,0.4074596994210638,0.29934533217972875,2.1303850726690145E-2,0.10714830348578053,7.8630453674122698E-3,7.9670280567370362E-3,3.2508716566782669E-2,3.5447545617353172E-2,0,0,null,null,{"$f":"IF(RAND()<poisson_parameter*model!K81,1,0)","v":0},{"$f":"IF(RAND()<(K70^quadratic_condition*L70-$T$21)*$T$22*(1+pref_attach_on*SUM($X$35:X80)),1,0)","v":0},47,{"$f":"IF(AND(SUM($X$35:X80)=0,X81=1),Y81,\"\")","v":""}]
[0.91166896425569499,null,"carcap",{"$f":"E11","v":1.158190880086998},null,null,59,5.9,7.2346492659152856E-2,0.26240321050651449,0.42051075974842944,0.3080464129633399,2.1303850726690145E-2,0.10974580202136047,7.8630453674122698E-3,7.9670280567370362E-3,3.4110303891337866E-2,3.5447545617353172E-2,0,0,null,null,{"$f":"IF(RAND()<poisson_parameter*model!K82,1,0)","v":0},{"$f":"IF(RAND()<(K71^quadratic_condition*L71-$T$21)*$T$22*(1+pref_attach_on*SUM($X$35:X81)),1,0)","v":0},48,{"$f":"IF(AND(SUM($X$35:X81)=0,X82=1),Y82,\"\")","v":""}]
[0.91499778898606865,null,"rate",{"$f":"D11","v":5.3901756467711746E-2},null,null,60,6,7.5656366410130252E-2,0.27196738797444564,0.4336920820148949,0.31687493654602744,2.1303850726690145E-2,0.11235087301268487,7.8630453674122698E-3,7.9670280567370362E-3,3.5784505121105585E-2,3.5447545617353172E-2,0,0,null,null,{"$f":"IF(RAND()<poisson_parameter*model!K83,1,0)","v":0},{"$f":"IF(RAND()<(K72^quadratic_condition*L72-$T$21)*$T$22*(1+pref_attach_on*SUM($X$35:X82)),1,0)","v":0},49,{"$f":"IF(AND(SUM($X$35:X82)=0,X83=1),Y83,\"\")","v":""}]
[0,null,null,{"$f":"B25","v":0.93831122027151548},null,null,61,6.1,7.9095326340065997E-2,0.28175602920703058,0.4469863475746178,0.32582562771236023,2.1303850726690145E-2,0.11496031819677101,7.8630453674122698E-3,7.9670280567370362E-3,3.753407502849973E-2,3.5447545617353172E-2,0,0,null,null,{"$f":"IF(RAND()<poisson_parameter*model!K84,1,0)","v":0},{"$f":"IF(RAND()<(K73^quadratic_condition*L73-$T$21)*$T$22*(1+pref_attach_on*SUM($X$35:X83)),1,0)","v":0},50,{"$f":"IF(AND(SUM($X$35:X83)=0,X84=1),Y84,\"\")","v":""}]
[{"$f":"TRANSPOSE(connectionsum)","v":8.1512376125058086E-4},null,null,{"$f":"AA33","v":0},null,null,62,6.2,8.266633081752002E-2,0.29176551569087,0.46037548237904896,0.33489284205802899,2.1303850726690145E-2,0.11757085687095645,7.8630453674122698E-3,7.9670280567370362E-3,3.9361827946387096E-2,3.5447545617353172E-2,0,0,null,null,{"$f":"IF(RAND()<poisson_parameter*model!K85,1,0)","v":0},{"$f":"IF(RAND()<(K74^quadratic_condition*L74-$T$21)*$T$22*(1+pref_attach_on*SUM($X$35:X84)),1,0)","v":0},51,{"$f":"IF(AND(SUM($X$35:X84)=0,X85=1),Y85,\"\")","v":""}]
[0,null,null,{"$f":"L20","v":0},null,null,63,6.3,8.6372209717348505E-2,0.30199155071209682,0.47384073500380325,0.34407057553366083,2.1303850726690145E-2,0.12017913862510515,7.8630453674122698E-3,7.9670280567370362E-3,4.1270635094622601E-2,3.5447545617353172E-2,0,0,null,null,{"$f":"IF(RAND()<poisson_parameter*model!K86,1,0)","v":0},{"$f":"IF(RAND()<(K75^quadratic_condition*L75-$T$21)*$T$22*(1+pref_attach_on*SUM($X$35:X85)),1,0)","v":0},52,{"$f":"IF(AND(SUM($X$35:X85)=0,X86=1),Y86,\"\")","v":""}]
[-5.5975110275927463E-2,null,null,{"$f":"E12","v":0.93831123601261768},null,null,64,6.4,9.0215642599335649E-2,0.31242914761196411,0.48736276215026414,0.35335247620190458,2.1303850726690145E-2,0.12278175694944285,7.8630453674122698E-3,7.9670280567370362E-3,4.3263421469447075E-2,3.5447545617353172E-2,0,0,null,null,{"$f":"IF(RAND()<poisson_parameter*model!K87,1,0)","v":0},{"$f":"IF(RAND()<(K76^quadratic_condition*L76-$T$21)*$T$22*(1+pref_attach_on*SUM($X$35:X86)),1,0)","v":0},53,{"$f":"IF(AND(SUM($X$35:X86)=0,X87=1),Y87,\"\")","v":""}]
[0,null,null,{"$f":"D12","v":4.3273277334923511E-2},null,null,65,6.5,9.4199135771216483E-2,0.32307262191953789,0.50092172087724762,0.36273185819938247,2.1303850726690145E-2,0.12537526361906404,7.8630453674122698E-3,7.9670280567370362E-3,4.5343162267898897E-2,3.5447545617353172E-2,0,0,null,null,{"$f":"IF(RAND()<poisson_parameter*model!K88,1,0)","v":0},{"$f":"IF(RAND()<(K77^quadratic_condition*L77-$T$21)*$T$22*(1+pref_attach_on*SUM($X$35:X87)),1,0)","v":0},54,{"$f":"IF(AND(SUM($X$35:X87)=0,X88=1),Y88,\"\")","v":""}]
[0,null,null,{"$f":"B26","v":1.0791152194280256},null,null,66,6.6,9.8324998313161036E-2,0.33391558766158647,0.51449736669938906,0.37220171787266998,2.1303850726690145E-2,0.1279561837426143,7.8630453674122698E-3,7.9670280567370362E-3,4.7512878819212276E-2,3.5447545617353172E-2,0,0,null,null,{"$f":"IF(RAND()<poisson_parameter*model!K89,1,0)","v":0},{"$f":"IF(RAND()<(K78^quadratic_condition*L78-$T$21)*$T$22*(1+pref_attach_on*SUM($X$35:X88)),1,0)","v":0},55,{"$f":"IF(AND(SUM($X$35:X88)=0,X89=1),Y89,\"\")","v":""}]
[1.2206900687869121E-2,null,null,{"$f":"AB33","v":0},null,null,67,6.7,0.10259531716208505,0.34495095811786403,0.52806915658377085,0.38175475203446096,2.1303850726690145E-2,0.13052103135040272,7.8630453674122698E-3,7.9670280567370362E-3,4.977563399520795E-2,3.5447545617353172E-2,0,{"$f":"S90-S89","v":0},null,null,{"$f":"IF(RAND()<poisson_parameter*model!K90,1,0)","v":0},{"$f":"IF(RAND()<(K79^quadratic_condition*L79-$T$21)*$T$22*(1+pref_attach_on*SUM($X$35:X89)),1,0)","v":0},56,{"$f":"IF(AND(SUM($X$35:X89)=0,X90=1),Y90,\"\")","v":""}]
[-1.0337206513401545E-2,null,null,{"$f":"M20","v":0},null,null,68,6.8,0.10701193137686993,0.35617095125150361,0.54161635578753309,0.39138337826284769,2.1303850726690145E-2,0.13306632538653962,7.8630453674122698E-3,7.9670280567370362E-3,5.2134527071959605E-2,3.5447545617353172E-2,0,0,null,null,{"$f":"IF(RAND()<poisson_parameter*model!K91,1,0)","v":0},{"$f":"IF(RAND()<(K80^quadratic_condition*L80-$T$21)*$T$22*(1+pref_attach_on*SUM($X$35:X90)),1,0)","v":0},57,{"$f":"IF(AND(SUM($X$35:X90)=0,X91=1),Y91,\"\")","v":""}]
[8.9620962491570554E-3,null,null,{"$f":"E13","v":1.0791155811121325},null,null,69,6.9,0.11157640572949996,0.3675670999994175,0.55511814740924592,0.40107975714355915,2.1303850726690145E-2,0.13558860596089392,7.8630453674122698E-3,7.9670280567370362E-3,5.4592688015577075E-2,3.5447545617353172E-2,0,0,null,null,{"$f":"IF(RAND()<poisson_parameter*model!K92,1,0)","v":0},{"$f":"IF(RAND()<(K81^quadratic_condition*L81-$T$21)*$T$22*(1+pref_attach_on*SUM($X$35:X91)),1,0)","v":0},58,{"$f":"IF(AND(SUM($X$35:X91)=0,X92=1),Y92,\"\")","v":""}]
[3.2839658554030728E-3,null,null,{"$f":"D13","v":5.332185073767038E-2},null,null,70,7,0.11629000379198065,0.37913026755689544,0.56855374347758236,0.41083581633244282,2.1303850726690145E-2,0.13808445070995529,7.8630453674122698E-3,7.9670280567370362E-3,5.7153271165823E-2,3.5447545617353172E-2,0,0,null,null,{"$f":"IF(RAND()<poisson_parameter*model!K93,1,0)","v":0},{"$f":"IF(RAND()<(K82^quadratic_condition*L82-$T$21)*$T$22*(1+pref_attach_on*SUM($X$35:X92)),1,0)","v":0},59,{"$f":"IF(AND(SUM($X$35:X92)=0,X93=1),Y93,\"\")","v":""}]
[-5.760644898845782E-2,null,null,{"$f":"B27","v":1.0682308233240385},null,null,71,7.1,0.12115366071434606,0.39085066773460325,0.58190249637364211,0.42064327629382969,2.1303850726690145E-2,0.14055049111126147,7.8630453674122698E-3,7.9670280567370362E-3,5.9819448292513067E-2,3.5447545617353172E-2,0,0,null,null,{"$f":"IF(RAND()<poisson_parameter*model!K94,1,0)","v":0},{"$f":"IF(RAND()<(K83^quadratic_condition*L83-$T$21)*$T$22*(1+pref_attach_on*SUM($X$35:X93)),1,0)","v":0},60,{"$f":"IF(AND(SUM($X$35:X93)=0,X94=1),Y94,\"\")","v":""}]
[null,null,null,{"$f":"AC33","v":-8.017209339417436E-3},null,null,72,7.2,0.12616795591468169,0.40271789040572081,0.59514400937881551,0.43049367755007362,2.1303850726690145E-2,0.14298342859404573,7.8630453674122698E-3,7.9670280567370362E-3,6.2594401001282468E-2,3.5447545617353172E-2,0,0,null,null,{"$f":"IF(RAND()<poisson_parameter*model!K95,1,0)","v":0},{"$f":"IF(RAND()<(K84^quadratic_condition*L84-$T$21)*$T$22*(1+pref_attach_on*SUM($X$35:X94)),1,0)","v":0},61,{"$f":"IF(AND(SUM($X$35:X94)=0,X95=1),Y95,\"\")","v":""}]
[null,null,null,{"$f":"N20","v":1.2206900687869121E-2},null,null,73,7.3,0.13133308592740311,0.41472093199697835,0.60825824515834448,0.44037840925887617,2.1303850726690145E-2,0.14538005028925827,7.8630453674122698E-3,7.9670280567370362E-3,6.5481312467375735E-2,3.5447545617353172E-2,0,0,null,null,{"$f":"IF(RAND()<poisson_parameter*model!K96,1,0)","v":0},{"$f":"IF(RAND()<(K85^quadratic_condition*L85-$T$21)*$T$22*(1+pref_attach_on*SUM($X$35:X95)),1,0)","v":0},62,{"$f":"IF(AND(SUM($X$35:X95)=0,X96=1),Y96,\"\")","v":""}]
[null,null,null,{"$f":"E14","v":0.98380468910233498},null,null,74,7.4,0.13664883768049521,0.42684823091097146,0.62122563103106543,0.4502887389183422,2.1303850726690145E-2,0.14773724426514107,7.8630453674122698E-3,7.9670280567370362E-3,6.8483358478675968E-2,3.5447545617353172E-2,0,0,null,null,{"$f":"IF(RAND()<poisson_parameter*model!K97,1,0)","v":0},{"$f":"IF(RAND()<(K86^quadratic_condition*L86-$T$21)*$T$22*(1+pref_attach_on*SUM($X$35:X96)),1,0)","v":0},63,{"$f":"IF(AND(SUM($X$35:X96)=0,X97=1),Y97,\"\")","v":""}]
[null,null,null,{"$f":"D14","v":4.0203326715233731E-2},null,null,75,7.5,0.14211456249542323,0.43908770769960304,0.63402715993690661,0.46021584298538015,2.1303850726690145E-2,0.15005201410005051,7.8630453674122698E-3,7.9670280567370362E-3,7.1603697772276362E-2,3.5447545617353172E-2,0,0,null,null,{"$f":"IF(RAND()<poisson_parameter*model!K98,1,0)","v":0},{"$f":"IF(RAND()<(K87^quadratic_condition*L87-$T$21)*$T$22*(1+pref_attach_on*SUM($X$35:X97)),1,0)","v":0},64,{"$f":"IF(AND(SUM($X$35:X97)=0,X98=1),Y98,\"\")","v":""}]
[null,"early_levels",null,null,null,null,76,7.6,0.14772915112432131,0.45142680974115507,0.64664448609366187,0.47015083818133502,2.1303850726690145E-2,0.15232149265212866,7.8630453674122698E-3,7.9670280567370362E-3,7.4845461652551959E-2,3.5447545617353172E-2,0,0,null,null,{"$f":"IF(RAND()<poisson_parameter*model!K99,1,0)","v":0},{"$f":"IF(RAND()<(K88^quadratic_condition*L88-$T$21)*$T$22*(1+pref_attach_on*SUM($X$35:X98)),1,0)","v":0},65,{"$f":"IF(AND(SUM($X$35:X98)=0,X99=1),Y99,\"\")","v":""}]
[null,{"$f":"TRANSPOSE(early_levels)","v":4.7839244002081505E-2},{"$f":"TRANSPOSE(maxlevel10)","v":0.69868469358391272},null,{"$f":"B100","v":4.7839244002081505E-2},null,77,7.7,0.15349101015714448,0.46385256010774067,0.65906001443099993,0.48008481324985752,2.1303850726690145E-2,0.1545429548955696,7.8630453674122698E-3,7.9670280567370362E-3,7.8211742882952781E-2,3.5447545617353172E-2,0,0,null,null,{"$f":"IF(RAND()<poisson_parameter*model!K100,1,0)","v":0},{"$f":"IF(RAND()<(K89^quadratic_condition*L89-$T$21)*$T$22*(1+pref_attach_on*SUM($X$35:X99)),1,0)","v":0},66,{"$f":"IF(AND(SUM($X$35:X99)=0,X100=1),Y100,\"\")","v":""}]
[null,0.1867124040407584,1.0646145470112947,null,{"$f":"C100","v":0.69868469358391272},null,78,7.8,0.15939804014601752,0.47635161024715617,0.67125698299979375,0.49000886092613738,2.1303850726690145E-2,0.15671382970540187,7.8630453674122698E-3,7.9670280567370362E-3,8.1705583848645305E-2,3.5447545617353172E-2,0,0,null,null,{"$f":"IF(RAND()<poisson_parameter*model!K101,1,0)","v":0},{"$f":"IF(RAND()<(K90^quadratic_condition*L90-$T$21)*$T$22*(1+pref_attach_on*SUM($X$35:X100)),1,0)","v":0},67,{"$f":"IF(AND(SUM($X$35:X100)=0,X101=1),Y101,\"\")","v":""}]
[null,0.30952233123910888,0.91971762061484674,null,{"$f":"B101","v":0.1867124040407584},null,79,7.9,0.1654476158042941,0.4889102960448492,0.68321953767560095,0.49991410987388546,2.1303850726690145E-2,0.15883171048666356,7.8630453674122698E-3,7.9670280567370362E-3,8.5329963992708202E-2,3.5447545617353172E-2,0,0,null,null,{"$f":"IF(RAND()<poisson_parameter*model!K102,1,0)","v":0},{"$f":"IF(RAND()<(K91^quadratic_condition*L91-$T$21)*$T$22*(1+pref_attach_on*SUM($X$35:X101)),1,0)","v":0},68,{"$f":"IF(AND(SUM($X$35:X101)=0,X102=1),Y102,\"\")","v":""}]
[null,0.23483195624739941,0.93831122027151548,null,{"$f":"C101","v":1.0646145470112947},null,80,8,0.1716365686431417,0.50151469677919536,0.69493279860325341,0.50979175634688756,2.1303850726690145E-2,0.16089436455928674,7.8630453674122698E-3,7.9670280567370362E-3,8.908778653486317E-2,3.5447545617353172E-2,0,0,null,null,{"$f":"IF(RAND()<poisson_parameter*model!K103,1,0)","v":0},{"$f":"IF(RAND()<(K92^quadratic_condition*L92-$T$21)*$T$22*(1+pref_attach_on*SUM($X$35:X102)),1,0)","v":0},69,{"$f":"IF(AND(SUM($X$35:X102)=0,X103=1),Y103,\"\")","v":""}]
[null,2.1303850726690145E-2,1.0791152194280256,null,{"$f":"B102","v":0.30952233123910888},null,81,8.1,0.17796117240811321,0.51415069643776146,0.70638291796173192,0.51963309533556734,2.1303850726690145E-2,0.16289974122661674,7.8630453674122698E-3,7.9670280567370362E-3,9.298186448870778E-2,3.5447545617353172E-2,0,0,null,null,{"$f":"IF(RAND()<poisson_parameter*model!K104,1,0)","v":0},{"$f":"IF(RAND()<(K93^quadratic_condition*L93-$T$21)*$T$22*(1+pref_attach_on*SUM($X$35:X103)),1,0)","v":0},70,{"$f":"IF(AND(SUM($X$35:X103)=0,X104=1),Y104,\"\")","v":""}]
[null,8.6989172659912614E-2,1.0682308233240385,null,{"$f":"C102","v":0.91971762061484674},null,82,8.1999999999999993,0.18441713167154652,0.52680404682482851,0.71755712876160149,0.52942955096571076,2.1303850726690145E-2,0.16484597847292445,7.8630453674122698E-3,7.9670280567370362E-3,9.7014906001118173E-2,3.5447545617353172E-2,0,0,null,null,{"$f":"IF(RAND()<poisson_parameter*model!K105,1,0)","v":0},{"$f":"IF(RAND()<(K94^quadratic_condition*L94-$T$21)*$T$22*(1+pref_attach_on*SUM($X$35:X104)),1,0)","v":0},71,{"$f":"IF(AND(SUM($X$35:X104)=0,X105=1),Y105,\"\")","v":""}]
[null,7.8630453674122698E-3,0.74602628317949038,null,{"$f":"B103","v":0.23483195624739941},null,83,8.3000000000000007,0.19099957392323316,0.53946043186205495,0.72844378451822633,0.53917270592619126,2.1303850726690145E-2,0.16673140825317811,7.8630453674122698E-3,7.9670280567370362E-3,0.10118949904589818,3.5447545617353172E-2,0,0,null,null,{"$f":"IF(RAND()<poisson_parameter*model!K106,1,0)","v":0},{"$f":"IF(RAND()<(K95^quadratic_condition*L95-$T$21)*$T$22*(1+pref_attach_on*SUM($X$35:X105)),1,0)","v":0},72,{"$f":"IF(AND(SUM($X$35:X105)=0,X106=1),Y106,\"\")","v":""}]
[null,7.9670280567370362E-3,1.383886443801519,null,{"$f":"C103","v":0.93831122027151548},null,84,8.4,0.19770304548122117,0.55210553246546634,0.73903238977000929,0.54885432971499581,2.1303850726690145E-2,0.16855456035637126,7.8630453674122698E-3,7.9670280567370362E-3,0.10550809551284458,3.5447545617353172E-2,0,0,null,null,{"$f":"IF(RAND()<poisson_parameter*model!K107,1,0)","v":0},{"$f":"IF(RAND()<(K96^quadratic_condition*L96-$T$21)*$T$22*(1+pref_attach_on*SUM($X$35:X106)),1,0)","v":0},73,{"$f":"IF(AND(SUM($X$35:X106)=0,X107=1),Y107,\"\")","v":""}]
[null,2.2000660641628769E-2,1.060974086560172,null,null,null,85,8.5,0.20452151151662371,0.56472509137342486,0.74931362152958103,0.55846640550785231,2.1303850726690145E-2,0.17031416484151438,7.8630453674122698E-3,7.9670280567370362E-3,0.1099729947431385,3.5447545617353172E-2,0,0,null,null,{"$f":"IF(RAND()<poisson_parameter*model!K108,1,0)","v":0},{"$f":"IF(RAND()<(K97^quadratic_condition*L97-$T$21)*$T$22*(1+pref_attach_on*SUM($X$35:X107)),1,0)","v":0},74,{"$f":"IF(AND(SUM($X$35:X107)=0,X108=1),Y108,\"\")","v":""}]
[null,3.5447545617353172E-2,0.18561892891524245,null,null,null,86,8.6,0.21144836045082102,0.57730497730203989,0.75927934186518842,0.56800115547100172,2.1303850726690145E-2,0.17200915306266298,7.8630453674122698E-3,7.9670280567370362E-3,0.11458632657230239,3.5447545617353172E-2,0,0,null,null,{"$f":"IF(RAND()<poisson_parameter*model!K109,1,0)","v":0},{"$f":"IF(RAND()<(K98^quadratic_condition*L98-$T$21)*$T$22*(1+pref_attach_on*SUM($X$35:X108)),1,0)","v":0},75,{"$f":"IF(AND(SUM($X$35:X108)=0,X109=1),Y109,\"\")","v":""}]
[null,null,null,null,null,null,87,8.6999999999999993,0.21847641294059891,0.58983124781658047,0.76892260190790018,0.57745106435882443,2.1303850726690145E-2,0.17363865731577513,7.8630453674122698E-3,7.9670280567370362E-3,0.11935003395280598,3.5447545617353172E-2,0,0,null,null,{"$f":"IF(RAND()<poisson_parameter*model!K110,1,0)","v":0},{"$f":"IF(RAND()<(K99^quadratic_condition*L99-$T$21)*$T$22*(1+pref_attach_on*SUM($X$35:X109)),1,0)","v":0},76,{"$f":"IF(AND(SUM($X$35:X109)=0,X110=1),Y110,\"\")","v":""}]
[null,{"$f":"CORREL(B100:B109,C100:C109)","v":6.909936055346573E-2},null,null,null,null,88,8.8000000000000007,0.22559793561689803,0.60229021032950236,0.77823763766651932,0.58680890125776031,2.1303850726690145E-2,0.17520200915549883,7.8630453674122698E-3,7.9670280567370362E-3,0.12426585523966321,3.5447545617353172E-2,0,0,null,null,{"$f":"IF(RAND()<poisson_parameter*model!K111,1,0)","v":0},{"$f":"IF(RAND()<(K100^quadratic_condition*L100-$T$21)*$T$22*(1+pref_attach_on*SUM($X$35:X110)),1,0)","v":0},77,{"$f":"IF(AND(SUM($X$35:X110)=0,X111=1),Y111,\"\")","v":""}]
[null,null,null,null,null,null,89,8.9,0.23280465968651801,0.61466848066714463,0.78721985810556305,0.59606773935988211,2.1303850726690145E-2,0.17669873644395331,7.8630453674122698E-3,7.9670280567370362E-3,0.12933530623391695,3.5447545617353172E-2,0,0,null,null,{"$f":"IF(RAND()<poisson_parameter*model!K112,1,0)","v":0},{"$f":"IF(RAND()<(K101^quadratic_condition*L101-$T$21)*$T$22*(1+pref_attach_on*SUM($X$35:X111)),1,0)","v":0},78,{"$f":"IF(AND(SUM($X$35:X111)=0,X112=1),Y112,\"\")","v":""}]
[null,null,null,null,null,null,90,9,0.24008780444411423,0.62695303868718388,0.79586582600204459,0.60522097367220784,2.1303850726690145E-2,0.17812855920599852,7.8630453674122698E-3,7.9670280567370362E-3,0.13455966209061504,3.5447545617353172E-2,0,0,null,null,{"$f":"IF(RAND()<poisson_parameter*model!K113,1,0)","v":0},{"$f":"IF(RAND()<(K102^quadratic_condition*L102-$T$21)*$T$22*(1+pref_attach_on*SUM($X$35:X112)),1,0)","v":0},79,{"$f":"IF(AND(SUM($X$35:X112)=0,X113=1),Y113,\"\")","v":""}]
[null,null,null,null,null,null,91,9.1,0.2474381056751466,0.63913128047656032,0.80417323214415959,0.61426233659098162,2.1303850726690145E-2,0.17949138437623685,7.8630453674122698E-3,7.9670280567370362E-3,0.13993993920957304,3.5447545617353172E-2,0,0,null,null,{"$f":"IF(RAND()<poisson_parameter*model!K114,1,0)","v":0},{"$f":"IF(RAND()<(K103^quadratic_condition*L103-$T$21)*$T$22*(1+pref_attach_on*SUM($X$35:X113)),1,0)","v":0},80,{"$f":"IF(AND(SUM($X$35:X113)=0,X114=1),Y114,\"\")","v":""}]
[null,null,null,null,null,null,92,9.1999999999999993,0.2548458488602951,0.65119106671365812,0.81214086346975967,0.62318591129333467,2.1303850726690145E-2,0.18078729953195946,7.8630453674122698E-3,7.9670280567370362E-3,0.14547687723870636,3.5447545617353172E-2,0,0,null,null,{"$f":"IF(RAND()<poisson_parameter*model!K115,1,0)","v":0},{"$f":"IF(RAND()<(K104^quadratic_condition*L104-$T$21)*$T$22*(1+pref_attach_on*SUM($X$35:X114)),1,0)","v":0},81,{"$f":"IF(AND(SUM($X$35:X114)=0,X115=1),Y115,\"\")","v":""}]
[null,null,null,null,null,null,93,9.3000000000000007,0.26230090701963216,0.66312076683774523,0.81976856576537749,0.63198614292159982,2.1303850726690145E-2,0.1820165657133771,7.8630453674122698E-3,7.9670280567370362E-3,0.15117092133078561,3.5447545617353172E-2,0,0,null,null,{"$f":"IF(RAND()<poisson_parameter*model!K116,1,0)","v":0},{"$f":"IF(RAND()<(K105^quadratic_condition*L105-$T$21)*$T$22*(1+pref_attach_on*SUM($X$35:X115)),1,0)","v":0},82,{"$f":"IF(AND(SUM($X$35:X115)=0,X116=1),Y116,\"\")","v":""}]
[null,null,null,null,null,null,94,9.4,0.26979278296206211,0.67490929873169825,0.82705720155846774,0.64065784755774968,2.1303850726690145E-2,0.18317960943774717,7.8630453674122698E-3,7.9670280567370362E-3,0.15702220480489174,3.5447545617353172E-2,0,0,null,null,{"$f":"IF(RAND()<poisson_parameter*model!K117,1,0)","v":0},{"$f":"IF(RAND()<(K106^quadratic_condition*L106-$T$21)*$T$22*(1+pref_attach_on*SUM($X$35:X116)),1,0)","v":0},83,{"$f":"IF(AND(SUM($X$35:X116)=0,X117=1),Y117,\"\")","v":""}]
[null,null,null,null,null,null,95,9.5,0.27731065563383461,0.68654616368945254,0.83400860383750752,0.64919621900665603,2.1303850726690145E-2,0.18427701401744828,7.8630453674122698E-3,7.9670280567370362E-3,0.16303053237337425,3.5447545617353172E-2,0,0,null,null,{"$f":"IF(RAND()<poisson_parameter*model!K118,1,0)","v":0},{"$f":"IF(RAND()<(K107^quadratic_condition*L107-$T$21)*$T$22*(1+pref_attach_on*SUM($X$35:X117)),1,0)","v":0},84,{"$f":"IF(AND(SUM($X$35:X117)=0,X118=1),Y118,\"\")","v":""}]
[null,null,null,null,null,null,96,9.6,0.28484343019099395,0.69802147650603219,0.8406255262278316,0.65759683342684927,2.1303850726690145E-2,0.18530951029372097,7.8630453674122698E-3,7.9670280567370362E-3,0.16919536410348315,3.5447545617353172E-2,0,0,null,null,{"$f":"IF(RAND()<poisson_parameter*model!K119,1,0)","v":0},{"$f":"IF(RAND()<(K108^quadratic_condition*L108-$T$21)*$T$22*(1+pref_attach_on*SUM($X$35:X118)),1,0)","v":0},85,{"$f":"IF(AND(SUM($X$35:X118)=0,X119=1),Y119,\"\")","v":""}]
[null,null,null,null,null,null,97,9.6999999999999993,0.29237979135611875,0.70932599059407486,0.84691159023677076,0.66585565186595663,2.1303850726690145E-2,0.18627796689778092,7.8630453674122698E-3,7.9670280567370362E-3,0.1755158002897832,3.5447545617353172E-2,0,0,null,null,{"$f":"IF(RAND()<poisson_parameter*model!K120,1,0)","v":0},{"$f":"IF(RAND()<(K109^quadratic_condition*L109-$T$21)*$T$22*(1+pref_attach_on*SUM($X$35:X119)),1,0)","v":0},86,{"$f":"IF(AND(SUM($X$35:X119)=0,X120=1),Y120,\"\")","v":""},null,10,20,30,50,12.5,22.5,32.5,23.5,33.5,14.5,24.5,34.5,54.5]
[null,null,null,null,null,null,98,9.8000000000000007,0.29990825956126349,0.72045111809520668,0.85287123016104005,0.67396902077482534,2.1303850726690145E-2,0.18718338014943778,7.8630453674122698E-3,7.9670280567370362E-3,0.18199056741869399,3.5447545617353172E-2,0,0,null,null,{"$f":"IF(RAND()<poisson_parameter*model!K121,1,0)","v":0},{"$f":"IF(RAND()<(K110^quadratic_condition*L110-$T$21)*$T$22*(1+pref_attach_on*SUM($X$35:X120)),1,0)","v":0},87,{"$f":"IF(AND(SUM($X$35:X120)=0,X121=1),Y121,\"\")","v":""},10,125,2,"","",1,"","","","",1,"","","",129]
[null,null,null,null,null,null,99,9.9,0.30741724932814107,0.7313889450162756,0.85850963622355392,0.68193367058934007,2.1303850726690145E-2,0.18802686370035954,7.8630453674122698E-3,7.9670280567370362E-3,0.18861800540975976,3.5447545617353172E-2,0,0,null,null,{"$f":"IF(RAND()<poisson_parameter*model!K122,1,0)","v":0},{"$f":"IF(RAND()<(K111^quadratic_condition*L111-$T$21)*$T$22*(1+pref_attach_on*SUM($X$35:X121)),1,0)","v":0},88,{"$f":"IF(AND(SUM($X$35:X121)=0,X122=1),Y122,\"\")","v":""},20,"",116,2,"","",1,"","","","",1,"","",120]
[null,null,null,null,null,null,100,10,0.31489512929462615,0.74213224147830348,0.86383269647704264,0.68974671248201358,2.1303850726690145E-2,0.18880963802486858,7.8630453674122698E-3,7.9670280567370362E-3,0.19539605631928089,3.5447545617353172E-2,0,0,null,null,{"$f":"IF(RAND()<poisson_parameter*model!K123,1,0)","v":0},{"$f":"IF(RAND()<(K112^quadratic_condition*L112-$T$21)*$T$22*(1+pref_attach_on*SUM($X$35:X122)),1,0)","v":0},89,{"$f":"IF(AND(SUM($X$35:X122)=0,X123=1),Y123,\"\")","v":""},30,1,2,88,"","","","","","","","",3,"",94]
[null,null,null,null,null,null,101,10.1,0.32233028326473545,0.75267446721920017,0.86884693797902013,0.69740563339650796,2.1303850726690145E-2,0.18953301985580945,7.8630453674122698E-3,7.9670280567370362E-3,0.20232225469049242,3.5447545617353172E-2,0,0,null,null,{"$f":"IF(RAND()<poisson_parameter*model!K124,1,0)","v":0},{"$f":"IF(RAND()<(K113^quadratic_condition*L113-$T$21)*$T$22*(1+pref_attach_on*SUM($X$35:X123)),1,0)","v":0},90,{"$f":"IF(AND(SUM($X$35:X123)=0,X124=1),Y124,\"\")","v":""},50,"","","",22,"","","","","","","","",1,23]
[null,null,null,null,null,null,102,10.199999999999999,0.32971117163821484,0.76300977253909463,0.87355946770771264,0.704908289487296,2.1303850726690145E-2,0.19019841165676776,7.8630453674122698E-3,7.9670280567370362E-3,0.20939371973034077,3.5447545617353172E-2,0,0,null,null,{"$f":"IF(RAND()<poisson_parameter*model!K125,1,0)","v":0},{"$f":"IF(RAND()<(K114^quadratic_condition*L114-$T$21)*$T$22*(1+pref_attach_on*SUM($X$35:X124)),1,0)","v":0},91,{"$f":"IF(AND(SUM($X$35:X124)=0,X125=1),Y125,\"\")","v":""},12.5,2,"","","",171,1,"","","","",1,"","",175]
[null,null,null,null,null,null,103,10.3,0.33702639256630784,0.77313299491906728,0.87797791365229583,0.71225289809372416,2.1303850726690145E-2,0.19080729121492365,7.8630453674122698E-3,7.9670280567370362E-3,0.21660714948591137,3.5447545617353172E-2,0,0,null,null,{"$f":"IF(RAND()<poisson_parameter*model!K126,1,0)","v":0},{"$f":"IF(RAND()<(K115^quadratic_condition*L115-$T$21)*$T$22*(1+pref_attach_on*SUM($X$35:X125)),1,0)","v":0},92,{"$f":"IF(AND(SUM($X$35:X125)=0,X126=1),Y126,\"\")","v":""},22.5,"","","","","",209,1,1,"","",2,"","",213]
[null,null,null,null,null,null,104,10.4,0.34426474218245007,0.7830396515797553,0.88211036647387098,0.71943802838282422,2.1303850726690145E-2,0.19136120143126645,7.8630453674122698E-3,7.9670280567370362E-3,0.22395881718356175,3.5447545617353172E-2,0,0,null,null,{"$f":"IF(RAND()<poisson_parameter*model!K127,1,0)","v":0},{"$f":"IF(RAND()<(K116^quadratic_condition*L116-$T$21)*$T$22*(1+pref_attach_on*SUM($X$35:X126)),1,0)","v":0},93,{"$f":"IF(AND(SUM($X$35:X126)=0,X127=1),Y127,\"\")","v":""},32.5,"","",1,"","","",63,"",1,"","",1,"",66]
[null,null,null,null,null,null,105,10.5,0.35141527327046862,0.7927259282755762,0.88596532209661194,0.72646259079842856,2.1303850726690145E-2,0.19186174037695342,7.8630453674122698E-3,7.9670280567370362E-3,0.2314445698807398,3.5447545617353172E-2,0,0,null,null,{"$f":"IF(RAND()<poisson_parameter*model!K128,1,0)","v":0},{"$f":"IF(RAND()<(K117^quadratic_condition*L117-$T$21)*$T$22*(1+pref_attach_on*SUM($X$35:X127)),1,0)","v":0},94,{"$f":"IF(AND(SUM($X$35:X127)=0,X128=1),Y128,\"\")","v":""},23.5,"","","","","",1,"",10,"","","","","",11]
[null,null,null,null,null,null,106,10.6,0.35846735175798,0.80218866464314986,0.88955162555187128,0.73332582545557146,2.1303850726690145E-2,0.19231055167642358,7.8630453674122698E-3,7.9670280567370362E-3,0.23905982956429203,3.5447545617353172E-2,0,0,null,null,{"$f":"IF(RAND()<poisson_parameter*model!K129,1,0)","v":0},{"$f":"IF(RAND()<(K118^quadratic_condition*L118-$T$21)*$T$22*(1+pref_attach_on*SUM($X$35:X128)),1,0)","v":0},95,{"$f":"IF(AND(SUM($X$35:X128)=0,X129=1),Y129,\"\")","v":""},33.5,"","","","","","",1,"",11,"","","","",12]
[null,null,null,null,null,null,107,10.7,0.36541071045839185,0.81142533643902015,0.89287841636212406,0.74002728961893105,2.1303850726690145E-2,0.19270931526962992,7.8630453674122698E-3,7.9670280567370362E-3,0.24679959680984273,3.5447545617353172E-2,0,0,null,null,{"$f":"IF(RAND()<poisson_parameter*model!K130,1,0)","v":0},{"$f":"IF(RAND()<(K119^quadratic_condition*L119-$T$21)*$T$22*(1+pref_attach_on*SUM($X$35:X129)),1,0)","v":0},96,{"$f":"IF(AND(SUM($X$35:X129)=0,X130=1),Y130,\"\")","v":""},14.5,1,"","","",3,"","","","",47,"","","",51]
[null,null,null,null,null,null,108,10.8,0.37223549953026275,0.82043403501222678,0.89595507571671218,0.74656684440232579,2.1303850726690145E-2,0.19305973859756465,7.8630453674122698E-3,7.9670280567370362E-3,0.25465845709466639,3.5447545617353172E-2,0,0,null,null,{"$f":"IF(RAND()<poisson_parameter*model!K131,1,0)","v":0},{"$f":"IF(RAND()<(K120^quadratic_condition*L120-$T$21)*$T$22*(1+pref_attach_on*SUM($X$35:X130)),1,0)","v":0},97,{"$f":"IF(AND(SUM($X$35:X130)=0,X131=1),Y131,\"\")","v":""},24.5,"","","","","",1,"","","",1,102,"",1,105]
[null,null,null,null,null,null,109,10.9,0.37893233317656744,0.82921344436201816,0.8987911756576521,0.7529446408231788,2.1303850726690145E-2,0.19336354824724514,7.8630453674122698E-3,7.9670280567370362E-3,0.26263058983158188,3.5447545617353172E-2,0,0,null,null,{"$f":"IF(RAND()<poisson_parameter*model!K132,1,0)","v":0},{"$f":"IF(RAND()<(K121^quadratic_condition*L121-$T$21)*$T$22*(1+pref_attach_on*SUM($X$35:X131)),1,0)","v":0},98,{"$f":"IF(AND(SUM($X$35:X131)=0,X132=1),Y132,\"\")","v":""},34.5,"","",2,"","","",1,"","",1,"",164,"",168]
[null,null,null,null,null,null,110,11,0.38549233216726081,0.83776281613046266,0.90139643046142337,0.75916110534156489,2.1303850726690145E-2,0.19362248208460631,7.8630453674122698E-3,7.9670280567370362E-3,0.27070978016403396,3.5447545617353172E-2,0,0,null,null,{"$f":"IF(RAND()<poisson_parameter*model!K133,1,0)","v":0},{"$f":"IF(RAND()<(K122^quadratic_condition*L122-$T$21)*$T$22*(1+pref_attach_on*SUM($X$35:X132)),1,0)","v":0},99,{"$f":"IF(AND(SUM($X$35:X132)=0,X133=1),Y133,\"\")","v":""},54.5,"","","",1,"","","","","",1,"","",95,97]
[null,null,null,null,null,null,111,11.1,0.39190716183491248,0.84608194287441896,0.90378065037178157,0.76521692500811878,2.1303850726690145E-2,0.19383828189639904,7.8630453674122698E-3,7.9670280567370362E-3,0.27888943353304529,3.5447545617353172E-2,0,0,null,null,{"$f":"IF(RAND()<poisson_parameter*model!K134,1,0)","v":0},{"$f":"IF(RAND()<(K123^quadratic_condition*L123-$T$21)*$T$22*(1+pref_attach_on*SUM($X$35:X133)),1,0)","v":0},100,{"$f":"IF(AND(SUM($X$35:X133)=0,X134=1),Y134,\"\")","v":""},null,129,120,93,23,175,213,66,11,12,51,106,168,97,1264]
[null,null,null,null,null,null,112,11.2,0.39816906526347351,0.85417112995181554,0.90595369780930235,0.77111303233888662,2.1303850726690145E-2,0.19401268655529455,7.8630453674122698E-3,7.9670280567370362E-3,0.28716259299553559,3.5447545617353172E-2,0,0,null,null,{"$f":"IF(RAND()<poisson_parameter*model!K135,1,0)","v":0},{"$f":"IF(RAND()<(K124^quadratic_condition*L124-$T$21)*$T$22*(1+pref_attach_on*SUM($X$35:X134)),1,0)","v":0},101,{"$f":"IF(AND(SUM($X$35:X134)=0,X135=1),Y135,\"\")","v":""}]
[null,null,null,null,null,null,113,11.3,0.40427089146279965,0.86203116634405141,0.9079254461556191,0.77685059002829115,2.1303850726690145E-2,0.19414742571599833,7.8630453674122698E-3,7.9670280567370362E-3,0.29552195924109825,3.5447545617353172E-2,0,0,null,null,{"$f":"IF(RAND()<poisson_parameter*model!K136,1,0)","v":0},{"$f":"IF(RAND()<(K125^quadratic_condition*L125-$T$21)*$T$22*(1+pref_attach_on*SUM($X$35:X135)),1,0)","v":0},102,{"$f":"IF(AND(SUM($X$35:X135)=0,X136=1),Y136,\"\")","v":""}]
[null,null,null,null,null,null,114,11.4,0.41020611839476406,0.86966329472014525,0.90970574118419167,0.78243097560392938,2.1303850726690145E-2,0.19424421404432501,7.8630453674122698E-3,7.9670280567370362E-3,0.30395991322123878,3.5447545617353172E-2,0,0,null,null,{"$f":"IF(RAND()<poisson_parameter*model!K137,1,0)","v":0},{"$f":"IF(RAND()<(K126^quadratic_condition*L126-$T$21)*$T$22*(1+pref_attach_on*SUM($X$35:X136)),1,0)","v":0},103,{"$f":"IF(AND(SUM($X$35:X136)=0,X137=1),Y137,\"\")","v":""}]
[null,null,null,null,null,null,115,11.5,0.41596887078909572,0.87706918102961873,0.91130436518496682,0.78785576611906483,2.1303850726690145E-2,0.19430474597590441,7.8630453674122698E-3,7.9670280567370362E-3,0.31246854127189716,3.5447545617353172E-2,0,0,null,null,{"$f":"IF(RAND()<poisson_parameter*model!K138,1,0)","v":0},{"$f":"IF(RAND()<(K127^quadratic_condition*L127-$T$21)*$T$22*(1+pref_attach_on*SUM($X$35:X137)),1,0)","v":0},104,{"$f":"IF(AND(SUM($X$35:X137)=0,X138=1),Y138,\"\")","v":""}]
[null,null,null,null,null,null,116,11.6,0.42155393275703612,0.88425088389056461,0.91273100380746774,0.79312672297056142,2.1303850726690145E-2,0.19433069099649189,7.8630453674122698E-3,7.9670280567370362E-3,0.3210396625774169,3.5447545617353172E-2,0,0,null,null,{"$f":"IF(RAND()<poisson_parameter*model!K139,1,0)","v":0},{"$f":"IF(RAND()<(K128^quadratic_condition*L128-$T$21)*$T$22*(1+pref_attach_on*SUM($X$35:X138)),1,0)","v":0},105,{"$f":"IF(AND(SUM($X$35:X138)=0,X139=1),Y139,\"\")","v":""}]
[null,null,null,null,null,null,117,11.7,0.42695675527722671,0.89121082401745311,0.91399521562569896,0.79824577692175758,2.1303850726690145E-2,0.19432368943174602,7.8630453674122698E-3,7.9670280567370362E-3,0.32966485879261853,3.5447545617353172E-2,0,0,null,null,{"$f":"IF(RAND()<poisson_parameter*model!K140,1,0)","v":0},{"$f":"IF(RAND()<(K129^quadratic_condition*L129-$T$21)*$T$22*(1+pref_attach_on*SUM($X$35:X139)),1,0)","v":0},106,{"$f":"IF(AND(SUM($X$35:X139)=0,X140=1),Y140,\"\")","v":""}]
[null,null,null,null,null,null,118,11.8,0.43217345868980772,0.89795175391047211,0.91510640440877522,0.80321501340151447,2.1303850726690145E-2,0.194285348730804,7.8630453674122698E-3,7.9670280567370362E-3,0.33833550560991821,3.5447545617353172E-2,0,0,null,null,{"$f":"IF(RAND()<poisson_parameter*model!K141,1,0)","v":0},{"$f":"IF(RAND()<(K130^quadratic_condition*L130-$T$21)*$T$22*(1+pref_attach_on*SUM($X$35:X140)),1,0)","v":0},107,{"$f":"IF(AND(SUM($X$35:X140)=0,X141=1),Y141,\"\")","v":""}]
[null,null,null,null,null,null,119,11.9,0.43720083039060598,0.90447672800502743,0.91607379406337952,0.80803665814249259,2.1303850726690145E-2,0.19421724022501438,7.8630453674122698E-3,7.9670280567370362E-3,0.34704280603111926,3.5447545617353172E-2,0,0,null,null,{"$f":"IF(RAND()<poisson_parameter*model!K142,1,0)","v":0},{"$f":"IF(RAND()<(K131^quadratic_condition*L131-$T$21)*$T$22*(1+pref_attach_on*SUM($X$35:X141)),1,0)","v":0},108,{"$f":"IF(AND(SUM($X$35:X141)=0,X142=1),Y142,\"\")","v":""}]
[null,null,null,null,null,null,120,12,0.44203631796680243,0.91078907345685034,0.91690640619803288,0.81271306321370695,2.1303850726690145E-2,0.19412089634075247,7.8630453674122698E-3,7.9670280567370362E-3,0.35577782507917438,3.5447545617353172E-2,0,0,null,null,{"$f":"IF(RAND()<poisson_parameter*model!K143,1,0)","v":0},{"$f":"IF(RAND()<(K132^quadratic_condition*L132-$T$21)*$T$22*(1+pref_attach_on*SUM($X$35:X142)),1,0)","v":0},109,{"$f":"IF(AND(SUM($X$35:X142)=0,X143=1),Y143,\"\")","v":""}]
[null,null,null,null,null,null,121,12.1,0.44667801805809482,0.91689236171532662,0.91761304024469637,0.81724669349466073,2.1303850726690145E-2,0.19399780824331639,7.8630453674122698E-3,7.9670280567370362E-3,0.36453152566439634,3.5447545617353172E-2,0,0,null,null,{"$f":"IF(RAND()<poisson_parameter*model!K144,1,0)","v":0},{"$f":"IF(RAND()<(K133^quadratic_condition*L133-$T$21)*$T$22*(1+pref_attach_on*SUM($X$35:X143)),1,0)","v":0},110,{"$f":"IF(AND(SUM($X$35:X143)=0,X144=1),Y144,\"\")","v":""}]
[null,null,null,null,null,null,122,12.2,0.45112466126280582,0.92279038101547262,0.91820225606042705,0.82164011363092226,2.1303850726690145E-2,0.19384942388744655,7.8630453674122698E-3,7.9670280567370362E-3,0.37329480530274578,3.5447545617353172E-2,0,0,null,null,{"$f":"IF(RAND()<poisson_parameter*model!K145,1,0)","v":0},{"$f":"IF(RAND()<(K134^quadratic_condition*L134-$T$21)*$T$22*(1+pref_attach_on*SUM($X$35:X144)),1,0)","v":0},111,{"$f":"IF(AND(SUM($X$35:X144)=0,X145=1),Y145,\"\")","v":""}]
[null,null,null,null,null,null,123,12.3,0.45537559343652179,0.92848710989768846,0.91868235892063443,0.825895975503945,2.1303850726690145E-2,0.1936771464489912,7.8630453674122698E-3,7.9670280567370362E-3,0.38205853337131923,3.5447545617353172E-2,0,0,null,null,{"$f":"IF(RAND()<poisson_parameter*model!K146,1,0)","v":0},{"$f":"IF(RAND()<(K135^quadratic_condition*L135-$T$21)*$T$22*(1+pref_attach_on*SUM($X$35:X145)),1,0)","v":0},112,{"$f":"IF(AND(SUM($X$35:X145)=0,X146=1),Y146,\"\")","v":""}]
[null,null,null,null,null,null,124,12.4,0.4594307537517523,0.93398669184421745,0.91906138680592009,0.83001700624127239,2.1303850726690145E-2,0.19348233311161445,7.8630453674122698E-3,7.9670280567370362E-3,0.39081358857828113,3.5447545617353172E-2,0,0,null,null,{"$f":"IF(RAND()<poisson_parameter*model!K147,1,0)","v":0},{"$f":"IF(RAND()<(K136^quadratic_condition*L136-$T$21)*$T$22*(1+pref_attach_on*SUM($X$35:X146)),1,0)","v":0},113,{"$f":"IF(AND(SUM($X$35:X146)=0,X147=1),Y147,\"\")","v":""}]
[null,null,null,null,null,null,125,12.5,0.46329064990099428,0.9392934111022917,0.91934709987647512,0.83400599678705467,2.1303850726690145E-2,0.19326629418217214,7.8630453674122698E-3,7.9670280567370362E-3,0.39955089632140844,3.5447545617353172E-2,0,0,null,null,{"$f":"IF(RAND()<poisson_parameter*model!K148,1,0)","v":0},{"$f":"IF(RAND()<(K137^quadratic_condition*L137-$T$21)*$T$22*(1+pref_attach_on*SUM($X$35:X147)),1,0)","v":0},114,{"$f":"IF(AND(SUM($X$35:X147)=0,X148=1),Y148,\"\")","v":""}]
[null,null,null,null,null,null,126,12.6,0.46695633083282667,0.94441166974635149,0.91954697202151781,0.83786579104704406,2.1303850726690145E-2,0.19303029250842177,7.8630453674122698E-3,7.9670280567370362E-3,0.4082614656112129,3.5447545617353172E-2,0,0,null,null,{"$f":"IF(RAND()<poisson_parameter*model!K149,1,0)","v":0},{"$f":"IF(RAND()<(K138^quadratic_condition*L138-$T$21)*$T$22*(1+pref_attach_on*SUM($X$35:X148)),1,0)","v":0},115,{"$f":"IF(AND(SUM($X$35:X148)=0,X149=1),Y149,\"\")","v":""}]
[null,null,null,null,null,null,127,12.7,0.47042935741171332,0.94934596601557142,0.91966818436621212,0.8415992756169508,2.1303850726690145E-2,0.19277554317304765,7.8630453674122698E-3,7.9670280567370362E-3,0.41693642524122954,3.5447545617353172E-2,0,0,null,null,{"$f":"IF(RAND()<poisson_parameter*model!K150,1,0)","v":0},{"$f":"IF(RAND()<(K139^quadratic_condition*L139-$T$21)*$T$22*(1+pref_attach_on*SUM($X$35:X149)),1,0)","v":0},116,{"$f":"IF(AND(SUM($X$35:X149)=0,X150=1),Y150,\"\")","v":""}]
[null,null,null,null,null,null,128,12.8,0.47371177138760451,0.95410087394824472,0.91971762061484674,0.84520937009822827,2.1303850726690145E-2,0.19250321343853033,7.8630453674122698E-3,7.9670280567370362E-3,0.42556705889936047,3.5447545617353172E-2,0,0,null,null,{"$f":"IF(RAND()<poisson_parameter*model!K151,1,0)","v":0},{"$f":"IF(RAND()<(K140^quadratic_condition*L140-$T$21)*$T$22*(1+pref_attach_on*SUM($X$35:X150)),1,0)","v":0},117,{"$f":"IF(AND(SUM($X$35:X150)=0,X151=1),Y151,\"\")","v":""}]
[null,null,null,null,null,null,129,12.9,0.47680606305180895,0.95868102432137714,0.91970186410669819,0.84869901800101755,2.1303850726690145E-2,0.19221442291813523,7.8630453674122698E-3,7.9670280567370362E-3,0.43414483892988071,3.5447545617353172E-2,0,0,null,null,{"$f":"IF(RAND()<poisson_parameter*model!K152,1,0)","v":0},{"$f":"IF(RAND()<(K141^quadratic_condition*L141-$T$21)*$T$22*(1+pref_attach_on*SUM($X$35:X151)),1,0)","v":0},118,{"$f":"IF(AND(SUM($X$35:X151)=0,X152=1),Y152,\"\")","v":""}]
[null,null,null,null,null,null,130,13,0.47971513794160758,0.96309108689211043,0.91962719645985858,0.85207117823010114,2.1303850726690145E-2,0.19191024394920198,7.8630453674122698E-3,7.9670280567370362E-3,0.44266145847549077,3.5447545617353172E-2,0,0,null,null,{"$f":"IF(RAND()<poisson_parameter*model!K153,1,0)","v":0},{"$f":"IF(RAND()<(K142^quadratic_condition*L142-$T$21)*$T$22*(1+pref_attach_on*SUM($X$35:X152)),1,0)","v":0},119,{"$f":"IF(AND(SUM($X$35:X152)=0,X153=1),Y153,\"\")","v":""}]
[null,null,null,null,null,null,131,13.1,0.48244228293835933,0.96733575392729221,0.91949959767828837,0.85532881714629216,2.1303850726690145E-2,0.19159170214595314,7.8630453674122698E-3,7.9670280567370362E-3,0.45110886175220544,3.5447545617353172E-2,0,{"$f":"S154-S153","v":0},null,null,{"$f":"IF(RAND()<poisson_parameter*model!K154,1,0)","v":0},{"$f":"IF(RAND()<(K143^quadratic_condition*L143-$T$21)*$T$22*(1+pref_attach_on*SUM($X$35:X153)),1,0)","v":0},120,{"$f":"IF(AND(SUM($X$35:X153)=0,X154=1),Y154,\"\")","v":""}]
[null,null,null,null,null,null,132,13.2,0.48499113208307654,0.97141972499857954,0.91932474759835936,0.85847490119268566,2.1303850726690145E-2,0.19125977711017736,7.8630453674122698E-3,7.9670280567370362E-3,0.45947927223638108,3.5447545617353172E-2,0,0,null,null,{"$f":"IF(RAND()<poisson_parameter*model!K155,1,0)","v":0},{"$f":"IF(RAND()<(K144^quadratic_condition*L144-$T$21)*$T$22*(1+pref_attach_on*SUM($X$35:X154)),1,0)","v":0},121,{"$f":"IF(AND(SUM($X$35:X154)=0,X155=1),Y155,\"\")","v":""}]
[null,null,null,null,null,null,133,13.3,0.48736563241026837,0.97534769301284385,0.91910802855307816,0.86151239007261537,2.1303850726690145E-2,0.19091540327935094,7.8630453674122698E-3,7.9670280567370362E-3,0.4677652185722429,3.5447545617353172E-2,0,0,null,null,{"$f":"IF(RAND()<poisson_parameter*model!K156,1,0)","v":0},{"$f":"IF(RAND()<(K145^quadratic_condition*L145-$T$21)*$T$22*(1+pref_attach_on*SUM($X$35:X155)),1,0)","v":0},122,{"$f":"IF(AND(SUM($X$35:X155)=0,X156=1),Y156,\"\")","v":""}]
[null,null,null,null,null,null,134,13.4,0.48957001007588369,0.97912433144124944,0.91885452913492305,0.86444423046396324,2.1303850726690145E-2,0.19055947089302011,7.8630453674122698E-3,7.9670280567370362E-3,0.47595955803927115,3.5447545617353172E-2,0,0,null,null,{"$f":"IF(RAND()<poisson_parameter*model!K157,1,0)","v":0},{"$f":"IF(RAND()<(K146^quadratic_condition*L146-$T$21)*$T$22*(1+pref_attach_on*SUM($X$35:X156)),1,0)","v":0},123,{"$f":"IF(AND(SUM($X$35:X156)=0,X157=1),Y157,\"\")","v":""}]
[null,null,null,null,null,null,135,13.5,0.4916087370290137,0.9827542827051251,0.91856904894168556,0.86727335025263408,2.2416067468936176E-2,0.19019282705955073,7.8630453674122698E-3,7.9670280567370362E-3,0.48405549745111359,3.5447545617353172E-2,0,0,null,null,{"$f":"IF(RAND()<poisson_parameter*model!K158,1,0)","v":0},{"$f":"IF(RAND()<(K147^quadratic_condition*L147-$T$21)*$T$22*(1+pref_attach_on*SUM($X$35:X157)),1,0)","v":0},124,{"$f":"IF(AND(SUM($X$35:X157)=0,X158=1),Y158,\"\")","v":""}]
[null,null,null,null,null,null,136,13.6,0.49348649845016973,0.98624214767255303,0.91822292521285587,0.87000265326651227,2.3585047262321777E-2,0.18981627690664654,7.8630453674122698E-3,7.9670280567370362E-3,0.49204661139068029,3.5447545617353172E-2,0,0,null,null,{"$f":"IF(RAND()<poisson_parameter*model!K159,1,0)","v":0},{"$f":"IF(RAND()<(K148^quadratic_condition*L148-$T$21)*$T$22*(1+pref_attach_on*SUM($X$35:X158)),1,0)","v":0},125,{"$f":"IF(AND(SUM($X$35:X158)=0,X159=1),Y159,\"\")","v":""}]
[null,null,null,null,null,null,137,13.7,0.49520816115191391,0.98959247621635693,0.9178200925888621,0.87263501449003344,2.4813547889811386E-2,0.18943067976378594,7.8630453674122698E-3,7.9670280567370362E-3,0.49992685771912743,3.5447545617353172E-2,0,0,null,null,{"$f":"IF(RAND()<poisson_parameter*model!K160,1,0)","v":0},{"$f":"IF(RAND()<(K149^quadratic_condition*L149-$T$21)*$T$22*(1+pref_attach_on*SUM($X$35:X159)),1,0)","v":0},126,{"$f":"IF(AND(SUM($X$35:X159)=0,X160=1),Y160,\"\")","v":""}]
[null,null,null,null,null,null,138,13.8,0.49677874311082049,0.99280975878180222,0.91736415435785368,0.87517327573860026,2.6104446280629787E-2,0.1890368548444242,8.2703806267605297E-3,7.9670280567370362E-3,0.50769059032895902,3.5447545617353172E-2,0,0,null,null,{"$f":"IF(RAND()<poisson_parameter*model!K161,1,0)","v":0},{"$f":"IF(RAND()<(K150^quadratic_condition*L150-$T$21)*$T$22*(1+pref_attach_on*SUM($X$35:X160)),1,0)","v":0},127,{"$f":"IF(AND(SUM($X$35:X160)=0,X161=1),Y161,\"\")","v":""}]
[null,null,null,null,null,null,139,13.9,0.49820865205746706,0.99589841891072761,0.91685838804992259,0.87762024177143205,2.7460742056737677E-2,0.18863939858842368,8.6991461304995691E-3,7.9670280567370362E-3,0.51533256914292247,3.5447545617353172E-2,0,0,null,null,{"$f":"IF(RAND()<poisson_parameter*model!K162,1,0)","v":0},{"$f":"IF(RAND()<(K151^quadratic_condition*L151-$T$21)*$T$22*(1+pref_attach_on*SUM($X$35:X161)),1,0)","v":0},128,{"$f":"IF(AND(SUM($X$35:X161)=0,X162=1),Y162,\"\")","v":""}]
[null,null,null,null,null,null,140,14,0.49950326252693455,0.99886280666792215,0.9163056505567676,0.87997867682102393,2.8885561000528106E-2,0.18823920148526013,9.1504702605090249E-3,7.9670280567370362E-3,0.52284796739025052,3.5447545617353172E-2,0,0,null,null,{"$f":"IF(RAND()<poisson_parameter*model!K163,1,0)","v":0},{"$f":"IF(RAND()<(K152^quadratic_condition*L152-$T$21)*$T$22*(1+pref_attach_on*SUM($X$35:X162)),1,0)","v":0},129,{"$f":"IF(AND(SUM($X$35:X162)=0,X163=1),Y163,\"\")","v":""}]
[null,null,null,null,null,null,141,14.1,0.50066801956954021,1.001707192915261,0.91570848760279544,0.88225130151719056,3.0382158416311165E-2,0.1878371260861266,9.6255397869121351E-3,7.9670280567370362E-3,0.53023237621967767,3.5447545617353172E-2,0,0,null,null,{"$f":"IF(RAND()<poisson_parameter*model!K164,1,0)","v":0},{"$f":"IF(RAND()<(K153^quadratic_condition*L153-$T$21)*$T$22*(1+pref_attach_on*SUM($X$35:X163)),1,0)","v":0},130,{"$f":"IF(AND(SUM($X$35:X163)=0,X164=1),Y164,\"\")","v":""}]
[null,null,null,null,null,null,142,14.2,0.50170841506891339,1.0044357643793369,0.91506914081996316,0.88444079018364774,3.1953922355058083E-2,0.18743400903797128,1.0125602743510445E-2,7.9670280567370362E-3,0.53748180673417278,3.5982206819642502E-2,0,0,null,null,{"$f":"IF(RAND()<poisson_parameter*model!K165,1,0)","v":0},{"$f":"IF(RAND()<(K154^quadratic_condition*L154-$T$21)*$T$22*(1+pref_attach_on*SUM($X$35:X164)),1,0)","v":0},131,{"$f":"IF(AND(SUM($X$35:X164)=0,X165=1),Y165,\"\")","v":""}]
[null,null,null,null,null,null,143,14.3,0.50262996566138574,1.0070526194589964,0.91438955514524844,0.88654976848522637,3.3604376668564501E-2,0.18703066314453243,1.0651971426189432E-2,7.9670280567370362E-3,0.54459268955519247,3.6521391760436173E-2,0,0,null,null,{"$f":"IF(RAND()<poisson_parameter*model!K166,1,0)","v":0},{"$f":"IF(RAND()<(K155^quadratic_condition*L155-$T$21)*$T$22*(1+pref_attach_on*SUM($X$35:X165)),1,0)","v":0},132,{"$f":"IF(AND(SUM($X$35:X165)=0,X166=1),Y166,\"\")","v":""}]
[null,null,null,null,null,null,144,14.4,0.50343819228459796,1.0095617647202417,0.91367138646921509,0.8885808114040944,3.5337183855665533E-2,0.18662787944779086,1.1206025517116315E-2,7.9670280567370362E-3,0.55156187204426099,3.7065191632101119E-2,0,0,null,null,{"$f":"IF(RAND()<poisson_parameter*model!K167,1,0)","v":0},{"$f":"IF(RAND()<(K156^quadratic_condition*L156-$T$21)*$T$22*(1+pref_attach_on*SUM($X$35:X166)),1,0)","v":0},133,{"$f":"IF(AND(SUM($X$35:X166)=0,X167=1),Y167,\"\")","v":""}]
[null,null,null,null,null,null,145,14.5,0.50413860136617772,1.0119671120273301,0.9129160094719041,0.89053644152376221,3.7156147659394727E-2,0.18622642932434127,1.1789215337255984E-2,7.9670280567370362E-3,0.55838661332668338,3.7613699354578527E-2,0,0,null,null,{"$f":"IF(RAND()<poisson_parameter*model!K168,1,0)","v":0},{"$f":"IF(RAND()<(K157^quadratic_condition*L157-$T$21)*$T$22*(1+pref_attach_on*SUM($X$35:X167)),1,0)","v":0},134,{"$f":"IF(AND(SUM($X$35:X167)=0,X168=1),Y168,\"\")","v":""}]
[null,null,null,null,null,null,146,14.6,0.50473666764799763,1.0142724762605204,0.91212452558993373,0.89241912760014797,3.9065215370031769E-2,0.18582706659219453,1.2403065229368258E-2,7.9670280567370362E-3,0.56506457727613246,3.8167009556192476E-2,0,0,null,null,{"$f":"IF(RAND()<poisson_parameter*model!K169,1,0)","v":0},{"$f":"IF(RAND()<(K158^quadratic_condition*L158-$T$21)*$T$22*(1+pref_attach_on*SUM($X$35:X168)),1,0)","v":0},135,{"$f":"IF(AND(SUM($X$35:X168)=0,X169=1),Y169,\"\")","v":""}]
[null,null,null,null,null,null,147,14.7,0.50523781862787276,1.0164815735727566,0.91129777106619403,0.89423128339956537,4.1068479784839643E-2,0.1854305296244643,1.3049177073210226E-2,7.9670280567370362E-3,0.57159382362972255,3.8725218563095104E-2,0,0,null,null,{"$f":"IF(RAND()<poisson_parameter*model!K170,1,0)","v":0},{"$f":"IF(RAND()<(K159^quadratic_condition*L159-$T$21)*$T$22*(1+pref_attach_on*SUM($X$35:X169)),1,0)","v":0},136,{"$f":"IF(AND(SUM($X$35:X169)=0,X170=1),Y170,\"\")","v":""}]
[null,null,null,null,null,null,148,14.8,0.5056474205885847,1.0185980201395548,0.91043632504084449,0.89597526678415151,4.3170180770966647E-2,0.18503754346726703,1.372923393414098E-2,7.9670280567370362E-3,0.57797279741105012,3.9288424396962347E-2,0,0,null,null,{"$f":"IF(RAND()<poisson_parameter*model!K171,1,0)","v":0},{"$f":"IF(RAND()<(K160^quadratic_condition*L160-$T$21)*$T$22*(1+pref_attach_on*SUM($X$35:X170)),1,0)","v":0},137,{"$f":"IF(AND(SUM($X$35:X170)=0,X171=1),Y171,\"\")","v":""}]
[null,null,null,null,null,null,149,14.9,0.50597076617377612,1.0206253313584708,0.90954051764944155,0.8976533790259601,4.5374706373503382E-2,0.18464882195997337,1.4445003845701085E-2,7.9670280567370362E-3,0.58420031684366813,3.9856726780508833E-2,0,0,null,null,{"$f":"IF(RAND()<poisson_parameter*model!K172,1,0)","v":0},{"$f":"IF(RAND()<(K161^quadratic_condition*L161-$T$21)*$T$22*(1+pref_attach_on*SUM($X$35:X171)),1,0)","v":0},138,{"$f":"IF(AND(SUM($X$35:X171)=0,X172=1),Y172,\"\")","v":""}]
[null,null,null,null,null,null,150,15,0.50621306346148054,1.0225669214567032,0.90861043810091302,0.89926786433169881,4.7686593406067193E-2,0.18426506985669758,1.5198343726002908E-2,7.9670280567370362E-3,0.59027555993971881,4.0430227150343875E-2,0,0,null,null,{"$f":"IF(RAND()<poisson_parameter*model!K173,1,0)","v":0},{"$f":"IF(RAND()<(K162^quadratic_condition*L162-$T$21)*$T$22*(1+pref_attach_on*SUM($X$35:X172)),1,0)","v":0},139,{"$f":"IF(AND(SUM($X$35:X172)=0,X173=1),Y173,\"\")","v":""}]
[null,null,null,null,null,null,151,15.1,0.50637942647875822,1.0244261034676163,0.90764594271475019,0.9008209095608698,5.0110527456572324E-2,0.18388698494860012,1.5991203426906474E-2,7.9670280567370362E-3,0.59619804994819192,4.1009028676641593E-2,0,0,null,null,{"$f":"IF(RAND()<poisson_parameter*model!K174,1,0)","v":0},{"$f":"IF(RAND()<(K163^quadratic_condition*L163-$T$21)*$T$22*(1+pref_attach_on*SUM($X$35:X173)),1,0)","v":0},140,{"$f":"IF(AND(SUM($X$35:X173)=0,X174=1),Y174,\"\")","v":""}]
[null,null,null,null,null,null,152,15.2,0.50647486709500933,1.0262060895392104,0.90664666290318441,0.90231464412087536,5.2651342236077023E-2,0.18351526018721265,1.6825629913953255E-2,7.9670280567370362E-3,0.60196763984471979,4.1593236289046716E-2,0,0,null,null,{"$f":"IF(RAND()<poisson_parameter*model!K175,1,0)","v":0},{"$f":"IF(RAND()<(K164^quadratic_condition*L164-$T$21)*$T$22*(1+pref_attach_on*SUM($X$35:X174)),1,0)","v":0},141,{"$f":"IF(AND(SUM($X$35:X174)=0,X175=1),Y175,\"\")","v":""}]
[null,null,null,null,null,null,153,15.3,0.50650428822693272,1.0279099915398155,0.90561201309025308,0.90375114002346624,5.5314018193833095E-2,0.18315058580957597,1.7703771573870233E-2,7.9670280567370362E-3,0.60758449604022458,4.2182956708182694E-2,0,0,null,null,{"$f":"IF(RAND()<poisson_parameter*model!K176,1,0)","v":0},{"$f":"IF(RAND()<(K165^quadratic_condition*L165-$T$21)*$T$22*(1+pref_attach_on*SUM($X$35:X175)),1,0)","v":0},142,{"$f":"IF(AND(SUM($X$35:X175)=0,X176=1),Y176,\"\")","v":""}]
[null,null,null,null,null,null,154,15.4,0.50647247828468611,1.0295408219284918,0.90454119856552362,0.90513241208772655,5.8103680316962752E-2,0.18279365146651486,1.8627882645120133E-2,7.9670280567370362E-3,0.613049081479355,4.2778298482069939E-2,0,0,null,null,{"$f":"IF(RAND()<poisson_parameter*model!K177,1,0)","v":0},{"$f":"IF(RAND()<(K166^quadratic_condition*L166-$T$21)*$T$22*(1+pref_attach_on*SUM($X$35:X176)),1,0)","v":0},143,{"$f":"IF(AND(SUM($X$35:X176)=0,X177=1),Y177,\"\")","v":""}]
[null,null,null,null,null,null,155,15.5,0.5063841067864725,1.0311014948597996,0.90343322327583142,0.90646041827560586,6.102559502862883E-2,0.1824451483558624,1.9600327765440424E-2,7.9670280567370362E-3,0.61836213829176256,4.3379372026698698E-2,0,0,null,null,{"$f":"IF(RAND()<poisson_parameter*model!K178,1,0)","v":0},{"$f":"IF(RAND()<(K167^quadratic_condition*L167-$T$21)*$T$22*(1+pref_attach_on*SUM($X$35:X177)),1,0)","v":0},144,{"$f":"IF(AND(SUM($X$35:X177)=0,X178=1),Y178,\"\")","v":""}]
[null,null,null,null,null,null,156,15.6,0.50624372106742543,1.0325948274947201,0.9022868975636904,0.90773706014681543,6.4085166094235618E-2,0.1821057713628936,2.0623586628561529E-2,7.9670280567370362E-3,0.62352467015013391,4.39862896699326E-2,0,0,null,null,{"$f":"IF(RAND()<poisson_parameter*model!K179,1,0)","v":0},{"$f":"IF(RAND()<(K168^quadratic_condition*L168-$T$21)*$T$22*(1+pref_attach_on*SUM($X$35:X178)),1,0)","v":0},145,{"$f":"IF(AND(SUM($X$35:X178)=0,X179=1),Y179,\"\")","v":""}]
[null,null,null,null,null,null,157,15.7,0.5060557440081711,1.0340235414915542,0.90110084586604144,0.9089641834206994,6.7287929441201919E-2,0.18177622121063758,2.170025874029979E-2,7.9670280567370362E-3,0.62853792447878154,4.4599165697845285E-2,0,0,null,null,{"$f":"IF(RAND()<poisson_parameter*model!K180,1,0)","v":0},{"$f":"IF(RAND()<(K169^quadratic_condition*L169-$T$21)*$T$22*(1+pref_attach_on*SUM($X$35:X179)),1,0)","v":0},146,{"$f":"IF(AND(SUM($X$35:X179)=0,X180=1),Y180,\"\")","v":""}]
[null,null,null,null,null,null,158,15.8,0.50582447270871689,1.0353902646526096,0.89987351439170937,0.91014357863346573,7.0639546794301733E-2,0.18145720662311268,2.2833068261957114E-2,7.9670280567370362E-3,0.63340337464574503,4.5218116402512824E-2,0,0,null,null,{"$f":"IF(RAND()<poisson_parameter*model!K181,1,0)","v":0},{"$f":"IF(RAND()<(K170^quadratic_condition*L170-$T$21)*$T$22*(1+pref_attach_on*SUM($X$35:X180)),1,0)","v":0},147,{"$f":"IF(AND(SUM($X$35:X180)=0,X181=1),Y181,\"\")","v":""}]
[null,null,null,null,null,null,159,15.9,0.50555407803423813,1.0366975327043735,0.89860317880032825,0.91127698187991824,7.4145798025603976E-2,0.18114944650487233,2.4024868926399639E-2,7.9670280567370362E-3,0.63812270226000634,4.5843260130199105E-2,0,0,null,null,{"$f":"IF(RAND()<poisson_parameter*model!K182,1,0)","v":0},{"$f":"IF(RAND()<(K171^quadratic_condition*L171-$T$21)*$T$22*(1+pref_attach_on*SUM($X$35:X181)),1,0)","v":0},148,{"$f":"IF(AND(SUM($X$35:X181)=0,X182=1),Y182,\"\")","v":""}]
[null,null,null,null,null,null,160,16,0.50524860496081481,1.0379477911906807,0.89728795190955024,0.91236607562956085,7.7812572115808318E-2,0.18085367214056425,2.5278649009302545E-2,7.9670280567370362E-3,0.6426977796837906,4.6474717328779468E-2,0,0,null,null,{"$f":"IF(RAND()<poisson_parameter*model!K183,1,0)","v":0},{"$f":"IF(RAND()<(K172^quadratic_condition*L172-$T$21)*$T$22*(1+pref_attach_on*SUM($X$35:X182)),1,0)","v":0},149,{"$f":"IF(AND(SUM($X$35:X182)=0,X183=1),Y183,\"\")","v":""}]
[null,null,null,null,null,null,161,16.100000000000001,0.50491197365111307,1.0391433974600999,0.89592579146106111,0.9134124896076492,8.1645856622432428E-2,0.18057062941849422,2.6597536334806649E-2,7.9670280567370362E-3,0.64713065285820226,4.7112610593149896E-2,0,0,null,null,{"$f":"IF(RAND()<poisson_parameter*model!K184,1,0)","v":0},{"$f":"IF(RAND()<(K173^quadratic_condition*L173-$T$21)*$T$22*(1+pref_attach_on*SUM($X$35:X183)),1,0)","v":0},150,{"$f":"IF(AND(SUM($X$35:X183)=0,X184=1),Y184,\"\")","v":""}]
[null,null,null,null,null,null,162,16.2,0.50454798119232291,1.0402866227303906,0.89451450797925824,0.91441780173244414,8.5651725550036875E-2,0.18030108108245113,2.7984803291201905E-2,7.9670280567370362E-3,0.65142352452880836,4.775706470726479E-2,0,0,null,null,{"$f":"IF(RAND()<poisson_parameter*model!K185,1,0)","v":0},{"$f":"IF(RAND()<(K174^quadratic_condition*L174-$T$21)*$T$22*(1+pref_attach_on*SUM($X$35:X184)),1,0)","v":0},151,{"$f":"IF(AND(SUM($X$35:X184)=0,X185=1),Y185,\"\")","v":""}]
[null,null,null,null,null,null,163,16.3,0.5041603039312732,1.0413796542144131,0.89305177275937875,0.91538353910056736,8.9836325518669172E-2,0.18004580901629266,2.944387182820022E-2,7.9670280567370362E-3,0.65557873794638044,4.8408206681336434E-2,0,0,null,null,{"$f":"IF(RAND()<poisson_parameter*model!K186,1,0)","v":0},{"$f":"IF(RAND()<(K175^quadratic_condition*L175-$T$21)*$T$22*(1+pref_attach_on*SUM($X$35:X185)),1,0)","v":0},152,{"$f":"IF(AND(SUM($X$35:X185)=0,X186=1),Y186,\"\")","v":""}]
[null,null,null,null,null,null,164,16.399999999999999,0.5037525003444695,1.0424245972933186,0.8915351260243628,0.91631117901297987,9.4205860129176602E-2,0.17980561656601454,3.0978318402850397E-2,7.9670280567370362E-3,0.6595987611069658,4.9066165782613823E-2,0,0,null,null,{"$f":"IF(RAND()<poisson_parameter*model!K187,1,0)","v":0},{"$f":"IF(RAND()<(K176^quadratic_condition*L176-$T$21)*$T$22*(1+pref_attach_on*SUM($X$35:X186)),1,0)","v":0},153,{"$f":"IF(AND(SUM($X$35:X186)=0,X187=1),Y187,\"\")","v":""}]
[null,null,null,null,null,null,165,16.5,0.50332801438377373,1.043423477724198,0.88996198529176329,0.91720215003469341,9.8766572428195087E-2,0.17958133090423017,3.2591878836147163E-2,7.9670280567370362E-3,0.66348617158489243,4.973107355803847E-2,0,0,null,null,{"$f":"IF(RAND()<poisson_parameter*model!K188,1,0)","v":0},{"$f":"IF(RAND()<(K177^quadratic_condition*L177-$T$21)*$T$22*(1+pref_attach_on*SUM($X$35:X187)),1,0)","v":0},154,{"$f":"IF(AND(SUM($X$35:X187)=0,X188=1),Y188,\"\")","v":""}]
[null,null,null,null,null,null,166,16.600000000000001,0.50289017924150003,1.0443782438706297,0.88832965399352404,0.91805783308188071,0.10352472538169595,0.17937380544217429,3.4288453036860025E-2,7.9670280567370362E-3,0.66724364200229658,5.0403063846950917E-2,0,0,null,null,{"$f":"IF(RAND()<poisson_parameter*model!K189,1,0)","v":0},{"$f":"IF(RAND()<(K178^quadratic_condition*L178-$T$21)*$T$22*(1+pref_attach_on*SUM($X$35:X188)),1,0)","v":0},155,{"$f":"IF(AND(SUM($X$35:X188)=0,X189=1),Y189,\"\")","v":""}]
[null,null,null,null,null,null,167,16.7,0.50244222148178264,1.0452907689457456,0.88663533039239939,0.91887956253058312,0.10848658027419475,0.17918392229451238,3.6072109543023069E-2,7.9670280567370362E-3,0.67087392616936781,5.1082272781895394E-2,0,0,null,null,{"$f":"IF(RAND()<poisson_parameter*model!K190,1,0)","v":0},{"$f":"IF(RAND()<(K179^quadratic_condition*L179-$T$21)*$T$22*(1+pref_attach_on*SUM($X$35:X189)),1,0)","v":0},156,{"$f":"IF(AND(SUM($X$35:X189)=0,X190=1),Y190,\"\")","v":""}]
[null,null,null,null,null,null,168,16.8,0.50198726548813,1.0461628532585281,0.88487611683912304,0.91966862734170884,0.11365837296132759,0.17901259480238971,3.7947089824853411E-2,7.9670280567370362E-3,0.67437984592078082,5.1768838775442472E-2,0,0,null,null,{"$f":"IF(RAND()<poisson_parameter*model!K191,1,0)","v":0},{"$f":"IF(RAND()<(K180^quadratic_condition*L180-$T$21)*$T$22*(1+pref_attach_on*SUM($X$35:X190)),1,0)","v":0},157,{"$f":"IF(AND(SUM($X$35:X190)=0,X191=1),Y191,\"\")","v":""}]
[null,null,null,null,null,null,169,16.899999999999999,0.50152833818006659,1.0469962264550638,0.88304902941410091,0.92042627219748863,0.11904628791670641,0.1788607701202867,3.9917812285577225E-2,7.9670280567370362E-3,0.67776427866575517,5.246290249082286E-2,0,0,null,null,{"$f":"IF(RAND()<poisson_parameter*model!K192,1,0)","v":0},{"$f":"IF(RAND()<(K181^quadratic_condition*L181-$T$21)*$T$22*(1+pref_attach_on*SUM($X$35:X191)),1,0)","v":0},158,{"$f":"IF(AND(SUM($X$35:X191)=0,X192=1),Y192,\"\")","v":""}]
[null,null,null,null,null,null,170,17,0.50106837395463988,1.0477925497474214,0.88115100799634094,0.92115369864499386,0.12465643002998775,0.17872943187236182,4.1988875888715985E-2,7.9670280567370362E-3,0.68103014566186848,5.3164606794041766E-2,0,0,null,null,{"$f":"IF(RAND()<poisson_parameter*model!K193,1,0)","v":0},{"$f":"IF(RAND()<(K182^quadratic_condition*L182-$T$21)*$T$22*(1+pref_attach_on*SUM($X$35:X192)),1,0)","v":0},159,{"$f":"IF(AND(SUM($X$35:X192)=0,X193=1),Y193,\"\")","v":""}]
[null,null,null,null,null,null,171,17.100000000000001,0.50061021981130305,1.0485534181236797,0.87917892680048326,0.92185206624273786,0.13049479413212225,0.17861960288405723,4.4165063331808092E-2,7.9670280567370362E-3,0.68418040101615052,5.3874096685024887E-2,0,0,null,null,{"$f":"IF(RAND()<poisson_parameter*model!K194,1,0)","v":0},{"$f":"IF(RAND()<(K183^quadratic_condition*L183-$T$21)*$T$22*(1+pref_attach_on*SUM($X$35:X193)),1,0)","v":0},160,{"$f":"IF(AND(SUM($X$35:X193)=0,X194=1),Y194,\"\")","v":""}]
[null,null,null,null,null,null,172,17.2,0.50015664062123788,1.0492803625334346,0.87712960542009566,0.92252249370676642,0.1365672322459546,0.17853234799481293,4.6451343677306925E-2,7.9670280567370362E-3,0.68721802141109822,5.4591519205237249E-2,0,0,null,null,{"$f":"IF(RAND()<poisson_parameter*model!K195,1,0)","v":0},{"$f":"IF(RAND()<(K184^quadratic_condition*L184-$T$21)*$T$22*(1+pref_attach_on*SUM($X$35:X194)),1,0)","v":0},161,{"$f":"IF(AND(SUM($X$35:X194)=0,X195=1),Y195,\"\")","v":""}]
[null,null,null,null,null,null,173,17.3,0.49971032450453623,1.0499748520438392,0.87499982041179469,0.92316606005300539,0.14287941858583883,0.1784687769577806,4.8852874341512781E-2,7.9670280567370362E-3,0.69014599654805042,5.5317023319118218E-2,0,0,null,null,{"$f":"IF(RAND()<poisson_parameter*model!K196,1,0)","v":0},{"$f":"IF(RAND()<(K185^quadratic_condition*L185-$T$21)*$T$22*(1+pref_attach_on*SUM($X$35:X195)),1,0)","v":0},162,{"$f":"IF(AND(SUM($X$35:X195)=0,X196=1),Y196,\"\")","v":""}]
[null,null,null,null,null,null,174,17.399999999999999,0.49927388828078895,1.0506382959619029,0.8727863174501852,0.9237838057329697,0.14943681235878897,0.17843004743244351,5.1375002331885453E-2,7.9670280567370362E-3,0.69296732029583152,5.6050759766593676E-2,0,0,null,null,{"$f":"IF(RAND()<poisson_parameter*model!K197,1,0)","v":0},{"$f":"IF(RAND()<(K186^quadratic_condition*L186-$T$21)*$T$22*(1+pref_attach_on*SUM($X$35:X196)),1,0)","v":0},163,{"$f":"IF(AND(SUM($X$35:X196)=0,X197=1),Y197,\"\")","v":""}]
[null,null,null,null,null,null,175,17.5,0.49884988296051425,1.0512720459193829,0.87048582407803554,0.9243767337602492,0.15624461845190499,0.17841736807603098,5.4023264611986622E-2,7.9670280567370362E-3,0.69568498252867339,5.6792880883864104E-2,0,0,null,null,{"$f":"IF(RAND()<poisson_parameter*model!K198,1,0)","v":0},{"$f":"IF(RAND()<(K187^quadratic_condition*L187-$T$21)*$T$22*(1+pref_attach_on*SUM($X$35:X197)),1,0)","v":0},164,{"$f":"IF(AND(SUM($X$35:X197)=0,X198=1),Y198,\"\")","v":""}]
[null,null,null,null,null,null,176,17.600000000000001,0.4984407992464876,1.0518773979171632,0.8680950630694807,0.92494581082547811,0.16330774612632587,0.17843200173955709,5.6803387461680108E-2,7.9670280567370362E-3,0.69830196163412739,5.7543540389629638E-2,0,0,null,null,{"$f":"IF(RAND()<poisson_parameter*model!K199,1,0)","v":0},{"$f":"IF(RAND()<(K188^quadratic_condition*L188-$T$21)*$T$22*(1+pref_attach_on*SUM($X$35:X198)),1,0)","v":0},165,{"$f":"IF(AND(SUM($X$35:X198)=0,X199=1),Y199,\"\")","v":""}]
[null,null,null,null,null,null,177,17.7,0.49804907301539181,1.0524555943265166,0.86561076641634649,0.92549196839776193,0.17063076587660261,0.17847526877420983,5.9721284688162811E-2,7.9670280567370362E-3,0.70082121766893857,5.830289313390552E-2,0,0,null,null,{"$f":"IF(RAND()<poisson_parameter*model!K200,1,0)","v":0},{"$f":"IF(RAND()<(K189^quadratic_condition*L189-$T$21)*$T$22*(1+pref_attach_on*SUM($X$35:X199)),1,0)","v":0},166,{"$f":"IF(AND(SUM($X$35:X199)=0,X200=1),Y200,\"\")","v":""}]
[null,null,null,null,null,null,178,17.8,0.49767709075128291,1.0530078258451079,0.86302968993890439,0.92601610381078547,0.17821786465588765,0.17854855045365944,6.2783054531031182E-2,7.9670280567370362E-3,0.70324568613863447,5.9071094806608763E-2,0,0,null,null,{"$f":"IF(RAND()<poisson_parameter*model!K201,1,0)","v":0},{"$f":"IF(RAND()<(K190^quadratic_condition*L190-$T$21)*$T$22*(1+pref_attach_on*SUM($X$35:X200)),1,0)","v":0},167,{"$f":"IF(AND(SUM($X$35:X200)=0,X201=1),Y201,\"\")","v":""}]
[null,null,null,null,null,null,179,17.899999999999999,0.49732719490316113,1.0535352334060084,0.86034862851250749,0.92651908133205096,0.18607279971132243,0.17865329251763476,6.5994975092064354E-2,7.9670280567370362E-3,0.70557827237483539,5.9848301603165739E-2,0,0,null,null,{"$f":"IF(RAND()<poisson_parameter*model!K202,1,0)","v":0},{"$f":"IF(RAND()<(K191^quadratic_condition*L191-$T$21)*$T$22*(1+pref_attach_on*SUM($X$35:X201)),1,0)","v":0},168,{"$f":"IF(AND(SUM($X$35:X201)=0,X202=1),Y202,\"\")","v":""}]
[null,null,null,null,null,null,180,18,0.49700168913943826,1.054038910038368,0.85756443189065679,0.92700173321390988,0.19419885131996739,0.17879100884182486,6.9363498107925414E-2,7.9670280567370362E-3,0.70782184648298108,6.0634669844506273E-2,0,0,null,null,{"$f":"IF(RAND()<poisson_parameter*model!K203,1,0)","v":0},{"$f":"IF(RAND()<(K192^quadratic_condition*L192-$T$21)*$T$22*(1+pref_attach_on*SUM($X$35:X202)),1,0)","v":0},169,{"$f":"IF(AND(SUM($X$35:X202)=0,X203=1),Y203,\"\")","v":""}]
[null,null,null,null,null,null,181,18.100000000000001,0.49670284347230648,1.0545199026787235,0.85467402109315893,0.92746486072524137,0.20259877476291877,0.17896328523878866,7.2895240871792805E-2,7.9670280567370362E-3,0.70997923883225023,6.1430355548979534E-2,0,0,null,null,{"$f":"IF(RAND()<poisson_parameter*model!K204,1,0)","v":0},{"$f":"IF(RAND()<(K193^quadratic_condition*L193-$T$21)*$T$22*(1+pref_attach_on*SUM($X$35:X203)),1,0)","v":0},170,{"$f":"IF(AND(SUM($X$35:X203)=0,X204=1),Y204,\"\")","v":""}]
[null,null,null,null,null,null,182,18.2,0.49643289922494083,1.0549792139322289,0.85167440531526006,0.92790923516280965,0.21127475192311873,0.17917178339408374,7.6596976098333561E-2,7.9670280567370362E-3,0.71205323605887316,6.2235513953956399E-2,0,0,null,null,{"$f":"IF(RAND()<poisson_parameter*model!K205,1,0)","v":0},{"$f":"IF(RAND()<(K194^quadratic_condition*L194-$T$21)*$T$22*(1+pref_attach_on*SUM($X$35:X204)),1,0)","v":0},171,{"$f":"IF(AND(SUM($X$35:X204)=0,X205=1),Y205,\"\")","v":""}]
[null,null,null,null,null,null,183,18.3,0.49619407381411251,1.0554178037833557,0.8485626993000841,0.92833559884149408,0.22022834293987592,0.17941824494124525,8.0475619515776281E-2,7.9670280567370362E-3,0.71404657755378065,6.3050298985178471E-2,0,0,null,null,{"$f":"IF(RAND()<poisson_parameter*model!K206,1,0)","v":0},{"$f":"IF(RAND()<(K195^quadratic_condition*L195-$T$21)*$T$22*(1+pref_attach_on*SUM($X$35:X205)),1,0)","v":0},172,{"$f":"IF(AND(SUM($X$35:X205)=0,X206=1),Y206,\"\")","v":""}]
[null,null,null,null,null,null,184,18.399999999999999,0.49598856532016505,1.0558365912558549,0.84533614110253841,0.92874466606273287,0.2294604383992232,0.17970449567853883,8.4538214959553423E-2,7.9670280567370362E-3,0.71596195240553551,6.3874862672281499E-2,0,0,null,null,{"$f":"IF(RAND()<poisson_parameter*model!K207,1,0)","v":0},{"$f":"IF(RAND()<(K196^quadratic_condition*L196-$T$21)*$T$22*(1+pref_attach_on*SUM($X$35:X206)),1,0)","v":0},173,{"$f":"IF(AND(SUM($X$35:X206)=0,X207=1),Y207,\"\")","v":""}]
[null,null,null,null,null,null,185,18.5,0.49581855681542064,1.0562364560219848,0.84199211015826203,0.92913712406065696,0.23897121258277815,0.18003244992956222,8.8791916734545298E-2,7.9670280567370362E-3,0.71780199676974166,6.470935450936588E-2,0,0,null,null,{"$f":"IF(RAND()<poisson_parameter*model!K208,1,0)","v":0},{"$f":"IF(RAND()<(K197^quadratic_condition*L197-$T$21)*$T$22*(1+pref_attach_on*SUM($X$35:X207)),1,0)","v":0},174,{"$f":"IF(AND(SUM($X$35:X207)=0,X208=1),Y208,\"\")","v":""}]
[null,null,null,null,null,null,186,18.600000000000001,0.49568622042096033,1.0566182399611923,0.83852814555641586,0.92951363392551134,0.24876007833745697,0.18040411504875881,9.3243969007926877E-2,7.9670280567370362E-3,0.71956929163656835,6.5553920760014192E-2,0,0,null,null,{"$f":"IF(RAND()<poisson_parameter*model!K209,1,0)","v":0},{"$f":"IF(RAND()<(K198^quadratic_condition*L198-$T$21)*$T$22*(1+pref_attach_on*SUM($X$35:X208)),1,0)","v":0},175,{"$f":"IF(AND(SUM($X$35:X208)=0,X209=1),Y209,\"\")","v":""}]
[null,null,null,null,null,null,187,18.7,0.49559372106037908,1.0569827486686061,0.83494196440042112,0.92987483150407313,0.25882564416286385,0.18082159607171314,9.7901681992615522E-2,7.9670280567370362E-3,0.72126636096864327,6.6408703706768726E-2,0,0,null,null,{"$f":"IF(RAND()<poisson_parameter*model!K210,1,0)","v":0},{"$f":"IF(RAND()<(K199^quadratic_condition*L199-$T$21)*$T$22*(1+pref_attach_on*SUM($X$35:X209)),1,0)","v":0},176,{"$f":"IF(AND(SUM($X$35:X209)=0,X210=1),Y210,\"\")","v":""}]
[null,null,null,null,null,null,188,18.8,0.4955432198775872,1.0573307529138358,0.83123148012644221,0.9302213282768752,0.26916567414101439,0.18128710050870042,0.10277240468303528,7.9670280567370362E-3,0.72289567018232714,6.7273840845783681E-2,0,0,null,null,{"$f":"IF(RAND()<poisson_parameter*model!K211,1,0)","v":0},{"$f":"IF(RAND()<(K200^quadratic_condition*L200-$T$21)*$T$22*(1+pref_attach_on*SUM($X$35:X210)),1,0)","v":0},177,{"$f":"IF(AND(SUM($X$35:X210)=0,X211=1),Y211,\"\")","v":""}]
[null,null,null,null,null,null,189,18.899999999999999,0.49553687728404355,1.0576629900507053,0.82739482063582059,0.93055371221213401,0.27977705135282349,0.1818029432783374,0.10786349391110343,7.9670280567370362E-3,0.72445962494625427,6.8149464028157775E-2,0,0,null,null,{"$f":"IF(RAND()<poisson_parameter*model!K212,1,0)","v":0},{"$f":"IF(RAND()<(K201^quadratic_condition*L201-$T$21)*$T$22*(1+pref_attach_on*SUM($X$35:X211)),1,0)","v":0},178,{"$f":"IF(AND(SUM($X$35:X211)=0,X212=1),Y212,\"\")","v":""}]
[null,null,null,null,null,null,190,19,0.49557685559900905,1.0579801653786483,0.82343034608515853,0.93087254859636115,0.2906557454360908,0.18237155177630388,0.1131822795018162,7.9670280567370362E-3,0.72596057027198857,6.9035698550332619E-2,0,0,null,null,{"$f":"IF(RAND()<poisson_parameter*model!K213,1,0)","v":0},{"$f":"IF(RAND()<(K202^quadratic_condition*L202-$T$21)*$T$22*(1+pref_attach_on*SUM($X$35:X212)),1,0)","v":0},179,{"$f":"IF(AND(SUM($X$35:X212)=0,X213=1),Y213,\"\")","v":""}]
[null,null,null,null,null,null,191,19.100000000000001,0.49566532124454765,1.0582829534565914,0.81933666616669776,0.93117838084171134,0.30179678493922535,0.18299547107194869,0.11873602532540954,7.9670280567370362E-3,0.72740078987268131,6.9932662196907289E-2,0,0,null,null,{"$f":"IF(RAND()<poisson_parameter*model!K214,1,0)","v":0},{"$f":"IF(RAND()<(K203^quadratic_condition*L203-$T$21)*$T$22*(1+pref_attach_on*SUM($X$35:X213)),1,0)","v":0},180,{"$f":"IF(AND(SUM($X$35:X213)=0,X214=1),Y214,\"\")","v":""}]
[null,null,null,null,null,null,192,19.2,0.495804446455135,1.0585719993702247,0.81511265670243482,0.93147173127018279,0.31319423511248118,0.18367736922313274,0.12453188606766936,7.9670280567370362E-3,0.72878250576670234,7.084046424026455E-2,0,0,null,null,{"$f":"IF(RAND()<poisson_parameter*model!K215,1,0)","v":0},{"$f":"IF(RAND()<(K204^quadratic_condition*L204-$T$21)*$T$22*(1+pref_attach_on*SUM($X$35:X214)),1,0)","v":0},181,{"$f":"IF(AND(SUM($X$35:X214)=0,X215=1),Y215,\"\")","v":""}]
[null,null,null,null,null,null,193,19.3,0.49599641045992887,1.0588479199536271,0.81075747536843756,0.93175310187484439,0.32484118175303078,0.18442004269686821,0.13057685957243034,7.9670280567370362E-3,0.73010787810433975,7.1759204402520774E-2,0,0,null,null,{"$f":"IF(RAND()<poisson_parameter*model!K216,1,0)","v":0},{"$f":"IF(RAND()<(K205^quadratic_condition*L205-$T$21)*$T$22*(1+pref_attach_on*SUM($X$35:X215)),1,0)","v":0},182,{"$f":"IF(AND(SUM($X$35:X215)=0,X216=1),Y216,\"\")","v":""}]
[null,null,null,null,null,null,194,19.399999999999999,0.49624340009408541,1.0591113049662664,0.80627057636145605,0.93202297505831433,0.33672972168104359,0.18522642188015959,0.13687773465147113,7.9670280567370362E-3,0.7313790051968051,7.2688971786488241E-2,0,0,null,null,{"$f":"IF(RAND()<poisson_parameter*model!K217,1,0)","v":0},{"$f":"IF(RAND()<(K206^quadratic_condition*L206-$T$21)*$T$22*(1+pref_attach_on*SUM($X$35:X216)),1,0)","v":0},183,{"$f":"IF(AND(SUM($X$35:X216)=0,X217=1),Y217,\"\")","v":""}]
[null,null,null,null,null,null,195,19.5,0.49654760979405521,1.0593627182264387,0.80165172381849026,0.93228181434875868,0.34885096037063162,0.18609957666191132,0.14344103430764965,7.9670280567370362E-3,0.73259792372793042,7.3629843783560522E-2,0,{"$f":"S218-S217","v":0},null,null,{"$f":"IF(RAND()<poisson_parameter*model!K218,1,0)","v":0},{"$f":"IF(RAND()<(K207^quadratic_condition*L207-$T$21)*$T$22*(1+pref_attach_on*SUM($X$35:X217)),1,0)","v":0},184,{"$f":"IF(AND(SUM($X$35:X217)=0,X218=1),Y218,\"\")","v":""}]
[null,null,null,null,null,null,196,19.600000000000001,0.49691124093066158,1.0596026987022422,0.79690100380179507,0.9325300650937185,0.36119501719200453,0.18704272206281244,0.15027295437787791,7.9670280567370362E-3,0.73376660913009029,7.4581884967681381E-2,0,0,null,null,{"$f":"IF(RAND()<poisson_parameter*model!K219,1,0)","v":0},{"$f":"IF(RAND()<(K208^quadratic_condition*L208-$T$21)*$T$22*(1+pref_attach_on*SUM($X$35:X218)),1,0)","v":0},185,{"$f":"IF(AND(SUM($X$35:X218)=0,X219=1),Y219,\"\")","v":""}]
[null,null,null,null,null,null,197,19.7,0.497336500433049,1.0598317615612125,0.79201883466710643,0.93276815513210698,0.37375103863977482,0.18805922388571564,0.15737929767389375,7.9670280567370362E-3,0.73488697610701559,7.554514598581244E-2,0,0,null,null,{"$f":"IF(RAND()<poisson_parameter*model!K220,1,0)","v":0},{"$f":"IF(RAND()<(K209^quadratic_condition*L209-$T$21)*$T$22*(1+pref_attach_on*SUM($X$35:X219)),1,0)","v":0},186,{"$f":"IF(AND(SUM($X$35:X219)=0,X220=1),Y220,\"\")","v":""}]
[null,null,null,null,null,null,198,19.8,0.49782559865641007,1.0600503991797567,0.7870059756418426,0.93299649544474783,0.38650721982784536,0.18915260435417411,0.16476540378101007,7.9670280567370362E-3,0.7359608792872766,7.6519662456551021E-2,0,0,null,null,{"$f":"IF(RAND()<poisson_parameter*model!K221,1,0)","v":0},{"$f":"IF(RAND()<(K210^quadratic_condition*L210-$T$21)*$T$22*(1+pref_attach_on*SUM($X$35:X220)),1,0)","v":0},187,{"$f":"IF(AND(SUM($X$35:X220)=0,X221=1),Y221,\"\")","v":""}]
[null,null,null,null,null,null,199,19.899999999999999,0.49838074644687025,1.0602590821135449,0.78186353345275017,0.93321548078384942,0.39945083442491608,0.19032654770146634,0.17243607476808384,7.9670280567370362E-3,0.7369901139933015,7.7505453889737411E-2,0,0,null,null,{"$f":"IF(RAND()<poisson_parameter*model!K222,1,0)","v":0},{"$f":"IF(RAND()<(K211^quadratic_condition*L211-$T$21)*$T$22*(1+pref_attach_on*SUM($X$35:X221)),1,0)","v":0},188,{"$f":"IF(AND(SUM($X$35:X221)=0,X222=1),Y222,\"\")","v":""}]
[null,null,null,null,null,null,200,20,0.4990041513581599,1.0604582600300134,0.77659296685892754,0.93342549028183208,0.41256827308804889,0.19158490566660871,0.18039549716547376,7.9670280567370362E-3,0.73797641711184736,7.8502522640999842E-2,0,0,null,null,{"$f":"IF(RAND()<poisson_parameter*model!K223,1,0)","v":0},{"$f":"IF(RAND()<(K212^quadratic_condition*L212-$T$21)*$T$22*(1+pref_attach_on*SUM($X$35:X222)),1,0)","v":0},189,{"$f":"IF(AND(SUM($X$35:X222)=0,X223=1),Y223,\"\")","v":""}]
[null,null,null,null,null,null,201,20.100000000000001,0.49969801297686023,1.0606483626041445,0.77119608896625658,0.93362688803994198,0.42584509032703666,0.19293170284752156,0.18864716068095558,7.9670280567370362E-3,0.73892146805285808,7.9510852916181179E-2,0,0,null,null,{"$f":"IF(RAND()<poisson_parameter*model!K224,1,0)","v":0},{"$f":"IF(RAND()<(K213^quadratic_condition*L213-$T$21)*$T$22*(1+pref_attach_on*SUM($X$35:X223)),1,0)","v":0},190,{"$f":"IF(AND(SUM($X$35:X223)=0,X224=1),Y224,\"\")","v":""}]
[null,null,null,null,null,null,202,20.2,0.50046451731620345,1.0608298003786756,0.76567506722278278,0.93382002369709871,0.43926605960204551,0.1943711418546705,0.19719377424517048,7.9670280567370362E-3,0.73982688978462063,8.0530409841437667E-2,0,0,null,null,{"$f":"IF(RAND()<poisson_parameter*model!K225,1,0)","v":0},{"$f":"IF(RAND()<(K214^quadratic_condition*L214-$T$21)*$T$22*(1+pref_attach_on*SUM($X$35:X224)),1,0)","v":0},191,{"$f":"IF(AND(SUM($X$35:X224)=0,X225=1),Y225,\"\")","v":""}]
[null,null,null,null,null,null,203,20.3,0.50130583024276465,1.0610029655898896,0.76003242102118562,0.93400523297943627,0.45281523632398479,0.19590760820115519,0.2060371801063961,7.9670280567370362E-3,0.74069424993406574,8.1561138615460105E-2,0,0,null,null,{"$f":"IF(RAND()<poisson_parameter*model!K226,1,0)","v":0},{"$f":"IF(RAND()<(K215^quadratic_condition*L215-$T$21)*$T$22*(1+pref_attach_on*SUM($X$35:X225)),1,0)","v":0},192,{"$f":"IF(AND(SUM($X$35:X225)=0,X226=1),Y226,\"\")","v":""}]
[null,null,null,null,null,null,204,20.399999999999999,0.50222408990602374,1.061168232960122,0.754271016863724,0.93418283823100412,0.46647602829440465,0.19754567485737637,0.21517826682687985,7.9670280567370362E-3,0.74152506194195023,8.2602963760703751E-2,0,0,null,null,{"$f":"IF(RAND()<poisson_parameter*model!K227,1,0)","v":0},{"$f":"IF(RAND()<(K216^quadratic_condition*L216-$T$21)*$T$22*(1+pref_attach_on*SUM($X$35:X226)),1,0)","v":0},193,{"$f":"IF(AND(SUM($X$35:X226)=0,X227=1),Y227,\"\")","v":""}]
[null,null,null,null,null,null,205,20.5,0.50322139814780409,1.0613259604581091,0.74839406107640138,0.934353148926102,0.48023127299269741,0.19929010639009923,0.2246168821666952,7.9670280567370362E-3,0.74232078626350484,8.3655788490688193E-2,0,0,null,null,{"$f":"IF(RAND()<poisson_parameter*model!K228,1,0)","v":0},{"$f":"IF(RAND()<(K217^quadratic_condition*L217-$T$21)*$T$22*(1+pref_attach_on*SUM($X$35:X227)),1,0)","v":0},194,{"$f":"IF(AND(SUM($X$35:X227)=0,X228=1),Y228,\"\")","v":""}]
[null,null,null,null,null,null,206,20.6,0.50429981087710274,1.0614764900282847,0.74240509009193834,0.93451646216372575,0.4940633209963029,0.20114586259698414,0.23435174697250907,7.9670280567370362E-3,0.74308283160593136,8.4719494210308444E-2,0,0,null,null,{"$f":"IF(RAND()<poisson_parameter*model!K229,1,0)","v":0},{"$f":"IF(RAND()<(K218^quadratic_condition*L218-$T$21)*$T$22*(1+pref_attach_on*SUM($X$35:X228)),1,0)","v":0},195,{"$f":"IF(AND(SUM($X$35:X228)=0,X229=1),Y229,\"\")","v":""}]
[null,null,null,null,null,null,207,20.7,0.50546132740587635,1.0616201482901122,0.73630795835477048,0.93467306314460341,0.5079541247077497,0.20311810153851884,0.24438037131365764,7.9670280567370362E-3,0.74381255619489106,8.5793940165651367E-2,0,0,null,null,{"$f":"IF(RAND()<poisson_parameter*model!K230,1,0)","v":0},{"$f":"IF(RAND()<(K219^quadratic_condition*L219-$T$21)*$T$22*(1+pref_attach_on*SUM($X$35:X229)),1,0)","v":0},196,{"$f":"IF(AND(SUM($X$35:X229)=0,X230=1),Y230,\"\")","v":""}]
[null,null,null,null,null,null,208,20.8,0.5067078787529754,1.061757247208521,0.7301068239349584,0.93482322563130182,0.52188533146377725,0.20521218185982373,0.25469897422188992,7.9670280567370362E-3,0.74451126906283593,8.6878963259012315E-2,0,0,null,null,{"$f":"IF(RAND()<poisson_parameter*model!K231,1,0)","v":0},{"$f":"IF(RAND()<(K220^quadratic_condition*L220-$T$21)*$T$22*(1+pref_attach_on*SUM($X$35:X230)),1,0)","v":0},197,{"$f":"IF(AND(SUM($X$35:X230)=0,X231=1),Y231,\"\")","v":""}]
[null,null,null,null,null,null,209,20.9,0.5080413149366162,1.0618880847364895,0.72380613197082277,0.93496721239188185,0.5358383800192551,0.20743366428509033,0.26530240848903131,7.9670280567370362E-3,0.74518023135270395,8.7974378043635046E-2,0,0,null,null,{"$f":"IF(RAND()<poisson_parameter*model!K232,1,0)","v":0},{"$f":"IF(RAND()<(K221^quadratic_condition*L221-$T$21)*$T$22*(1+pref_attach_on*SUM($X$35:X231)),1,0)","v":0},198,{"$f":"IF(AND(SUM($X$35:X231)=0,X232=1),Y232,\"\")","v":""}]
[null,null,null,null,null,null,210,21,0.50946339129051132,1.0620129454307994,0.71741059609152291,0.93510527562757795,0.54979459933450869,0.20978831215754848,0.27618409205336952,7.9670280567370362E-3,0.74582065763112182,8.9079976911142195E-2,0,0,null,null,{"$f":"IF(RAND()<poisson_parameter*model!K233,1,0)","v":0},{"$f":"IF(RAND()<(K222^quadratic_condition*L222-$T$21)*$T$22*(1+pref_attach_on*SUM($X$35:X232)),1,0)","v":0},199,{"$f":"IF(AND(SUM($X$35:X232)=0,X233=1),Y233,\"\")","v":""}]
[null,null,null,null,null,null,211,21.1,0.51097575385493343,1.0621321010419558,0.7109251779999175,0.93523765738497511,0.56373530855083231,0.21228209088795655,0.2873359475554364,7.9670280567370362E-3,0.7464337172058445,9.0195530482682029E-2,0,0,null,null,{"$f":"IF(RAND()<poisson_parameter*model!K234,1,0)","v":0},{"$f":"IF(RAND()<(K223^quadratic_condition*L223-$T$21)*$T$22*(1+pref_attach_on*SUM($X$35:X233)),1,0)","v":0},200,{"$f":"IF(AND(SUM($X$35:X233)=0,X234=1),Y234,\"\")","v":""}]
[null,null,null,null,null,null,212,21.2,0.51257992391142582,1.0622458110792463,0.70435506542217641,0.93536458995314953,0.57764191701670209,0.21492116616480572,0.29874835166187974,7.9670280567370362E-3,0.74702053544270264,9.1320788212498241E-2,0,0,null,null,{"$f":"IF(RAND()<poisson_parameter*model!K235,1,0)","v":0},{"$f":"IF(RAND()<(K224^quadratic_condition*L224-$T$21)*$T$22*(1+pref_attach_on*SUM($X$35:X234)),1,0)","v":0},201,{"$f":"IF(AND(SUM($X$35:X234)=0,X235=1),Y235,\"\")","v":""}]
[null,null,null,null,null,null,213,21.3,0.51427728174838339,1.0623543233518837,0.69770564865311757,0.93548629624623536,0.5914960232271268,0.21771190076988461,0.31041009573753758,7.9670280567370362E-3,0.74758219507783319,9.2455479209953464E-2,0,0,null,null,{"$f":"IF(RAND()<poisson_parameter*model!K236,1,0)","v":0},{"$f":"IF(RAND()<(K225^quadratic_condition*L225-$T$21)*$T$22*(1+pref_attach_on*SUM($X$35:X235)),1,0)","v":0},202,{"$f":"IF(AND(SUM($X$35:X235)=0,X236=1),Y236,\"\")","v":""}]
[null,null,null,null,null,null,214,21.4,0.516069049764035,1.0624578744871525,0.69098249594457972,0.93560299017187232,0.60527951156068494,0.22066084983374801,0.32230835938660501,7.9670280567370362E-3,0.74811973752143779,9.3599313283037486E-2,0,0,null,null,{"$f":"IF(RAND()<poisson_parameter*model!K237,1,0)","v":0},{"$f":"IF(RAND()<(K226^quadratic_condition*L226-$T$21)*$T$22*(1+pref_attach_on*SUM($X$35:X236)),1,0)","v":0},203,{"$f":"IF(AND(SUM($X$35:X236)=0,X237=1),Y237,\"\")","v":""}]
[null,null,null,null,null,null,215,21.5,0.51795627503314179,1.0625566904264514,0.68419132799790006,0.93571487698598244,0.61897464574239902,0.22377475435718377,0.33442869828086946,7.9670280567370362E-3,0.74863416414974371,9.4751982203112761E-2,0,0,null,null,{"$f":"IF(RAND()<poisson_parameter*model!K238,1,0)","v":0},{"$f":"IF(RAND()<(K227^quadratic_condition*L227-$T$21)*$T$22*(1+pref_attach_on*SUM($X$35:X237)),1,0)","v":0},204,{"$f":"IF(AND(SUM($X$35:X237)=0,X238=1),Y238,\"\")","v":""}]
[null,null,null,null,null,null,216,21.6,0.51993981148359081,1.0626509869000995,0.67733799183044074,0.93582215363431531,0.63256415802440003,0.22706053281721356,0.34675504754462927,7.9670280567370362E-3,0.74912643758224307,9.5913161187151458E-2,0,0,null,null,{"$f":"IF(RAND()<poisson_parameter*model!K239,1,0)","v":0},{"$f":"IF(RAND()<(K228^quadratic_condition*L228-$T$21)*$T$22*(1+pref_attach_on*SUM($X$35:X238)),1,0)","v":0},205,{"$f":"IF(AND(SUM($X$35:X238)=0,X239=1),Y239,\"\")","v":""}]
[null,null,null,null,null,null,217,21.7,0.5220203018485714,1.0627409698817427,0.6704284342899608,0.93592500908119403,0.64603133315843431,0.23052527066976403,0.35926974177188098,7.9670280567370362E-3,0.74959748294165196,9.7082510590069532E-2,0,0,null,null,{"$f":"IF(RAND()<poisson_parameter*model!K240,1,0)","v":0},{"$f":"IF(RAND()<(K229^quadratic_condition*L229-$T$21)*$T$22*(1+pref_attach_on*SUM($X$35:X239)),1,0)","v":0},206,{"$f":"IF(AND(SUM($X$35:X239)=0,X240=1),Y240,\"\")","v":""}]
[null,null,null,null,null,null,218,21.8,0.52419815957868776,1.0628268360231756,0.6634686754894451,0.93602362462588473,0.65936008633229726,0.23417620755620738,0.37195355251320067,7.9670280567370362E-3,0.75004818909436899,9.8259677796044692E-2,0,0,null,null,{"$f":"IF(RAND()<poisson_parameter*model!K241,1,0)","v":0},{"$f":"IF(RAND()<(K230^quadratic_condition*L230-$T$21)*$T$22*(1+pref_attach_on*SUM($X$35:X240)),1,0)","v":0},207,{"$f":"IF(AND(SUM($X$35:X240)=0,X241=1),Y241,\"\")","v":""}]
[null,null,null,null,null,null,219,21.9,0.52647355091566206,1.0629087730703641,0.65646478242891193,0.93611817420700405,0.67253503435344886,0.23802072201782243,0.38478574379088709,7.9670280567370362E-3,0.75047940986952222,9.9444299294004862E-2,0,0,null,null,{"$f":"IF(RAND()<poisson_parameter*model!K242,1,0)","v":0},{"$f":"IF(RAND()<(K231^quadratic_condition*L231-$T$21)*$T$22*(1+pref_attach_on*SUM($X$35:X241)),1,0)","v":0},208,{"$f":"IF(AND(SUM($X$35:X241)=0,X242=1),Y242,\"\")","v":""}]
[null,null,null,null,null,null,220,22,0.52884637734468321,1.0629869602614286,0.64942284305999776,0.93620882469536748,0.68554155948431705,0.24206631352123836,0.39774414588676205,7.9670280567370362E-3,0.75089196525497492,0.10063600291888639,0,0,null,null,{"$f":"IF(RAND()<poisson_parameter*model!K243,1,0)","v":0},{"$f":"IF(RAND()<(K232^quadratic_condition*L232-$T$21)*$T$22*(1+pref_attach_on*SUM($X$35:X242)),1,0)","v":0},209,{"$f":"IF(AND(SUM($X$35:X242)=0,X243=1),Y243,\"\")","v":""}]
[null,null,null,null,null,null,221,22.1,0.53131625865541077,1.063061568707323,0.64234894103414031,0.93629573617567596,0.6983658654618754,0.24632058159948828,0.41080524730482471,7.9670280567370362E-3,0.75128664256891997,0.10183441023688393,0,0,null,null,{"$f":"IF(RAND()<poisson_parameter*model!K244,1,0)","v":0},{"$f":"IF(RAND()<(K233^quadratic_condition*L233-$T$21)*$T$22*(1+pref_attach_on*SUM($X$35:X243)),1,0)","v":0},210,{"$f":"IF(AND(SUM($X$35:X243)=0,X244=1),Y244,\"\")","v":""}]
[null,null,null,null,null,null,222,22.2,0.53388251685161758,1.0631327617559179,0.63524913135644689,0.93637906221742362,0.71099502536570103,0.25079120191784937,0.42394430444975784,7.9670280567370362E-3,0.75166419760592573,0.10303913904984283,0,0,null,null,{"$f":"IF(RAND()<poisson_parameter*model!K245,1,0)","v":0},{"$f":"IF(RAND()<(K234^quadratic_condition*L234-$T$21)*$T$22*(1+pref_attach_on*SUM($X$35:X244)),1,0)","v":0},211,{"$f":"IF(AND(SUM($X$35:X244)=0,X245=1),Y245,\"\")","v":""}]
[null,null,null,null,null,null,223,22.3,0.53654416115596515,1.06320069534017,0.62812941714541393,0.93645895013540359,0.72341702113064921,0.25548589908163954,0.43713546819257015,7.9670280567370362E-3,0.75202535575651142,0.10424980599127152,0,0,null,null,{"$f":"IF(RAND()<poisson_parameter*model!K246,1,0)","v":0},{"$f":"IF(RAND()<(K235^quadratic_condition*L235-$T$21)*$T$22*(1+pref_attach_on*SUM($X$35:X245)),1,0)","v":0},212,{"$f":"IF(AND(SUM($X$35:X245)=0,X246=1),Y246,\"\")","v":""}]
[null,null,null,null,null,null,224,22.4,0.53929987435899696,1.0632655183110418,0.6209957276741922,0.93653554124017657,0.73562077462945552,0.26041241601505855,0.45035192612799768,8.3547924337366731E-3,0.75237081309951959,0.10546602918425994,0,0,null,null,{"$f":"IF(RAND()<poisson_parameter*model!K247,1,0)","v":0},{"$f":"IF(RAND()<(K236^quadratic_condition*L236-$T$21)*$T$22*(1+pref_attach_on*SUM($X$35:X246)),1,0)","v":0},213,{"$f":"IF(AND(SUM($X$35:X246)=0,X247=1),Y247,\"\")","v":""}]
[null,null,null,null,null,null,225,22.5,0.54214800075975389,1.0633273727558008,0.61385389784274536,0.93660897107885799,0.74759617037419512,0.26557838501090264,0.46356605897682396,8.7615091593731213E-3,0.75270483867262872,0.1066862981940902,0,0,null,null,{"$f":"IF(RAND()<poisson_parameter*model!K248,1,0)","v":0},{"$f":"IF(RAND()<(K237^quadratic_condition*L237-$T$21)*$T$22*(1+pref_attach_on*SUM($X$35:X247)),1,0)","v":0},214,{"$f":"IF(AND(SUM($X$35:X247)=0,X248=1),Y248,\"\")","v":""}]
[null,null,null,null,null,null,226,22.6,0.5450864868618206,1.0633863943023152,0.60670964920270909,0.93667936966656873,0.7593340700011314,0.27099146997671408,0.47674961085785583,9.1881091447514676E-3,0.75302810084363003,0.10791015325948057,0,0,null,null,{"$f":"IF(RAND()<poisson_parameter*model!K249,1,0)","v":0},{"$f":"IF(RAND()<(K238^quadratic_condition*L238-$T$21)*$T$22*(1+pref_attach_on*SUM($X$35:X248)),1,0)","v":0},215,{"$f":"IF(AND(SUM($X$35:X248)=0,X249=1),Y249,\"\")","v":""}]
[null,null,null,null,null,null,227,22.7,0.54811292273709666,1.0634427124099322,0.5995685732620496,0.9367468617088861,0.77082631880899966,0.27665923832725592,0.48987386677436728,9.6355687812442227E-3,0.75334124895581167,0.10913713931339915,0,0,null,null,{"$f":"IF(RAND()<poisson_parameter*model!K250,1,0)","v":0},{"$f":"IF(RAND()<(K239^quadratic_condition*L239-$T$21)*$T$22*(1+pref_attach_on*SUM($X$35:X249)),1,0)","v":0},216,{"$f":"IF(AND(SUM($X$35:X249)=0,X250=1),Y250,\"\")","v":""}]
[null,null,null,null,null,null,228,22.8,0.55122453599441512,1.0634964506475069,0.59243611580959976,0.93681156681561972,0.78206574471455192,0.28258911527128389,0.50290983915488674,1.0104912055735259E-2,0.75364491446457471,0.11036680835318367,0,0,null,null,{"$f":"IF(RAND()<poisson_parameter*model!K251,1,0)","v":0},{"$f":"IF(RAND()<(K240^quadratic_condition*L240-$T$21)*$T$22*(1+pref_attach_on*SUM($X$35:X250)),1,0)","v":0},217,{"$f":"IF(AND(SUM($X$35:X250)=0,X251=1),Y251,\"\")","v":""}]
[null,null,null,null,null,null,229,22.9,0.55441818822810685,1.0635477269591269,0.58531756299562787,0.93687359970622885,0.79304615007005519,0.28878833416474625,0.5158284595514695,1.0597212746908434E-2,0.75393971205609378,0.11159872170012315,0,0,null,null,{"$f":"IF(RAND()<poisson_parameter*model!K252,1,0)","v":0},{"$f":"IF(RAND()<(K241^quadratic_condition*L241-$T$21)*$T$22*(1+pref_attach_on*SUM($X$35:X251)),1,0)","v":0},218,{"$f":"IF(AND(SUM($X$35:X251)=0,X252=1),Y252,\"\")","v":""}]
[null,null,null,null,null,null,230,23,0.5576903741159005,1.0635966539180559,0.57821802918085463,0.93693307040718787,0.80376229685462275,0.29526388294197431,0.52860077281435836,1.1113596703628485E-2,0.75422624074867317,0.11283245211744838,0,0,null,null,{"$f":"IF(RAND()<poisson_parameter*model!K253,1,0)","v":0},{"$f":"IF(RAND()<(K242^quadratic_condition*L242-$T$21)*$T$22*(1+pref_attach_on*SUM($X$35:X252)),1,0)","v":0},219,{"$f":"IF(AND(SUM($X$35:X252)=0,X253=1),Y253,\"\")","v":""}]
[null,null,null,null,null,null,231,23.1,0.56103722330653893,1.0636433389694007,0.57114244654217072,0.93699008444159637,0.81420988580446629,0.30202244668947092,0.54119813101858905,1.1655244206244211E-2,0.75450508497751068,0.11406758575782119,0,0,null,null,{"$f":"IF(RAND()<poisson_parameter*model!K254,1,0)","v":0},{"$f":"IF(RAND()<(K243^quadratic_condition*L243-$T$21)*$T$22*(1+pref_attach_on*SUM($X$35:X253)),1,0)","v":0},220,{"$f":"IF(AND(SUM($X$35:X253)=0,X254=1),Y254,\"\")","v":""}]
[null,null,null,null,null,null,232,23.2,0.56445450520483798,1.0636878846619846,0.56409555640125886,0.93704474301132135,0.824385530086442,0.30907034648723125,0.55359238444497194,1.2223392411398153E-2,0.75477681566363131,0.11530372391409149,0,0,null,null,{"$f":"IF(RAND()<poisson_parameter*model!K255,1,0)","v":0},{"$f":"IF(RAND()<(K244^quadratic_condition*L244-$T$21)*$T$22*(1+pref_attach_on*SUM($X$35:X254)),1,0)","v":0},221,{"$f":"IF(AND(SUM($X$35:X254)=0,X255=1),Y255,\"\")","v":""}]
[null,null,null,null,null,null,233,23.3,0.56793763672620923,1.063730388869893,0.55708190222268583,0.93709714317194992,0.83428672414506932,0.31641347471017317,0.5657560670134002,1.2819337880650296E-2,0.7550419912677937,0.11654048455022747,0,0,null,null,{"$f":"IF(RAND()<poisson_parameter*model!K256,1,0)","v":0},{"$f":"IF(RAND()<(K245^quadratic_condition*L245-$T$21)*$T$22*(1+pref_attach_on*SUM($X$35:X255)),1,0)","v":0},222,{"$f":"IF(AND(SUM($X$35:X255)=0,X256=1),Y256,\"\")","v":""}]
[null,null,null,null,null,null,234,23.4,0.5714816930545874,1.0637709450041364,0.55010582421100307,0.93714737800082204,0.84391180836624824,0.32405722705705614,0.57766257372624663,1.3444439192913169E-2,0.75530115883020676,0.11777750359282267,0,0,null,null,{"$f":"IF(RAND()<poisson_parameter*model!K257,1,0)","v":0},{"$f":"IF(RAND()<(K246^quadratic_condition*L246-$T$21)*$T$22*(1+pref_attach_on*SUM($X$35:X256)),1,0)","v":0},223,{"$f":"IF(AND(SUM($X$35:X256)=0,X257=1),Y257,\"\")","v":""}]
[null,null,null,null,null,null,235,23.5,0.57508142139800911,1.0638096422148577,0.54317145542210232,0.93719553675840306,0.85325993020216195,0.33200643165583854,0.58928632789686375,1.4100119640348808E-2,0.75555485499691422,0.11901443596734319,0,0,null,null,{"$f":"IF(RAND()<poisson_parameter*model!K258,1,0)","v":0},{"$f":"IF(RAND()<(K247^quadratic_condition*L247-$T$21)*$T$22*(1+pref_attach_on*SUM($X$35:X257)),1,0)","v":0},224,{"$f":"IF(AND(SUM($X$35:X257)=0,X258=1),Y258,\"\")","v":""}]
[null,null,null,null,null,null,236,23.6,0.57873125769559663,1.0638465655844975,0.53628271929255522,0.93724170504324822,0.86233100239249916,0.34026527568211029,0.60060293620389771,1.4787870006991282E-2,0.75580360703372451,0.12025095636719141,0,0,null,null,{"$f":"IF(RAND()<poisson_parameter*model!K259,1,0)","v":0},{"$f":"IF(RAND()<(K248^quadratic_condition*L248-$T$21)*$T$22*(1+pref_attach_on*SUM($X$35:X258)),1,0)","v":0},225,{"$f":"IF(AND(SUM($X$35:X258)=0,X259=1),Y259,\"\")","v":""}]
[null,null,null,null,null,null,237,23.7,0.58242534618922881,1.0638817963123079,0.52944332848188802,0.9372859649408023,0.87112565889844262,0.34883723002007944,0.61158932991564463,1.5509251428927931E-2,0.7560479338285685,0.12148675974762242,0,0,null,null,{"$f":"IF(RAND()<poisson_parameter*model!K260,1,0)","v":0},{"$f":"IF(RAND()<(K249^quadratic_condition*L249-$T$21)*$T$22*(1+pref_attach_on*SUM($X$35:X259)),1,0)","v":0},226,{"$f":"IF(AND(SUM($X$35:X259)=0,X260=1),Y260,\"\")","v":""}]
[null,null,null,null,null,null,238,23.8,0.58615756173357692,1.0639154118905947,0.52265678491660561,0.93732839516626865,0.87964520913923339,0.35772497259229208,0.62222389095831776,1.6265898334394353E-2,0.7562883468831697,0.12272156154045512,0,0,null,null,{"$f":"IF(RAND()<poisson_parameter*model!K261,1,0)","v":0},{"$f":"IF(RAND()<(K250^quadratic_condition*L250-$T$21)*$T$22*(1+pref_attach_on*SUM($X$35:X260)),1,0)","v":0},227,{"$f":"IF(AND(SUM($X$35:X260)=0,X261=1),Y261,\"\")","v":""}]
[null,null,null,null,null,null,239,23.9,0.58992153468024444,1.0639474862730494,0.5159263809211363,0.93736907120177582,0.88789159108791893,0.36693031108316931,0.63248656184570684,1.7059521461608051E-2,0.75652535129490472,0.12395509758927614,0,0,null,null,{"$f":"IF(RAND()<poisson_parameter*model!K262,1,0)","v":0},{"$f":"IF(RAND()<(K251^quadratic_condition*L251-$T$21)*$T$22*(1+pref_attach_on*SUM($X$35:X261)),1,0)","v":0},228,{"$f":"IF(AND(SUM($X$35:X261)=0,X262=1),Y262,\"\")","v":""}]
[null,null,null,null,null,null,240,24,0.59371067813622513,1.0639780900355182,0.50925520131951874,0.93740806542805921,0.89586732374452027,0.37645410588051609,0.64235893883327388,1.7891910951578903E-2,0.75675944672971651,0.12518712380836094,0,0,null,null,{"$f":"IF(RAND()<poisson_parameter*model!K263,1,0)","v":0},{"$f":"IF(RAND()<(K252^quadratic_condition*L252-$T$21)*$T$22*(1+pref_attach_on*SUM($X$35:X262)),1,0)","v":0},229,{"$f":"IF(AND(SUM($X$35:X262)=0,X263=1),Y263,\"\")","v":""}]
[null,null,null,null,null,null,241,24.1,0.59751821736447419,1.0640072905295399,0.5026461263923695,0.93744544725086987,0.90357545946263218,0.3862961941559902,0.65182434799592492,1.8764939512486183E-2,0.75699112838692462,0.12641741557176345,0,0,null,null,{"$f":"IF(RAND()<poisson_parameter*model!K264,1,0)","v":0},{"$f":"IF(RAND()<(K253^quadratic_condition*L253-$T$21)*$T$22*(1+pref_attach_on*SUM($X$35:X263)),1,0)","v":0},230,{"$f":"IF(AND(SUM($X$35:X263)=0,X264=1),Y264,\"\")","v":""}]
[null,null,null,null,null,null,242,24.2,0.60133722106564946,1.0640351520289717,0.49610183557620224,0.93748128322231372,0.91101953656065504,0.3964553160973403,0.66086790424539299,1.96805656514966E-2,0.75722088795674414,0.12764576684190229,0,0,null,null,{"$f":"IF(RAND()<poisson_parameter*model!K265,1,0)","v":0},{"$f":"IF(RAND()<(K254^quadratic_condition*L254-$T$21)*$T$22*(1+pref_attach_on*SUM($X$35:X264)),1,0)","v":0},231,{"$f":"IF(AND(SUM($X$35:X264)=0,X265=1),Y265,\"\")","v":""}]
[null,null,null,null,null,null,243,24.3,0.60516063425551536,1.0640617358700093,0.48962481179625267,0.93751563715731867,0.91820353260258969,0.4069290443889374,0.66947655359178926,2.0640836969109812E-2,0.75744921457129466,0.12887198904946218,0,0,null,null,{"$f":"IF(RAND()<poisson_parameter*model!K266,1,0)","v":0},{"$f":"IF(RAND()<(K255^quadratic_condition*L255-$T$21)*$T$22*(1+pref_attach_on*SUM($X$35:X265)),1,0)","v":0},232,{"$f":"IF(AND(SUM($X$35:X265)=0,X266=1),Y266,\"\")","v":""}]
[null,null,null,null,null,null,244,24.4,0.60898131243247711,1.0640871005848902,0.483217346329327,0.93754857024541771,0.92513181868663041,0.41771371810937002,0.67763909920771714,2.164789351025144E-2,0.75767659574983304,0.13009590973851468,0,0,null,null,{"$f":"IF(RAND()<poisson_parameter*model!K267,1,0)","v":0},{"$f":"IF(RAND()<(K256^quadratic_condition*L256-$T$21)*$T$22*(1+pref_attach_on*SUM($X$35:X266)),1,0)","v":0},233,{"$f":"IF(AND(SUM($X$35:X266)=0,X267=1),Y267,\"\")","v":""}]
[null,null,null,null,null,null,245,24.5,0.61279205671448067,1.0641113020295645,0.47688154409957606,0.93758014115803145,0.931809115033566,0.42880438227209966,0.68534621206766666,2.2703971165382406E-2,0.75790351833889646,0.13131737099244042,0,0,null,null,{"$f":"IF(RAND()<poisson_parameter*model!K268,1,0)","v":0},{"$f":"IF(RAND()<(K257^quadratic_condition*L257-$T$21)*$T$22*(1+pref_attach_on*SUM($X$35:X267)),1,0)","v":0},234,{"$f":"IF(AND(SUM($X$35:X267)=0,X268=1),Y268,\"\")","v":""}]
[null,null,null,null,null,null,246,24.6,0.6165856496142077,1.0641343935055965,0.4706193293172411,0.9376104061514261,0.93824044812200036,0.44019473427375116,0.69259042710752805,2.3811405113850995E-2,0.75813046944798279,0.13253622765751566,0,0,null,null,{"$f":"IF(RAND()<poisson_parameter*model!K269,1,0)","v":0},{"$f":"IF(RAND()<(K258^quadratic_condition*L258-$T$21)*$T$22*(1+pref_attach_on*SUM($X$35:X268)),1,0)","v":0},235,{"$f":"IF(AND(SUM($X$35:X268)=0,X269=1),Y269,\"\")","v":""}]
[null,null,null,null,null,null,247,24.7,0.62035489111613362,1.0641564258765568,0.46443245137808892,0.93763941916551607,0.94443110957426302,0.45187707853096215,0.69936612597826342,2.4972633300573858E-2,0.75835793738132828,0.13375234538193362,0,0,null,null,{"$f":"IF(RAND()<poisson_parameter*model!K270,1,0)","v":0},{"$f":"IF(RAND()<(K259^quadratic_condition*L259-$T$21)*$T$22*(1+pref_attach_on*SUM($X$35:X269)),1,0)","v":0},236,{"$f":"IF(AND(SUM($X$35:X269)=0,X270=1),Y270,\"\")","v":""}]
[null,null,null,null,null,null,248,24.8,0.62409263471851506,1.064177447679149,0.45832249094922839,0.93766723191867463,0.95038661695609683,0.46384229057745902,0.7056695075551197,2.6190199935887254E-2,0.75858641256626946,0.13496559848859846,0,0,null,null,{"$f":"IF(RAND()<poisson_parameter*model!K271,1,0)","v":0},{"$f":"IF(RAND()<(K260^quadratic_condition*L260-$T$21)*$T$22*(1+pref_attach_on*SUM($X$35:X270)),1,0)","v":0},237,{"$f":"IF(AND(SUM($X$35:X270)=0,X271=1),Y271,\"\")","v":""}]
[null,null,null,null,null,null,249,24.9,0.62779182310754722,1.0641975052293058,0.45229086617508668,0.93769389399870962,0.95611267661516119,0.47607979185515309,0.71149854741188745,2.7466759007053608E-2,0.75881638847859001,0.13617586770029599,0,0,null,null,{"$f":"IF(RAND()<poisson_parameter*model!K272,1,0)","v":0},{"$f":"IF(RAND()<(K261^quadratic_condition*L261-$T$21)*$T$22*(1+pref_attach_on*SUM($X$35:X271)),1,0)","v":0},238,{"$f":"IF(AND(SUM($X$35:X271)=0,X272=1),Y272,\"\")","v":""}]
[null,null,null,null,null,null,250,25,0.63144552313952518,1.064216642723478,0.44633883894534548,0.93771945295015591,0.96161514864834274,0.48857753636410012,0.7168529474825126,2.8805077788433751E-2,0.75904836256516095,0.13738303773585817,0,0,null,null,{"$f":"IF(RAND()<poisson_parameter*model!K273,1,0)","v":0},{"$f":"IF(RAND()<(K262^quadratic_condition*L262-$T$21)*$T$22*(1+pref_attach_on*SUM($X$35:X272)),1,0)","v":0},239,{"$f":"IF(AND(SUM($X$35:X272)=0,X273=1),Y273,\"\")","v":""}]
[null,null,null,null,null,null,251,25.1,0.63504695981951342,1.0642349023353346,0.4404675211744537,0.93774395435803015,0.96690001405598913,0.50132201023440548,0.72173407711469473,3.0208040335735473E-2,0.75928283716407974,0.13858699479574108,0,0,null,null,{"$f":"IF(RAND()<poisson_parameter*model!K274,1,0)","v":0},{"$f":"IF(RAND()<(K263^quadratic_condition*L263-$T$21)*$T$22*(1+pref_attach_on*SUM($X$35:X273)),1,0)","v":0},240,{"$f":"IF(AND(SUM($X$35:X273)=0,X274=1),Y274,\"\")","v":""}]
[null,null,null,null,null,null,252,25.2,0.63858954898140674,1.0642523243080748,0.43467788104981619,0.93776744192818795,0.97197334411255443,0.51429824514776046,0.72614490667742138,3.1678650948017764E-2,0.75952032042239626,0.13978762395507913,0,0,null,null,{"$f":"IF(RAND()<poisson_parameter*model!K275,1,0)","v":0},{"$f":"IF(RAND()<(K264^quadratic_condition*L264-$T$21)*$T$22*(1+pref_attach_on*SUM($X$35:X274)),1,0)","v":0},241,{"$f":"IF(AND(SUM($X$35:X274)=0,X275=1),Y275,\"\")","v":""}]
[null,null,null,null,null,null,253,25.3,0.64206692839392021,1.0642689470425535,0.42897074921281969,0.9377899575644183,0.97684127195777115,0.52748984636749363,0.73008993482245199,3.3220037579261029E-2,0.75976132721139311,0.14098480648180303,0,0,null,null,{"$f":"IF(RAND()<poisson_parameter*model!K276,1,0)","v":0},{"$f":"IF(RAND()<(K265^quadratic_condition*L265-$T$21)*$T$22*(1+pref_attach_on*SUM($X$35:X275)),1,0)","v":0},242,{"$f":"IF(AND(SUM($X$35:X275)=0,X276=1),Y276,\"\")","v":""}]
[null,null,null,null,null,null,254,25.4,0.64547298703954226,1.0642848071814028,0.42334682484341485,0.93781154144240575,0.98150996639028421,0.5408790359352349,0.73357511042433332,3.4835455179300992E-2,0.76000638003924392,0.14217841709685877,0,0,null,null,{"$f":"IF(RAND()<poisson_parameter*model!K277,1,0)","v":0},{"$f":"IF(RAND()<(K266^quadratic_condition*L266-$T$21)*$T$22*(1+pref_attach_on*SUM($X$35:X276)),1,0)","v":0},243,{"$f":"IF(AND(SUM($X$35:X276)=0,X277=1),Y277,\"\")","v":""}]
[null,null,null,null,null,null,255,25.5,0.64880189233836316,1.0642999396893356,0.41780668162498402,0.93783223208068378,0.98598560782658762,0.55444671136220458,0.73660775014007607,3.6528288941763382E-2,0.76025600996072762,0.14336832119297341,0,0,null,null,{"$f":"IF(RAND()<poisson_parameter*model!K278,1,0)","v":0},{"$f":"IF(RAND()<(K267^quadratic_condition*L267-$T$21)*$T$22*(1+pref_attach_on*SUM($X$35:X277)),1,0)","v":0},244,{"$f":"IF(AND(SUM($X$35:X277)=0,X278=1),Y278,\"\")","v":""}]
[null,null,null,null,null,null,256,25.6,0.65204811511550298,1.0643143779297957,0.41235077357164818,0.93785206640870122,0.99027436637194466,0.56817251988775075,0.73919645244315635,3.8302057434323217E-2,0.76051075748350838,0.14455437202781243,0,0,null,null,{"$f":"IF(RAND()<poisson_parameter*model!K279,1,0)","v":0},{"$f":"IF(RAND()<(K268^quadratic_condition*L268-$T$21)*$T$22*(1+pref_attach_on*SUM($X$35:X278)),1,0)","v":0},245,{"$f":"IF(AND(SUM($X$35:X278)=0,X279=1),Y279,\"\")","v":""}]
[null,null,null,null,null,null,257,25.7,0.6552064521391614,1.0643281537381264,0.40697944070499276,0.93787107983211548,0.99438238193656514,0.58203494810232115,0.74135100890135064,4.0160415584144411E-2,0.7607711734703142,0.14573640790678524,0,0,null,null,{"$f":"IF(RAND()<poisson_parameter*model!K280,1,0)","v":0},{"$f":"IF(RAND()<(K269^quadratic_condition*L269-$T$21)*$T$22*(1+pref_attach_on*SUM($X$35:X279)),1,0)","v":0},246,{"$f":"IF(AND(SUM($X$35:X279)=0,X280=1),Y280,\"\")","v":""}]
[null,null,null,null,null,null,258,25.8,0.65827204608566914,1.0643412974914077,0.40169291457141859,0.937889306295425,0.99831574631945796,0.59601142644301208,0.74308231338763042,4.2107157488730791E-2,0.76103782003615128,0.14691424937019859,0,0,null,null,{"$f":"IF(RAND()<poisson_parameter*model!K281,1,0)","v":0},{"$f":"IF(RAND()<(K270^quadratic_condition*L270-$T$21)*$T$22*(1+pref_attach_on*SUM($X$35:X280)),1,0)","v":0},247,{"$f":"IF(AND(SUM($X$35:X280)=0,X281=1),Y281,\"\")","v":""}]
[null,null,null,null,null,null,259,25.9,0.66124040281793151,1.0643538381751174,0.39649132359496064,0.93790677834204672,1.0020804871738618,0.61007844777462628,0.7444022698406324,4.4146219019639138E-2,0.76131127143948074,0.14808769639894409,0,{"$f":"S282-S281","v":0},null,null,{"$f":"IF(RAND()<poisson_parameter*model!K282,1,0)","v":0},{"$f":"IF(RAND()<(K271^quadratic_condition*L271-$T$21)*$T$22*(1+pref_attach_on*SUM($X$35:X281)),1,0)","v":0},248,{"$f":"IF(AND(SUM($X$35:X281)=0,X282=1),Y282,\"\")","v":""}]
[null,null,null,null,null,null,260,26,0.66410740589393158,1.0643658034467558,0.39137469826348986,0.93792352717194172,1.005682553761754,0.62421169897601381,0.7453236991279204,4.6281680183571164E-2,0.76159211496605617,0.14925652565244099,0,0,null,null,{"$f":"IF(RAND()<poisson_parameter*model!K283,1,0)","v":0},{"$f":"IF(RAND()<(K272^quadratic_condition*L272-$T$21)*$T$22*(1+pref_attach_on*SUM($X$35:X282)),1,0)","v":0},249,{"$f":"IF(AND(SUM($X$35:X282)=0,X283=1),Y283,\"\")","v":""}]
[null,null,null,null,null,null,261,26.1,0.66686932825214684,1.0643772196965737,0.38634297614874785,0.93793958269688693,1.009127804400435,0.63838620416906522,0.74586024551234587,4.8517767202279891E-2,0.76188095180387472,0.1504204877521429,0,0,null,null,{"$f":"IF(RAND()<poisson_parameter*model!K284,1,0)","v":0},{"$f":"IF(RAND()<(K273^quadratic_condition*L273-$T$21)*$T$22*(1+pref_attach_on*SUM($X$35:X283)),1,0)","v":0},250,{"$f":"IF(AND(SUM($X$35:X283)=0,X284=1),Y284,\"\")","v":""}]
[null,null,null,null,null,null,262,26.2,0.66952284105048598,1.0643881121055334,0.38139600676269914,0.93795497359348889,1.0124219955013511,0.65257647796491114,0.74602628317949038,5.085885426950465E-2,0.76217839790742847,0.15157930462355323,0,0,null,null,{"$f":"IF(RAND()<poisson_parameter*model!K285,1,0)","v":0},{"$f":"IF(RAND()<(K274^quadratic_condition*L274-$T$21)*$T$22*(1+pref_attach_on*SUM($X$35:X284)),1,0)","v":0},251,{"$f":"IF(AND(SUM($X$35:X284)=0,X285=1),Y285,\"\")","v":""}]
[null,null,null,null,null,null,263,26.3,0.67206501966436749,1.0643985047006275,0.37653355625426188,0.93796972735402928,1.0155707720999587,0.66675668686726675,0.74583682325193834,5.3309464939800502E-2,0.76248508484915911,0.15273266690937623,0,0,null,null,{"$f":"IF(RAND()<poisson_parameter*model!K286,1,0)","v":0},{"$f":"IF(RAND()<(K275^quadratic_condition*L275-$T$21)*$T$22*(1+pref_attach_on*SUM($X$35:X285)),1,0)","v":0},252,{"$f":"IF(AND(SUM($X$35:X285)=0,X286=1),Y286,\"\")","v":""}]
[null,null,null,null,null,null,264,26.4,0.67449334687753615,1.0644084204076758,0.37175531195163719,0.93798387033523067,1.018579659775332,0.68090081677443959,0.74530742169288755,5.5874273100667365E-2,0.7628016606557132,0.1538802314661516,0,0,null,null,{"$f":"IF(RAND()<poisson_parameter*model!K287,1,0)","v":0},{"$f":"IF(RAND()<(K276^quadratic_condition*L276-$T$21)*$T$22*(1+pref_attach_on*SUM($X$35:X286)),1,0)","v":0},253,{"$f":"IF(AND(SUM($X$35:X286)=0,X287=1),Y287,\"\")","v":""}]
[null,null,null,null,null,null,265,26.5,0.67680571332588324,1.0644178811017151,0.36706088675624643,0.93799742780502604,1.0214540578591991,0.69498284436629354,0.74445408848583283,5.8558103475833248E-2,0.76312879062626926,0.15502161895647459,0,0,null,null,{"$f":"IF(RAND()<poisson_parameter*model!K288,1,0)","v":0},{"$f":"IF(RAND()<(K277^quadratic_condition*L277-$T$21)*$T$22*(1+pref_attach_on*SUM($X$35:X287)),1,0)","v":0},254,{"$f":"IF(AND(SUM($X$35:X287)=0,X288=1),Y288,\"\")","v":""}]
[null,null,null,null,null,null,266,26.6,0.67900041527964572,1.0644269076550892,0.36244982339474963,0.93801042398741263,1.0241992338359667,0.70897691005611729,0.74329319846690345,6.1365931603929731E-2,0.76346715812986166,0.15615641154868243,0,0,null,null,{"$f":"IF(RAND()<poisson_parameter*model!K289,1,0)","v":0},{"$f":"IF(RAND()<(K278^quadratic_condition*L278-$T$21)*$T$22*(1+pref_attach_on*SUM($X$35:X288)),1,0)","v":0},255,{"$f":"IF(AND(SUM($X$35:X288)=0,X289=1),Y289,\"\")","v":""}]
[null,null,null,null,null,null,267,26.7,0.68107614987267273,1.0644355199833444,0.35792159853580235,0.93802288210546869,1.0268203188379297,0.72285749013394396,0.74184140417989108,6.4302883233148783E-2,0.76381746537825579,0.15728415073568675,0,0,null,null,{"$f":"IF(RAND()<poisson_parameter*model!K290,1,0)","v":0},{"$f":"IF(RAND()<(K279^quadratic_condition*L279-$T$21)*$T$22*(1+pref_attach_on*SUM($X$35:X289)),1,0)","v":0},256,{"$f":"IF(AND(SUM($X$35:X289)=0,X290=1),Y290,\"\")","v":""}]
[null,null,null,null,null,null,268,26.8,0.68303200790875729,1.0644437370890312,0.3534756267781563,0.93803482442260622,1.0293223041430781,0.73659956572965635,0.74011555111902372,6.7374233068826089E-2,0.76418043417053949,0.15840433528444497,0,0,null,null,{"$f":"IF(RAND()<poisson_parameter*model!K291,1,0)","v":0},{"$f":"IF(RAND()<(K280^quadratic_condition*L280-$T$21)*$T$22*(1+pref_attach_on*SUM($X$35:X290)),1,0)","v":0},257,{"$f":"IF(AND(SUM($X$35:X290)=0,X291=1),Y291,\"\")","v":""}]
[null,null,null,null,null,null,269,26.9,0.68486746439414026,1.0644515771035048,0.34911126451646279,0.93804627228213244,1.0317100385866145,0.75017878628148771,0.73813259571917866,7.0585402807303368E-2,0.76455680660518299,0.15951641932738772,0,0,null,null,{"$f":"IF(RAND()<poisson_parameter*model!K292,1,0)","v":0},{"$f":"IF(RAND()<(K281^quadratic_condition*L281-$T$21)*$T$22*(1+pref_attach_on*SUM($X$35:X291)),1,0)","v":0},258,{"$f":"IF(AND(SUM($X$35:X291)=0,X292=1),Y292,\"\")","v":""}]
[null,null,null,null,null,null,270,27,0.68658236696203856,1.0644590573268173,0.34482781369073789,0.93805724614518782,1.0339882268013383,0.76357162530661993,0.73590952644572682,7.3941958385933412E-2,0.76494734575488765,0.16061981060695255,0,0,null,null,{"$f":"IF(RAND()<poisson_parameter*model!K293,1,0)","v":0},{"$f":"IF(RAND()<(K282^quadratic_condition*L282-$T$21)*$T$22*(1+pref_attach_on*SUM($X$35:X292)),1,0)","v":0},259,{"$f":"IF(AND(SUM($X$35:X292)=0,X293=1),Y293,\"\")","v":""}]
[null,null,null,null,null,null,271,27.1,0.68817692236928907,1.0644661942657878,0.34062452542493149,0.93806776562712713,1.0361614282063558,0.77675552643191215,0.73346328832510155,7.7449606375769559E-2,0.76535283629908912,0.16171386888421682,0,0,null,null,{"$f":"IF(RAND()<poisson_parameter*model!K294,1,0)","v":0},{"$f":"IF(RAND()<(K283^quadratic_condition*L283-$T$21)*$T$22*(1+pref_attach_on*SUM($X$35:X293)),1,0)","v":0},260,{"$f":"IF(AND(SUM($X$35:X293)=0,X294=1),Y294,\"\")","v":""}]
[null,null,null,null,null,null,272,27.2,0.68965168125682663,1.0644730036703323,0.33650060355944095,0.93807784953240658,1.0382340566680355,0.78970903784906188,0.73081071124136676,8.1114189440396042E-2,0.7657740851085113,0.16279790452247453,0,0,null,null,{"$f":"IF(RAND()<poisson_parameter*model!K295,1,0)","v":0},{"$f":"IF(RAND()<(K284^quadratic_condition*L284-$T$21)*$T$22*(1+pref_attach_on*SUM($X$35:X294)),1,0)","v":0},261,{"$f":"IF(AND(SUM($X$35:X294)=0,X295=1),Y295,\"\")","v":""}]
[null,null,null,null,null,null,273,27.3,0.69100752137465471,1.064479500568134,0.33245520808175849,0.93808751588803818,1.0402103807616805,0.80241193360291696,0.72796844230279112,8.4941680781587786E-2,0.76621192177567621,0.16387117725646622,0,0,null,null,{"$f":"IF(RAND()<poisson_parameter*model!K296,1,0)","v":0},{"$f":"IF(RAND()<(K285^quadratic_condition*L285-$T$21)*$T$22*(1+pref_attach_on*SUM($X$35:X295)),1,0)","v":0},262,{"$f":"IF(AND(SUM($X$35:X295)=0,X296=1),Y296,\"\")","v":""}]
[null,null,null,null,null,null,274,27.4,0.69224562947818413,1.0644856992977285,0.32848745845876304,0.93809678197566926,1.0420945245669619,0.81484532039627,0.72495288255537449,8.8938177490127959E-2,0.76666719908477388,0.1649328951578502,0,0,null,null,{"$f":"IF(RAND()<poisson_parameter*model!K297,1,0)","v":0},{"$f":"IF(RAND()<(K286^quadratic_condition*L286-$T$21)*$T$22*(1+pref_attach_on*SUM($X$35:X296)),1,0)","v":0},263,{"$f":"IF(AND(SUM($X$35:X296)=0,X297=1),Y297,\"\")","v":""}]
[null,null,null,null,null,null,275,27.5,0.6933674821063146,1.0644916135400768,0.3245964368734901,0.93810566436234344,1.0438904689346979,0.8269917288905323,0.72178012828747373,9.3109892718258799E-2,0.76714079341378139,0.16598221380739939,0,0,null,null,{"$f":"IF(RAND()<poisson_parameter*model!K298,1,0)","v":0},{"$f":"IF(RAND()<(K287^quadratic_condition*L287-$T$21)*$T$22*(1+pref_attach_on*SUM($X$35:X297)),1,0)","v":0},264,{"$f":"IF(AND(SUM($X$35:X297)=0,X298=1),Y298,\"\")","v":""}]
[null,null,null,null,null,null,276,27.6,0.69437482545246232,1.0644972563486939,0.32078119136855526,0.93811417892999671,1.0456020531670307,0.8388351887900436,0.71846591713153352,9.7463146589006011E-2,0.7676336050611966,0.16701823568432342,0,0,null,null,{"$f":"IF(RAND()<poisson_parameter*model!K299,1,0)","v":0},{"$f":"IF(RAND()<(K288^quadratic_condition*L288-$T$21)*$T$22*(1+pref_attach_on*SUM($X$35:X298)),1,0)","v":0},265,{"$f":"IF(AND(SUM($X$35:X298)=0,X299=1),Y299,\"\")","v":""}]
[null,null,null,null,null,null,277,27.7,0.69526965453798217,1.0645026401783997,0.31704073889778711,0.93812234090374058,1.0472329770574014,0.85036128730926897,0.71502557912615516,0.10200435575711958,0.76814655848922719,0.16804000978305109,0,0,null,null,{"$f":"IF(RAND()<poisson_parameter*model!K300,1,0)","v":0},{"$f":"IF(RAND()<(K289^quadratic_condition*L289-$T$21)*$T$22*(1+pref_attach_on*SUM($X$35:X299)),1,0)","v":0},266,{"$f":"IF(AND(SUM($X$35:X299)=0,X300=1),Y300,\"\")","v":""}]
[null,null,null,null,null,null,278,27.8,0.69605419189323015,1.0645077769127556,0.31337406828705644,0.93813016487898127,1.0487868032409382,0.86155721092795978,0.7114739928552829,0.10674002153674372,0.76868060247475034,0.16904653146776144,0,0,null,null,{"$f":"IF(RAND()<poisson_parameter*model!K301,1,0)","v":0},{"$f":"IF(RAND()<(K290^quadratic_condition*L290-$T$21)*$T$22*(1+pref_attach_on*SUM($X$35:X300)),1,0)","v":0},267,{"$f":"IF(AND(SUM($X$35:X300)=0,X301=1),Y301,\"\")","v":""}]
[null,null,null,null,null,null,279,27.9,0.6967308659450232,1.0645126778902443,0.30978014310478352,0.93813766484742322,1.0502669598099128,0.87241177063140318,0.70782554673228659,0.1116767165123029,0.76923671015884321,0.17003674257492149,0,0,null,null,{"$f":"IF(RAND()<poisson_parameter*model!K302,1,0)","v":0},{"$f":"IF(RAND()<(K291^quadratic_condition*L291-$T$21)*$T$22*(1+pref_attach_on*SUM($X$35:X301)),1,0)","v":0},268,{"$f":"IF(AND(SUM($X$35:X301)=0,X302=1),Y302,\"\")","v":""}]
[null,null,null,null,null,null,280,28,0.6973022893006966,1.0645173539292532,0.30625790444217038,0.93814485422200145,1.0516767431527876,0.88291541110402305,0.70409410544641005,0.11682106955161607,0.76981587898518067,0.17100953177406528,0,0,null,null,{"$f":"IF(RAND()<poisson_parameter*model!K303,1,0)","v":0},{"$f":"IF(RAND()<(K292^quadratic_condition*L292-$T$21)*$T$22*(1+pref_attach_on*SUM($X$35:X302)),1,0)","v":0},269,{"$f":"IF(AND(SUM($X$35:X302)=0,X303=1),Y303,\"\")","v":""}]
[null,null,null,null,null,null,281,28.1,0.69777123710855482,1.0645218153519127,0.30280627360284423,0.93815174586078809,1.053019320979049,0.89306020458887181,0.70029298153870989,0.12217974914407756,0.77041913051711941,0.17196373519702635,0,0,null,null,{"$f":"IF(RAND()<poisson_parameter*model!K304,1,0)","v":0},{"$f":"IF(RAND()<(K293^quadratic_condition*L293-$T$21)*$T$22*(1+pref_attach_on*SUM($X$35:X303)),1,0)","v":0},270,{"$f":"IF(AND(SUM($X$35:X303)=0,X304=1),Y304,\"\")","v":""}]
[null,null,null,null,null,null,282,28.2,0.6981406256625331,1.0645260720068457,0.29942415470131861,0.93815835208991383,1.0542977354954892,0.90283983033834814,0.69643491202548335,0.12775944499202574,0.77104751012284178,0.17289813734579851,0,0,null,null,{"$f":"IF(RAND()<poisson_parameter*model!K305,1,0)","v":0},{"$f":"IF(RAND()<(K294^quadratic_condition*L294-$T$21)*$T$22*(1+pref_attach_on*SUM($X$35:X304)),1,0)","v":0},271,{"$f":"IF(AND(SUM($X$35:X304)=0,X305=1),Y305,\"\")","v":""}]
[null,null,null,null,null,null,283,28.3,0.69841349140560427,1.0645301332908732,0.29611043716947461,0.93816468472554504,1.0555149067028695,0.91224954075955211,0.69253203994043855,0.13356684779031536,0.77170208651752481,0.1738114722891331,0,0,null,null,{"$f":"IF(RAND()<poisson_parameter*model!K306,1,0)","v":0},{"$f":"IF(RAND()<(K295^quadratic_condition*L295-$T$21)*$T$22*(1+pref_attach_on*SUM($X$35:X305)),1,0)","v":0},272,{"$f":"IF(AND(SUM($X$35:X305)=0,X306=1),Y306,\"\")","v":""}]
[null,null,null,null,null,null,284,28.4,0.6985929704721664,1.0645340081697288,0.29286399817013858,0.9381707550949554,1.0566736357849587,0.92128611549920447,0.68859590062353737,0.13960862713777042,0.77238395115115366,0.1747024251578638,0,0,null,null,{"$f":"IF(RAND()<poisson_parameter*model!K307,1,0)","v":0},{"$f":"IF(RAND()<(K296^quadratic_condition*L296-$T$21)*$T$22*(1+pref_attach_on*SUM($X$35:X306)),1,0)","v":0},273,{"$f":"IF(AND(SUM($X$35:X306)=0,X307=1),Y307,\"\")","v":""}]
[null,null,null,null,null,null,285,28.5,0.69868227889462375,1.0645377051978215,0.28968370491677903,0.93817657405672905,1.0577766085648022,0.92994780481749462,0.684637412545407,0.14589140753476854,0.77309421743031015,0.17556963394876135,0,0,null,null,{"$f":"IF(RAND()<poisson_parameter*model!K308,1,0)","v":0},{"$f":"IF(RAND()<(K297^quadratic_condition*L297-$T$21)*$T$22*(1+pref_attach_on*SUM($X$35:X307)),1,0)","v":0},274,{"$f":"IF(AND(SUM($X$35:X307)=0,X308=1),Y308,\"\")","v":""}]
[null,null,null,null,null,null,286,28.6,0.69868469358391272,1.0645412325370973,0.28656841689835877,0.938182152020131,1.0588263990057312,0.93823426366826268,0.68066687242216117,0.15242174243383308,0.77383401976206323,0.17641169164643228,0,0,null,null,{"$f":"IF(RAND()<poisson_parameter*model!K309,1,0)","v":0},{"$f":"IF(RAND()<(K298^quadratic_condition*L298-$T$21)*$T$22*(1+pref_attach_on*SUM($X$35:X308)),1,0)","v":0},275,{"$f":"IF(AND(SUM($X$35:X308)=0,X309=1),Y309,\"\")","v":""}]
[null,null,null,null,null,null,287,28.7,0.69860353417809373,1.064544597975033,0.2835169880084546,0.93818749896367837,1.0598254727370955,0.9461464779363109,0.67669395434688284,0.15920608632490721,0.77460451240797623,0.17722714867236164,0,0,null,null,{"$f":"IF(RAND()<poisson_parameter*model!K310,1,0)","v":0},{"$f":"IF(RAND()<(K299^quadratic_condition*L299-$T$21)*$T$22*(1+pref_attach_on*SUM($X$35:X309)),1,0)","v":0},276,{"$f":"IF(AND(SUM($X$35:X309)=0,X310=1),Y310,\"\")","v":""}]
[null,null,null,null,null,null,288,28.8,0.69844214583759512,1.0645478089418092,0.28052826857788565,0.93819262445294627,1.0607761905869726,0.95368668428398884,0.67272771264117748,0.16625076485405427,0.7754068681362436,0.17801451566962864,0,0,null,null,{"$f":"IF(RAND()<poisson_parameter*model!K311,1,0)","v":0},{"$f":"IF(RAND()<(K300^quadratic_condition*L300-$T$21)*$T$22*(1+pref_attach_on*SUM($X$35:X310)),1,0)","v":0},277,{"$f":"IF(AND(SUM($X$35:X310)=0,X311=1),Y311,\"\")","v":""}]
[null,null,null,null,null,null,289,28.9,0.69820388305048475,1.0645508725266943,0.27760110731026755,0.93819753765763891,1.0616808121062127,0.96085828503177917,0.66877658811321927,0.17356194299374447,0.77624227666009205,0.17877226663106532,0,0,null,null,{"$f":"IF(RAND()<poisson_parameter*model!K312,1,0)","v":0},{"$f":"IF(RAND()<(K301^quadratic_condition*L301-$T$21)*$T$22*(1+pref_attach_on*SUM($X$35:X311)),1,0)","v":0},278,{"$f":"IF(AND(SUM($X$35:X311)=0,X312=1),Y312,\"\")","v":""}]
[null,null,null,null,null,null,290,29,0.69789209449646872,1.0645537954936792,0.27473435312012423,0.93820224736795643,1.0625414990700988,0.96766575944519206,0.66484841739748735,0.18114559130468691,0.77711194285084628,0.17949884237765035,0,0,null,null,{"$f":"IF(RAND()<poisson_parameter*model!K313,1,0)","v":0},{"$f":"IF(RAND()<(K302^quadratic_condition*L302-$T$21)*$T$22*(1+pref_attach_on*SUM($X$35:X312)),1,0)","v":0},279,{"$f":"IF(AND(SUM($X$35:X312)=0,X313=1),Y313,\"\")","v":""}]
[null,null,null,null,null,null,291,29.1,0.69751010900435395,1.0645565842963953,0.27192685687343376,0.93820676201028641,1.0633603189456704,0.97411457272688728,0.66095044504571121,0.18900745035334379,0.77801708471448272,0.18019265439270243,0,0,null,null,{"$f":"IF(RAND()<poisson_parameter*model!K314,1,0)","v":0},{"$f":"IF(RAND()<(K303^quadratic_condition*L303-$T$21)*$T$22*(1+pref_attach_on*SUM($X$35:X313)),1,0)","v":0},280,{"$f":"IF(AND(SUM($X$35:X313)=0,X314=1),Y314,\"\")","v":""}]
[null,null,null,null,null,null,292,29.2,0.6970612226246129,1.0645592450923484,0.26917747303075179,0.93821108966224787,1.0641392483143666,0.98021108392271994,0.65708933803804115,0.19715299337576794,0.77895893112109671,0.18085208901593028,0,0,null,null,{"$f":"IF(RAND()<poisson_parameter*model!K315,1,0)","v":0},{"$f":"IF(RAND()<(K304^quadratic_condition*L304-$T$21)*$T$22*(1+pref_attach_on*SUM($X$35:X314)),1,0)","v":0},281,{"$f":"IF(AND(SUM($X$35:X314)=0,X315=1),Y315,\"\")","v":""}]
[null,null,null,null,null,null,293,29.3,0.69654868682656501,1.0645617837565011,0.2664850611933372,0.93821523806711438,1.0648801762411093,0.98596245384744918,0.65327120238767666,0.2055873873071242,0.77993871927749903,0.18147551199958339,0,0,null,null,{"$f":"IF(RAND()<poisson_parameter*model!K316,1,0)","v":0},{"$f":"IF(RAND()<(K305^quadratic_condition*L305-$T$21)*$T$22*(1+pref_attach_on*SUM($X$35:X315)),1,0)","v":0},282,{"$f":"IF(AND(SUM($X$35:X315)=0,X316=1),Y316,\"\")","v":""}]
[null,null,null,null,null,null,294,29.4,0.69597569781863633,1.0645642058942326,0.2638484875529945,0.93821921464764124,1.0655849075822794,0.99137655402405456,0.649501601520593,0.21431545232701757,0.78095769193416364,0.18206127342680628,0,0,null,null,{"$f":"IF(RAND()<poisson_parameter*model!K317,1,0)","v":0},{"$f":"IF(RAND()<(K306^quadratic_condition*L306-$T$21)*$T$22*(1+pref_attach_on*SUM($X$35:X316)),1,0)","v":0},283,{"$f":"IF(AND(SUM($X$35:X316)=0,X317=1),Y317,\"\")","v":""}]
[null,null,null,null,null,null,295,29.5,0.69534538698021853,1.0645665168537044,0.26126662624663699,0.93822302651932232,1.0662551662262405,0.99646187751360382,0.64578557612401499,0.22334162010330952,0.78201709431897271,0.18260771298981088,0,0,null,null,{"$f":"IF(RAND()<poisson_parameter*model!K318,1,0)","v":0},{"$f":"IF(RAND()<(K307^quadratic_condition*L307-$T$21)*$T$22*(1+pref_attach_on*SUM($X$35:X317)),1,0)","v":0},284,{"$f":"IF(AND(SUM($X$35:X317)=0,X318=1),Y318,\"\")","v":""}]
[null,null,null,null,null,null,296,29.6,0.69466081238486455,1.0645687217376585,0.2587383606168599,0.93822668050309932,1.0668925982611495,1.0012274523936706,0.64212766517230413,0.23266989095113719,0.78311817079167434,0.18311316562263566,0,0,null,null,{"$f":"IF(RAND()<poisson_parameter*model!K319,1,0)","v":0},{"$f":"IF(RAND()<(K308^quadratic_condition*L308-$T$21)*$T$22*(1+pref_attach_on*SUM($X$35:X318)),1,0)","v":0},285,{"$f":"IF(AND(SUM($X$35:X318)=0,X319=1),Y319,\"\")","v":""}]
[null,null,null,null,null,null,297,29.7,0.69392495138691968,1.0645708254146762,0.25626258438008764,0.93823018313754569,1.0674987750657725,1.0056827585252603,0.63853192785634305,0.24230379015895767,0.78426216121468062,0.18357596748005112,0,0,null,null,{"$f":"IF(RAND()<poisson_parameter*model!K320,1,0)","v":0},{"$f":"IF(RAND()<(K309^quadratic_condition*L309-$T$21)*$T$22*(1+pref_attach_on*SUM($X$35:X319)),1,0)","v":0},286,{"$f":"IF(AND(SUM($X$35:X319)=0,X320=1),Y320,\"\")","v":""}]
[null,null,null,null,null,null,298,29.8,0.69314069423718028,1.0645728325299197,0.25383820270411911,0.93823354069054821,1.0680751963198953,1.0098376481334919,0.63500196616173143,0.25224632376913086,0.78545029703781133,0.18399446225060381,0,0,null,null,{"$f":"IF(RAND()<poisson_parameter*model!K321,1,0)","v":0},{"$f":"IF(RAND()<(K310^quadratic_condition*L310-$T$21)*$T$22*(1+pref_attach_on*SUM($X$35:X320)),1,0)","v":0},287,{"$f":"IF(AND(SUM($X$35:X320)=0,X321=1),Y321,\"\")","v":""}]
[null,null,null,null,null,null,299,29.9,0.69231083868776122,1.0645747475153819,0.25146413319713856,0.93823675917050475,1.0686232929317041,1.0137022706178653,0.63154094786160764,0.2624999341362611,0.7866837970968239,0.18436700778787857,0,0,null,null,{"$f":"IF(RAND()<poisson_parameter*model!K322,1,0)","v":0},{"$f":"IF(RAND()<(K311^quadratic_condition*L311-$T$21)*$T$22*(1+pref_attach_on*SUM($X$35:X321)),1,0)","v":0},288,{"$f":"IF(AND(SUM($X$35:X321)=0,X322=1),Y322,\"\")","v":""}]
[null,null,null,null,null,null,300,30,0.69143808554197261,1.0645765745996654,0.12404103074714498,0.93823984433706076,1.0691444298802066,1.0172870019053797,0.62815162971115568,0.27306645562158421,0.78796386312807809,0.18469198303982384,0,0,null,null,{"$f":"IF(RAND()<poisson_parameter*model!K323,1,0)","v":0},{"$f":"IF(RAND()<(K312^quadratic_condition*L312-$T$21)*$T$22*(1+pref_attach_on*SUM($X$35:X322)),1,0)","v":0},289,{"$f":"IF(AND(SUM($X$35:X322)=0,X323=1),Y323,\"\")","v":""}]
[null,null,null,null,null,null,301,30.1,0.69052503510160268,1.0645783178173138,0.1236180540313366,0.93824280171140084,1.0696399089713806,1.0224449885020326,0.62483638065240688,0.28394707081537907,0.78929167500444786,0.18497854166100475,0,0,null,null,{"$f":"IF(RAND()<poisson_parameter*model!K324,1,0)","v":0},{"$f":"IF(RAND()<(K313^quadratic_condition*L313-$T$21)*$T$22*(1+pref_attach_on*SUM($X$35:X323)),1,0)","v":0},290,{"$f":"IF(AND(SUM($X$35:X323)=0,X324=1),Y324,\"\")","v":""}]
[null,null,null,null,null,null,302,30.2,0.68957418446148455,1.0645799810177159,0.12319931763844182,0.93824563658611604,1.0701109715072861,1.027257682751197,0.62155581121865899,0.29514226771090313,0.79066838570061648,0.18521415077462935,0,0,null,null,{"$f":"IF(RAND()<poisson_parameter*model!K325,1,0)","v":0},{"$f":"IF(RAND()<(K314^quadratic_condition*L314-$T$21)*$T$22*(1+pref_attach_on*SUM($X$35:X324)),1,0)","v":0},291,{"$f":"IF(AND(SUM($X$35:X324)=0,X325=1),Y325,\"\")","v":""}]
[null,null,null,null,null,null,303,30.3,0.68858719760809006,1.0645815678735995,0.12278496748620732,0.93824835403466267,1.0705588008678533,1.031735233368132,0.61831575242592107,0.30665179828183403,0.79209511599915117,0.18539736722194897,0,0,null,null,{"$f":"IF(RAND()<poisson_parameter*model!K326,1,0)","v":0},{"$f":"IF(RAND()<(K315^quadratic_condition*L315-$T$21)*$T$22*(1+pref_attach_on*SUM($X$35:X325)),1,0)","v":0},292,{"$f":"IF(AND(SUM($X$35:X325)=0,X326=1),Y326,\"\")","v":""}]
[null,null,null,null,null,null,304,30.4,0.6875657428766998,1.0645830818891375,0.12237513729706907,0.93825095892043053,1.0709845250054846,1.0358882526063637,0.61512147288141972,0.31847463698624495,0.79357294895223618,0.18552679119980378,0,0,null,null,{"$f":"IF(RAND()<poisson_parameter*model!K327,1,0)","v":0},{"$f":"IF(RAND()<(K316^quadratic_condition*L316-$T$21)*$T$22*(1+pref_attach_on*SUM($X$35:X326)),1,0)","v":0},293,{"$f":"IF(AND(SUM($X$35:X326)=0,X327=1),Y327,\"\")","v":""}]
[null,null,null,null,null,null,305,30.5,0.68651148271841966,1.0645845264076821,0.12196994911280867,0.93825345590543607,1.071389218852969,1.039727728342895,0.61197770455029066,0.33060894356359533,0.79510292409853478,0.18560107451208732,0,0,null,null,{"$f":"IF(RAND()<poisson_parameter*model!K328,1,0)","v":0},{"$f":"IF(RAND()<(K317^quadratic_condition*L317-$T$21)*$T$22*(1+pref_attach_on*SUM($X$35:X327)),1,0)","v":0},294,{"$f":"IF(AND(SUM($X$35:X327)=0,X328=1),Y328,\"\")","v":""}]
[null,null,null,null,null,null,306,30.6,0.68542606459766431,1.0645859046191428,0.12156951381376464,0.93825584945865637,1.0717739066455314,1.0432649412012371,0.60888866913878104,0.3430520287370406,0.79668603147692862,0.18561892891524245,0,0,null,null,{"$f":"IF(RAND()<poisson_parameter*model!K329,1,0)","v":0},{"$f":"IF(RAND()<(K318^quadratic_condition*L318-$T$21)*$T$22*(1+pref_attach_on*SUM($X$35:X328)),1,0)","v":0},295,{"$f":"IF(AND(SUM($X$35:X328)=0,X329=1),Y329,\"\")","v":""}]
[null,null,null,null,null,null,307,30.7,0.6843111129808479,1.0645872195670283,0.12117393163944203,0.93825814386401818,1.0721395641581049,1.0465113870338225,0.60585810481453639,0.35580032333952888,0.79832320546361946,0.1855791345003743,0,0,null,null,{"$f":"IF(RAND()<poisson_parameter*model!K330,1,0)","v":0},{"$f":"IF(RAND()<(K319^quadratic_condition*L319-$T$21)*$T$22*(1+pref_attach_on*SUM($X$35:X329)),1,0)","v":0},296,{"$f":"IF(AND(SUM($X$35:X329)=0,X330=1),Y330,\"\")","v":""}]
[null,null,null,null,null,null,308,30.8,0.68316822237162733,1.0645884741551632,0.12078329270761878,0.93826034322805729,1.0724871208591527,1.0494787049752632,0.6028892930148545,0.36884935138169223,0.80001531846310059,0.18548054805025402,0,0,null,null,{"$f":"IF(RAND()<poisson_parameter*model!K331,1,0)","v":0},{"$f":"IF(RAND()<(K320^quadratic_condition*L320-$T$21)*$T$22*(1+pref_attach_on*SUM($X$35:X330)),1,0)","v":0},297,{"$f":"IF(AND(SUM($X$35:X330)=0,X331=1),Y331,\"\")","v":""}]
[null,null,null,null,null,null,309,30.9,0.68199895134366106,1.0645896711540981,0.12039767752930317,0.93826245148726051,1.0728174619825606,1.052178611178985,0.59998508512345483,0.3821937075707777,0.80176317448753653,0.18532211130556825,0,0,null,null,{"$f":"IF(RAND()<poisson_parameter*model!K332,1,0)","v":0},{"$f":"IF(RAND()<(K321^quadratic_condition*L321-$T$21)*$T$22*(1+pref_attach_on*SUM($X$35:X331)),1,0)","v":0},298,{"$f":"IF(AND(SUM($X$35:X331)=0,X332=1),Y332,\"\")","v":""}]
[null,null,null,null,null,null,310,31,0.68080481751841782,1.0645908132072253,0.12001715751715009,0.93826447241510424,1.0731314305192825,1.0546228382623335,0.59714792882493928,0.39582703977217948,0.80356750266306576,0.18510285907136126,0,0,null,null,{"$f":"IF(RAND()<poisson_parameter*model!K333,1,0)","v":0},{"$f":"IF(RAND()<(K322^quadratic_condition*L322-$T$21)*$T$22*(1+pref_attach_on*SUM($X$35:X332)),1,0)","v":0},299,{"$f":"IF(AND(SUM($X$35:X332)=0,X333=1),Y333,\"\")","v":""}]
[null,null,null,null,null,null,311,31.1,0.67958729343301094,1.0645919028366135,0.11964179548519412,0.93826640962880237,1.0734298291305626,1.0568230804093828,0.59437989397339075,0.40974203687805472,0.8054289507054001,0.18482192709184289,0,0,null,null,{"$f":"IF(RAND()<poisson_parameter*model!K334,1,0)","v":0},{"$f":"IF(RAND()<(K323^quadratic_condition*L323-$T$21)*$T$22*(1+pref_attach_on*SUM($X$35:X333)),1,0)","v":0},300,{"$f":"IF(AND(SUM($X$35:X333)=0,X334=1),Y334,\"\")","v":""}]
[null,null,null,null,null,null,312,31.2,0.67834780324126542,1.0645929424485758,0.11927164613799922,0.93826826659577434,1.0737134219846614,1.0587909440161134,0.59168269783722238,0.42393042251075508,0.80734807841075185,0.18447855961971596,0,0,null,null,{"$f":"IF(RAND()<poisson_parameter*model!K335,1,0)","v":0},{"$f":"IF(RAND()<(K324^quadratic_condition*L324-$T$21)*$T$22*(1+pref_attach_on*SUM($X$35:X334)),1,0)","v":0},301,{"$f":"IF(AND(SUM($X$35:X334)=0,X335=1),Y335,\"\")","v":""}]
[null,null,null,null,null,null,313,31.3,0.67708772019016605,1.064593934338981,0.11890675654756032,0.93827004663984603,1.0739829365191012,1.0605379037088922,0.58905772960628378,0.43838295494232049,0.80932535121150539,0.18407211660502326,0,0,null,null,{"$f":"IF(RAND()<poisson_parameter*model!K336,1,0)","v":0},{"$f":"IF(RAND()<(K325^quadratic_condition*L325-$T$21)*$T$22*(1+pref_attach_on*SUM($X$35:X335)),1,0)","v":0},302,{"$f":"IF(AND(SUM($X$35:X335)=0,X336=1),Y336,\"\")","v":""}]
[null,null,null,null,null,null,314,31.4,0.67580836481339768,1.0645948806983225,0.11854716661651624,0.93827175294719456,1.074239065130514,1.0620752635236472,0.58650607406923561,0.45308943355523651,0.81136113384908359,0.18360208042833334,0,0,null,null,{"$f":"IF(RAND()<poisson_parameter*model!K337,1,0)","v":0},{"$f":"IF(RAND()<(K326^quadratic_condition*L326-$T$21)*$T$22*(1+pref_attach_on*SUM($X$35:X336)),1,0)","v":0},303,{"$f":"IF(AND(SUM($X$35:X336)=0,X337=1),Y337,\"\")","v":""}]
[null,null,null,null,null,null,315,31.5,0.67451100378379614,1.064595783616554,0.11819290952644791,0.93827338857204634,1.0744824667942201,1.0634141229989964,0.58402853438926083,0.46803871210449061,0.81345568421905579,0.18306806210396245,0,0,null,null,{"$f":"IF(RAND()<poisson_parameter*model!K338,1,0)","v":0},{"$f":"IF(RAND()<(K327^quadratic_condition*L327-$T$21)*$T$22*(1+pref_attach_on*SUM($X$35:X337)),1,0)","v":0},304,{"$f":"IF(AND(SUM($X$35:X337)=0,X338=1),Y338,\"\")","v":""}]
[null,null,null,null,null,null,316,31.6,0.67319684936710189,1.0645966450877034,0.11784401217023806,0.93827495644213987,1.0747137686156987,1.0645653479110451,0.58162565392428067,0.48321871896737806,0.81560914744561741,0.1824698068809413,0,0,null,null,{"$f":"IF(RAND()<poisson_parameter*model!K339,1,0)","v":0},{"$f":"IF(RAND()<(K328^quadratic_condition*L328-$T$21)*$T$22*(1+pref_attach_on*SUM($X$35:X338)),1,0)","v":0},305,{"$f":"IF(AND(SUM($X$35:X338)=0,X339=1),Y339,\"\")","v":""}]
[null,null,null,null,null,null,317,31.7,0.67186705942037706,1.0645974670142744,0.11750049556765917,0.93827645936396276,1.0749335673161284,1.0655395453596854,0.57929773705400922,0.49861648448648227,0.81782155024406633,0.18180719917262725,0,0,null,null,{"$f":"IF(RAND()<poisson_parameter*model!K340,1,0)","v":0},{"$f":"IF(RAND()<(K329^quadratic_condition*L329-$T$21)*$T$22*(1+pref_attach_on*SUM($X$35:X339)),1,0)","v":0},306,{"$f":"IF(AND(SUM($X$35:X339)=0,X340=1),Y340,\"\")","v":""}]
[null,null,null,null,null,null,318,31.8,0.67052273787974737,1.064598251211448,0.11716237526353462,0.93827790002777145,1.0751424306541841,1.0663470429051507,0.57704486899046958,0.51421817542402093,0.82009279563073434,0.18108026675026034,0,0,null,null,{"$f":"IF(RAND()<poisson_parameter*model!K341,1,0)","v":0},{"$f":"IF(RAND()<(K330^quadratic_condition*L330-$T$21)*$T$22*(1+pref_attach_on*SUM($X$35:X340)),1,0)","v":0},307,{"$f":"IF(AND(SUM($X$35:X340)=0,X341=1),Y341,\"\")","v":""}]
[null,null,null,null,null,null,319,31.9,0.66916493568370039,1.0645989994110896,0.11682966170798348,0.93827928101240354,1.0753408987862663,1.0669978714483805,0.57486693456109095,0.53000913645378855,0.82242265803994197,0.18028918414136047,0,0,null,null,{"$f":"IF(RAND()<poisson_parameter*model!K342,1,0)","v":0},{"$f":"IF(RAND()<(K331^quadratic_condition*L331-$T$21)*$T$22*(1+pref_attach_on*SUM($X$35:X341)),1,0)","v":0},308,{"$f":"IF(AND(SUM($X$35:X341)=0,X342=1),Y342,\"\")","v":""}]
[null,null,null,null,null,null,320,32,0.66779465207996391,1.064599713265572,0.1165023606184127,0.93828060478989139,1.0755294855673305,1.0675017515486074,0.57276363596430513,0.54597393852193132,0.82481077890688181,0.17943427518062988,0,0,null,null,{"$f":"IF(RAND()<poisson_parameter*model!K343,1,0)","v":0},{"$f":"IF(RAND()<(K332^quadratic_condition*L332-$T$21)*$T$22*(1+pref_attach_on*SUM($X$35:X342)),1,0)","v":0},309,{"$f":"IF(AND(SUM($X$35:X342)=0,X343=1),Y343,\"\")","v":""}]
[null,null,null,null,null,null,321,32.1,0.66641283626595538,1.0646003943514246,0.11618047332306169,0.93828187372988381,1.0757086797944575,1.0678680828756624,0.57073450950678029,0.56209643381162722,0.82725666277385224,0.17851601466889416,0,0,null,null,{"$f":"IF(RAND()<poisson_parameter*model!K344,1,0)","v":0},{"$f":"IF(RAND()<(K333^quadratic_condition*L333-$T$21)*$T$22*(1+pref_attach_on*SUM($X$35:X343)),1,0)","v":0},310,{"$f":"IF(AND(SUM($X$35:X343)=0,X344=1),Y344,\"\")","v":""}]
[null,null,null,null,null,null,322,32.200000000000003,0.66502038931489693,1.064601044172814,0.11586399708603343,0.93828309010388578,1.0758789463952789,1.0681059365020773,0.5687789413391855,0.57835981695140348,0.82975967397493999,0.17753502910448998,0,0,null,null,{"$f":"IF(RAND()<poisson_parameter*model!K345,1,0)","v":0},{"$f":"IF(RAND()<(K334^quadratic_condition*L334-$T$21)*$T$22*(1+pref_attach_on*SUM($X$35:X344)),1,0)","v":0},311,{"$f":"IF(AND(SUM($X$35:X344)=0,X345=1),Y345,\"\")","v":""}]
[null,null,null,null,null,null,323,32.299999999999997,0.66361816634190152,1.0646016641648646,0.11555292541386365,0.93828425608932231,1.0760407275633359,1.0682240497504412,0.56689618221379945,0.59474669201437436,0.8323190339510681,0.17649209646126246,0,{"$f":"S346-S345","v":0},null,null,{"$f":"IF(RAND()<poisson_parameter*model!K346,1,0)","v":0},{"$f":"IF(RAND()<(K335^quadratic_condition*L335-$T$21)*$T$22*(1+pref_attach_on*SUM($X$35:X345)),1,0)","v":0},312,{"$f":"IF(AND(SUM($X$35:X345)=0,X346=1),Y346,\"\")","v":""}]
[null,null,null,null,null,null,324,32.4,0.66220697886662216,1.064602255696828,0.11524724834378708,0.93828537377343368,1.0761944438424109,1.0682308233240385,0.56508536129248288,0.61123914476818408,0.83493381924329835,0.1753881449978156,0,0,null,null,{"$f":"IF(RAND()<poisson_parameter*model!K347,1,0)","v":0},{"$f":"IF(RAND()<(K336^quadratic_condition*L336-$T$21)*$T$22*(1+pref_attach_on*SUM($X$35:X346)),1,0)","v":0},313,{"$f":"IF(AND(SUM($X$35:X346)=0,X347=1),Y347,\"\")","v":""}]
[null,null,null,null,null,null,325,32.5,0.66078759733140235,1.0646028200751061,0.11494695271395475,0.93828644515701043,1.0763404951618269,1.0681343204630018,0.56334549903765707,0.6278188195549198,0.83760296020741898,0.17422425109368514,0,0,null,null,{"$f":"IF(RAND()<poisson_parameter*model!K348,1,0)","v":0},{"$f":"IF(RAND()<(K337^quadratic_condition*L337-$T$21)*$T$22*(1+pref_attach_on*SUM($X$35:X347)),1,0)","v":0},314,{"$f":"IF(AND(SUM($X$35:X347)=0,X348=1),Y348,\"\")","v":""}]
[null,null,null,null,null,null,326,32.6,0.65936075373625203,1.0646033585461356,0.11465202241594347,0.9382874721579727,1.0764792618246639,1.0679422678835679,0.56167551922207948,0.64446700010859914,0.84032524048720658,0.17300163611947697,0,0,null,null,{"$f":"IF(RAND()<poisson_parameter*model!K349,1,0)","v":0},{"$f":"IF(RAND()<(K338^quadratic_condition*L338-$T$21)*$T$22*(1+pref_attach_on*SUM($X$35:X348)),1,0)","v":0},315,{"$f":"IF(AND(SUM($X$35:X348)=0,X349=1),Y349,\"\")","v":""}]
[null,null,null,null,null,null,327,32.700000000000003,0.65792714435438315,1.0646038722991404,0.11436243862997394,0.93828845661480209,1.0766111054507905,1.0676620582741205,0.5600742600955082,0.66116469355675078,0.84309929727738075,0.17172166235951974,0,0,null,null,{"$f":"IF(RAND()<poisson_parameter*model!K350,1,0)","v":0},{"$f":"IF(RAND()<(K339^quadratic_condition*L339-$T$21)*$T$22*(1+pref_attach_on*SUM($X$35:X349)),1,0)","v":0},316,{"$f":"IF(AND(SUM($X$35:X349)=0,X350=1),Y350,\"\")","v":""}]
[null,null,null,null,null,null,328,32.799999999999997,0.6564874324944685,1.0646043624687576,0.11407818004332224,0.93828940028983154,1.07673636987656,1.0673007541381654,0.55854048474789786,0.67789271680355734,0.84592362240024999,0.17038582801699564,0,0,null,null,{"$f":"IF(RAND()<poisson_parameter*model!K351,1,0)","v":0},{"$f":"IF(RAND()<(K340^quadratic_condition*L340-$T$21)*$T$22*(1+pref_attach_on*SUM($X$35:X350)),1,0)","v":0},317,{"$f":"IF(AND(SUM($X$35:X350)=0,X351=1),Y351,\"\")","v":""}]
[null,null,null,null,null,null,329,32.9,0.65504225127822024,1.0646048301375421,0.11379922305246727,0.93829030487239817,1.0768553820129629,1.0668650927909273,0.55707289070967647,0.69463178445618767,0.84879656421246541,0.16899576134261002,0,0,null,null,{"$f":"IF(RAND()<poisson_parameter*model!K352,1,0)","v":0},{"$f":"IF(RAND()<(K341^quadratic_condition*L341-$T$21)*$T$22*(1+pref_attach_on*SUM($X$35:X351)),1,0)","v":0},318,{"$f":"IF(AND(SUM($X$35:X351)=0,X352=1),Y352,\"\")","v":""}]
[null,null,null,null,null,null,330,33,0.6535922064043217,1.0646052763383584,0.11352554194956825,0.93829117198186685,1.0769684526639811,1.0663614923326121,0.55567011883000739,0.71136259743415176,0.85171633035026795,0.16755321393841827,0,0,null,null,{"$f":"IF(RAND()<poisson_parameter*model!K353,1,0)","v":0},{"$f":"IF(RAND()<(K342^quadratic_condition*L342-$T$21)*$T$22*(1+pref_attach_on*SUM($X$35:X352)),1,0)","v":0},319,{"$f":"IF(AND(SUM($X$35:X352)=0,X353=1),Y353,\"\")","v":""}]
[null,null,null,null,null,null,331,33.1,0.65213787887217367,1.0646057020566604,0.11325710909390836,0.93829200317052752,1.0770758773068234,1.065796058437354,0.55433076147382432,0.72806593139424314,0.85468099131324526,0.16606005329823381,0,0,null,null,{"$f":"IF(RAND()<poisson_parameter*model!K354,1,0)","v":0},{"$f":"IF(RAND()<(K343^quadratic_condition*L343-$T$21)*$T$22*(1+pref_attach_on*SUM($X$35:X353)),1,0)","v":0},320,{"$f":"IF(AND(SUM($X$35:X353)=0,X354=1),Y354,\"\")","v":""}]
[null,null,null,null,null,null,332,33.200000000000003,0.65067982764133592,1.0646061082326677,0.1129938950689772,0.93829279992637316,1.0771779368356795,1.0651745918122961,0.55305337007792299,0.74472272411098628,0.85768848487804594,0.16451825465489997,0,0,null,null,{"$f":"IF(RAND()<poisson_parameter*model!K355,1,0)","v":0},{"$f":"IF(RAND()<(K344^quadratic_condition*L344-$T$21)*$T$22*(1+pref_attach_on*SUM($X$35:X354)),1,0)","v":0},321,{"$f":"IF(AND(SUM($X$35:X354)=0,X355=1),Y355,\"\")","v":""}]
[null,null,null,null,null,null,333,33.299999999999997,0.64921859220494704,1.0646064957634416,0.11273586882589305,0.93829356367576267,1.0772748982705653,1.0645025961960004,0.55183646210556336,0.76131416097421101,0.86073662132485385,0.16292989221244847,0,0,null,null,{"$f":"IF(RAND()<poisson_parameter*model!K356,1,0)","v":0},{"$f":"IF(RAND()<(K345^quadratic_condition*L345-$T$21)*$T$22*(1+pref_attach_on*SUM($X$35:X355)),1,0)","v":0},322,{"$f":"IF(AND(SUM($X$35:X355)=0,X356=1),Y356,\"\")","v":""}]
[null,null,null,null,null,null,334,33.4,0.64775469505778627,1.0646068655048668,0.11248299781388864,0.93829429578597312,1.0773670154327792,1.0637852867793693,0.55067852743794743,0.77782175780078477,0.86382308945085373,0.16129712984764502,0,0,null,null,{"$f":"IF(RAND()<poisson_parameter*model!K357,1,0)","v":0},{"$f":"IF(RAND()<(K346^quadratic_condition*L346-$T$21)*$T$22*(1+pref_attach_on*SUM($X$35:X356)),1,0)","v":0},323,{"$f":"IF(AND(SUM($X$35:X356)=0,X357=1),Y357,\"\")","v":""}]
[null,null,null,null,null,null,335,33.5,0.64628864404199382,1.0646072182735407,0.11223524809860039,0.938294997567647,1.0774545295884406,1.0630275989454083,0.54957803423964169,0.79422744020566627,0.86694546333655687,0.15962221137052296,0,0,null,null,{"$f":"IF(RAND()<poisson_parameter*model!K358,1,0)","v":0},{"$f":"IF(RAND()<(K347^quadratic_condition*L347-$T$21)*$T$22*(1+pref_attach_on*SUM($X$35:X357)),1,0)","v":0},324,{"$f":"IF(AND(SUM($X$35:X357)=0,X358=1),Y358,\"\")","v":""}]
[null,null,null,null,null,null,336,33.6,0.64482093455578482,1.0646075548485765,0.11199258446891205,0.93829567027713756,1.0775376700615185,1.062234197236426,0.54853343433355939,0.81051361883702311,0.87010120982283656,0.15790745043715479,0,0,null,null,{"$f":"IF(RAND()<poisson_parameter*model!K359,1,0)","v":0},{"$f":"IF(RAND()<(K348^quadratic_condition*L348-$T$21)*$T$22*(1+pref_attach_on*SUM($X$35:X358)),1,0)","v":0},325,{"$f":"IF(AND(SUM($X$35:X358)=0,X359=1),Y359,\"\")","v":""}]
[null,null,null,null,null,null,337,33.700000000000003,0.64335205161276887,1.0646078759733244,0.11175497053310861,0.93829631511875744,1.0776166548177153,1.0614094844686435,0.54754316811954673,0.82666325984963918,0.87328769664898342,0.15615522021006345,0,0,null,null,{"$f":"IF(RAND()<poisson_parameter*model!K360,1,0)","v":0},{"$f":"IF(RAND()<(K349^quadratic_condition*L349-$T$21)*$T$22*(1+pref_attach_on*SUM($X$35:X359)),1,0)","v":0},326,{"$f":"IF(AND(SUM($X$35:X359)=0,X360=1),Y360,\"\")","v":""}]
[null,null,null,null,null,null,338,33.799999999999997,0.64188247174171309,1.0646081823570128,0.11152236880509699,0.93829693324693364,1.0776916910205097,1.0605576109246442,0.54660566906896746,0.8426599500684927,0.87650220119514821,0.15436794286232758,0,0,null,null,{"$f":"IF(RAND()<poisson_parameter*model!K361,1,0)","v":0},{"$f":"IF(RAND()<(K350^quadratic_condition*L350-$T$21)*$T$22*(1+pref_attach_on*SUM($X$35:X360)),1,0)","v":0},327,{"$f":"IF(AND(SUM($X$35:X360)=0,X361=1),Y361,\"\")","v":""}]
[null,null,null,null,null,null,339,33.9,0.64041266471875502,1.0646084746763143,0.11129474078144559,0.93829752576827419,1.0777629755606182,1.0596824835636711,0.54571936782597985,0.85848795637833808,0.87974191976630733,0.15254807902061751,0,0,null,null,{"$f":"IF(RAND()<poisson_parameter*model!K362,1,0)","v":0},{"$f":"IF(RAND()<(K351^quadratic_condition*L351-$T$21)*$T$22*(1+pref_attach_on*SUM($X$35:X361)),1,0)","v":0},328,{"$f":"IF(AND(SUM($X$35:X361)=0,X362=1),Y362,\"\")","v":""}]
[null,null,null,null,null,null,340,34,0.63894309512617087,1.0646087535768405,0.11107204700998582,0.93829809374354822,1.0778306955600838,1.0587877751984718,0.54488269594447825,0.87413227896342216,0.88300397734945624,0.15069811724017512,0,0,null,null,{"$f":"IF(RAND()<poisson_parameter*model!K363,1,0)","v":0},{"$f":"IF(RAND()<(K352^quadratic_condition*L352-$T$21)*$T$22*(1+pref_attach_on*SUM($X$35:X362)),1,0)","v":0},329,{"$f":"IF(AND(SUM($X$35:X362)=0,X363=1),Y363,\"\")","v":""}]
[null,null,null,null,null,null,341,34.1,0.63747422373382701,1.0646090196745672,0.11085424715070606,0.93829863818958481,1.0778950288521487,1.0578769335952465,0.54409408928794856,0.88957869811213885,0.88628543777119284,0.14882056360121554,0,0,null,null,{"$f":"IF(RAND()<poisson_parameter*model!K364,1,0)","v":0},{"$f":"IF(RAND()<(K353^quadratic_condition*L353-$T$21)*$T$22*(1+pref_attach_on*SUM($X$35:X363)),1,0)","v":0},330,{"$f":"IF(AND(SUM($X$35:X363)=0,X364=1),Y364,\"\")","v":""}]
[null,null,null,null,null,null,342,34.200000000000003,0.63600650870137432,1.0646092735571955,0.11064130002965197,0.93829916008109271,1.0779561444380237,1.0569531904603013,0.54335199111778576,0.90481381439255493,0.88958331417925407,0.14691793151150273,0,0,null,null,{"$f":"IF(RAND()<poisson_parameter*model!K365,1,0)","v":0},{"$f":"IF(RAND()<(K354^quadratic_condition*L354-$T$21)*$T$22*(1+pref_attach_on*SUM($X$35:X364)),1,0)","v":0},331,{"$f":"IF(AND(SUM($X$35:X364)=0,X365=1),Y365,\"\")","v":""}]
[null,null,null,null,null,null,343,34.299999999999997,0.63454040660108291,1.0646095157854485,0.11043316368652695,0.9382996603524052,1.0780142029216206,1.05601957028329,0.54265485489394816,0.91982508209449299,0.8928945797689587,0.14499273179407704,0,0,null,null,{"$f":"IF(RAND()<poisson_parameter*model!K366,1,0)","v":0},{"$f":"IF(RAND()<(K355^quadratic_condition*L355-$T$21)*$T$22*(1+pref_attach_on*SUM($X$35:X365)),1,0)","v":0},332,{"$f":"IF(AND(SUM($X$35:X365)=0,X366=1),Y366,\"\")","v":""}]
[null,null,null,null,null,null,344,34.4,0.63307637326294131,1.0646097468943108,0.11022979541666342,0.93830013989915195,1.0780693569232696,1.0550788990124982,0.5420011468102035,0.93460083592055487,0.89621617867391268,0.14304746313244857,0,0,null,null,{"$f":"IF(RAND()<poisson_parameter*model!K367,1,0)","v":0},{"$f":"IF(RAND()<(K356^quadratic_condition*L356-$T$21)*$T$22*(1+pref_attach_on*SUM($X$35:X366)),1,0)","v":0},333,{"$f":"IF(AND(SUM($X$35:X366)=0,X367=1),Y367,\"\")","v":""}]
[null,null,null,null,null,null,345,34.5,0.63161486444525783,1.0646099673942091,0.11003115180801014,0.93830059957986256,1.0781217514733976,1.0541338125425259,0.541389348084652,0.94913031099060574,0.89954503693975352,0.14108460293818714,0,0,null,null,{"$f":"IF(RAND()<poisson_parameter*model!K368,1,0)","v":0},{"$f":"IF(RAND()<(K357^quadratic_condition*L357-$T$21)*$T$22*(1+pref_attach_on*SUM($X$35:X367)),1,0)","v":0},334,{"$f":"IF(AND(SUM($X$35:X367)=0,X368=1),Y368,\"\")","v":""}]
[null,null,null,null,null,null,346,34.6,0.63015633633548707,1.0646101777721397,0.10983718877375184,0.93830104021750305,1.0781715243871073,1.0531867649990012,0.54081795702471014,0.96340365630052549,0.90287807350013338,0.13910659869791331,0,0,null,null,{"$f":"IF(RAND()<poisson_parameter*model!K369,1,0)","v":0},{"$f":"IF(RAND()<(K358^quadratic_condition*L358-$T$21)*$T$22*(1+pref_attach_on*SUM($X$35:X368)),1,0)","v":0},335,{"$f":"IF(AND(SUM($X$35:X368)=0,X369=1),Y369,\"\")","v":""}]
[null,null,null,null,null,null,347,34.700000000000003,0.62870124588736154,1.0646103784927445,0.10964786158114759,0.93830146260094882,1.0782188066205496,1.0522400368086848,0.54028549088430222,0.97741194184541613,0.90621221107553396,0.13711585984840069,0,0,null,null,{"$f":"IF(RAND()<poisson_parameter*model!K370,1,0)","v":0},{"$f":"IF(RAND()<(K359^quadratic_condition*L359-$T$21)*$T$22*(1+pref_attach_on*SUM($X$35:X369)),1,0)","v":0},336,{"$f":"IF(AND(SUM($X$35:X369)=0,X370=1),Y370,\"\")","v":""}]
[null,null,null,null,null,null,348,34.799999999999997,0.62725005100162423,1.0646105699993362,0.10946312487714191,0.93830186748639688,1.0782637226099492,1.0512957425465252,0.53979048752964964,0.99114715967910283,0.9095443869178228,0.13511475022001262,0,0,null,null,{"$f":"IF(RAND()<poisson_parameter*model!K371,1,0)","v":0},{"$f":"IF(RAND()<(K360^quadratic_condition*L360-$T$21)*$T$22*(1+pref_attach_on*SUM($X$35:X370)),1,0)","v":0},337,{"$f":"IF(AND(SUM($X$35:X370)=0,X371=1),Y371,\"\")","v":""}]
[null,null,null,null,null,null,349,34.9,0.62580321055873311,1.064610752714878,0.10928293271126906,0.93830225559871927,1.0783063905941015,1.0503558385539602,0.53933150692875764,1.0046022192351238,0.91287156332663522,0.13310558108017809,0,0,null,null,{"$f":"IF(RAND()<poisson_parameter*model!K372,1,0)","v":0},{"$f":"IF(RAND()<(K361^quadratic_condition*L361-$T$21)*$T$22*(1+pref_attach_on*SUM($X$35:X371)),1,0)","v":0},338,{"$f":"IF(AND(SUM($X$35:X371)=0,X372=1),Y372,\"\")","v":""}]
[null,null,null,null,null,null,350,35,0.62436118431283705,1.0646109270429176,0.1091072385563361,0.93830262763276062,1.078346922921124,1.0494221303250824,0.53890713247849586,1.0177709372791164,0.91619073786762617,0.13109060480021553,0,0,null,null,{"$f":"IF(RAND()<poisson_parameter*model!K373,1,0)","v":0},{"$f":"IF(RAND()<(K362^quadratic_condition*L362-$T$21)*$T$22*(1+pref_attach_on*SUM($X$35:X372)),1,0)","v":0},339,{"$f":"IF(AND(SUM($X$35:X372)=0,X373=1),Y373,\"\")","v":""}]
[null,null,null,null,null,null,351,35.1,0.62292443265710362,1.0646110933684783,0.10893599532733501,0.93830298425458203,1.0783854263402119,1.0484962796592341,0.53851597218203417,1.0306480228984767,0.91949895322728925,0.12907200916067738,0,0,null,null,{"$f":"IF(RAND()<poisson_parameter*model!K374,1,0)","v":0},{"$f":"IF(RAND()<(K363^quadratic_condition*L363-$T$21)*$T$22*(1+pref_attach_on*SUM($X$35:X373)),1,0)","v":0},340,{"$f":"IF(AND(SUM($X$35:X373)=0,X374=1),Y374,\"\")","v":""}]
[null,null,null,null,null,null,352,35.200000000000003,0.62149341627111154,1.0646112520589093,0.10876915539899781,0.9383033261026531,1.0784220022791113,1.0475798115802073,0.53815665968834203,1.0432290579624768,0.92279330664429948,0.1270519123026306,0,0,null,null,{"$f":"IF(RAND()<poisson_parameter*model!K375,1,0)","v":0},{"$f":"IF(RAND()<(K364^quadratic_condition*L364-$T$21)*$T$22*(1+pref_attach_on*SUM($X$35:X374)),1,0)","v":0},341,{"$f":"IF(AND(SUM($X$35:X374)=0,X375=1),Y375,\"\")","v":""}]
[null,null,null,null,null,null,353,35.299999999999997,0.62006859566150907,1.0646114034646972,0.10860667062237266,0.93830365378899494,1.0784567471079936,1.0466741210235553,0.53782785520447884,1.0555104735049445,0.92607095886309521,0.1250323583250133,0,0,null,null,{"$f":"IF(RAND()<poisson_parameter*model!K376,1,0)","v":0},{"$f":"IF(RAND()<(K365^quadratic_condition*L365-$T$21)*$T$22*(1+pref_attach_on*SUM($X$35:X375)),1,0)","v":0},342,{"$f":"IF(AND(SUM($X$35:X375)=0,X376=1),Y376,\"\")","v":""}]
[null,null,null,null,null,null,354,35.4,0.61865043060748381,1.0646115479202396,0.10844849234076273,0.93830396790027593,1.0784897523903807,1.0457804792945913,0.53752824629049567,1.0674895224925778,0.92932914256157018,0.1230153135214952,0,0,null,null,{"$f":"IF(RAND()<poisson_parameter*model!K377,1,0)","v":0},{"$f":"IF(RAND()<(K366^quadratic_condition*L366-$T$21)*$T$22*(1+pref_attach_on*SUM($X$35:X376)),1,0)","v":0},343,{"$f":"IF(AND(SUM($X$35:X376)=0,X377=1),Y377,\"\")","v":""}]
[null,null,null,null,null,null,355,35.5,0.61723937952279295,1.0646116857445842,0.10829457140533398,0.93830426899886143,1.0785211051217471,1.0449000403005035,0.53725654854593219,1.0791642494455251,0.93256517021119711,0.12100266324418507,0,0,null,null,{"$f":"IF(RAND()<poisson_parameter*model!K378,1,0)","v":0},{"$f":"IF(RAND()<(K367^quadratic_condition*L367-$T$21)*$T$22*(1+pref_attach_on*SUM($X$35:X377)),1,0)","v":0},344,{"$f":"IF(AND(SUM($X$35:X377)=0,X378=1),Y378,\"\")","v":""}]
[null,null,null,null,null,null,356,35.6,0.61583589874618105,1.0646118172421331,0.10814485819066266,0.93830455762382092,1.0785508879563872,1.0440338465606789,0.53701150619612259,1.0905334573736765,0.9357764413345413,0.1189962093761131,0,0,null,null,{"$f":"IF(RAND()<poisson_parameter*model!K379,1,0)","v":0},{"$f":"IF(RAND()<(K368^quadratic_condition*L368-$T$21)*$T$22*(1+pref_attach_on*SUM($X$35:X378)),1,0)","v":0},345,{"$f":"IF(AND(SUM($X$35:X378)=0,X379=1),Y379,\"\")","v":""}]
[null,null,null,null,null,null,357,35.700000000000003,0.61444044177195623,1.0646119427033149,0.10799930261045956,0.93830483429189282,1.0785791794231168,1.043182834999832,0.53679189258581805,1.1015966724828943,0.93896044913184662,0.11699766838969884,0,0,null,null,{"$f":"IF(RAND()<poisson_parameter*model!K380,1,0)","v":0},{"$f":"IF(RAND()<(K369^quadratic_condition*L369-$T$21)*$T$22*(1+pref_attach_on*SUM($X$35:X379)),1,0)","v":0},346,{"$f":"IF(AND(SUM($X$35:X379)=0,X380=1),Y380,\"\")","v":""}]
[null,null,null,null,null,null,358,35.799999999999997,0.61305345843233272,1.0646120624052267,0.10785785413367442,0.93830509949840935,1.0786060541303479,1.0423478425289046,0.53659651058699187,1.1123541070909442,0.94211478645509261,0.1150086699644043,0,0,null,null,{"$f":"IF(RAND()<poisson_parameter*model!K381,1,0)","v":0},{"$f":"IF(RAND()<(K370^quadratic_condition*L370-$T$21)*$T$22*(1+pref_attach_on*SUM($X$35:X380)),1,0)","v":0},347,{"$f":"IF(AND(SUM($X$35:X380)=0,X381=1),Y381,\"\")","v":""}]
[null,null,null,null,null,null,359,35.9,0.61167539404286941,1.0646121766122449,0.10772046180115258,0.93830535371818335,1.0786315829610522,1.0415296114189545,0.53642419292710253,1.1228066211739427,0.94523715111453399,0.11303075613346156,0,0,null,null,{"$f":"IF(RAND()<poisson_parameter*model!K382,1,0)","v":0},{"$f":"IF(RAND()<(K371^quadratic_condition*L371-$T$21)*$T$22*(1+pref_attach_on*SUM($X$35:X381)),1,0)","v":0},348,{"$f":"IF(AND(SUM($X$35:X381)=0,X382=1),Y382,\"\")","v":""}]
[null,null,null,null,null,null,360,36,0.61030668852196501,1.0646122855766109,0.10758707424298512,0.93830559740635844,1.0786558332581011,1.0407287944734176,0.53627380244356027,1.1329556829415204,0.94832535050916944,0.11106538092693692,0,0,null,null,{"$f":"IF(RAND()<poisson_parameter*model!K383,1,0)","v":0},{"$f":"IF(RAND()<(K372^quadratic_condition*L372-$T$21)*$T$22*(1+pref_attach_on*SUM($X$35:X382)),1,0)","v":0},349,{"$f":"IF(AND(SUM($X$35:X382)=0,X383=1),Y383,\"\")","v":""}]
[null,null,null,null,null,null,361,36.1,0.60894777549491097,1.0646123895389867,0.10745763969666529,0.9383058309992236,1.0786788690004532,1.03994596000421,0.53614423226965702,1.1428033288133586,0.95137730557875821,0.10911391047641988,0,0,null,null,{"$f":"IF(RAND()<poisson_parameter*model!K384,1,0)","v":0},{"$f":"IF(RAND()<(K373^quadratic_condition*L373-$T$21)*$T$22*(1+pref_attach_on*SUM($X$35:X383)),1,0)","v":0},350,{"$f":"IF(AND(SUM($X$35:X383)=0,X384=1),Y384,\"\")","v":""}]
[null,null,null,null,null,null,362,36.200000000000003,0.60759908139247265,1.0646124887289869,0.10733210602613667,0.93830605491499408,1.0787007509706328,1.0391815966171638,0.53603440595678553,1.1523521231420404,0.95439105408086056,0.10717762354526568,0,0,null,null,{"$f":"IF(RAND()<poisson_parameter*model!K385,1,0)","v":0},{"$f":"IF(RAND()<(K374^quadratic_condition*L374-$T$21)*$T$22*(1+pref_attach_on*SUM($X$35:X384)),1,0)","v":0},351,{"$f":"IF(AND(SUM($X$35:X384)=0,X385=1),Y385,\"\")","v":""}]
[null,null,null,null,null,null,363,36.299999999999997,0.60626102455336994,1.0646125833656856,0.10721042074179356,0.93830626955456042,1.0787215369139251,1.0384361178122665,0.53594327753737925,1.1616051179979314,0.95736475320184933,0.10525771244753082,0,0,null,null,{"$f":"IF(RAND()<poisson_parameter*model!K386,1,0)","v":0},{"$f":"IF(RAND()<(K375^quadratic_condition*L375-$T$21)*$T$22*(1+pref_attach_on*SUM($X$35:X385)),1,0)","v":0},352,{"$f":"IF(AND(SUM($X$35:X385)=0,X386=1),Y386,\"\")","v":""}]
[null,null,null,null,null,null,364,36.4,0.60493401433938332,1.064612673658101,0.10709253102147034,0.93830647530220579,1.0787412816896913,1.0377098664041122,0.53586983153265166,1.1705658133017143,0.96029668151589886,0.1033552843184702,0,0,null,null,{"$f":"IF(RAND()<poisson_parameter*model!K387,1,0)","v":0},{"$f":"IF(RAND()<(K376^quadratic_condition*L376-$T$21)*$T$22*(1+pref_attach_on*SUM($X$35:X386)),1,0)","v":0},353,{"$f":"IF(AND(SUM($X$35:X386)=0,X387=1),Y387,\"\")","v":""}]
[null,null,null,null,null,null,365,36.5,0.60361845027111793,1.0646127598056558,0.10697838373243553,0.93830667252629418,1.0787600374151896,1.0370031187678859,0.53581308290889684,1.1792381175597941,0.96318524031054675,0.10147136269965849,0,0,null,null,{"$f":"IF(RAND()<poisson_parameter*model!K388,1,0)","v":0},{"$f":"IF(RAND()<(K377^quadratic_condition*L377-$T$21)*$T$22*(1+pref_attach_on*SUM($X$35:X387)),1,0)","v":0},354,{"$f":"IF(AND(SUM($X$35:X387)=0,X388=1),Y388,\"\")","v":""}]
[null,null,null,null,null,null,366,36.6,0.60231472119174101,1.0646128419986187,0.10686792545438625,0.93830686157992971,1.0787778536022681,1.036316088916089,0.53577207698583007,1.1876263094275721,0.96602895430154101,9.9606889402402338E-2,0,0,null,null,{"$f":"IF(RAND()<poisson_parameter*model!K389,1,0)","v":0},{"$f":"IF(RAND()<(K378^quadratic_condition*L378-$T$21)*$T$22*(1+pref_attach_on*SUM($X$35:X388)),1,0)","v":0},355,{"$f":"IF(AND(SUM($X$35:X388)=0,X389=1),Y389,\"\")","v":""}]
[null,null,null,null,null,null,367,36.700000000000003,0.60102320446526425,1.0646129204185242,0.1067611025034219,0.93830704280158861,1.0787947772872815,1.0356489324110971,0.53574588930019407,1.1957350002959788,0.96882647176329251,9.7762726614067166E-2,0,0,null,null,{"$f":"IF(RAND()<poisson_parameter*model!K390,1,0)","v":0},{"$f":"IF(RAND()<(K379^quadratic_condition*L379-$T$21)*$T$22*(1+pref_attach_on*SUM($X$35:X389)),1,0)","v":0},356,{"$f":"IF(AND(SUM($X$35:X389)=0,X390=1),Y390,\"\")","v":""}]
[null,null,null,null,null,null,368,36.799999999999997,0.59974426521519564,1.0646129952385734,0.10665786095695953,0.93830721651572557,1.0788108531545602,1.0350017501185003,0.53573362542763014,1.2035690980680283,0.97157656410435822,9.5939659213198358E-2,0,0,null,null,{"$f":"IF(RAND()<poisson_parameter*model!K391,1,0)","v":0},{"$f":"IF(RAND()<(K380^quadratic_condition*L380-$T$21)*$T$22*(1+pref_attach_on*SUM($X$35:X390)),1,0)","v":0},357,{"$f":"IF(AND(SUM($X$35:X390)=0,X391=1),Y391,\"\")","v":""}]
[null,null,null,null,null,null,369,36.9,0.59847825560863177,1.064613066624017,0.10655814667954054,0.93830738303335426,1.0788261236537511,1.0343745918060465,0.53573442076561384,1.2111337722647881,0.97427812491997723,9.4138397260817824E-2,0,0,null,null,{"$f":"IF(RAND()<poisson_parameter*model!K392,1,0)","v":0},{"$f":"IF(RAND()<(K381^quadratic_condition*L381-$T$21)*$T$22*(1+pref_attach_on*SUM($X$35:X391)),1,0)","v":0},358,{"$f":"IF(AND(SUM($X$35:X391)=0,X392=1),Y392,\"\")","v":""}]
[null,null,null,null,null,null,370,37,0.59722551419011771,1.0646131347325196,0.10646190534946562,0.93830754265260419,1.0788406291113313,1.0337674595928652,0.53574744028007415,1.218434420574299,0.97693016855577808,9.2359578636974082E-2,0,0,null,null,{"$f":"IF(RAND()<poisson_parameter*model!K393,1,0)","v":0},{"$f":"IF(RAND()<(K382^quadratic_condition*L382-$T$21)*$T$22*(1+pref_attach_on*SUM($X$35:X392)),1,0)","v":0},359,{"$f":"IF(AND(SUM($X$35:X392)=0,X393=1),Y393,\"\")","v":""}]
[null,null,null,null,null,null,371,37.1,0.59598636526887327,1.0646131997145085,0.10636908248618573,0.93830769565925454,1.0788544078365805,1.0331803112535103,0.53577187821815908,1.225476636932789,0.97953182821838958,9.0603771793469026E-2,0,0,null,null,{"$f":"IF(RAND()<poisson_parameter*model!K394,1,0)","v":0},{"$f":"IF(RAND()<(K383^quadratic_condition*L383-$T$21)*$T$22*(1+pref_attach_on*SUM($X$35:X393)),1,0)","v":0},360,{"$f":"IF(AND(SUM($X$35:X393)=0,X394=1),Y394,\"\")","v":""}]
[null,null,null,null,null,null,372,37.200000000000003,0.59476111836227707,1.0646132617135056,0.10627962347836786,0.93830784232724562,1.0788674962222857,1.0326130633812296,0.53580695778946552,1.2322661812051388,0.98208235366983554,8.8871478595635114E-2,0,0,null,null,{"$f":"IF(RAND()<poisson_parameter*model!K395,1,0)","v":0},{"$f":"IF(RAND()<(K384^quadratic_condition*L384-$T$21)*$T$22*(1+pref_attach_on*SUM($X$35:X394)),1,0)","v":0},361,{"$f":"IF(AND(SUM($X$35:X394)=0,X395=1),Y395,\"\")","v":""}]
[null,null,null,null,null,null,373,37.299999999999997,0.59355006769782026,1.0646133208664446,0.10619347361254816,0.93830798291916939,1.078879928840438,1.0320655944147321,0.53585193081792959,1.2388089505110316,0.98458110854330083,8.71631372280538E-2,0,0,null,null,{"$f":"IF(RAND()<poisson_parameter*model!K396,1,0)","v":0},{"$f":"IF(RAND()<(K385^quadratic_condition*L385-$T$21)*$T$22*(1+pref_attach_on*SUM($X$35:X395)),1,0)","v":0},362,{"$f":"IF(AND(SUM($X$35:X395)=0,X396=1),Y396,\"\")","v":""}]
[null,null,null,null,null,null,374,37.4,0.59235349177509478,1.0646133773039732,0.10611057810227968,0.93830811768673961,1.0788917385331682,1.0315377475326024,0.53590607736645812,1.2451109522246151,0.98702756731815655,8.5479125141154591E-2,0,0,null,null,{"$f":"IF(RAND()<poisson_parameter*model!K397,1,0)","v":0},{"$f":"IF(RAND()<(K386^quadratic_condition*L386-$T$21)*$T$22*(1+pref_attach_on*SUM($X$35:X396)),1,0)","v":0},363,{"$f":"IF(AND(SUM($X$35:X396)=0,X397=1),Y397,\"\")","v":""}]
[null,null,null,null,null,null,375,37.5,0.59117165298877172,1.0646134311507418,0.10603088211767839,0.93830824687124237,1.078902956499157,1.031029333419389,0.53596870533628438,1.2511782786587868,0.98942131199204819,8.3819762017683999E-2,0,0,null,null,{"$f":"IF(RAND()<poisson_parameter*model!K398,1,0)","v":0},{"$f":"IF(RAND()<(K387^quadratic_condition*L387-$T$21)*$T$22*(1+pref_attach_on*SUM($X$35:X397)),1,0)","v":0},364,{"$f":"IF(AND(SUM($X$35:X397)=0,X398=1),Y398,\"\")","v":""}]
[null,null,null,null,null,null,376,37.6,0.59000479731295397,1.0646134825256788,0.1059543308152687,0.938308370703968,1.078913612375743,1.0305401329072759,0.53603915004294,1.2570170834303815,0.99176202848742534,8.2185312740058594E-2,0,0,null,null,{"$f":"IF(RAND()<poisson_parameter*model!K399,1,0)","v":0},{"$f":"IF(RAND()<(K388^quadratic_condition*L388-$T$21)*$T$22*(1+pref_attach_on*SUM($X$35:X398)),1,0)","v":0},365,{"$f":"IF(AND(SUM($X$35:X398)=0,X399=1),Y399,\"\")","v":""}]
[null,null,null,null,null,null,377,37.700000000000003,0.58885315404676286,1.0646135315422531,0.10588086936802875,0.93830848940662537,1.0789237343169411,1.0300698994971467,0.53611677377065536,1.2626335594895144,0.99404950282915483,8.0575990341594281E-2,0,0,null,null,{"$f":"IF(RAND()<poisson_parameter*model!K400,1,0)","v":0},{"$f":"IF(RAND()<(K389^quadratic_condition*L389-$T$21)*$T$22*(1+pref_attach_on*SUM($X$35:X399)),1,0)","v":0},366,{"$f":"IF(AND(SUM($X$35:X399)=0,X400=1),Y400,\"\")","v":""}]
[null,null,null,null,null,null,378,37.799999999999997,0.58771693562053284,1.0646135783087252,0.10581044299553558,0.9383086031917387,1.0789333490675745,1.0296183617627359,0.53620096530692729,1.2680339187850489,0.99628361712885027,7.8991958926515976E-2,0,0,null,null,{"$f":"IF(RAND()<poisson_parameter*model!K401,1,0)","v":0},{"$f":"IF(RAND()<(K390^quadratic_condition*L390-$T$21)*$T$22*(1+pref_attach_on*SUM($X$35:X400)),1,0)","v":0},367,{"$f":"IF(AND(SUM($X$35:X400)=0,X401=1),Y401,\"\")","v":""}]
[null,null,null,null,null,null,379,37.9,0.58659633746155271,1.0646136229283856,0.10574299699411141,0.93830871226302803,1.0789424820337123,1.0291852256414766,0.53629113945892626,1.2732243735285171,0.99846434541030127,7.7433336545484663E-2,0,0,null,null,{"$f":"IF(RAND()<poisson_parameter*model!K402,1,0)","v":0},{"$f":"IF(RAND()<(K391^quadratic_condition*L391-$T$21)*$T$22*(1+pref_attach_on*SUM($X$35:X401)),1,0)","v":0},368,{"$f":"IF(AND(SUM($X$35:X401)=0,X402=1),Y402,\"\")","v":""}]
[null,null,null,null,null,null,380,38,0.58549153791789887,1.0646136654997833,0.10567847676687421,0.93830881681577394,1.0789511573495951,1.0287701766155528,0.53638673655335567,1.2782111190107277,1.0005917493089387,7.5900198015118769E-2,0,0,null,null,{"$f":"IF(RAND()<poisson_parameter*model!K403,1,0)","v":0},{"$f":"IF(RAND()<(K392^quadratic_condition*L392-$T$21)*$T$22*(1+pref_attach_on*SUM($X$35:X402)),1,0)","v":0},369,{"$f":"IF(AND(SUM($X$35:X402)=0,X403=1),Y403,\"\")","v":""}]
[null,null,null,null,null,null,381,38.1,0.58440269823856184,1.0646137061169436,0.10561682785359819,0.93830891703716712,1.0789593979412242,1.0283728817865845,0.5364872219213177,1.2830003179186285,1.0026659736766537,7.4392577671628005E-2,0,0,null,null,{"$f":"IF(RAND()<poisson_parameter*model!K404,1,0)","v":0},{"$f":"IF(RAND()<(K393^quadratic_condition*L393-$T$21)*$T$22*(1+pref_attach_on*SUM($X$35:X403)),1,0)","v":0},370,{"$f":"IF(AND(SUM($X$35:X403)=0,X404=1),Y404,\"\")","v":""}]
[null,null,null,null,null,null,382,38.200000000000003,0.58332996260776304,1.0646137448695756,0.1055579959602935,0.9383090131066435,1.0789672255867788,1.0279929918472899,0.53659208536968872,1.2875980860946459,1.0046872421215398,7.2910472050212047E-2,0,0,null,null,{"$f":"IF(RAND()<poisson_parameter*model!K405,1,0)","v":0},{"$f":"IF(RAND()<(K394^quadratic_condition*L394-$T$21)*$T$22*(1+pref_attach_on*SUM($X$35:X404)),1,0)","v":0},371,{"$f":"IF(AND(SUM($X$35:X404)=0,X405=1),Y405,\"\")","v":""}]
[null,null,null,null,null,null,383,38.299999999999997,0.58227345823110543,1.0646137818432699,0.10550192698841829,0.93830910519620558,1.0789746609740192,1.0276301429533896,0.5367008406404582,1.2920104796765763,1.0066558525102705,7.1453842483302138E-2,0,0,null,null,{"$f":"IF(RAND()<poisson_parameter*model!K406,1,0)","v":0},{"$f":"IF(RAND()<(K395^quadratic_condition*L395-$T$21)*$T$22*(1+pref_attach_on*SUM($X$35:X405)),1,0)","v":0},372,{"$f":"IF(AND(SUM($X$35:X405)=0,X406=1),Y406,\"\")","v":""}]
[null,null,null,null,null,null,384,38.4,0.58123329547098068,1.0646138171196888,0.10544856706364054,0.9383091934707305,1.0789817237548256,1.0272839584989477,0.53681302485943638,1.296243483553041,1.0085721724589016,7.0022617612037999E-2,0,0,null,null,{"$f":"IF(RAND()<poisson_parameter*model!K407,1,0)","v":0},{"$f":"IF(RAND()<(K396^quadratic_condition*L396-$T$21)*$T$22*(1+pref_attach_on*SUM($X$35:X406)),1,0)","v":0},373,{"$f":"IF(AND(SUM($X$35:X406)=0,X407=1),Y407,\"\")","v":""}]
[null,null,null,null,null,null,385,38.5,0.58020956802848533,1.0646138507767453,0.1053978625640723,0.93830927808826481,1.0789884325970145,1.0269540507982708,0.5369281979756928,1.3003030010674226,1.0104366348359139,6.8616695806576727E-2,0,0,null,null,{"$f":"IF(RAND()<poisson_parameter*model!K408,1,0)","v":0},{"$f":"IF(RAND()<(K397^quadratic_condition*L397-$T$21)*$T$22*(1+pref_attach_on*SUM($X$35:X407)),1,0)","v":0},374,{"$f":"IF(AND(SUM($X$35:X407)=0,X408=1),Y408,\"\")","v":""}]
[null,null,null,null,null,null,386,38.6,0.57920235316895752,1.0646138828887761,0.10534976014790359,0.93830935920030778,1.0789948052335681,1.0266400226774244,0.53704594219304236,1.3041948449019718,1.012249733299315,6.7235947491925394E-2,0,0,null,null,{"$f":"IF(RAND()<poisson_parameter*model!K409,1,0)","v":0},{"$f":"IF(RAND()<(K398^quadratic_condition*L398-$T$21)*$T$22*(1+pref_attach_on*SUM($X$35:X408)),1,0)","v":0},375,{"$f":"IF(AND(SUM($X$35:X408)=0,X409=1),Y409,\"\")","v":""}]
[null,null,null,null,null,null,387,38.700000000000003,0.57821171198814536,1.0646139135267056,0.10530420678036931,0.93830943695208258,1.0790008585094057,1.0263414689783552,0.53716586139485345,1.3079247290732932,1.0140120178876304,6.5880217376978453E-2,0,{"$f":"S410-S409","v":0},null,null,{"$f":"IF(RAND()<poisson_parameter*model!K410,1,0)","v":0},{"$f":"IF(RAND()<(K399^quadratic_condition*L399-$T$21)*$T$22*(1+pref_attach_on*SUM($X$35:X409)),1,0)","v":0},376,{"$f":"IF(AND(SUM($X$35:X409)=0,X410=1),Y410,\"\")","v":""}]
[null,null,null,null,null,null,388,38.799999999999997,0.57723768971594969,1.0646139427582022,0.1052611497599872,0.93830951148279618,1.0790066084258203,1.0260579779785526,0.53728758056341197,1.3114982619705975,1.0157240906826395,6.4549326585328443E-2,0,0,null,null,{"$f":"IF(RAND()<poisson_parameter*model!K411,1,0)","v":0},{"$f":"IF(RAND()<(K400^quadratic_condition*L400-$T$21)*$T$22*(1+pref_attach_on*SUM($X$35:X410)),1,0)","v":0},377,{"$f":"IF(AND(SUM($X$35:X410)=0,X411=1),Y411,\"\")","v":""}]
[null,null,null,null,null,null,389,38.9,0.57628031605464469,1.0646139706478281,0.1052205367440113,0.93830958292588851,1.0790120701826926,1.0257891327291186,0.53741074519503085,1.3149209403688527,1.0173866015597792,6.3243074687208203E-2,0,0,null,null,{"$f":"IF(RAND()<poisson_parameter*model!K412,1,0)","v":0},{"$f":"IF(RAND()<(K401^quadratic_condition*L401-$T$21)*$T$22*(1+pref_attach_on*SUM($X$35:X411)),1,0)","v":0},378,{"$f":"IF(AND(SUM($X$35:X411)=0,X412=1),Y412,\"\")","v":""}]
[null,null,null,null,null,null,390,39,0.57533960554847152,1.0646139972571818,0.10518231577305058,0.93830965140927158,1.0790172582185995,1.025534512314062,0.53753502071205572,1.3181981443501813,1.0190002440402564,6.1961241632620373E-2,0,0,null,null,{"$f":"IF(RAND()<poisson_parameter*model!K413,1,0)","v":0},{"$f":"IF(RAND()<(K402^quadratic_condition*L402-$T$21)*$T$22*(1+pref_attach_on*SUM($X$35:X412)),1,0)","v":0},379,{"$f":"IF(AND(SUM($X$35:X412)=0,X413=1),Y413,\"\")","v":""}]
[null,null,null,null,null,null,391,39.1,0.57441555798151334,1.0646140226450338,0.1051464352948082,0.93830971705555843,1.079022186248916,1.0252936930335708,0.53766009187287556,1.3213351330684753,1.0205657512570987,6.0703589586320827E-2,0,0,null,null,{"$f":"IF(RAND()<poisson_parameter*model!K414,1,0)","v":0},{"$f":"IF(RAND()<(K403^quadratic_condition*L403-$T$21)*$T$22*(1+pref_attach_on*SUM($X$35:X413)),1,0)","v":0},380,{"$f":"IF(AND(SUM($X$35:X413)=0,X414=1),Y414,\"\")","v":""}]
[null,null,null,null,null,null,392,39.200000000000003,0.57350815880079742,1.0646140468674574,0.10511284418690246,0.93830977998228249,1.0790268673020136,1.0250662495139682,0.53778566218100488,1.3243370412941391,1.0220838920456354,5.9469864665852232E-2,0,0,null,null,{"$f":"IF(RAND()<poisson_parameter*model!K415,1,0)","v":0},{"$f":"IF(RAND()<(K404^quadratic_condition*L404-$T$21)*$T$22*(1+pref_attach_on*SUM($X$35:X414)),1,0)","v":0},381,{"$f":"IF(AND(SUM($X$35:X414)=0,X415=1),Y415,\"\")","v":""}]
[null,null,null,null,null,null,393,39.299999999999997,0.57261737956163039,1.0646140699779514,0.10508149177873598,0.93830984030210807,1.0790313137536494,1.0248517557470016,0.53791145329426426,1.3272088766780827,1.023555467167244,5.825979858427871E-2,0,0,null,null,{"$f":"IF(RAND()<poisson_parameter*model!K416,1,0)","v":0},{"$f":"IF(RAND()<(K405^quadratic_condition*L405-$T$21)*$T$22*(1+pref_attach_on*SUM($X$35:X415)),1,0)","v":0},382,{"$f":"IF(AND(SUM($X$35:X415)=0,X416=1),Y416,\"\")","v":""}]
[null,null,null,null,null,null,394,39.4,0.57174317839224276,1.0646140920275586,0.1050523278723849,0.93830989812303234,1.0790355373596363,1.0246497860610595,0.53803720443504266,1.3299555176764963,1.0249813056736421,5.7073110199657891E-2,0,0,null,null,{"$f":"IF(RAND()<poisson_parameter*model!K417,1,0)","v":0},{"$f":"IF(RAND()<(K406^quadratic_condition*L406-$T$21)*$T$22*(1+pref_attach_on*SUM($X$35:X416)),1,0)","v":0},383,{"$f":"IF(AND(SUM($X$35:X416)=0,X417=1),Y417,\"\")","v":""}]
[null,null,null,null,null,null,395,39.5,0.57088550047491315,1.0646141130649793,0.10502530276248531,0.93830995354857827,1.0790395492868792,1.024459916026863,0.53816267180258448,1.3325817120804964,1.0263622614175365,5.5909506973608511E-2,0,0,null,null,{"$f":"IF(RAND()<poisson_parameter*model!K418,1,0)","v":0},{"$f":"IF(RAND()<(K407^quadratic_condition*L407-$T$21)*$T$22*(1+pref_attach_on*SUM($X$35:X417)),1,0)","v":0},384,{"$f":"IF(AND(SUM($X$35:X417)=0,X418=1),Y418,\"\")","v":""}]
[null,null,null,null,null,null,396,39.6,0.5700442785408425,1.0646141331366776,0.10500036725509863,0.93831000667798015,1.0790433601428593,1.0242817233001258,0.53828762798820162,1.3350920760974092,1.0276992097140765,5.4768686341596123E-2,0,0,null,null,{"$f":"IF(RAND()<poisson_parameter*model!K419,1,0)","v":0},{"$f":"IF(RAND()<(K408^quadratic_condition*L408-$T$21)*$T$22*(1+pref_attach_on*SUM($X$35:X418)),1,0)","v":0},385,{"$f":"IF(AND(SUM($X$35:X418)=0,X419=1),Y419,\"\")","v":""}]
[null,null,null,null,null,null,397,39.700000000000003,0.56921943337616221,1.0646141522869852,0.10497747268554301,0.93831005760636144,1.0790469800036446,1.0241147884036252,0.53841186139426855,1.3374910939331863,1.0289930441562931,5.3650336997771275E-2,0,0,null,null,{"$f":"IF(RAND()<poisson_parameter*model!K420,1,0)","v":0},{"$f":"IF(RAND()<(K409^quadratic_condition*L409-$T$21)*$T$22*(1+pref_attach_on*SUM($X$35:X419)),1,0)","v":0},386,{"$f":"IF(AND(SUM($X$35:X419)=0,X420=1),Y420,\"\")","v":""}]
[null,null,null,null,null,null,398,39.799999999999997,0.56841087433658144,1.0646141705581982,0.10495657093518172,0.93831010642490476,1.0790504184404985,1.02395869545108,0.53853517565781661,1.3397831178282145,1.0302446735865447,5.2554140097359529E-2,0,0,null,null,{"$f":"IF(RAND()<poisson_parameter*model!K421,1,0)","v":0},{"$f":"IF(RAND()<(K410^quadratic_condition*L410-$T$21)*$T$22*(1+pref_attach_on*SUM($X$35:X420)),1,0)","v":0},387,{"$f":"IF(AND(SUM($X$35:X420)=0,X421=1),Y421,\"\")","v":""}]
[null,null,null,null,null,null,399,39.9,0.56761849986830737,1.0646141879906716,0.10493761444716421,0.9383101532210153,1.0790536845451582,1.0238130328151771,0.53865738907949923,1.3419723685015545,1.0314550192249228,5.1479770379725717E-2,0,0,null,null,{"$f":"IF(RAND()<poisson_parameter*model!K422,1,0)","v":0},{"$f":"IF(RAND()<(K411^quadratic_condition*L411-$T$21)*$T$22*(1+pref_attach_on*SUM($X$35:X421)),1,0)","v":0},388,{"$f":"IF(AND(SUM($X$35:X421)=0,X422=1),Y422,\"\")","v":""}]
[null,null,null,null,null,null,400,40,0.56684219803300406,1.0646142046229077,0.10492055624111932,0.93831019807847726,1.0790567869538474,1.0236773937420434,0.53877833405866082,1.3440629359613843,1.0326250119546128,5.0426897215320253E-2,0,0,null,null,{"$f":"IF(RAND()<poisson_parameter*model!K423,1,0)","v":0},{"$f":"IF(RAND()<(K412^quadratic_condition*L412-$T$21)*$T$22*(1+pref_attach_on*SUM($X$35:X422)),1,0)","v":0},389,{"$f":"IF(AND(SUM($X$35:X422)=0,X423=1),Y423,\"\")","v":""}]
[null,null,null,null,null,null,401,40.1,0.56608184703469311,1.0646142204916411,0.10490534992680386,0.93831024107760408,1.0790597338700894,1.0235513769144067,0.53889785653519495,1.3460587806421238,1.0337555897633321,4.939518557976811E-2,0,0,null,null,{"$f":"IF(RAND()<poisson_parameter*model!K424,1,0)","v":0},{"$f":"IF(RAND()<(K413^quadratic_condition*L413-$T$21)*$T$22*(1+pref_attach_on*SUM($X$35:X423)),1,0)","v":0},390,{"$f":"IF(AND(SUM($X$35:X423)=0,X424=1),Y424,\"\")","v":""}]
[null,null,null,null,null,null,402,40.200000000000003,0.56533731574663526,1.0646142356319206,0.10489194971671334,0.93831028229538183,1.0790625330863761,1.0234345869656445,0.53901581543883947,1.3479637348313618,1.0348476953391961,4.8384296958384719E-2,0,0,null,null,{"$f":"IF(RAND()<poisson_parameter*model!K425,1,0)","v":0},{"$f":"IF(RAND()<(K414^quadratic_condition*L414-$T$21)*$T$22*(1+pref_attach_on*SUM($X$35:X424)),1,0)","v":0},391,{"$f":"IF(AND(SUM($X$35:X424)=0,X425=1),Y425,\"\")","v":""}]
[null,null,null,null,null,null,403,40.299999999999997,0.56460846423637268,1.0646142500771858,0.10488031043766465,0.93831032180560725,1.0790651920047558,1.0233266349468662,0.53913208214650987,1.3497815043522605,1.0359022738186741,4.7393890184401655E-2,0,0,null,null,{"$f":"IF(RAND()<poisson_parameter*model!K426,1,0)","v":0},{"$f":"IF(RAND()<(K415^quadratic_condition*L415-$T$21)*$T$22*(1+pref_attach_on*SUM($X$35:X425)),1,0)","v":0},392,{"$f":"IF(AND(SUM($X$35:X425)=0,X426=1),Y426,\"\")","v":""}]
[null,null,null,null,null,null,404,40.4,0.56389514428724741,1.0646142638593412,0.10487038754136378,0.93831035967901999,1.0790677176563879,1.0232271387491287,0.53924653994823402,1.3515156704695981,1.0369202706837015,4.6423622214161998E-2,0,0,null,null,{"$f":"IF(RAND()<poisson_parameter*model!K427,1,0)","v":0},{"$f":"IF(RAND()<(K416^quadratic_condition*L416-$T$21)*$T$22*(1+pref_attach_on*SUM($X$35:X426)),1,0)","v":0},393,{"$f":"IF(AND(SUM($X$35:X426)=0,X427=1),Y427,\"\")","v":""}]
[null,null,null,null,null,null,405,40.5,0.56319719991485007,1.0646142770088269,0.10486213711397394,0.93831039598342914,1.0790701167201202,1.0231357234828362,0.53935908352220618,1.3531696919899825,1.0379026298044893,4.54731488425036E-2,0,0,null,null,{"$f":"IF(RAND()<poisson_parameter*model!K428,1,0)","v":0},{"$f":"IF(RAND()<(K417^quadratic_condition*L417-$T$21)*$T$22*(1+pref_attach_on*SUM($X$35:X427)),1,0)","v":0},394,{"$f":"IF(AND(SUM($X$35:X427)=0,X428=1),Y428,\"\")","v":""}]
[null,null,null,null,null,null,406,40.6,0.56251446787698434,1.0646142895546857,0.10485551588470204,0.93831043078383458,1.0790723955401371,1.0230520218163244,0.53946961841944063,1.3547469075290517,1.038850291624128,4.4542125361491304E-2,0,0,null,null,{"$f":"IF(RAND()<poisson_parameter*model!K429,1,0)","v":0},{"$f":"IF(RAND()<(K418^quadratic_condition*L418-$T$21)*$T$22*(1+pref_attach_on*SUM($X$35:X428)),1,0)","v":0},395,{"$f":"IF(AND(SUM($X$35:X428)=0,X429=1),Y429,\"\")","v":""}]
[null,null,null,null,null,null,407,40.700000000000003,0.5618467781758647,1.064614301524627,0.1048504812334239,0.93831046414254338,1.0790745601427223,1.0229756742755833,0.5395780605584608,1.356250537920646,1.0397641914807145,4.3630207165588922E-2,0,0,null,null,{"$f":"IF(RAND()<poisson_parameter*model!K430,1,0)","v":0},{"$f":"IF(RAND()<(K419^quadratic_condition*L419-$T$21)*$T$22*(1+pref_attach_on*SUM($X$35:X429)),1,0)","v":0},396,{"$f":"IF(AND(SUM($X$35:X429)=0,X430=1),Y430,\"\")","v":""}]
[null,null,null,null,null,null,408,40.799999999999997,0.56119395455139143,1.0646143129450882,0.10484699119736993,0.93831049611928152,1.0790766162521841,1.0229063295070226,0.53968433573042418,1.3576836887449966,1.0406452580624157,4.2737050306280749E-2,0,0,null,null,{"$f":"IF(RAND()<poisson_parameter*model!K431,1,0)","v":0},{"$f":"IF(RAND()<(K420^quadratic_condition*L420-$T$21)*$T$22*(1+pref_attach_on*SUM($X$35:X430)),1,0)","v":0},397,{"$f":"IF(AND(SUM($X$35:X430)=0,X431=1),Y431,\"\")","v":""}]
[null,null,null,null,null,null,409,40.9,0.56055581496446871,1.0646143238412933,0.10484500447689536,0.93831052677130056,1.0790785693059828,1.0228436445051341,0.53978837911503985,1.3590493529549321,1.0414944119906382,4.1862311999062735E-2,0,0,null,null,{"$f":"IF(RAND()<poisson_parameter*model!K432,1,0)","v":0},{"$f":"IF(RAND()<(K421^quadratic_condition*L421-$T$21)*$T$22*(1+pref_attach_on*SUM($X$35:X431)),1,0)","v":0},398,{"$f":"IF(AND(SUM($X$35:X431)=0,X432=1),Y432,\"\")","v":""}]
[null,null,null,null,null,null,410,41,0.55993217206945001,1.064614334237308,0.10484448044036017,0.93831055615348036,1.0790804244691012,1.0227872848068593,0.53989013480760017,1.3603504135809386,1.0423125645262825,4.1005651085627169E-2,0,0,null,null,{"$f":"IF(RAND()<poisson_parameter*model!K433,1,0)","v":0},{"$f":"IF(RAND()<(K422^quadratic_condition*L422-$T$21)*$T$22*(1+pref_attach_on*SUM($X$35:X432)),1,0)","v":0},399,{"$f":"IF(AND(SUM($X$35:X432)=0,X433=1),Y433,\"\")","v":""}]
[null,null,null,null,null,null,411,41.1,0.55932283367490543,1.0646143441560938,0.10484537912814522,0.93831058431842718,1.0790821866476945,1.0227369246544213,0.53998955535740989,1.3615896464976445,1.043100616393918,4.0166728453963053E-2,0,0,null,null,{"$f":"IF(RAND()<poisson_parameter*model!K434,1,0)","v":0},{"$f":"IF(RAND()<(K423^quadratic_condition*L423-$T$21)*$T$22*(1+pref_attach_on*SUM($X$35:X433)),1,0)","v":0},400,{"$f":"IF(AND(SUM($X$35:X433)=0,X434=1),Y434,\"\")","v":""}]
[null,null,null,null,null,null,412,41.2,0.55872760319201586,1.0646143536195578,0.10484766125583228,0.93831061131656801,1.0790838605020578,1.0226922471283304,0.54008660131785746,1.3627697232359233,1.0438594567186203,3.9345207418989288E-2,0,0,null,null,{"$f":"IF(RAND()<poisson_parameter*model!K435,1,0)","v":0},{"$f":"IF(RAND()<(K424^quadratic_condition*L424-$T$21)*$T$22*(1+pref_attach_on*SUM($X$35:X434)),1,0)","v":0},401,{"$f":"IF(AND(SUM($X$35:X434)=0,X435=1),Y435,\"\")","v":""}]
[null,null,null,null,null,null,413,41.3,0.55814628006999634,1.0646143626486015,0.10485128821657649,0.93831063719624086,1.079085450458944,1.022652944252223,0.54018124080834173,1.3638932138263247,1.04458996207016,3.8540754066229997E-2,0,0,null,null,{"$f":"IF(RAND()<poisson_parameter*model!K436,1,0)","v":0},{"$f":"IF(RAND()<(K425^quadratic_condition*L425-$T$21)*$T$22*(1+pref_attach_on*SUM($X$35:X435)),1,0)","v":0},402,{"$f":"IF(AND(SUM($X$35:X435)=0,X436=1),Y436,\"\")","v":""}]
[null,null,null,null,null,null,414,41.4,0.55757866021805014,1.064614371263167,0.10485622208270039,0.93831066200378099,1.079086960723264,1.0226187170711512,0.54027344908822839,1.3649625896609634,1.0452929956092161,3.7753037560932623E-2,0,0,null,null,{"$f":"IF(RAND()<poisson_parameter*model!K437,1,0)","v":0},{"$f":"IF(RAND()<(K426^quadratic_condition*L426-$T$21)*$T$22*(1+pref_attach_on*SUM($X$35:X436)),1,0)","v":0},403,{"$f":"IF(AND(SUM($X$35:X436)=0,X437=1),Y437,\"\")","v":""}]
[null,null,null,null,null,null,415,41.5,0.55702453641344241,1.0646143794822809,0.10486242560653934,0.93831068578360421,1.0790883952892025,1.0225892757048847,0.54036320814298111,1.3659802263623089,1.0459694063303049,3.6981730424919881E-2,0,0,null,null,{"$f":"IF(RAND()<poisson_parameter*model!K438,1,0)","v":0},{"$f":"IF(RAND()<(K427^quadratic_condition*L427-$T$21)*$T$22*(1+pref_attach_on*SUM($X$35:X437)),1,0)","v":0},404,{"$f":"IF(AND(SUM($X$35:X437)=0,X438=1),Y438,\"\")","v":""}]
[null,null,null,null,null,null,416,41.6,0.5564836986953684,1.0646143873240963,0.10486986222056861,0.93831070857828636,1.0790897579507759,1.0225643393777433,0.54045050628257774,1.3669484066485469,1.0466200283961598,3.622650878335807E-2,0,0,null,null,{"$f":"IF(RAND()<poisson_parameter*model!K439,1,0)","v":0},{"$f":"IF(RAND()<(K428^quadratic_condition*L428-$T$21)*$T$22*(1+pref_attach_on*SUM($X$35:X438)),1,0)","v":0},405,{"$f":"IF(AND(SUM($X$35:X438)=0,X439=1),Y439,\"\")","v":""}]
[null,null,null,null,null,null,417,41.7,0.55595593474436866,1.0646143948059332,0.10487849603684232,0.93831073042863944,1.0790910523118618,1.0225436364264295,0.54053533775229168,1.3678693231863133,1.0472456805583716,3.5487052583516338E-2,0,0,null,null,{"$f":"IF(RAND()<poisson_parameter*model!K440,1,0)","v":0},{"$f":"IF(RAND()<(K429^quadratic_condition*L429-$T$21)*$T$22*(1+pref_attach_on*SUM($X$35:X439)),1,0)","v":0},406,{"$f":"IF(AND(SUM($X$35:X439)=0,X440=1),Y440,\"\")","v":""}]
[null,null,null,null,null,null,418,41.8,0.555441030247117,1.0646144019443164,0.10488829184577507,0.93831075137378472,1.0790922817957258,1.0225269042872827,0.54061770235589013,1.3687450814226487,1.0478471656591937,3.476304578748568E-2,0,0,null,null,{"$f":"IF(RAND()<poisson_parameter*model!K441,1,0)","v":0},{"$f":"IF(RAND()<(K430^quadratic_condition*L430-$T$21)*$T$22*(1+pref_attach_on*SUM($X$35:X440)),1,0)","v":0},407,{"$f":"IF(AND(SUM($X$35:X440)=0,X441=1),Y441,\"\")","v":""}]
[null,null,null,null,null,null,419,41.9,0.55493876924647423,1.0646144087550122,0.10489921511429663,0.93831077145122277,1.0790934496540721,1.0225138894643278,0.54069760509127107,1.3695777023889888,1.0484252702095243,3.4054176540722667E-2,0,0,null,null,{"$f":"IF(RAND()<poisson_parameter*model!K442,1,0)","v":0},{"$f":"IF(RAND()<(K431^quadratic_condition*L431-$T$21)*$T$22*(1+pref_attach_on*SUM($X$35:X441)),1,0)","v":0},408,{"$f":"IF(AND(SUM($X$35:X441)=0,X442=1),Y442,\"\")","v":""}]
[null,null,null,null,null,null,420,42,0.55444893447676302,1.064614415253063,0.10491123198341021,0.93831079069690049,1.0790945589756398,1.0225043474794475,0.54077505579853458,1.3703691254708901,1.0489807640382154,3.3360137318181687E-2,0,0,null,null,{"$f":"IF(RAND()<poisson_parameter*model!K443,1,0)","v":0},{"$f":"IF(RAND()<(K432^quadratic_condition*L432-$T$21)*$T$22*(1+pref_attach_on*SUM($X$35:X442)),1,0)","v":0},409,{"$f":"IF(AND(SUM($X$35:X442)=0,X443=1),Y443,\"\")","v":""}]
[null,null,null,null,null,null,421,42.1,0.55397130768427583,1.0646144214528208,0.10492430926518451,0.93831080914527576,1.0790956126943685,1.0224980428059567,0.54085006882045916,1.3711212111380078,1.049514400007991,3.2680625049701338E-2,0,0,null,null,{"$f":"IF(RAND()<poisson_parameter*model!K444,1,0)","v":0},{"$f":"IF(RAND()<(K433^quadratic_condition*L433-$T$21)*$T$22*(1+pref_attach_on*SUM($X$35:X443)),1,0)","v":0},410,{"$f":"IF(AND(SUM($X$35:X443)=0,X444=1),Y444,\"\")","v":""}]
[null,null,null,null,null,null,422,42.2,0.5535056699330807,1.0646144273679787,0.10493841443920962,0.93831082682937894,1.0790966135971563,1.0224947487868135,0.54092266267532796,1.3718357436295889,1.0500269137934188,3.2015341226215507E-2,0,0,null,null,{"$f":"IF(RAND()<poisson_parameter*model!K445,1,0)","v":0},{"$f":"IF(RAND()<(K434^quadratic_condition*L434-$T$21)*$T$22*(1+pref_attach_on*SUM($X$35:X444)),1,0)","v":0},411,{"$f":"IF(AND(SUM($X$35:X444)=0,X445=1),Y445,\"\")","v":""}]
[null,null,null,null,null,null,423,42.3,0.55305180189623504,1.0646144330116012,0.10495351564854619,0.93831084378087182,1.0790975643312266,1.022494247538656,0.5409928597420286,1.3725144335914234,1.0505190237165327,3.1363991988267954E-2,0,0,null,null,{"$f":"IF(RAND()<poisson_parameter*model!K446,1,0)","v":0},{"$f":"IF(RAND()<(K435^quadratic_condition*L435-$T$21)*$T$22*(1+pref_attach_on*SUM($X$35:X445)),1,0)","v":0},412,{"$f":"IF(AND(SUM($X$35:X445)=0,X446=1),Y446,\"\")","v":""}]
[null,null,null,null,null,null,424,42.4,0.55260948413256195,1.0646144383961531,0.10496958169519703,0.93831086003010478,1.0790984674111292,1.0224963298428056,0.54106068595732759,1.3731589206608201,1.0509914306358803,3.072628819822101E-2,0,0,null,null,{"$f":"IF(RAND()<poisson_parameter*model!K447,1,0)","v":0},{"$f":"IF(RAND()<(K436^quadratic_condition*L436-$T$21)*$T$22*(1+pref_attach_on*SUM($X$35:X446)),1,0)","v":0},413,{"$f":"IF(AND(SUM($X$35:X446)=0,X447=1),Y447,\"\")","v":""}]
[null,null,null,null,null,null,425,42.5,0.55217849734918123,1.0646144435335272,0.10498658203512991,0.93831087560617077,1.0790993252253871,1.0225007950243341,0.54112617052520029,1.3737707759967377,1.0514448178849338,3.0101945497464384E-2,0,0,null,null,{"$f":"IF(RAND()<poisson_parameter*model!K448,1,0)","v":0},{"$f":"IF(RAND()<(K437^quadratic_condition*L437-$T$21)*$T$22*(1+pref_attach_on*SUM($X$35:X447)),1,0)","v":0},414,{"$f":"IF(AND(SUM($X$35:X447)=0,X448=1),Y448,\"\")","v":""}]
[null,null,null,null,null,null,426,42.6,0.55175862265002074,1.0646144484350701,0.1050044867728793,0.93831089053695738,1.0791001400428133,1.0225074508202499,0.54118934563807952,1.3743515047527153,1.0518798512559853,2.9490684349849E-2,0,0,null,null,{"$f":"IF(RAND()<poisson_parameter*model!K449,1,0)","v":0},{"$f":"IF(RAND()<(K438^quadratic_condition*L438-$T$21)*$T$22*(1+pref_attach_on*SUM($X$35:X448)),1,0)","v":0},415,{"$f":"IF(AND(SUM($X$35:X448)=0,X449=1),Y449,\"\")","v":""}]
[null,null,null,null,null,null,427,42.7,0.551349641770564,1.0646144531116077,0.10502326665575473,0.9383109048491971,1.079100914018509,1.0225161132378093,0.54125024620986728,1.3749025484907111,1.0522971790258193,2.8892230072493478E-2,0,0,null,null,{"$f":"IF(RAND()<poisson_parameter*model!K450,1,0)","v":0},{"$f":"IF(RAND()<(K439^quadratic_condition*L439-$T$21)*$T$22*(1+pref_attach_on*SUM($X$35:X449)),1,0)","v":0},416,{"$f":"IF(AND(SUM($X$35:X449)=0,X450=1),Y450,\"\")","v":""}]
[null,null,null,null,null,null,428,42.8,0.55095133729911805,1.0646144575734688,0.10504289306768241,0.93831091856851478,1.0791016491995629,1.0225266064039213,0.54130890962053768,1.375425287534376,1.0526974320196387,2.830631285503709E-2,0,0,null,null,{"$f":"IF(RAND()<poisson_parameter*model!K451,1,0)","v":0},{"$f":"IF(RAND()<(K440^quadratic_condition*L440-$T$21)*$T$22*(1+pref_attach_on*SUM($X$35:X450)),1,0)","v":0},417,{"$f":"IF(AND(SUM($X$35:X450)=0,X451=1),Y451,\"\")","v":""}]
[null,null,null,null,null,null,429,42.9,0.55056349288490591,1.0646144618305082,0.10506333802270607,0.93831093171947366,1.0791023475304635,1.0225387624065665,0.54136537547214647,1.3759210432606677,1.0530812237098903,2.7732667768342878E-2,0,0,null,null,{"$f":"IF(RAND()<poisson_parameter*model!K452,1,0)","v":0},{"$f":"IF(RAND()<(K441^quadratic_condition*L441-$T$21)*$T$22*(1+pref_attach_on*SUM($X$35:X451)),1,0)","v":0},418,{"$f":"IF(AND(SUM($X$35:X451)=0,X452=1),Y452,\"\")","v":""}]
[null,null,null,null,null,null,430,43,0.55018589343331037,1.0646144658921282,0.1050845741581725,0.93831094432561957,1.0791030108582411,1.022552421129113,0.54141968535604557,1.3763910803290476,1.0534491503468171,2.7171034763588044E-2,0,0,null,null,{"$f":"IF(RAND()<poisson_parameter*model!K453,1,0)","v":0},{"$f":"IF(RAND()<(K442^quadratic_condition*L442-$T$21)*$T$22*(1+pref_attach_on*SUM($X$35:X452)),1,0)","v":0},419,{"$f":"IF(AND(SUM($X$35:X452)=0,X453=1),Y453,\"\")","v":""}]
[null,null,null,null,null,null,431,43.1,0.54981832528861008,1.0646144697672995,0.10510657472762626,0.93831095640952278,1.0791036409373524,1.0225674300783691,0.54147188263109147,1.376836608847809,1.0538017911177338,2.6621158662615507E-2,0,0,null,null,{"$f":"IF(RAND()<poisson_parameter*model!K454,1,0)","v":0},{"$f":"IF(RAND()<(K443^quadratic_condition*L443-$T$21)*$T$22*(1+pref_attach_on*SUM($X$35:X453)),1,0)","v":0},420,{"$f":"IF(AND(SUM($X$35:X453)=0,X454=1),Y454,\"\")","v":""}]
[null,null,null,null,null,null,432,43.2,0.54946057640456591,1.064614473464581,0.1051293135934373,0.93831096799281866,1.0791042394343193,1.022583644207171,0.54152201221262386,1.3772587864773507,1.0541397083321906,2.6082789140360836E-2,0,0,null,null,{"$f":"IF(RAND()<poisson_parameter*model!K455,1,0)","v":0},{"$f":"IF(RAND()<(K444^quadratic_condition*L444-$T$21)*$T$22*(1+pref_attach_on*SUM($X$35:X454)),1,0)","v":0},421,{"$f":"IF(AND(SUM($X$35:X454)=0,X455=1),Y455,\"\")","v":""}]
[null,null,null,null,null,null,433,43.3,0.54911243650322406,1.0646144769921388,0.1051527652191846,0.93831097909624606,1.0791048079321361,1.0226009257322664,0.54157012037198082,1.3776587204704556,1.0544634476303572,2.5555680700112188E-2,0,0,null,null,{"$f":"IF(RAND()<poisson_parameter*model!K456,1,0)","v":0},{"$f":"IF(RAND()<(K445^quadratic_condition*L445-$T$21)*$T$22*(1+pref_attach_on*SUM($X$35:X455)),1,0)","v":0},422,{"$f":"IF(AND(SUM($X$35:X455)=0,X456=1),Y456,\"\")","v":""}]
[null,null,null,null,null,null,434,43.4,0.54877369722231262,1.0646144803577642,0.1051769046618178,0.93831098973968474,1.0791053479344559,1.0226191439482146,0.54161625454630802,1.3780374696498412,1.0547735382121177,2.5039592642307571E-2,0,0,null,null,{"$f":"IF(RAND()<poisson_parameter*model!K457,1,0)","v":0},{"$f":"IF(RAND()<(K446^quadratic_condition*L446-$T$21)*$T$22*(1+pref_attach_on*SUM($X$35:X456)),1,0)","v":0},423,{"$f":"IF(AND(SUM($X$35:X456)=0,X457=1),Y457,\"\")","v":""}]
[null,null,null,null,null,null,435,43.5,0.54844415225161558,1.0646144835688904,0.1052017075636185,0.93831099994219103,1.0791058608695665,1.0226381750379863,0.54166046315841243,1.3783960463234408,1.0550704930845232,2.4534289027523547E-2,0,0,null,null,{"$f":"IF(RAND()<poisson_parameter*model!K458,1,0)","v":0},{"$f":"IF(RAND()<(K447^quadratic_condition*L447-$T$21)*$T$22*(1+pref_attach_on*SUM($X$35:X457)),1,0)","v":0},424,{"$f":"IF(AND(SUM($X$35:X457)=0,X458=1),Y458,\"\")","v":""}]
[null,null,null,null,null,null,436,43.6,0.5481235974587122,1.0646144866326099,0.10522715014398147,0.93831100972203163,1.0791063480941678,1.0226579018809072,0.5417027954464031,1.3787354181380331,1.0553548093253993,2.4039538634262041E-2,0,0,null,null,{"$f":"IF(RAND()<poisson_parameter*model!K459,1,0)","v":0},{"$f":"IF(RAND()<(K448^quadratic_condition*L448-$T$21)*$T$22*(1+pref_attach_on*SUM($X$35:X458)),1,0)","v":0},425,{"$f":"IF(AND(SUM($X$35:X458)=0,X459=1),Y459,\"\")","v":""}]
[null,null,null,null,null,null,437,43.7,0.54781183100447217,1.0646144895556893,0.10525320919103567,0.93831101909671666,1.0791068108969599,1.0226782138585591,0.54174330130285642,1.3790565098719862,1.0556269683610515,2.3555114912097538E-2,0,0,null,null,{"$f":"IF(RAND()<poisson_parameter*model!K460,1,0)","v":0},{"$f":"IF(RAND()<(K449^quadratic_condition*L449-$T$21)*$T$22*(1+pref_attach_on*SUM($X$35:X459)),1,0)","v":0},426,{"$f":"IF(AND(SUM($X$35:X459)=0,X460=1),Y460,\"\")","v":""}]
[null,null,null,null,null,null,438,43.8,0.54750865344870003,1.0646144923445846,0.10527986205312405,0.93831102808303068,1.0791072505020505,1.0226990066592074,0.54178203112323808,1.3793602051680005,1.0558874362561483,2.3080795930705035E-2,0,0,null,null,{"$f":"IF(RAND()<poisson_parameter*model!K461,1,0)","v":0},{"$f":"IF(RAND()<(K450^quadratic_condition*L450-$T$21)*$T$22*(1+pref_attach_on*SUM($X$35:X460)),1,0)","v":0},427,{"$f":"IF(AND(SUM($X$35:X460)=0,X461=1),Y461,\"\")","v":""}]
[null,null,null,null,null,null,439,43.9,0.54721386784631887,1.0646144950054557,0.1053070866301601,0.93831103669706306,1.0791076680721927,1.0227201820813006,0.54181903566331135,1.379647348206845,1.0561366640139975,2.2616364325249935E-2,0,0,null,null,{"$f":"IF(RAND()<poisson_parameter*model!K462,1,0)","v":0},{"$f":"IF(RAND()<(K451^quadratic_condition*L451-$T$21)*$T$22*(1+pref_attach_on*SUM($X$35:X461)),1,0)","v":0},428,{"$f":"IF(AND(SUM($X$35:X461)=0,X462=1),Y462,\"\")","v":""}]
[null,null,null,null,null,null,440,44,0.54692727983448586,1.0646144975441796,0.10533486136487856,0.93831104495423645,1.0791080647118598,1.0227416478365428,0.54185436590525626,1.3799187453231694,1.0563750878855589,2.2161607238584305E-2,0,0,null,null,{"$f":"IF(RAND()<poisson_parameter*model!K463,1,0)","v":0},{"$f":"IF(RAND()<(K452^quadratic_condition*L452-$T$21)*$T$22*(1+pref_attach_on*SUM($X$35:X462)),1,0)","v":0},429,{"$f":"IF(AND(SUM($X$35:X462)=0,X463=1),Y463,\"\")","v":""}]
[null,null,null,null,null,null,441,44.1,0.54664869771102398,1.0646144999663634,0.10536316523399682,0.93831105286933469,1.0791084414701664,1.0227633173530188,0.5418880729322243,1.3801751665645516,1.0566031296856557,2.1716316260659421E-2,0,0,null,null,{"$f":"IF(RAND()<poisson_parameter*model!K464,1,0)","v":0},{"$f":"IF(RAND()<(K453^quadratic_condition*L453-$T$21)*$T$22*(1+pref_attach_on*SUM($X$35:X463)),1,0)","v":0},430,{"$f":"IF(AND(SUM($X$35:X463)=0,X464=1),Y464,\"\")","v":""}]
[null,null,null,null,null,null,442,44.2,0.5463779325045558,1.0646145022773568,0.1053919777393027,0.93831106045652912,1.0791087993436428,1.0227851095788114,0.54192020781104977,1.380417347195003,1.0568211971149675,2.1280287365532349E-2,0,0,null,null,{"$f":"IF(RAND()<poisson_parameter*model!K465,1,0)","v":0},{"$f":"IF(RAND()<(K454^quadratic_condition*L454-$T$21)*$T$22*(1+pref_attach_on*SUM($X$35:X464)),1,0)","v":0},431,{"$f":"IF(AND(SUM($X$35:X464)=0,X465=1),Y465,\"\")","v":""}]
[null,null,null,null,null,null,443,44.3,0.54611479803671514,1.0646145044822639,0.10542127889868365,0.93831106772940398,1.0791091392788708,1.0228069487865241,0.54195082148284079,1.3806459891442027,1.0570296840864915,2.0853320846314187E-2,0,0,null,null,{"$f":"IF(RAND()<poisson_parameter*model!K466,1,0)","v":0},{"$f":"IF(RAND()<(K455^quadratic_condition*L455-$T$21)*$T$22*(1+pref_attach_on*SUM($X$35:X465)),1,0)","v":0},432,{"$f":"IF(AND(SUM($X$35:X465)=0,X466=1),Y466,\"\")","v":""}]
[null,null,null,null,null,null,444,44.4,0.54585911097680995,1.0646145065859547,0.10545104923711146,0.93831107470098085,1.0791094621749866,1.0228287643790923,0.54197996466117038,1.3808617624037782,1.0572289710552707,2.0435221248379432E-2,0,0,null,null,{"$f":"IF(RAND()<poisson_parameter*model!K467,1,0)","v":0},{"$f":"IF(RAND()<(K456^quadratic_condition*L456-$T$21)*$T$22*(1+pref_attach_on*SUM($X$35:X466)),1,0)","v":0},433,{"$f":"IF(AND(SUM($X$35:X466)=0,X467=1),Y467,\"\")","v":""}]
[null,null,null,null,null,null,445,44.5,0.54561069088930114,1.0646145085930756,0.10548126977759623,0.93831108138374175,1.0791097688860596,1.0228504906972384,0.54200768773759089,1.3810653063719742,1.0574194253502796,2.0025797301129716E-2,0,0,null,null,{"$f":"IF(RAND()<poisson_parameter*model!K468,1,0)","v":0},{"$f":"IF(RAND()<(K457^quadratic_condition*L457-$T$21)*$T$22*(1+pref_attach_on*SUM($X$35:X467)),1,0)","v":0},434,{"$f":"IF(AND(SUM($X$35:X467)=0,X468=1),Y468,\"\")","v":""}]
[null,null,null,null,null,null,446,44.6,0.54536936027445593,1.0646145105080596,0.10551192203212201,0.93831108778965167,1.0791100602233501,1.0228720668288973,0.54203404069419581,1.3812572311480791,1.0576014015074555,1.9624861848580692E-2,0,0,null,null,{"$f":"IF(RAND()<poisson_parameter*model!K469,1,0)","v":0},{"$f":"IF(RAND()<(K458^quadratic_condition*L458-$T$21)*$T$22*(1+pref_attach_on*SUM($X$35:X468)),1,0)","v":0},435,{"$f":"IF(AND(SUM($X$35:X468)=0,X469=1),Y469,\"\")","v":""}]
[null,null,null,null,null,null,447,44.7,0.54513494460252498,1.0646145123351363,0.10554298799257651,0.93831109393017986,1.0791103369574562,1.0228934364209137,0.54205907302295431,1.3814381187779925,1.0577752416029513,1.9232231779018037E-2,0,0,null,null,{"$f":"IF(RAND()<poisson_parameter*model!K470,1,0)","v":0},{"$f":"IF(RAND()<(K459^quadratic_condition*L459-$T$21)*$T$22*(1+pref_attach_on*SUM($X$35:X469)),1,0)","v":0},436,{"$f":"IF(AND(SUM($X$35:X469)=0,X470=1),Y470,\"\")","v":""}]
[null,null,null,null,null,null,448,44.8,0.54490727234178538,1.064614514078341,0.10557445012168605,0.93831109981632055,1.0791105998203505,1.0229145474932861,0.54208283365154741,1.3816085244523251,1.0579412755857656,1.8847727953947312E-2,0,0,null,null,{"$f":"IF(RAND()<poisson_parameter*model!K471,1,0)","v":0},{"$f":"IF(RAND()<(K460^quadratic_condition*L460-$T$21)*$T$22*(1+pref_attach_on*SUM($X$35:X470)),1,0)","v":0},437,{"$f":"IF(AND(SUM($X$35:X470)=0,X471=1),Y471,\"\")","v":""}]
[null,null,null,null,null,null,449,44.9,0.5446861749807822,1.0646145157415239,0.10560629134396647,0.93831110545861229,1.0791108495073172,1.0229353522562112,0.54210537087543664,1.3817689776584239,1.0580998216089874,1.847117513654277E-2,0,0,null,null,{"$f":"IF(RAND()<poisson_parameter*model!K472,1,0)","v":0},{"$f":"IF(RAND()<(K461^quadratic_condition*L461-$T$21)*$T$22*(1+pref_attach_on*SUM($X$35:X471)),1,0)","v":0},438,{"$f":"IF(AND(SUM($X$35:X471)=0,X472=1),Y472,\"\")","v":""}]
[null,null,null,null,null,null,450,45,0.54447148704509174,1.0646145173283583,0.10563849503670027,0.93831111086715724,1.0791110866787903,1.022955806930153,0.54212673229590058,1.381919983287716,1.0582511863589641,1.8102401919781734E-2,0,0,null,null,{"$f":"IF(RAND()<poisson_parameter*model!K473,1,0)","v":0},{"$f":"IF(RAND()<(K462^quadratic_condition*L462-$T$21)*$T$22*(1+pref_attach_on*SUM($X$35:X472)),1,0)","v":0},439,{"$f":"IF(AND(SUM($X$35:X472)=0,X473=1),Y473,\"\")","v":""}]
[null,null,null,null,null,null,451,45.1,0.54426304610892084,1.064614518842349,0.10567104502094914,0.93831111605163886,1.0791113119621005,1.0229758715691459,0.54214696476377744,1.3820620226997551,1.0583956653817699,1.774124065443429E-2,0,{"$f":"S474-S473","v":0},null,null,{"$f":"IF(RAND()<poisson_parameter*model!K474,1,0)","v":0},{"$f":"IF(RAND()<(K463^quadratic_condition*L463-$T$21)*$T$22*(1+pref_attach_on*SUM($X$35:X473)),1,0)","v":0},440,{"$f":"IF(AND(SUM($X$35:X473)=0,X474=1),Y474,\"\")","v":""}]
[null,null,null,null,null,null,452,45.2,0.54406069280184666,1.06461452028684,0.10570392555261092,0.93831112102133973,1.0791115259531348,1.0229955098875143,0.54216611432865724,1.3821955547443405,1.0585335434064156,1.7387527377062142E-2,0,0,null,null,{"$f":"IF(RAND()<poisson_parameter*model!K475,1,0)","v":0},{"$f":"IF(RAND()<(K464^quadratic_condition*L464-$T$21)*$T$22*(1+pref_attach_on*SUM($X$35:X474)),1,0)","v":0},441,{"$f":"IF(AND(SUM($X$35:X474)=0,X475=1),Y475,\"\")","v":""}]
[null,null,null,null,null,null,453,45.3,0.54386427081099109,1.0646145216650216,0.10573712131352921,0.93831112578515763,1.0791117292179118,1.0230146890901728,0.54218422619327022,1.3823210167430708,1.0586650946643006,1.7041101738165886E-2,0,0,null,null,{"$f":"IF(RAND()<poisson_parameter*model!K476,1,0)","v":0},{"$f":"IF(RAND()<(K465^quadratic_condition*L465-$T$21)*$T$22*(1+pref_attach_on*SUM($X$35:X475)),1,0)","v":0},442,{"$f":"IF(AND(SUM($X$35:X475)=0,X476=1),Y476,\"\")","v":""}]
[null,null,null,null,null,null,454,45.4,0.54367362687891452,1.0646145229799377,0.10577061740266322,0.93831113035162172,1.0791119222940793,1.023033379706652,0.54220134467282444,1.382438825431668,1.0587905832044648,1.6701806930606408E-2,0,0,null,null,{"$f":"IF(RAND()<poisson_parameter*model!K477,1,0)","v":0},{"$f":"IF(RAND()<(K466^quadratic_condition*L466-$T$21)*$T$22*(1+pref_attach_on*SUM($X$35:X476)),1,0)","v":0},443,{"$f":"IF(AND(SUM($X$35:X476)=0,X477=1),Y477,\"\")","v":""}]
[null,null,null,null,null,null,455,45.5,0.54348861079750355,1.0646145242344927,0.10580439932732516,0.93831113472890804,1.0791121056923361,1.0230515554289763,0.54221751315905053,1.3825493778643934,1.0589102632042484,1.636948961841353E-2,0,0,null,null,{"$f":"IF(RAND()<poisson_parameter*model!K478,1,0)","v":0},{"$f":"IF(RAND()<(K467^quadratic_condition*L467-$T$21)*$T$22*(1+pref_attach_on*SUM($X$35:X477)),1,0)","v":0},444,{"$f":"IF(AND(SUM($X$35:X477)=0,X478=1),Y478,\"\")","v":""}]
[null,null,null,null,null,null,456,45.6,0.54330907539811746,1.0646145254314572,0.10583845299449168,0.93831113892485363,1.0791122798977828,1.0230691929535018,0.5422327740887154,1.3826530522818514,1.0590243792750147,1.6043999866083448E-2,0,0,null,null,{"$f":"IF(RAND()<poisson_parameter*model!K479,1,0)","v":0},{"$f":"IF(RAND()<(K468^quadratic_condition*L468-$T$21)*$T$22*(1+pref_attach_on*SUM($X$35:X478)),1,0)","v":0},445,{"$f":"IF(AND(SUM($X$35:X478)=0,X479=1),Y479,\"\")","v":""}]
[null,null,null,null,null,null,457,45.7,0.54313487653824721,1.0646145265734752,0.10587276470219552,0.93831114294697116,1.0791124453712051,1.023086271826807,0.5422471689163747,1.3827502089434516,1.0591331667626402,1.5725191068455789E-2,0,0,null,null,{"$f":"IF(RAND()<poisson_parameter*model!K480,1,0)","v":0},{"$f":"IF(RAND()<(K469^quadratic_condition*L469-$T$21)*$T$22*(1+pref_attach_on*SUM($X$35:X479)),1,0)","v":0},446,{"$f":"IF(AND(SUM($X$35:X479)=0,X480=1),Y480,\"\")","v":""}]
[null,null,null,null,null,null,458,45.8,0.54296587308493249,1.0646145276630687,0.10590732113100298,0.93831114680246186,1.079112602550292,1.0231027742957108,0.54226073809113762,1.3828411909257752,1.0592368520425113,1.5412919881251215E-2,0,0,null,null,{"$f":"IF(RAND()<poisson_parameter*model!K481,1,0)","v":0},{"$f":"IF(RAND()<(K470^quadratic_condition*L470-$T$21)*$T$22*(1+pref_attach_on*SUM($X$35:X480)),1,0)","v":0},447,{"$f":"IF(AND(SUM($X$35:X480)=0,X481=1),Y481,\"\")","v":""}]
[null,null,null,null,null,null,459,45.9,0.54280192689517104,1.0646145287026445,0.10594210933558253,0.93831115049822866,1.0791127518507939,1.0231186851614831,0.5422735210372247,1.3829263248880632,1.0593356528088105,1.5107046152341352E-2,0,0,null,null,{"$f":"IF(RAND()<poisson_parameter*model!K482,1,0)","v":0},{"$f":"IF(RAND()<(K471^quadratic_condition*L471-$T$21)*$T$22*(1+pref_attach_on*SUM($X$35:X481)),1,0)","v":0},448,{"$f":"IF(AND(SUM($X$35:X481)=0,X482=1),Y482,\"\")","v":""}]
[null,null,null,null,null,null,460,46,0.54264290279354488,1.0646145296944987,0.105977116736369,0.9383111540408885,1.079112893667622,1.0231339916382898,0.54228555613810525,1.3830059218060149,1.0594297783579076,1.4807432853814464E-2,0,0,null,null,{"$f":"IF(RAND()<poisson_parameter*model!K483,1,0)","v":0},{"$f":"IF(RAND()<(K472^quadratic_condition*L472-$T$21)*$T$22*(1+pref_attach_on*SUM($X$35:X482)),1,0)","v":0},449,{"$f":"IF(AND(SUM($X$35:X482)=0,X483=1),Y483,\"\")","v":""}]
[null,null,null,null,null,null,461,46.1,0.54248866854727973,1.0646145306408217,0.10601233111132806,0.93831115743678428,1.079113028375893,1.0231486832159133,0.54229688072400672,1.3830802776750557,1.0595194298657029,1.4513946014892511E-2,0,0,null,null,{"$f":"IF(RAND()<poisson_parameter*model!K484,1,0)","v":0},{"$f":"IF(RAND()<(K473^quadratic_condition*L473-$T$21)*$T$22*(1+pref_attach_on*SUM($X$35:X483)),1,0)","v":0},450,{"$f":"IF(AND(SUM($X$35:X483)=0,X484=1),Y484,\"\")","v":""}]
[null,null,null,null,null,null,462,46.2,0.54233909483894294,1.0646145315437037,0.10604774058782446,0.93831116069199616,1.0791131563319212,1.0231627515267641,0.54230753106259477,1.3831496741842058,1.0596048006588028,1.4226454655748118E-2,0,0,null,null,{"$f":"IF(RAND()<poisson_parameter*model!K485,1,0)","v":0},{"$f":"IF(RAND()<(K474^quadratic_condition*L474-$T$21)*$T$22*(1+pref_attach_on*SUM($X$35:X484)),1,0)","v":0},451,{"$f":"IF(AND(SUM($X$35:X484)=0,X485=1),Y485,\"\")","v":""}]
[null,null,null,null,null,null,463,46.3,0.54219405523697617,1.0646145324051388,0.1060833336345979,0.93831116381235224,1.0791132778741606,1.0231761902171979,0.5423175423526303,1.3832143793616443,1.0596860764794314,1.394483072226348E-2,0,0,null,null,{"$f":"IF(RAND()<poisson_parameter*model!K486,1,0)","v":0},{"$f":"IF(RAND()<(K475^quadratic_condition*L475-$T$21)*$T$22*(1+pref_attach_on*SUM($X$35:X485)),1,0)","v":0},452,{"$f":"IF(AND(SUM($X$35:X485)=0,X486=1),Y486,\"\")","v":""}]
[null,null,null,null,null,null,464,46.4,0.54205342616425134,1.0646145332270298,0.10611909905384961,0.9383111668034394,1.0791133933241008,1.0231889948231367,0.54232694872041354,1.3832746481930414,1.0597634357440096,1.3668949021767155E-2,0,0,null,null,{"$f":"IF(RAND()<poisson_parameter*model!K487,1,0)","v":0},{"$f":"IF(RAND()<(K476^quadratic_condition*L476-$T$21)*$T$22*(1+pref_attach_on*SUM($X$35:X486)),1,0)","v":0},453,{"$f":"IF(AND(SUM($X$35:X486)=0,X487=1),Y487,\"\")","v":""}]
[null,null,null,null,null,null,465,46.5,0.54191708686482742,1.0646145340111919,0.10615502597344219,0.93831116967061279,1.0791135029871171,1.0232011626499835,0.54233578321883458,1.3833307232136927,1.0598370497953549,1.3398687159779302E-2,0,0,null,null,{"$f":"IF(RAND()<poisson_parameter*model!K488,1,0)","v":0},{"$f":"IF(RAND()<(K477^quadratic_condition*L477-$T$21)*$T$22*(1+pref_attach_on*SUM($X$35:X487)),1,0)","v":0},454,{"$f":"IF(AND(SUM($X$35:X487)=0,X488=1),Y488,\"\")","v":""}]
[null,null,null,null,null,null,466,46.6,0.54178491936907891,1.064614534759357,0.10619110383921558,0.93831117241900597,1.0791136071532774,1.0232126926568095,0.54234407782885408,1.3833828350754633,1.0599070831484763,1.3133925477790773E-2,0,0,null,null,{"$f":"IF(RAND()<poisson_parameter*model!K489,1,0)","v":0},{"$f":"IF(RAND()<(K478^quadratic_condition*L478-$T$21)*$T$22*(1+pref_attach_on*SUM($X$35:X488)),1,0)","v":0},455,{"$f":"IF(AND(SUM($X$35:X488)=0,X489=1),Y489,\"\")","v":""}]
[null,null,null,null,null,null,467,46.7,0.54165680845735653,1.0646145354731775,0.10622732240742101,0.93831117505353967,1.0791137060981106,1.0232235853447875,0.54235186346324515,1.3834312030895168,1.0599736937299555,1.2874546992096968E-2,0,0,null,null,{"$f":"IF(RAND()<poisson_parameter*model!K490,1,0)","v":0},{"$f":"IF(RAND()<(K479^quadratic_condition*L479-$T$21)*$T$22*(1+pref_attach_on*SUM($X$35:X489)),1,0)","v":0},456,{"$f":"IF(AND(SUM($X$35:X489)=0,X490=1),Y490,\"\")","v":""}]
[null,null,null,null,null,null,468,46.8,0.54153264162233428,1.0646145361542303,0.10626367173727494,0.9383111775789309,1.0791138000833349,1.023233842649834,0.54235916997243339,1.3834760357457732,1.0600370331109283,1.2620437333703093E-2,0,0,null,null,{"$f":"IF(RAND()<poisson_parameter*model!K491,1,0)","v":0},{"$f":"IF(RAND()<(K480^quadratic_condition*L480-$T$21)*$T$22*(1+pref_attach_on*SUM($X$35:X490)),1,0)","v":0},457,{"$f":"IF(AND(SUM($X$35:X490)=0,X491=1),Y491,\"\")","v":""}]
[null,null,null,null,null,null,469,46.9,0.54141230903018722,1.0646145368040192,0.10630014218363448,0.93831117999970104,1.0791138893575498,1.0232434678394149,0.54236602615227902,1.383517531210013,1.0600972467336873,1.2371484689313664E-2,0,0,null,null,{"$f":"IF(RAND()<poisson_parameter*model!K492,1,0)","v":0},{"$f":"IF(RAND()<(K481^quadratic_condition*L481-$T$21)*$T$22*(1+pref_attach_on*SUM($X$35:X491)),1,0)","v":0},458,{"$f":"IF(AND(SUM($X$35:X491)=0,X492=1),Y492,\"\")","v":""}]
[null,null,null,null,null,null,470,47,0.5412957034807383,1.0646145374239795,0.10633672438979572,0.9383111823201844,1.0791139741568938,1.0232524654134669,0.54237245975365012,1.3835558777995101,1.0601544741319493,1.2127579743415599E-2,0,0,null,null,{"$f":"IF(RAND()<poisson_parameter*model!K493,1,0)","v":0},{"$f":"IF(RAND()<(K482^quadratic_condition*L482-$T$21)*$T$22*(1+pref_attach_on*SUM($X$35:X492)),1,0)","v":0},459,{"$f":"IF(AND(SUM($X$35:X492)=0,X493=1),Y493,\"\")","v":""}]
[null,null,null,null,null,null,471,47.1,0.54118272036670356,1.0646145380154806,0.10637340928041582,0.93831118454453566,1.0791140547056695,1.0232608410093755,0.54237849749364353,1.3835912544380489,1.0602088491448369,1.1888615621461091E-2,0,0,null,null,{"$f":"IF(RAND()<poisson_parameter*model!K494,1,0)","v":0},{"$f":"IF(RAND()<(K483^quadratic_condition*L483-$T$21)*$T$22*(1+pref_attach_on*SUM($X$35:X493)),1,0)","v":0},460,{"$f":"IF(AND(SUM($X$35:X493)=0,X494=1),Y494,\"\")","v":""}]
[null,null,null,null,null,null,472,47.2,0.54107325763215897,1.0646145385798289,0.10641018805455991,0.93831118667673719,1.0791141312169357,1.0232686013109475,0.54238416506831522,1.3836238310911533,1.0602605001246392,1.1654487834153555E-2,0,0,null,null,{"$f":"IF(RAND()<poisson_parameter*model!K495,1,0)","v":0},{"$f":"IF(RAND()<(K484^quadratic_condition*L484-$T$21)*$T$22*(1+pref_attach_on*SUM($X$35:X494)),1,0)","v":0},461,{"$f":"IF(AND(SUM($X$35:X494)=0,X495=1),Y495,\"\")","v":""}]
[null,null,null,null,null,null,473,47.3,0.54096721573034379,1.0646145391182706,0.10644705217887326,0.9383111887206067,1.0791142038930723,1.0232757539613122,0.54238948716678781,1.3836537691823254,1.0603095501384221,1.1425094222837379E-2,0,0,null,null,{"$f":"IF(RAND()<poisson_parameter*model!K496,1,0)","v":0},{"$f":"IF(RAND()<(K485^quadratic_condition*L485-$T$21)*$T$22*(1+pref_attach_on*SUM($X$35:X495)),1,0)","v":0},462,{"$f":"IF(AND(SUM($X$35:X495)=0,X496=1),Y496,\"\")","v":""}]
[null,null,null,null,null,null,474,47.4,0.5408644975809106,1.0646145396319953,0.10648399338087909,0.93831119067980351,1.079114272926315,1.0232823074796773,0.54239448748660957,1.383681221991063,1.0603561171635736,1.1200334905989824E-2,0,0,null,null,{"$f":"IF(RAND()<poisson_parameter*model!K497,1,0)","v":0},{"$f":"IF(RAND()<(K486^quadratic_condition*L486-$T$21)*$T$22*(1+pref_attach_on*SUM($X$35:X496)),1,0)","v":0},463,{"$f":"IF(AND(SUM($X$35:X496)=0,X497=1),Y497,\"\")","v":""}]
[null,null,null,null,null,null,475,47.5,0.54076500852672316,1.0646145401221374,0.10652100364240229,0.93831119255783535,1.0791143384992634,1.0232882711818647,0.54239918875024484,1.3837063350333993,1.0604003142773701,1.0980112226811336E-2,0,0,null,null,{"$f":"IF(RAND()<poisson_parameter*model!K498,1,0)","v":0},{"$f":"IF(RAND()<(K487^quadratic_condition*L487-$T$21)*$T$22*(1+pref_attach_on*SUM($X$35:X497)),1,0)","v":0},464,{"$f":"IF(AND(SUM($X$35:X497)=0,X498=1),Y498,\"\")","v":""}]
[null,null,null,null,null,null,476,47.6,0.54066865629029925,1.0646145405897796,0.10655807519311893,0.93831119435806476,1.0791144007853646,1.0232936551045464,0.54240361272258009,1.3837292464256825,1.0604422498406629,1.0764330701908607E-2,0,0,null,null,{"$f":"IF(RAND()<poisson_parameter*model!K499,1,0)","v":0},{"$f":"IF(RAND()<(K488^quadratic_condition*L488-$T$21)*$T$22*(1+pref_attach_on*SUM($X$35:X498)),1,0)","v":0},465,{"$f":"IF(AND(SUM($X$35:X498)=0,X499=1),Y499,\"\")","v":""}]
[null,null,null,null,null,null,477,47.7,0.54057535092998799,1.0646145410359547,0.1065952005042316,0.93831119608371494,1.0791144599493716,1.0232984699330971,0.54240778022933822,1.3837500872322834,1.0604820276757838,1.0552896971063036E-2,0,0,null,null,{"$f":"IF(RAND()<poisson_parameter*model!K500,1,0)","v":0},{"$f":"IF(RAND()<(K489^quadratic_condition*L489-$T$21)*$T$22*(1+pref_attach_on*SUM($X$35:X499)),1,0)","v":0},466,{"$f":"IF(AND(SUM($X$35:X499)=0,X500=1),Y500,\"\")","v":""}]
[null,null,null,null,null,null,478,47.8,0.54048500479596617,1.0646145414616479,0.10663237228226997,0.93831119773787552,1.0791145161477793,1.0233027269329789,0.54241171117629638,1.3837689817978975,1.0605197472387793,1.0345719748075731E-2,0,0,null,null,{"$f":"IF(RAND()<poisson_parameter*model!K501,1,0)","v":0},{"$f":"IF(RAND()<(K490^quadratic_condition*L490-$T$21)*$T$22*(1+pref_attach_on*SUM($X$35:X500)),1,0)","v":0},467,{"$f":"IF(AND(SUM($X$35:X500)=0,X501=1),Y501,\"\")","v":""}]
[null,null,null,null,null,null,479,47.9,0.54039753248613265,1.0646145418677999,0.10666958346301629,0.93831119932350804,1.0791145695292381,1.0233064378845693,0.54241542456920944,1.3837860480650817,1.0605555037860848,1.0142709772678794E-2,0,0,null,null,{"$f":"IF(RAND()<poisson_parameter*model!K502,1,0)","v":0},{"$f":"IF(RAND()<(K491^quadratic_condition*L491-$T$21)*$T$22*(1+pref_attach_on*SUM($X$35:X501)),1,0)","v":0},468,{"$f":"IF(AND(SUM($X$35:X501)=0,X502=1),Y502,\"\")","v":""}]
[null,null,null,null,null,null,480,48,0.54031285080197389,1.0646145422553075,0.10670682720555513,0.93831120084345154,1.0791146202349478,1.0233096150213434,0.54241893853434586,1.3838013978776411,1.0605893885357502,9.9437797635015136E-3,0,0,null,null,{"$f":"IF(RAND()<poisson_parameter*model!K503,1,0)","v":0},{"$f":"IF(RAND()<(K492^quadratic_condition*L492-$T$21)*$T$22*(1+pref_attach_on*SUM($X$35:X502)),1,0)","v":0},469,{"$f":"IF(AND(SUM($X$35:X502)=0,X503=1),Y503,\"\")","v":""}]
[null,null,null,null,null,null,481,48.1,0.54023087870446929,1.0646145426250264,0.10674409688644666,0.93831120230042742,1.0791146683990298,1.0233122709713189,0.54242227033954815,1.3838151372704619,1.0606214888233394,9.7488443720789558E-3,0,0,null,null,{"$f":"IF(RAND()<poisson_parameter*model!K504,1,0)","v":0},{"$f":"IF(RAND()<(K493^quadratic_condition*L493-$T$21)*$T$22*(1+pref_attach_on*SUM($X$35:X503)),1,0)","v":0},470,{"$f":"IF(AND(SUM($X$35:X503)=0,X504=1),Y504,\"\")","v":""}]
[null,null,null,null,null,null,482,48.2,0.54015153727009979,1.0646145429777734,0.10678138609402248,0.93831120369704424,1.0791147141488835,1.0233144187016709,0.54242543641573426,1.3838273667463561,1.0606518882526181,9.5578201378895764E-3,0,0,null,null,{"$f":"IF(RAND()<poisson_parameter*model!K505,1,0)","v":0},{"$f":"IF(RAND()<(K494^quadratic_condition*L494-$T$21)*$T$22*(1+pref_attach_on*SUM($X$35:X504)),1,0)","v":0},471,{"$f":"IF(AND(SUM($X$35:X504)=0,X505=1),Y505,\"\")","v":""}]
[null,null,null,null,null,null,483,48.3,0.54007474964701829,1.0646145433143275,0.10681868862280315,0.93831120503580245,1.079114757605522,1.0233160714664227,0.54242845237876192,1.3838381815404719,1.0606806668411577,9.3706254444076414E-3,0,0,null,null,{"$f":"IF(RAND()<poisson_parameter*model!K506,1,0)","v":0},{"$f":"IF(RAND()<(K495^quadratic_condition*L495-$T$21)*$T$22*(1+pref_attach_on*SUM($X$35:X505)),1,0)","v":0},472,{"$f":"IF(AND(SUM($X$35:X505)=0,X506=1),Y506,\"\")","v":""}]
[null,null,null,null,null,null,484,48.4,0.5400004410114374,1.0646145436354322,0.10685599846803631,0.93831120631909903,1.0791147988838927,1.0233172427571184,0.54243133305158175,1.3838476718727935,1.0607079011609715,9.1871804761555643E-3,0,0,null,null,{"$f":"IF(RAND()<poisson_parameter*model!K507,1,0)","v":0},{"$f":"IF(RAND()<(K496^quadratic_condition*L496-$T$21)*$T$22*(1+pref_attach_on*SUM($X$35:X506)),1,0)","v":0},473,{"$f":"IF(AND(SUM($X$35:X506)=0,X507=1),Y507,\"\")","v":""}]
[null,null,null,null,null,null,485,48.5,0.53992853852428346,1.0646145439417964,0.10689330982035411,0.9383112075492317,1.0791148380931814,1.0233179462563846,0.54243409248661034,1.3838559231892391,1.0607336644743128,9.0074071767406814E-3,0,0,null,null,{"$f":"IF(RAND()<poisson_parameter*model!K508,1,0)","v":0},{"$f":"IF(RAND()<(K497^quadratic_condition*L497-$T$21)*$T$22*(1+pref_attach_on*SUM($X$35:X507)),1,0)","v":0},474,{"$f":"IF(AND(SUM($X$35:X507)=0,X508=1),Y508,\"\")","v":""}]
[null,null,null,null,null,null,486,48.6,0.53985897128816362,1.0646145442340971,0.10693061706054882,0.9383112087284029,1.0791148753371009,1.0233181957942816,0.54243674398825725,1.3838630163918437,1.0607580268647556,8.8312292078604505E-3,0,0,null,null,{"$f":"IF(RAND()<poisson_parameter*model!K509,1,0)","v":0},{"$f":"IF(RAND()<(K498^quadratic_condition*L498-$T$21)*$T$22*(1+pref_attach_on*SUM($X$35:X508)),1,0)","v":0},475,{"$f":"IF(AND(SUM($X$35:X508)=0,X509=1),Y509,\"\")","v":""}]
[null,null,null,null,null,null,487,48.7,0.53979167030468911,1.0646145445129795,0.10696791475446522,0.93831120985872374,1.0791149107141653,1.0233180053073554,0.54243930013554564,1.3838690280584935,1.0607810553636816,8.6585719092596939E-3,0,0,null,null,{"$f":"IF(RAND()<poisson_parameter*model!K510,1,0)","v":0},{"$f":"IF(RAND()<(K499^quadratic_condition*L499-$T$21)*$T$22*(1+pref_attach_on*SUM($X$35:X509)),1,0)","v":0},476,{"$f":"IF(AND(SUM($X$35:X509)=0,X510=1),Y510,\"\")","v":""}]
[null,null,null,null,null,null,488,48.8,0.53972656843219202,1.06461454477906,0.10700519764800838,0.93831121094221803,1.0791149443179509,1.0233173888002909,0.54244177280476991,1.3838740306526622,1.0608028140723005,8.4893622596231202E-3,0,0,null,null,{"$f":"IF(RAND()<poisson_parameter*model!K511,1,0)","v":0},{"$f":"IF(RAND()<(K500^quadratic_condition*L500-$T$21)*$T$22*(1+pref_attach_on*SUM($X$35:X510)),1,0)","v":0},477,{"$f":"IF(AND(SUM($X$35:X510)=0,X511=1),Y511,\"\")","v":""}]
[null,null,null,null,null,null,489,48.9,0.53966360034387273,1.0646145450329261,0.10704246066226528,0.93831121198082579,1.0791149762373433,1.0233163603100761,0.54244417319213634,1.3838780927235808,1.0608233642793237,8.3235288383861107E-3,0,0,null,null,{"$f":"IF(RAND()<poisson_parameter*model!K512,1,0)","v":0},{"$f":"IF(RAND()<(K501^quadratic_condition*L501-$T$21)*$T$22*(1+pref_attach_on*SUM($X$35:X511)),1,0)","v":0},478,{"$f":"IF(AND(SUM($X$35:X511)=0,X512=1),Y512,\"\")","v":""}]
[null,null,null,null,null,null,490,49,0.53960270248640807,1.0646145452751383,0.10707969888873892,0.93831121297640641,1.0791150065567727,1.0233149338725818,0.54244651183633819,1.3838812790972523,1.060842764574415,8.1610017884465452E-3,0,0,null,null,{"$f":"IF(RAND()<poisson_parameter*model!K513,1,0)","v":0},{"$f":"IF(RAND()<(K502^quadratic_condition*L502-$T$21)*$T$22*(1+pref_attach_on*SUM($X$35:X512)),1,0)","v":0},479,{"$f":"IF(AND(SUM($X$35:X512)=0,X513=1),Y513,\"\")","v":""}]
[null,null,null,null,null,null,491,49.1,0.5395438130390513,1.0646145455062319,0.10711690758469311,0.93831121393074246,1.0791150353564376,1.0233131234914663,0.54244879864101958,1.3838836510587125,1.0608610709575399,8.0017127797602904E-3,0,0,null,null,{"$f":"IF(RAND()<poisson_parameter*model!K514,1,0)","v":0},{"$f":"IF(RAND()<(K503^quadratic_condition*L503-$T$21)*$T$22*(1+pref_attach_on*SUM($X$35:X513)),1,0)","v":0},480,{"$f":"IF(AND(SUM($X$35:X513)=0,X514=1),Y514,\"\")","v":""}]
[null,null,null,null,null,null,492,49.2,0.53948687187324862,1.0646145457267171,0.10715408216860656,0.93831121484554258,1.0791150627125159,1.0233109431093124,0.5424510428970849,1.3838852665259136,1.0608783369443331,7.8455949738028864E-3,0,0,null,null,{"$f":"IF(RAND()<poisson_parameter*model!K515,1,0)","v":0},{"$f":"IF(RAND()<(K504^quadratic_condition*L504-$T$21)*$T$22*(1+pref_attach_on*SUM($X$35:X514)),1,0)","v":0},481,{"$f":"IF(AND(SUM($X$35:X514)=0,X515=1),Y515,\"\")","v":""}]
[null,null,null,null,null,null,493,49.3,0.53943182051279581,1.064614545937081,0.10719121821573438,0.93831121572244469,1.0791150886973677,1.0233084065809077,0.54245325330481586,1.3838861802155991,1.0608946136676027,7.6925829888799015E-3,0,0,null,null,{"$f":"IF(RAND()<poisson_parameter*model!K516,1,0)","v":0},{"$f":"IF(RAND()<(K505^quadratic_condition*L505-$T$21)*$T$22*(1+pref_attach_on*SUM($X$35:X515)),1,0)","v":0},482,{"$f":"IF(AND(SUM($X$35:X515)=0,X516=1),Y516,\"\")","v":""}]
[null,null,null,null,null,null,494,49.4,0.53937860209455624,1.0646145461377881,0.10722831145377547,0.93831121656301886,1.0791151133797259,1.0233055276485794,0.54245543799575924,1.383886443801519,1.0609099499750878,7.5426128662684231E-3,0,0,null,null,{"$f":"IF(RAND()<poisson_parameter*model!K517,1,0)","v":0},{"$f":"IF(RAND()<(K506^quadratic_condition*L506-$T$21)*$T$22*(1+pref_attach_on*SUM($X$35:X516)),1,0)","v":0},483,{"$f":"IF(AND(SUM($X$35:X516)=0,X517=1),Y517,\"\")","v":""}]
[null,null,null,null,null,null,495,49.5,0.53932716132975833,1.0646145463292818,0.10726535775864396,0.93831121736876999,1.0791151368248779,1.0233023199194962,0.54245760455435321,1.3838861060653225,1.0609243925235849,7.395622037172209E-3,0,0,null,null,{"$f":"IF(RAND()<poisson_parameter*model!K518,1,0)","v":0},{"$f":"IF(RAND()<(K507^quadratic_condition*L507-$T$21)*$T$22*(1+pref_attach_on*SUM($X$35:X517)),1,0)","v":0},484,{"$f":"IF(AND(SUM($X$35:X517)=0,X518=1),Y518,\"\")","v":""}]
[null,null,null,null,null,null,496,49.6,0.53927744446588821,1.0646145465119849,0.10730235315034307,0.93831121814114082,1.0791151590948389,1.0232987968448508,0.54245976003926233,1.383885213040448,1.0609379858695565,7.2515492904730453E-3,0,0,null,null,{"$f":"IF(RAND()<poisson_parameter*model!K519,1,0)","v":0},{"$f":"IF(RAND()<(K508^quadratic_condition*L508-$T$21)*$T$22*(1+pref_attach_on*SUM($X$35:X518)),1,0)","v":0},485,{"$f":"IF(AND(SUM($X$35:X518)=0,X519=1),Y519,\"\")","v":""}]
[null,null,null,null,null,null,497,49.7,0.53922939924919178,1.0646145466863011,0.10733929378893949,0.93831121888151414,1.0791151802485153,1.023294971700841,0.54246191100439267,1.3838838081493232,1.0609507725563316,7.1103347412609973E-3,0,0,null,null,{"$f":"IF(RAND()<poisson_parameter*model!K520,1,0)","v":0},{"$f":"IF(RAND()<(K509^quadratic_condition*L509-$T$21)*$T$22*(1+pref_attach_on*SUM($X$35:X519)),1,0)","v":0},486,{"$f":"IF(AND(SUM($X$35:X519)=0,X520=1),Y520,\"\")","v":""}]
[null,null,null,null,null,null,498,49.8,0.53918297488779754,1.0646145468526151,0.10737617597063652,0.93831121959121544,1.0791152003418611,1.0232908575713648,0.54246406351956411,1.3838819323341669,1.0609627931980097,6.9719198001263367E-3,0,0,null,null,{"$f":"IF(RAND()<poisson_parameter*model!K521,1,0)","v":0},{"$f":"IF(RAND()<(K510^quadratic_condition*L510-$T$21)*$T$22*(1+pref_attach_on*SUM($X$35:X520)),1,0)","v":0},487,{"$f":"IF(AND(SUM($X$35:X520)=0,X521=1),Y521,\"\")","v":""}]
[null,null,null,null,null,null,499,49.9,0.53913812201547107,1.0646145470112947,0.10741299612394438,0.93831122027151548,1.0791152194280256,1.0232864673323512,0.54246622319081683,1.3838796241816786,1.060974086560172,6.8362471431960932E-3,0,0,null,null,{"$f":"IF(RAND()<poisson_parameter*model!K522,1,0)","v":0},{"$f":"IF(RAND()<(K511^quadratic_condition*L511-$T$21)*$T$22*(1+pref_attach_on*SUM($X$35:X521)),1,0)","v":0},488,{"$f":"IF(AND(SUM($X$35:X521)=0,X522=1),Y522,\"\")","v":""}]
[]
[null,null,null,null,null,null,null,null,{"$f":"SUM(I24:I522)","v":234.66564326808515},443.43219214927331,194.61622970290912,396.57056007306267,315.5607365076234,288.95540480576966,172.14112388451801,237.90699720438357,331.15866771791895,36.66419114080383,null,{"$f":"SUM(T24:T522)","v":0},{"$f":"SUM(W35:W522)","v":0}]
[]
[null,null,null,null,null,null,null,null,null,null,null,null,null,null,null,null,null,null,null,1]
[null,null,null,null,null,null,null,null,null,null,null,null,null,null,null,null,null,null,null,2]
[null,null,null,null,null,null,null,null,null,null,null,null,null,null,null,null,null,null,null,3]
[null,null,null,null,null,null,null,null,null,null,null,null,null,null,null,null,null,null,null,4]
[null,null,null,null,null,null,null,null,null,null,null,null,null,null,null,null,null,null,null,5]
[null,null,null,null,null,null,null,null,null,null,null,null,null,null,null,null,null,null,null,6]
[null,null,null,null,null,null,null,null,null,null,null,null,null,null,null,null,null,null,null,7]
[null,null,null,null,null,null,null,null,null,null,null,null,null,null,null,null,null,null,null,8]
[null,null,null,null,null,null,null,null,null,null,null,null,null,null,null,null,null,null,null,9]
[null,null,null,null,null,null,null,null,null,null,null,null,null,null,null,null,null,null,null,10]
[null,null,null,null,null,null,null,null,null,null,null,null,null,null,null,"slope productivity",null,null,null,11]
[null,null,null,null,null,null,null,null,null,null,null,null,null,1,{"$f":"SUM(X35:X74)","v":0},{"$f":"SLOPE(T24:T522,time_for_slope)","v":0},null,null,null,12]
[null,null,null,null,null,null,null,null,null,null,null,null,null,2,{"$f":"SUM(X75:X114)","v":0},null,null,null,null,13]
[null,null,null,null,null,null,null,null,null,null,null,null,null,3,{"$f":"SUM(X115:X154)","v":0},null,null,null,null,14]
[null,null,null,null,null,null,null,null,null,null,null,null,null,4,{"$f":"SUM(X155:X194)","v":0},null,null,null,null,15]
[null,null,null,null,null,null,null,null,null,null,null,null,null,5,{"$f":"SUM(X195:X234)","v":0},null,null,null,null,16]
[null,null,null,null,null,null,null,null,null,null,null,null,null,6,{"$f":"SUM(X236:X274)","v":0},null,null,null,null,17]
[null,null,null,null,null,null,null,null,null,null,null,null,null,7,{"$f":"SUM(X275:X315)","v":0},null,null,null,null,18]
[null,null,null,null,null,null,null,null,null,null,null,null,null,8,{"$f":"SUM(X315:X354)","v":0},null,null,null,null,19]
[null,null,null,null,null,null,null,null,null,null,null,null,null,9,{"$f":"SUM(X355:X394)","v":0},null,null,null,null,20]
[null,null,null,null,null,null,null,null,null,null,null,null,null,10,{"$f":"SUM(X395:X434)","v":0},null,null,null,null,21]
[null,null,null,null,null,null,null,null,null,null,null,null,null,11,{"$f":"SUM(X435:X474)","v":0},null,null,null,null,22]
[null,null,null,null,null,null,null,null,null,null,null,null,null,12,{"$f":"SUM(V475:V533)","v":0},null,null,null,null,23]
[null,null,null,null,null,null,null,null,null,null,null,null,null,null,null,null,null,null,null,24]
[null,null,null,null,null,null,null,null,null,null,null,null,null,null,null,null,null,null,null,25]
[null,null,null,null,null,null,null,null,null,null,null,null,null,null,null,null,null,null,null,26]
[null,null,null,null,null,null,null,null,null,null,null,null,null,null,null,null,null,null,null,27]
[null,null,null,null,null,null,null,null,null,null,null,null,null,null,null,null,null,null,null,28]
[null,null,null,null,null,null,null,null,null,null,null,null,null,null,null,null,null,null,null,29]
[null,null,null,null,null,null,null,null,null,null,null,null,null,null,null,null,null,null,null,30]
[null,null,null,null,null,null,null,null,null,null,null,null,null,null,null,null,null,null,null,31]
[null,null,null,null,null,null,null,null,null,null,null,null,null,null,null,null,null,null,null,32]
[null,null,null,null,null,null,null,null,null,null,null,null,null,null,null,null,null,null,null,33]
[null,null,null,null,null,null,null,null,null,null,null,null,null,null,null,null,null,null,null,34]
[null,null,null,null,null,null,null,null,null,null,null,null,null,null,null,null,null,null,null,35]
[null,null,null,null,null,null,null,null,null,null,null,null,null,null,null,null,null,null,null,36]
[null,null,null,null,null,null,null,null,null,null,null,null,null,null,null,null,null,null,null,37]
[null,null,null,null,null,null,null,null,null,null,null,null,null,null,null,null,null,null,null,38]
[null,null,null,null,null,null,null,null,null,null,null,null,null,null,null,null,null,null,null,39]
[null,null,null,null,null,null,null,null,null,null,null,null,null,null,null,null,null,null,null,40]
[null,null,null,null,null,null,null,null,null,null,null,null,null,null,null,null,null,null,null,41]
[null,null,null,null,null,null,null,null,null,null,null,null,null,null,null,null,null,null,null,42]
[null,null,null,null,null,null,null,null,null,null,null,null,null,null,null,null,null,null,null,43]
[null,null,null,null,null,null,null,null,"grower1","grower2","grower3","grower4","grower5","grower6","grower7","grower8","grower9","grower10",null,44]
[null,null,null,null,null,null,null,null,{"$f":"I24","v":4.2708443826995788E-3},{"$f":"J24","v":2.1177562023513022E-2},{"$f":"K24","v":3.3307219028938566E-2},{"$f":"L24","v":3.7713279796298599E-2},2.1303850726690145E-2,2.5294713350012901E-2,7.8630453674122698E-3,7.9670280567370362E-3,8.0236639012582611E-3,3.5447545617353172E-2,null,45]
[null,null,null,null,null,null,null,null,{"$f":"I44","v":1.1642348745290952E-2},{"$f":"J44","v":5.357073821040733E-2},{"$f":"K44","v":8.8875454344504334E-2},{"$f":"L44","v":8.3520984386193334E-2},2.1303850726690145E-2,3.3883315707111852E-2,7.8630453674122698E-3,7.9670280567370362E-3,8.0236639012582611E-3,3.5447545617353172E-2,null,46]
[null,null,null,null,null,null,null,null,{"$f":"I64","v":3.1154142051432111E-2},{"$f":"J64","v":0.1292793103493079},{"$f":"K64","v":0.21769837428324987},{"$f":"L64","v":0.17420773333912346},2.1303850726690145E-2,6.6668678936466635E-2,7.8630453674122698E-3,7.9670280567370362E-3,1.4039047779695293E-2,3.5447545617353172E-2,null,47]
[null,null,null,null,null,null,null,null,{"$f":"I84","v":7.9095326340065997E-2},{"$f":"J84","v":0.28175602920703058},{"$f":"K84","v":0.4469863475746178},{"$f":"L84","v":0.32582562771236023},2.1303850726690145E-2,0.11496031819677101,7.8630453674122698E-3,7.9670280567370362E-3,3.753407502849973E-2,3.5447545617353172E-2,null,48]
[null,null,null,null,null,null,null,null,{"$f":"I104","v":0.17796117240811321},{"$f":"J104","v":0.51415069643776146},{"$f":"K104","v":0.70638291796173192},{"$f":"L104","v":0.51963309533556734},2.1303850726690145E-2,0.16289974122661674,7.8630453674122698E-3,7.9670280567370362E-3,9.298186448870778E-2,3.5447545617353172E-2,null,49]
[null,null,null,null,null,null,null,null,{"$f":"I124","v":0.32233028326473545},{"$f":"J124","v":0.75267446721920017},{"$f":"K124","v":0.86884693797902013},{"$f":"L124","v":0.69740563339650796},2.1303850726690145E-2,0.18953301985580945,7.8630453674122698E-3,7.9670280567370362E-3,0.20232225469049242,3.5447545617353172E-2,null,50]
[null,null,null,null,null,null,null,null,{"$f":"I144","v":0.44667801805809482},{"$f":"J144","v":0.91689236171532662},{"$f":"K144","v":0.91761304024469637},{"$f":"L144","v":0.81724669349466073},2.1303850726690145E-2,0.19399780824331639,7.8630453674122698E-3,7.9670280567370362E-3,0.36453152566439634,3.5447545617353172E-2,null,51]
[null,null,null,null,null,null,null,null,{"$f":"I164","v":0.50066801956954021},{"$f":"J164","v":1.001707192915261},{"$f":"K164","v":0.91570848760279544},{"$f":"L164","v":0.88225130151719056},3.0382158416311165E-2,0.1878371260861266,9.6255397869121351E-3,7.9670280567370362E-3,0.53023237621967767,3.5447545617353172E-2,null,52]
[null,null,null,null,null,null,null,null,{"$f":"I184","v":0.50491197365111307},{"$f":"J184","v":1.0391433974600999},{"$f":"K184","v":0.89592579146106111},{"$f":"L184","v":0.9134124896076492},8.1645856622432428E-2,0.18057062941849422,2.6597536334806649E-2,7.9670280567370362E-3,0.64713065285820226,4.7112610593149896E-2,null,53]
[null,null,null,null,null,null,null,null,{"$f":"I204","v":0.49670284347230648},{"$f":"J204","v":1.0545199026787235},{"$f":"K204","v":0.85467402109315893},{"$f":"L204","v":0.92746486072524137},0.20259877476291877,0.17896328523878866,7.2895240871792805E-2,7.9670280567370362E-3,0.70997923883225023,6.1430355548979534E-2,null,54]
[null,null,null,null,null,null,null,null,{"$f":"I224","v":0.49969801297686023},{"$f":"J224","v":1.0606483626041445},{"$f":"K224","v":0.77119608896625658},{"$f":"L224","v":0.93362688803994198},0.42584509032703666,0.19293170284752156,0.18864716068095558,7.9670280567370362E-3,0.73892146805285808,7.9510852916181179E-2,null,55]
[null,null,null,null,null,null,null,null,{"$f":"I244","v":0.53131625865541077},{"$f":"J244","v":1.063061568707323},{"$f":"K244","v":0.64234894103414031},{"$f":"L244","v":0.93629573617567596},0.6983658654618754,0.24632058159948828,0.41080524730482471,7.9670280567370362E-3,0.75128664256891997,0.10183441023688393,null,56]
[null,null,null,null,null,null,null,null,{"$f":"I264","v":0.59751821736447419},{"$f":"J264","v":1.0640072905295399},{"$f":"K264","v":0.5026461263923695},{"$f":"L264","v":0.93744544725086987},0.90357545946263218,0.3862961941559902,0.65182434799592492,1.8764939512486183E-2,0.75699112838692462,0.12641741557176345,null,57]
[null,null,null,null,null,null,null,null,{"$f":"I284","v":0.66686932825214684},{"$f":"J284","v":1.0643772196965737},{"$f":"K284","v":0.38634297614874785},{"$f":"L284","v":0.93793958269688693},1.009127804400435,0.63838620416906522,0.74586024551234587,4.8517767202279891E-2,0.76188095180387472,0.1504204877521429,null,58]
[null,null,null,null,null,null,null,null,{"$f":"I304","v":0.69777123710855482},{"$f":"J304","v":1.0645218153519127},{"$f":"K304","v":0.30280627360284423},{"$f":"L304","v":0.93815174586078809},1.053019320979049,0.89306020458887181,0.70029298153870989,0.12217974914407756,0.77041913051711941,0.17196373519702635,null,59]
[null,null,null,null,null,null,null,null,{"$f":"I324","v":0.69052503510160268},{"$f":"J324","v":1.0645783178173138},{"$f":"K324","v":0.1236180540313366},{"$f":"L324","v":0.93824280171140084},1.0696399089713806,1.0224449885020326,0.62483638065240688,0.28394707081537907,0.78929167500444786,0.18497854166100475,null,60]
[null,null,null,null,null,null,null,null,{"$f":"I344","v":0.66641283626595538},{"$f":"J344","v":1.0646003943514246},{"$f":"K344","v":0.11618047332306169},{"$f":"L344","v":0.93828187372988381},1.0757086797944575,1.0678680828756624,0.57073450950678029,0.56209643381162722,0.82725666277385224,0.17851601466889416,null,61]
[null,null,null,null,null,null,null,null,{"$f":"I364","v":0.63747422373382701},{"$f":"J364","v":1.0646090196745672},{"$f":"K364","v":0.11085424715070606},{"$f":"L364","v":0.93829863818958481},1.0778950288521487,1.0578769335952465,0.54409408928794856,0.88957869811213885,0.88628543777119284,0.14882056360121554,null,62]
[null,null,null,null,null,null,null,null,{"$f":"I384","v":0.60894777549491097},{"$f":"J384","v":1.0646123895389867},{"$f":"K384","v":0.10745763969666529},{"$f":"L384","v":0.9383058309992236},1.0786788690004532,1.03994596000421,0.53614423226965702,1.1428033288133586,0.95137730557875821,0.10911391047641988,null,63]
[null,null,null,null,null,null,null,null,{"$f":"I404","v":0.58440269823856184},{"$f":"J404","v":1.0646137061169436},{"$f":"K404","v":0.10561682785359819},{"$f":"L404","v":0.93830891703716712},1.0789593979412242,1.0283728817865845,0.5364872219213177,1.2830003179186285,1.0026659736766537,7.4392577671628005E-2,null,64]
[null,null,null,null,null,null,null,null,{"$f":"I424","v":0.56608184703469311},{"$f":"J424","v":1.0646142204916411},{"$f":"K424","v":0.10490534992680386},{"$f":"L424","v":0.93831024107760408},1.0790597338700894,1.0235513769144067,0.53889785653519495,1.3460587806421238,1.0337555897633321,4.939518557976811E-2,null,65]
[null,null,null,null,null,null,null,null,{"$f":"I444","v":0.55397130768427583},{"$f":"J444","v":1.0646144214528208},{"$f":"K444","v":0.10492430926518451},{"$f":"L444","v":0.93831080914527576},1.0790956126943685,1.0224980428059567,0.54085006882045916,1.3711212111380078,1.049514400007991,3.2680625049701338E-2,null,66]
[null,null,null,null,null,null,null,null,{"$f":"I464","v":0.54664869771102398},{"$f":"J464","v":1.0646144999663634},{"$f":"K464","v":0.10536316523399682},{"$f":"L464","v":0.93831105286933469},1.0791084414701664,1.0227633173530188,0.5418880729322243,1.3801751665645516,1.0566031296856557,2.1716316260659421E-2,null,67]
[null,null,null,null,null,null,null,null,{"$f":"I484","v":0.54248866854727973},{"$f":"J484","v":1.0646145306408217},{"$f":"K484","v":0.10601233111132806},{"$f":"L484","v":0.93831115743678428},1.079113028375893,1.0231486832159133,0.54229688072400672,1.3830802776750557,1.0595194298657029,1.4513946014892511E-2,null,68]
[null,null,null,null,null,null,null,null,null,null,null,null,null,null,null,null,null,null,null,69]
[null,null,null,null,null,null,null,null,null,null,null,null,null,null,null,null,null,null,null,70]
[null,null,null,null,null,null,null,null,null,null,null,null,null,null,null,null,null,null,null,71]
[null,null,null,null,null,null,null,null,null,null,null,null,null,null,null,null,null,null,null,72]
[null,null,null,null,null,null,null,null,null,null,null,null,null,null,null,null,null,null,null,73]
[null,null,null,null,null,null,null,null,null,null,null,null,null,null,null,null,null,null,null,74]
[null,null,null,null,null,null,null,null,null,null,null,null,null,null,null,null,null,null,null,75]
[null,null,null,null,null,null,null,null,null,null,null,null,null,null,null,null,null,null,null,76]
[null,null,null,null,null,null,null,null,null,null,null,null,null,null,null,null,null,null,null,77]
[null,null,null,null,null,null,null,null,null,null,null,null,null,null,null,null,null,null,null,78]
[null,null,null,null,null,null,null,null,null,null,null,null,null,null,null,null,null,null,null,79]
[null,null,null,null,null,null,null,null,null,null,null,null,null,null,null,null,null,null,null,80]
[null,null,null,null,null,null,null,null,null,null,null,null,null,null,null,null,null,null,null,81]
[null,null,null,null,null,null,null,null,null,null,null,null,null,null,null,null,null,null,null,82]
[null,null,null,null,null,null,null,null,null,null,null,null,null,null,null,null,null,null,null,83]
[null,null,null,null,null,null,null,null,null,null,null,null,null,null,null,null,null,null,null,84]
[null,null,null,null,null,null,null,null,null,null,null,null,null,null,null,null,null,null,null,85]
[null,null,null,null,null,null,null,null,null,null,null,null,null,null,null,null,null,null,null,86]
[null,null,null,null,null,null,null,null,null,null,null,null,null,null,null,null,null,null,null,87]
[null,null,null,null,null,null,null,null,null,null,null,null,null,null,null,null,null,null,null,88]
[null,null,null,null,null,null,null,null,null,null,null,null,null,null,null,null,null,null,null,89]
[null,null,null,null,null,null,null,null,null,null,null,null,null,null,null,null,null,null,null,90]
[null,null,null,null,null,null,null,null,null,null,null,null,null,null,null,null,null,null,null,91]
[null,null,null,null,null,null,null,null,null,null,null,null,null,null,null,null,null,null,null,92]
[null,null,null,null,null,null,null,null,null,null,null,null,null,null,null,null,null,null,null,93]
[null,null,null,null,null,null,null,null,null,null,null,null,null,null,null,null,null,null,null,94]
[null,null,null,null,null,null,null,null,null,null,null,null,null,null,null,null,null,null,null,95]
[null,null,null,null,null,null,null,null,null,null,null,null,null,null,null,null,null,null,null,96]
[null,null,null,null,null,null,null,null,null,null,null,null,null,null,null,null,null,null,null,97]
[null,null,null,null,null,null,null,null,null,null,null,null,null,null,null,null,null,null,null,98]
[null,null,null,null,null,null,null,null,null,null,null,null,null,null,null,null,null,null,null,99]
[null,null,null,null,null,null,null,null,null,null,null,null,null,null,null,null,null,null,null,100]
[null,null,null,null,null,null,null,null,null,null,null,null,null,null,null,null,null,null,null,101]
[null,null,null,null,null,null,null,null,null,null,null,null,null,null,null,null,null,null,null,102]
[null,null,null,null,null,null,null,null,null,null,null,null,null,null,null,null,null,null,null,103]
[null,null,null,null,null,null,null,null,null,null,null,null,null,null,null,null,null,null,null,104]
[null,null,null,null,null,null,null,null,null,null,null,null,null,null,null,null,null,null,null,105]
[null,null,null,null,null,null,null,null,null,null,null,null,null,null,null,null,null,null,null,106]
[null,null,null,null,null,null,null,null,null,null,null,null,null,null,null,null,null,null,null,107]
[null,null,null,null,null,null,null,null,null,null,null,null,null,null,null,null,null,null,null,108]
[null,null,null,null,null,null,null,null,null,null,null,null,null,null,null,null,null,null,null,109]
[null,null,null,null,null,null,null,null,null,null,null,null,null,null,null,null,null,null,null,110]
[null,null,null,null,null,null,null,null,null,null,null,null,null,null,null,null,null,null,null,111]
[null,null,null,null,null,null,null,null,null,null,null,null,null,null,null,null,null,null,null,112]
[null,null,null,null,null,null,null,null,null,null,null,null,null,null,null,null,null,null,null,113]
[null,null,null,null,null,null,null,null,null,null,null,null,null,null,null,null,null,null,null,114]
[null,null,null,null,null,null,null,null,null,null,null,null,null,null,null,null,null,null,null,115]
[null,null,null,null,null,null,null,null,null,null,null,null,null,null,null,null,null,null,null,116]
[null,null,null,null,null,null,null,null,null,null,null,null,null,null,null,null,null,null,null,117]
[null,null,null,null,null,null,null,null,null,null,null,null,null,null,null,null,null,null,null,118]
[null,null,null,null,null,null,null,null,null,null,null,null,null,null,null,null,null,null,null,119]
[null,null,null,null,null,null,null,null,null,null,null,null,null,null,null,null,null,null,null,120]
[null,null,null,null,null,null,null,null,null,null,null,null,null,null,null,null,null,null,null,121]
[null,null,null,null,null,null,null,null,null,null,null,null,null,null,null,null,null,null,null,122]
[null,null,null,null,null,null,null,null,null,null,null,null,null,null,null,null,null,null,null,123]
[null,null,null,null,null,null,null,null,null,null,null,null,null,null,null,null,null,null,null,124]
[null,null,null,null,null,null,null,null,null,null,null,null,null,null,null,null,null,null,null,125]
[null,null,null,null,null,null,null,null,null,null,null,null,null,null,null,null,null,null,null,126]
[null,null,null,null,null,null,null,null,null,null,null,null,null,null,null,null,null,null,null,127]
[null,null,null,null,null,null,null,null,null,null,null,null,null,null,null,null,null,null,null,128]
[null,null,null,null,null,null,null,null,null,null,null,null,null,null,null,null,null,null,null,129]
[null,null,null,null,null,null,null,null,null,null,null,null,null,null,null,null,null,null,null,130]
[null,null,null,null,null,null,null,null,null,null,null,null,null,null,null,null,null,null,null,131]
[null,null,null,null,null,null,null,null,null,null,null,null,null,null,null,null,null,null,null,132]
[null,null,null,null,null,null,null,null,null,null,null,null,null,null,null,null,null,null,null,133]
[null,null,null,null,null,null,null,null,null,null,null,null,null,null,null,null,null,null,null,134]
[null,null,null,null,null,null,null,null,null,null,null,null,null,null,null,null,null,null,null,135]
[null,null,null,null,null,null,null,null,null,null,null,null,null,null,null,null,null,null,null,136]
[null,null,null,null,null,null,null,null,null,null,null,null,null,null,null,null,null,null,null,137]
[null,null,null,null,null,null,null,null,null,null,null,null,null,null,null,null,null,null,null,138]
[null,null,null,null,null,null,null,null,null,null,null,null,null,null,null,null,null,null,null,139]
[null,null,null,null,null,null,null,null,null,null,null,null,null,null,null,null,null,null,null,140]
[null,null,null,null,null,null,null,null,null,null,null,null,null,null,null,null,null,null,null,141]
[null,null,null,null,null,null,null,null,null,null,null,null,null,null,null,null,null,null,null,142]
[null,null,null,null,null,null,null,null,null,null,null,null,null,null,null,null,null,null,null,143]
[null,null,null,null,null,null,null,null,null,null,null,null,null,null,null,null,null,null,null,144]
[null,null,null,null,null,null,null,null,null,null,null,null,null,null,null,null,null,null,null,145]
[null,null,null,null,null,null,null,null,null,null,null,null,null,null,null,null,null,null,null,146]
[null,null,null,null,null,null,null,null,null,null,null,null,null,null,null,null,null,null,null,147]
[null,null,null,null,null,null,null,null,null,null,null,null,null,null,null,null,null,null,null,148]
[null,null,null,null,null,null,null,null,null,null,null,null,null,null,null,null,null,null,null,149]
[null,null,null,null,null,null,null,null,null,null,null,null,null,null,null,null,null,null,null,150]
[null,null,null,null,null,null,null,null,null,null,null,null,null,null,null,null,null,null,null,151]
[null,null,null,null,null,null,null,null,null,null,null,null,null,null,null,null,null,null,null,152]
[null,null,null,null,null,null,null,null,null,null,null,null,null,null,null,null,null,null,null,153]
[null,null,null,null,null,null,null,null,null,null,null,null,null,null,null,null,null,null,null,154]
[null,null,null,null,null,null,null,null,null,null,null,null,null,null,null,null,null,null,null,155]
[null,null,null,null,null,null,null,null,null,null,null,null,null,null,null,null,null,null,null,156]
[null,null,null,null,null,null,null,null,null,null,null,null,null,null,null,null,null,null,null,157]
[null,null,null,null,null,null,null,null,null,null,null,null,null,null,null,null,null,null,null,158]
[null,null,null,null,null,null,null,null,null,null,null,null,null,null,null,null,null,null,null,159]
[null,null,null,null,null,null,null,null,null,null,null,null,null,null,null,null,null,null,null,160]
[null,null,null,null,null,null,null,null,null,null,null,null,null,null,null,null,null,null,null,161]
[null,null,null,null,null,null,null,null,null,null,null,null,null,null,null,null,null,null,null,162]
[null,null,null,null,null,null,null,null,null,null,null,null,null,null,null,null,null,null,null,163]
[null,null,null,null,null,null,null,null,null,null,null,null,null,null,null,null,null,null,null,164]
[null,null,null,null,null,null,null,null,null,null,null,null,null,null,null,null,null,null,null,165]
[null,null,null,null,null,null,null,null,null,null,null,null,null,null,null,null,null,null,null,166]
[null,null,null,null,null,null,null,null,null,null,null,null,null,null,null,null,null,null,null,167]
[null,null,null,null,null,null,null,null,null,null,null,null,null,null,null,null,null,null,null,168]
[null,null,null,null,null,null,null,null,null,null,null,null,null,null,null,null,null,null,null,169]
[null,null,null,null,null,null,null,null,null,null,null,null,null,null,null,null,null,null,null,170]
[null,null,null,null,null,null,null,null,null,null,null,null,null,null,null,null,null,null,null,171]
[null,null,null,null,null,null,null,null,null,null,null,null,null,null,null,null,null,null,null,172]
[null,null,null,null,null,null,null,null,null,null,null,null,null,null,null,null,null,null,null,173]
[null,null,null,null,null,null,null,null,null,null,null,null,null,null,null,null,null,null,null,174]
[null,null,null,null,null,null,null,null,null,null,null,null,null,null,null,null,null,null,null,175]
[null,null,null,null,null,null,null,null,null,null,null,null,null,null,null,null,null,null,null,176]
[null,null,null,null,null,null,null,null,null,null,null,null,null,null,null,null,null,null,null,177]
[null,null,null,null,null,null,null,null,null,null,null,null,null,null,null,null,null,null,null,178]
[null,null,null,null,null,null,null,null,null,null,null,null,null,null,null,null,null,null,null,179]
[null,null,null,null,null,null,null,null,null,null,null,null,null,null,null,null,null,null,null,180]
[null,null,null,null,null,null,null,null,null,null,null,null,null,null,null,null,null,null,null,181]
[null,null,null,null,null,null,null,null,null,null,null,null,null,null,null,null,null,null,null,182]
[null,null,null,null,null,null,null,null,null,null,null,null,null,null,null,null,null,null,null,183]
[null,null,null,null,null,null,null,null,null,null,null,null,null,null,null,null,null,null,null,184]
[null,null,null,null,null,null,null,null,null,null,null,null,null,null,null,null,null,null,null,185]
[null,null,null,null,null,null,null,null,null,null,null,null,null,null,null,null,null,null,null,186]
[null,null,null,null,null,null,null,null,null,null,null,null,null,null,null,null,null,null,null,187]
[null,null,null,null,null,null,null,null,null,null,null,null,null,null,null,null,null,null,null,188]
[null,null,null,null,null,null,null,null,null,null,null,null,null,null,null,null,null,null,null,189]
[null,null,null,null,null,null,null,null,null,null,null,null,null,null,null,null,null,null,null,190]
[null,null,null,null,null,null,null,null,null,null,null,null,null,null,null,null,null,null,null,191]
[null,null,null,null,null,null,null,null,null,null,null,null,null,null,null,null,null,null,null,192]
[null,null,null,null,null,null,null,null,null,null,null,null,null,null,null,null,null,null,null,193]
[null,null,null,null,null,null,null,null,null,null,null,null,null,null,null,null,null,null,null,194]
[null,null,null,null,null,null,null,null,null,null,null,null,null,null,null,null,null,null,null,195]
[null,null,null,null,null,null,null,null,null,null,null,null,null,null,null,null,null,null,null,196]
[null,null,null,null,null,null,null,null,null,null,null,null,null,null,null,null,null,null,null,197]
[null,null,null,null,null,null,null,null,null,null,null,null,null,null,null,null,null,null,null,198]
[null,null,null,null,null,null,null,null,null,null,null,null,null,null,null,null,null,null,null,199]
[null,null,null,null,null,null,null,null,null,null,null,null,null,null,null,null,null,null,null,200]
[null,null,null,null,null,null,null,null,null,null,null,null,null,null,null,null,null,null,null,201]
[null,null,null,null,null,null,null,null,null,null,null,null,null,null,null,null,null,null,null,202]
[null,null,null,null,null,null,null,null,null,null,null,null,null,null,null,null,null,null,null,203]
[null,null,null,null,null,null,null,null,null,null,null,null,null,null,null,null,null,null,null,204]
[null,null,null,null,null,null,null,null,null,null,null,null,null,null,null,null,null,null,null,205]
[null,null,null,null,null,null,null,null,null,null,null,null,null,null,null,null,null,null,null,206]
[null,null,null,null,null,null,null,null,null,null,null,null,null,null,null,null,null,null,null,207]
[null,null,null,null,null,null,null,null,null,null,null,null,null,null,null,null,null,null,null,208]
[null,null,null,null,null,null,null,null,null,null,null,null,null,null,null,null,null,null,null,209]
[null,null,null,null,null,null,null,null,null,null,null,null,null,null,null,null,null,null,null,210]
[null,null,null,null,null,null,null,null,null,null,null,null,null,null,null,null,null,null,null,211]
[null,null,null,null,null,null,null,null,null,null,null,null,null,null,null,null,null,null,null,212]
[null,null,null,null,null,null,null,null,null,null,null,null,null,null,null,null,null,null,null,213]
[null,null,null,null,null,null,null,null,null,null,null,null,null,null,null,null,null,null,null,214]
[null,null,null,null,null,null,null,null,null,null,null,null,null,null,null,null,null,null,null,215]
[null,null,null,null,null,null,null,null,null,null,null,null,null,null,null,null,null,null,null,216]
[null,null,null,null,null,null,null,null,null,null,null,null,null,null,null,null,null,null,null,217]
[null,null,null,null,null,null,null,null,null,null,null,null,null,null,null,null,null,null,null,218]
[null,null,null,null,null,null,null,null,null,null,null,null,null,null,null,null,null,null,null,219]
[null,null,null,null,null,null,null,null,null,null,null,null,null,null,null,null,null,null,null,220]
[null,null,null,null,null,null,null,null,null,null,null,null,null,null,null,null,null,null,null,221]
[null,null,null,null,null,null,null,null,null,null,null,null,null,null,null,null,null,null,null,222]
[null,null,null,null,null,null,null,null,null,null,null,null,null,null,null,null,null,null,null,223]
[null,null,null,null,null,null,null,null,null,null,null,null,null,null,null,null,null,null,null,224]
[null,null,null,null,null,null,null,null,null,null,null,null,null,null,null,null,null,null,null,225]
[null,null,null,null,null,null,null,null,null,null,null,null,null,null,null,null,null,null,null,226]
[null,null,null,null,null,null,null,null,null,null,null,null,null,null,null,null,null,null,null,227]
[null,null,null,null,null,null,null,null,null,null,null,null,null,null,null,null,null,null,null,228]
[null,null,null,null,null,null,null,null,null,null,null,null,null,null,null,null,null,null,null,229]
[null,null,null,null,null,null,null,null,null,null,null,null,null,null,null,null,null,null,null,230]
[null,null,null,null,null,null,null,null,null,null,null,null,null,null,null,null,null,null,null,231]
[null,null,null,null,null,null,null,null,null,null,null,null,null,null,null,null,null,null,null,232]
[null,null,null,null,null,null,null,null,null,null,null,null,null,null,null,null,null,null,null,233]
[null,null,null,null,null,null,null,null,null,null,null,null,null,null,null,null,null,null,null,234]
[null,null,null,null,null,null,null,null,null,null,null,null,null,null,null,null,null,null,null,235]
[null,null,null,null,null,null,null,null,null,null,null,null,null,null,null,null,null,null,null,236]
[null,null,null,null,null,null,null,null,null,null,null,null,null,null,null,null,null,null,null,237]
[null,null,null,null,null,null,null,null,null,null,null,null,null,null,null,null,null,null,null,238]
[null,null,null,null,null,null,null,null,null,null,null,null,null,null,null,null,null,null,null,239]
[null,null,null,null,null,null,null,null,null,null,null,null,null,null,null,null,null,null,null,240]
[null,null,null,null,null,null,null,null,null,null,null,null,null,null,null,null,null,null,null,241]
[null,null,null,null,null,null,null,null,null,null,null,null,null,null,null,null,null,null,null,242]
[null,null,null,null,null,null,null,null,null,null,null,null,null,null,null,null,null,null,null,243]
[null,null,null,null,null,null,null,null,null,null,null,null,null,null,null,null,null,null,null,244]
[null,null,null,null,null,null,null,null,null,null,null,null,null,null,null,null,null,null,null,245]
[null,null,null,null,null,null,null,null,null,null,null,null,null,null,null,null,null,null,null,246]
[null,null,null,null,null,null,null,null,null,null,null,null,null,null,null,null,null,null,null,247]
[null,null,null,null,null,null,null,null,null,null,null,null,null,null,null,null,null,null,null,248]
[null,null,null,null,null,null,null,null,null,null,null,null,null,null,null,null,null,null,null,249]
[null,null,null,null,null,null,null,null,null,null,null,null,null,null,null,null,null,null,null,250]
[null,null,null,null,null,null,null,null,null,null,null,null,null,null,null,null,null,null,null,251]
[null,null,null,null,null,null,null,null,null,null,null,null,null,null,null,null,null,null,null,252]
[null,null,null,null,null,null,null,null,null,null,null,null,null,null,null,null,null,null,null,253]
[null,null,null,null,null,null,null,null,null,null,null,null,null,null,null,null,null,null,null,254]
[null,null,null,null,null,null,null,null,null,null,null,null,null,null,null,null,null,null,null,255]
[null,null,null,null,null,null,null,null,null,null,null,null,null,null,null,null,null,null,null,256]
[null,null,null,null,null,null,null,null,null,null,null,null,null,null,null,null,null,null,null,257]
[null,null,null,null,null,null,null,null,null,null,null,null,null,null,null,null,null,null,null,258]
[null,null,null,null,null,null,null,null,null,null,null,null,null,null,null,null,null,null,null,259]
[null,null,null,null,null,null,null,null,null,null,null,null,null,null,null,null,null,null,null,260]
[null,null,null,null,null,null,null,null,null,null,null,null,null,null,null,null,null,null,null,261]
[null,null,null,null,null,null,null,null,null,null,null,null,null,null,null,null,null,null,null,262]
[null,null,null,null,null,null,null,null,null,null,null,null,null,null,null,null,null,null,null,263]
[null,null,null,null,null,null,null,null,null,null,null,null,null,null,null,null,null,null,null,264]
[null,null,null,null,null,null,null,null,null,null,null,null,null,null,null,null,null,null,null,265]
[null,null,null,null,null,null,null,null,null,null,null,null,null,null,null,null,null,null,null,266]
[null,null,null,null,null,null,null,null,null,null,null,null,null,null,null,null,null,null,null,267]
[null,null,null,null,null,null,null,null,null,null,null,null,null,null,null,null,null,null,null,268]
[null,null,null,null,null,null,null,null,null,null,null,null,null,null,null,null,null,null,null,269]
[null,null,null,null,null,null,null,null,null,null,null,null,null,null,null,null,null,null,null,270]
[null,null,null,null,null,null,null,null,null,null,null,null,null,null,null,null,null,null,null,271]
[null,null,null,null,null,null,null,null,null,null,null,null,null,null,null,null,null,null,null,272]
[null,null,null,null,null,null,null,null,null,null,null,null,null,null,null,null,null,null,null,273]
[null,null,null,null,null,null,null,null,null,null,null,null,null,null,null,null,null,null,null,274]
[null,null,null,null,null,null,null,null,null,null,null,null,null,null,null,null,null,null,null,275]
[null,null,null,null,null,null,null,null,null,null,null,null,null,null,null,null,null,null,null,276]
[null,null,null,null,null,null,null,null,null,null,null,null,null,null,null,null,null,null,null,277]
[null,null,null,null,null,null,null,null,null,null,null,null,null,null,null,null,null,null,null,278]
[null,null,null,null,null,null,null,null,null,null,null,null,null,null,null,null,null,null,null,279]
[null,null,null,null,null,null,null,null,null,null,null,null,null,null,null,null,null,null,null,280]
[null,null,null,null,null,null,null,null,null,null,null,null,null,null,null,null,null,null,null,281]
[null,null,null,null,null,null,null,null,null,null,null,null,null,null,null,null,null,null,null,282]
[null,null,null,null,null,null,null,null,null,null,null,null,null,null,null,null,null,null,null,283]
[null,null,null,null,null,null,null,null,null,null,null,null,null,null,null,null,null,null,null,284]
[null,null,null,null,null,null,null,null,null,null,null,null,null,null,null,null,null,null,null,285]
[null,null,null,null,null,null,null,null,null,null,null,null,null,null,null,null,null,null,null,286]
[null,null,null,null,null,null,null,null,null,null,null,null,null,null,null,null,null,null,null,287]
[null,null,null,null,null,null,null,null,null,null,null,null,null,null,null,null,null,null,null,288]
[null,null,null,null,null,null,null,null,null,null,null,null,null,null,null,null,null,null,null,289]
[null,null,null,null,null,null,null,null,null,null,null,null,null,null,null,null,null,null,null,290]
[null,null,null,null,null,null,null,null,null,null,null,null,null,null,null,null,null,null,null,291]
[null,null,null,null,null,null,null,null,null,null,null,null,null,null,null,null,null,null,null,292]
[null,null,null,null,null,null,null,null,null,null,null,null,null,null,null,null,null,null,null,293]
[null,null,null,null,null,null,null,null,null,null,null,null,null,null,null,null,null,null,null,294]
[null,null,null,null,null,null,null,null,null,null,null,null,null,null,null,null,null,null,null,295]
[null,null,null,null,null,null,null,null,null,null,null,null,null,null,null,null,null,null,null,296]
[null,null,null,null,null,null,null,null,null,null,null,null,null,null,null,null,null,null,null,297]
[null,null,null,null,null,null,null,null,null,null,null,null,null,null,null,null,null,null,null,298]
[null,null,null,null,null,null,null,null,null,null,null,null,null,null,null,null,null,null,null,299]
[null,null,null,null,null,null,null,null,null,null,null,null,null,null,null,null,null,null,null,300]
[null,null,null,null,null,null,null,null,null,null,null,null,null,null,null,null,null,null,null,301]
[null,null,null,null,null,null,null,null,null,null,null,null,null,null,null,null,null,null,null,302]
[null,null,null,null,null,null,null,null,null,null,null,null,null,null,null,null,null,null,null,303]
[null,null,null,null,null,null,null,null,null,null,null,null,null,null,null,null,null,null,null,304]
[null,null,null,null,null,null,null,null,null,null,null,null,null,null,null,null,null,null,null,305]
[null,null,null,null,null,null,null,null,null,null,null,null,null,null,null,null,null,null,null,306]
[null,null,null,null,null,null,null,null,null,null,null,null,null,null,null,null,null,null,null,307]
[null,null,null,null,null,null,null,null,null,null,null,null,null,null,null,null,null,null,null,308]
[null,null,null,null,null,null,null,null,null,null,null,null,null,null,null,null,null,null,null,309]
[null,null,null,null,null,null,null,null,null,null,null,null,null,null,null,null,null,null,null,310]
[null,null,null,null,null,null,null,null,null,null,null,null,null,null,null,null,null,null,null,311]
[null,null,null,null,null,null,null,null,null,null,null,null,null,null,null,null,null,null,null,312]
[null,null,null,null,null,null,null,null,null,null,null,null,null,null,null,null,null,null,null,313]
[null,null,null,null,null,null,null,null,null,null,null,null,null,null,null,null,null,null,null,314]
[null,null,null,null,null,null,null,null,null,null,null,null,null,null,null,null,null,null,null,315]
[null,null,null,null,null,null,null,null,null,null,null,null,null,null,null,null,null,null,null,316]
[null,null,null,null,null,null,null,null,null,null,null,null,null,null,null,null,null,null,null,317]
[null,null,null,null,null,null,null,null,null,null,null,null,null,null,null,null,null,null,null,318]
[null,null,null,null,null,null,null,null,null,null,null,null,null,null,null,null,null,null,null,319]
[null,null,null,null,null,null,null,null,null,null,null,null,null,null,null,null,null,null,null,320]
[null,null,null,null,null,null,null,null,null,null,null,null,null,null,null,null,null,null,null,321]
[null,null,null,null,null,null,null,null,null,null,null,null,null,null,null,null,null,null,null,322]
[null,null,null,null,null,null,null,null,null,null,null,null,null,null,null,null,null,null,null,323]
[null,null,null,null,null,null,null,null,null,null,null,null,null,null,null,null,null,null,null,324]
[null,null,null,null,null,null,null,null,null,null,null,null,null,null,null,null,null,null,null,325]
[null,null,null,null,null,null,null,null,null,null,null,null,null,null,null,null,null,null,null,326]
[null,null,null,null,null,null,null,null,null,null,null,null,null,null,null,null,null,null,null,327]
[null,null,null,null,null,null,null,null,null,null,null,null,null,null,null,null,null,null,null,328]
[null,null,null,null,null,null,null,null,null,null,null,null,null,null,null,null,null,null,null,329]
[null,null,null,null,null,null,null,null,null,null,null,null,null,null,null,null,null,null,null,330]
[null,null,null,null,null,null,null,null,null,null,null,null,null,null,null,null,null,null,null,331]
[null,null,null,null,null,null,null,null,null,null,null,null,null,null,null,null,null,null,null,332]
[null,null,null,null,null,null,null,null,null,null,null,null,null,null,null,null,null,null,null,333]
[null,null,null,null,null,null,null,null,null,null,null,null,null,null,null,null,null,null,null,334]
[null,null,null,null,null,null,null,null,null,null,null,null,null,null,null,null,null,null,null,335]
[null,null,null,null,null,null,null,null,null,null,null,null,null,null,null,null,null,null,null,336]
[null,null,null,null,null,null,null,null,null,null,null,null,null,null,null,null,null,null,null,337]
[null,null,null,null,null,null,null,null,null,null,null,null,null,null,null,null,null,null,null,338]
[null,null,null,null,null,null,null,null,null,null,null,null,null,null,null,null,null,null,null,339]
[null,null,null,null,null,null,null,null,null,null,null,null,null,null,null,null,null,null,null,340]
[null,null,null,null,null,null,null,null,null,null,null,null,null,null,null,null,null,null,null,341]
[null,null,null,null,null,null,null,null,null,null,null,null,null,null,null,null,null,null,null,342]
[null,null,null,null,null,null,null,null,null,null,null,null,null,null,null,null,null,null,null,343]
[null,null,null,null,null,null,null,null,null,null,null,null,null,null,null,null,null,null,null,344]
[null,null,null,null,null,null,null,null,null,null,null,null,null,null,null,null,null,null,null,345]
[null,null,null,null,null,null,null,null,null,null,null,null,null,null,null,null,null,null,null,346]
[null,null,null,null,null,null,null,null,null,null,null,null,null,null,null,null,null,null,null,347]
[null,null,null,null,null,null,null,null,null,null,null,null,null,null,null,null,null,null,null,348]
[null,null,null,null,null,null,null,null,null,null,null,null,null,null,null,null,null,null,null,349]
[null,null,null,null,null,null,null,null,null,null,null,null,null,null,null,null,null,null,null,350]
[null,null,null,null,null,null,null,null,null,null,null,null,null,null,null,null,null,null,null,351]
[null,null,null,null,null,null,null,null,null,null,null,null,null,null,null,null,null,null,null,352]
[null,null,null,null,null,null,null,null,null,null,null,null,null,null,null,null,null,null,null,353]
[null,null,null,null,null,null,null,null,null,null,null,null,null,null,null,null,null,null,null,354]
[null,null,null,null,null,null,null,null,null,null,null,null,null,null,null,null,null,null,null,355]
[null,null,null,null,null,null,null,null,null,null,null,null,null,null,null,null,null,null,null,356]
[null,null,null,null,null,null,null,null,null,null,null,null,null,null,null,null,null,null,null,357]
[null,null,null,null,null,null,null,null,null,null,null,null,null,null,null,null,null,null,null,358]
[null,null,null,null,null,null,null,null,null,null,null,null,null,null,null,null,null,null,null,359]
[null,null,null,null,null,null,null,null,null,null,null,null,null,null,null,null,null,null,null,360]
[null,null,null,null,null,null,null,null,null,null,null,null,null,null,null,null,null,null,null,361]
[null,null,null,null,null,null,null,null,null,null,null,null,null,null,null,null,null,null,null,362]
[null,null,null,null,null,null,null,null,null,null,null,null,null,null,null,null,null,null,null,363]
[null,null,null,null,null,null,null,null,null,null,null,null,null,null,null,null,null,null,null,364]
[null,null,null,null,null,null,null,null,null,null,null,null,null,null,null,null,null,null,null,365]
[null,null,null,null,null,null,null,null,null,null,null,null,null,null,null,null,null,null,null,366]
[null,null,null,null,null,null,null,null,null,null,null,null,null,null,null,null,null,null,null,367]
[null,null,null,null,null,null,null,null,null,null,null,null,null,null,null,null,null,null,null,368]
[null,null,null,null,null,null,null,null,null,null,null,null,null,null,null,null,null,null,null,369]
[null,null,null,null,null,null,null,null,null,null,null,null,null,null,null,null,null,null,null,370]
[null,null,null,null,null,null,null,null,null,null,null,null,null,null,null,null,null,null,null,371]
[null,null,null,null,null,null,null,null,null,null,null,null,null,null,null,null,null,null,null,372]
[null,null,null,null,null,null,null,null,null,null,null,null,null,null,null,null,null,null,null,373]
[null,null,null,null,null,null,null,null,null,null,null,null,null,null,null,null,null,null,null,374]
[null,null,null,null,null,null,null,null,null,null,null,null,null,null,null,null,null,null,null,375]
[null,null,null,null,null,null,null,null,null,null,null,null,null,null,null,null,null,null,null,376]
[null,null,null,null,null,null,null,null,null,null,null,null,null,null,null,null,null,null,null,377]
[null,null,null,null,null,null,null,null,null,null,null,null,null,null,null,null,null,null,null,378]
[null,null,null,null,null,null,null,null,null,null,null,null,null,null,null,null,null,null,null,379]
[null,null,null,null,null,null,null,null,null,null,null,null,null,null,null,null,null,null,null,380]
[null,null,null,null,null,null,null,null,null,null,null,null,null,null,null,null,null,null,null,381]
[null,null,null,null,null,null,null,null,null,null,null,null,null,null,null,null,null,null,null,382]
[null,null,null,null,null,null,null,null,null,null,null,null,null,null,null,null,null,null,null,383]
[null,null,null,null,null,null,null,null,null,null,null,null,null,null,null,null,null,null,null,384]
[null,null,null,null,null,null,null,null,null,null,null,null,null,null,null,null,null,null,null,385]
[null,null,null,null,null,null,null,null,null,null,null,null,null,null,null,null,null,null,null,386]
[null,null,null,null,null,null,null,null,null,null,null,null,null,null,null,null,null,null,null,387]
[null,null,null,null,null,null,null,null,null,null,null,null,null,null,null,null,null,null,null,388]
[null,null,null,null,null,null,null,null,null,null,null,null,null,null,null,null,null,null,null,389]
[null,null,null,null,null,null,null,null,null,null,null,null,null,null,null,null,null,null,null,390]
[null,null,null,null,null,null,null,null,null,null,null,null,null,null,null,null,null,null,null,391]
[null,null,null,null,null,null,null,null,null,null,null,null,null,null,null,null,null,null,null,392]
[null,null,null,null,null,null,null,null,null,null,null,null,null,null,null,null,null,null,null,393]
[null,null,null,null,null,null,null,null,null,null,null,null,null,null,null,null,null,null,null,394]
[null,null,null,null,null,null,null,null,null,null,null,null,null,null,null,null,null,null,null,395]
[null,null,null,null,null,null,null,null,null,null,null,null,null,null,null,null,null,null,null,396]
[null,null,null,null,null,null,null,null,null,null,null,null,null,null,null,null,null,null,null,397]
[null,null,null,null,null,null,null,null,null,null,null,null,null,null,null,null,null,null,null,398]
[null,null,null,null,null,null,null,null,null,null,null,null,null,null,null,null,null,null,null,399]
[null,null,null,null,null,null,null,null,null,null,null,null,null,null,null,null,null,null,null,400]
[null,null,null,null,null,null,null,null,null,null,null,null,null,null,null,null,null,null,null,401]
[null,null,null,null,null,null,null,null,null,null,null,null,null,null,null,null,null,null,null,402]
[null,null,null,null,null,null,null,null,null,null,null,null,null,null,null,null,null,null,null,403]
[null,null,null,null,null,null,null,null,null,null,null,null,null,null,null,null,null,null,null,404]
[null,null,null,null,null,null,null,null,null,null,null,null,null,null,null,null,null,null,null,405]
[null,null,null,null,null,null,null,null,null,null,null,null,null,null,null,null,null,null,null,406]
[null,null,null,null,null,null,null,null,null,null,null,null,null,null,null,null,null,null,null,407]
[null,null,null,null,null,null,null,null,null,null,null,null,null,null,null,null,null,null,null,408]
[null,null,null,null,null,null,null,null,null,null,null,null,null,null,null,null,null,null,null,409]
[null,null,null,null,null,null,null,null,null,null,null,null,null,null,null,null,null,null,null,410]
[null,null,null,null,null,null,null,null,null,null,null,null,null,null,null,null,null,null,null,411]
[null,null,null,null,null,null,null,null,null,null,null,null,null,null,null,null,null,null,null,412]
[null,null,null,null,null,null,null,null,null,null,null,null,null,null,null,null,null,null,null,413]
[null,null,null,null,null,null,null,null,null,null,null,null,null,null,null,null,null,null,null,414]
[null,null,null,null,null,null,null,null,null,null,null,null,null,null,null,null,null,null,null,415]
[null,null,null,null,null,null,null,null,null,null,null,null,null,null,null,null,null,null,null,416]
[null,null,null,null,null,null,null,null,null,null,null,null,null,null,null,null,null,null,null,417]
[null,null,null,null,null,null,null,null,null,null,null,null,null,null,null,null,null,null,null,418]
[null,null,null,null,null,null,null,null,null,null,null,null,null,null,null,null,null,null,null,419]
[null,null,null,null,null,null,null,null,null,null,null,null,null,null,null,null,null,null,null,420]
[null,null,null,null,null,null,null,null,null,null,null,null,null,null,null,null,null,null,null,421]
[null,null,null,null,null,null,null,null,null,null,null,null,null,null,null,null,null,null,null,422]
[null,null,null,null,null,null,null,null,null,null,null,null,null,null,null,null,null,null,null,423]
[null,null,null,null,null,null,null,null,null,null,null,null,null,null,null,null,null,null,null,424]
[null,null,null,null,null,null,null,null,null,null,null,null,null,null,null,null,null,null,null,425]
[null,null,null,null,null,null,null,null,null,null,null,null,null,null,null,null,null,null,null,426]
[null,null,null,null,null,null,null,null,null,null,null,null,null,null,null,null,null,null,null,427]
[null,null,null,null,null,null,null,null,null,null,null,null,null,null,null,null,null,null,null,428]
[null,null,null,null,null,null,null,null,null,null,null,null,null,null,null,null,null,null,null,429]
[null,null,null,null,null,null,null,null,null,null,null,null,null,null,null,null,null,null,null,430]
[null,null,null,null,null,null,null,null,null,null,null,null,null,null,null,null,null,null,null,431]
[null,null,null,null,null,null,null,null,null,null,null,null,null,null,null,null,null,null,null,432]
[null,null,null,null,null,null,null,null,null,null,null,null,null,null,null,null,null,null,null,433]
[null,null,null,null,null,null,null,null,null,null,null,null,null,null,null,null,null,null,null,434]
[null,null,null,null,null,null,null,null,null,null,null,null,null,null,null,null,null,null,null,435]
[null,null,null,null,null,null,null,null,null,null,null,null,null,null,null,null,null,null,null,436]
[null,null,null,null,null,null,null,null,null,null,null,null,null,null,null,null,null,null,null,437]
[null,null,null,null,null,null,null,null,null,null,null,null,null,null,null,null,null,null,null,438]
[null,null,null,null,null,null,null,null,null,null,null,null,null,null,null,null,null,null,null,439]
[null,null,null,null,null,null,null,null,null,null,null,null,null,null,null,null,null,null,null,440]
[null,null,null,null,null,null,null,null,null,null,null,null,null,null,null,null,null,null,null,441]
[null,null,null,null,null,null,null,null,null,null,null,null,null,null,null,null,null,null,null,442]
[null,null,null,null,null,null,null,null,null,null,null,null,null,null,null,null,null,null,null,443]
[null,null,null,null,null,null,null,null,null,null,null,null,null,null,null,null,null,null,null,444]
[null,null,null,null,null,null,null,null,null,null,null,null,null,null,null,null,null,null,null,445]
[null,null,null,null,null,null,null,null,null,null,null,null,null,null,null,null,null,null,null,446]
[null,null,null,null,null,null,null,null,null,null,null,null,null,null,null,null,null,null,null,447]
[null,null,null,null,null,null,null,null,null,null,null,null,null,null,null,null,null,null,null,448]
[null,null,null,null,null,null,null,null,null,null,null,null,null,null,null,null,null,null,null,449]
[null,null,null,null,null,null,null,null,null,null,null,null,null,null,null,null,null,null,null,450]
[null,null,null,null,null,null,null,null,null,null,null,null,null,null,null,null,null,null,null,451]
[null,null,null,null,null,null,null,null,null,null,null,null,null,null,null,null,null,null,null,452]
[null,null,null,null,null,null,null,null,null,null,null,null,null,null,null,null,null,null,null,453]
[null,null,null,null,null,null,null,null,null,null,null,null,null,null,null,null,null,null,null,454]
[null,null,null,null,null,null,null,null,null,null,null,null,null,null,null,null,null,null,null,455]
[null,null,null,null,null,null,null,null,null,null,null,null,null,null,null,null,null,null,null,456]
[null,null,null,null,null,null,null,null,null,null,null,null,null,null,null,null,null,null,null,457]
[null,null,null,null,null,null,null,null,null,null,null,null,null,null,null,null,null,null,null,458]
[null,null,null,null,null,null,null,null,null,null,null,null,null,null,null,null,null,null,null,459]
[null,null,null,null,null,null,null,null,null,null,null,null,null,null,null,null,null,null,null,460]
[null,null,null,null,null,null,null,null,null,null,null,null,null,null,null,null,null,null,null,461]
[null,null,null,null,null,null,null,null,null,null,null,null,null,null,null,null,null,null,null,462]
[null,null,null,null,null,null,null,null,null,null,null,null,null,null,null,null,null,null,null,463]
[null,null,null,null,null,null,null,null,null,null,null,null,null,null,null,null,null,null,null,464]
[null,null,null,null,null,null,null,null,null,null,null,null,null,null,null,null,null,null,null,465]
[null,null,null,null,null,null,null,null,null,null,null,null,null,null,null,null,null,null,null,466]
[null,null,null,null,null,null,null,null,null,null,null,null,null,null,null,null,null,null,null,467]
[null,null,null,null,null,null,null,null,null,null,null,null,null,null,null,null,null,null,null,468]
[null,null,null,null,null,null,null,null,null,null,null,null,null,null,null,null,null,null,null,469]
[null,null,null,null,null,null,null,null,null,null,null,null,null,null,null,null,null,null,null,470]
[null,null,null,null,null,null,null,null,null,null,null,null,null,null,null,null,null,null,null,471]
[null,null,null,null,null,null,null,null,null,null,null,null,null,null,null,null,null,null,null,472]
[null,null,null,null,null,null,null,null,null,null,null,null,null,null,null,null,null,null,null,473]
[null,null,null,null,null,null,null,null,null,null,null,null,null,null,null,null,null,null,null,474]
[null,null,null,null,null,null,null,null,null,null,null,null,null,null,null,null,null,null,null,475]
[null,null,null,null,null,null,null,null,null,null,null,null,null,null,null,null,null,null,null,476]
[null,null,null,null,null,null,null,null,null,null,null,null,null,null,null,null,null,null,null,477]
[null,null,null,null,null,null,null,null,null,null,null,null,null,null,null,null,null,null,null,478]
[null,null,null,null,null,null,null,null,null,null,null,null,null,null,null,null,null,null,null,479]
[null,null,null,null,null,null,null,null,null,null,null,null,null,null,null,null,null,null,null,480]
[null,null,null,null,null,null,null,null,null,null,null,null,null,null,null,null,null,null,null,481]
[null,null,null,null,null,null,null,null,null,null,null,null,null,null,null,null,null,null,null,482]
[null,null,null,null,null,null,null,null,null,null,null,null,null,null,null,null,null,null,null,483]
[null,null,null,null,null,null,null,null,null,null,null,null,null,null,null,null,null,null,null,484]
[null,null,null,null,null,null,null,null,null,null,null,null,null,null,null,null,null,null,null,485]
[null,null,null,null,null,null,null,null,null,null,null,null,null,null,null,null,null,null,null,486]
[null,null,null,null,null,null,null,null,null,null,null,null,null,null,null,null,null,null,null,487]
[null,null,null,null,null,null,null,null,null,null,null,null,null,null,null,null,null,null,null,488]
[null,null,null,null,null,null,null,null,null,null,null,null,null,null,null,null,null,null,null,489]
[null,null,null,null,null,null,null,null,null,null,null,null,null,null,null,null,null,null,null,490]
[null,null,null,null,null,null,null,null,null,null,null,null,null,null,null,null,null,null,null,491]
[null,null,null,null,null,null,null,null,null,null,null,null,null,null,null,null,null,null,null,492]
[null,null,null,null,null,null,null,null,null,null,null,null,null,null,null,null,null,null,null,493]
[null,null,null,null,null,null,null,null,null,null,null,null,null,null,null,null,null,null,null,494]
[null,null,null,null,null,null,null,null,null,null,null,null,null,null,null,null,null,null,null,495]
[null,null,null,null,null,null,null,null,null,null,null,null,null,null,null,null,null,null,null,496]
[null,null,null,null,null,null,null,null,null,null,null,null,null,null,null,null,null,null,null,497]
[null,null,null,null,null,null,null,null,null,null,null,null,null,null,null,null,null,null,null,498]
[null,null,null,null,null,null,null,null,null,null,null,null,null,null,null,null,null,null,null,499]

{"sheet":"results","index":3,"n_rows":0,"n_cols":0,"rows_kept":0,"cut":false,"hidden":false,"merged":[]}

{"sheet":"Preparation","index":4,"n_rows":0,"n_cols":0,"rows_kept":0,"cut":false,"hidden":false,"merged":[]}

{"sheet":"Explanation Output ","index":5,"n_rows":0,"n_cols":0,"rows_kept":0,"cut":false,"hidden":false,"merged":[]}

{"sheet":"Explanation Parameters","index":6,"n_rows":0,"n_cols":0,"rows_kept":0,"cut":false,"hidden":false,"merged":[]}

{"sheet":"Running a Simulation","index":7,"n_rows":0,"n_cols":0,"rows_kept":0,"cut":false,"hidden":false,"merged":[]}